{"text_format":"1","workbook":"xlsx","n_sheets":20,"sheets":["Eingabemaske","Anleitung","Leistungsbedarf","Berechnung","Liste Berechnungen","VDI 4650","Korrekturfaktoren","Rotex Leistungsdaten","Altherma 4 H","Altherma 3 R MT","Klimadaten","Dropdown","Änderungshistorie","Altherma 3 R","Altherma 3 R 11-16 int.","Altherma 3 R 11-16 peak","Altherma 3 H HT","Altherma 3 H MT","Altherma 3 M","Hybrid"],"not_rendered":{"charts":1,"images":15,"macros":1,"external_links":1,"defined_names":9,"comments":3,"pivot_tables":0},"unopened":[],"bounds":{"document_bytes":16777216,"sheet_cells":100000,"rows_first":2000,"rows_last":500,"rows_between":2000,"halvings":0,"cell_chars":16384,"cell_head_chars":4096},"cells_cut":0,"cells_raw":0,"read":"whole","date_system":"1900"}

{"sheet":"Eingabemaske","index":0,"n_rows":116,"n_cols":67,"rows_kept":116,"cut":false,"hidden":false,"merged":[[16,4,16,5],[31,4,31,5],[33,4,33,5],[34,4,34,5],[35,4,35,5],[30,4,30,5],[32,4,32,5],[5,19,6,29],[58,6,58,7],[61,6,61,8],[5,6,5,10],[17,6,17,8],[18,6,18,8],[19,6,19,8],[20,6,20,8],[21,6,21,8],[22,6,22,8],[23,6,23,8],[26,6,26,8],[41,6,41,10],[40,6,40,10],[19,9,19,10],[34,6,34,10],[66,31,66,32],[37,4,37,5],[29,6,29,10],[35,6,35,10],[36,6,36,10],[48,6,48,10],[37,6,37,10],[38,6,38,10],[39,6,39,10],[33,6,33,10],[32,6,32,10],[31,6,31,10],[30,6,30,10],[36,4,36,5],[38,4,38,5],[39,4,39,5],[63,6,63,9],[37,42,40,44],[62,6,62,7],[62,8,62,9]]}
[]
[]
[null,null,null,null,null,null,null,null,null,null,null,null,null,null,null,null,null,null,null,null,null,null,null,null,null,null,null,null,null,"HPSU compact 508 6 kW (biv)",2]
[null,null,null,null,null,null,null,null,null,null,0,null,null,null,null,null,null,null,null,null,null,null,null,null,null,null,null,null,null,"HPSU compact 508 8 kW (biv)",3]
[null,null,null,null,null,null,null,null,null,null,null,null,null,null,null,null,null,null,null,"Ergebnisliste"]
[null,null,null,null,"Auslegungsobjekt:",null,null,null,null,null,null,null,null,null,null,null,null,null,null,"Altherma 4 H ECH2O 500 8 kW (empfohlen)",null,null,null,null,null,null,null,null,null,null,{"$f":"IFERROR(VLOOKUP(T6,AM100:AN161,2,FALSE),\"\")","v":2}]
[]
[]
[null,null,null,null,null,null,null,null,null,null,null,null,null,null,null,null,null,null,null,null,null,null,null,null,null,null,null,null,null,null,null,null,null,null,null,null,null,null,null,null,2]
[null,null,null,null,null,null,null,null,null,null,null,null,null,null,null,null,null,null,null,null,null,null,null,null,null,null,null,null,null,null,null,null,null,null,null,null,null,null,null,null,1]
[]
[]
[]
[]
[]
[]
[null,null,null,null,"Parameter"]
[null,null,null,null,"Brauchwasserbereitung:",null,"ja"]
[null,null,null,null,"Anzahl Personen:",null,4]
[null,null,null,null,"Vorlauftemperatur [°C]:",null,50,null,null,{"$f":"IF(G20<=60,\"\",\"Bitte beachten!\")","v":""}]
[null,null,null,null,"Temperaturspreizung [K]:",null,10]
[null,null,null,null,"Gebäudetyp:",null,"Altbau"]
[null,null,null,null,"Normaußentemperatur [°C]:",null,{"$f":"Leistungsbedarf!H41","v":-8},null,null,"PLZ:"]
[null,null,null,null,"Kühlen:",null,"ja"]
[null,null,null,null,"Sperrzeiten [h]:",null,0,"x",0]
[]
[null,null,null,null,"Warmwassertemperatur [°C]:",null,50,null,null,"  (Standard: 50 °C)"]
[]
[]
[null,null,null,null,"Gerätetyp"]
[null,null,null,null,{"$f":"Dropdown!A2","v":"Altherma 3 R ECH2O"},null,{"$f":"Dropdown!A11","v":"Altherma 3 M"}]
[null,null,null,null,{"$f":"Dropdown!A3","v":"Altherma 3 R W"},null,{"$f":"Dropdown!A12","v":"Altherma H Hybrid"}]
[null,null,null,null,{"$f":"Dropdown!A4","v":"Altherma 3 R F"},null,{"$f":"Dropdown!A13","v":"Altherma 3 H MT ECH2O"}]
[null,null,null,null,{"$f":"Dropdown!A5","v":"Altherma 3 H HT ECH2O"},null,{"$f":"Dropdown!A14","v":"Altherma 3 H MT F"}]
[null,null,null,null,{"$f":"Dropdown!A6","v":"Altherma 3 H HT W"},null,{"$f":"Dropdown!A15","v":"Altherma 3 H MT W"}]
[null,null,null,null,{"$f":"Dropdown!A7","v":"Altherma 3 H HT F"},null,{"$f":"Dropdown!A19","v":"Altherma 4 H ECH2O"}]
[null,null,null,null,{"$f":"Dropdown!A16","v":"Altherma 3 R MT ECH2O"},null,{"$f":"Dropdown!A20","v":"Altherma 4 H F"}]
[]
[null,null,null,null,{"$f":"Dropdown!A17","v":"Altherma 3 R MT F"},null,{"$f":"Dropdown!A21","v":"Altherma 4 H W"}]
[null,null,null,null,{"$f":"Dropdown!A18","v":"Altherma 3 R MT W"}]
[]
[]
[]
[]
[]
[]
[]
[]
[]
[]
[]
[null,null,null,null,"Gebäudeheizlast"]
[]
[]
[]
[]
[]
[]
[null,null,null,null,"Gebäudeheizlast:",null,null,null,"kW"]
[]
[null,null,null,null,"Bekannter Energiebedarf:"]
[null,null,null,null,"Brennstoff:",null,null,null,null,null,{"$f":"IF(G62=\"Heizöl\",\"l\",IF(G62=\"Erdgas\",\"m³\",IF(G62=\"Strom\",\"kWh\",\"\")))","v":""}]
[null,null,null,null,"Brauchwasserbereitung:",null,null,null,"Personen:",null,4,null,null,null,null,null,null,null,null,"Heizlast:",null,null,null,{"$f":"Leistungsbedarf!G15","v":{"$error":"#N/A"}},"kW"]
[null,null,null,null,"Anlagenwirkungsgrad:",null,null,null,null,null,null,"%",null,null,null,null,null,null,null,"Leistungsbedarf:",null,null,null,{"$f":"Berechnung!B9","v":0},"kW"]
[]
[null,null,null,null,"Energiepass:",null,null,null,null,null,null,null,null,null,null,null,null,null,null,"Leistung der WP bei Normaußentemperatur:",null,null,null,{"$f":"Q86","v":7.5480059052323103},"kW"]
[null,null,null,null,"Gebäudenutzfläche (A):",null,null,null,null,null,"m²",null,null,null,null,null,null,null,null,"JAZ:",null,null,null,{"$f":"IF(I84=\"Altherma R Hybrid 5 kW\",N87,IF(I84=\"Altherma R Hybrid 8 kW\",N87,IF(I84=\"Altherma H Hybrid 4 kW\",N87,IF(K87=0,\"-\",K87))))","v":4.43},null,null,null,null,null,null,null,"Stand:  06.2025_V31"]
[null,null,null,null,"spez. Jahresheizwärmebedarf (q):",null,null,null,null,null,"kWh/(m²*a)",null,null,null,null,null,null,null,null,"Bivalenzpunkt:",null,null,null,{"$f":"IF(L86=\"\",\"-\",L86)","v":-5.0462620457883611},"°C        |",{"$f":"IF(M86=\"\",\"-\",M86)","v":7.7495175252069215},null,"Stromkosten:",30,"ct/kWh"]
[null,null,null,null,"Jahresheizwärmebedarf (Q):",null,null,null,null,null,"kWh/a",null,null,null,null,null,null,null,null,{"$f":"IF(I84=\"Altherma R Hybrid 5 kW\",\"Anteil Gasgerät bei Normaußentemperatur:\",IF(I84=\"Altherma R Hybrid 8 kW\",\"Anteil Gasgerät bei Normaußentemperatur:\",IF(I84=\"Altherma H Hybrid\",\"Anteil Gasgerät bei Normaußentemperatur:\",\"Heizstabanteil bei Normaußentemperatur:\")))","v":"Heizstabanteil bei Normaußentemperatur:"},null,null,null,{"$f":"IF(((Q85-Q86)*100%/Q85*100)<0,0,((Q85-Q86)*100%/Q85*100))","v":21.900013100284042},"%         |",{"$f":"X64-Q86","v":-7.5480059052323103}]
[null,null,null,null,null,null,null,null,null,null,null,null,null,null,null,null,null,null,null,{"$f":"IF(I84=\"Altherma R Hybrid 5 kW\",\"Anteil Gasgerät am Jahreswärmebedarf:\",IF(I84=\"Altherma R Hybrid 8 kW\",\"Anteil Gasgerät am Jahreswärmebedarf:\",IF(I84=\"Altherma H Hybrid\",\"Anteil Gasgerät am Jahreswärmebedarf:\",\"Heizstabanteil am Jahreswärmebedarf:\")))","v":"Heizstabanteil am Jahreswärmebedarf:"},null,null,null,{"$f":"IF(Berechnung!F129<1,\"<1\",Berechnung!F129)","v":">13"},"%"]
[null,null,null,null,null,null,null,null,null,null,null,null,null,null,null,null,null,null,null,"Stromkosten / Energiebedarf:",null,null,null,{"$f":"IF(I84=\"Altherma R Hybrid 5 kW\",\"-\",IF(I84=\"Altherma R Hybrid 8 kW\",\"-\",IF(I84=\"Altherma H Hybrid 4 kW\",\"-\",IF(ISERROR(ROUND(Berechnung!I136,-1)),\"-\",ROUND(Berechnung!I136,-1)))))","v":"-"},"€  *        /",{"$f":"IF(I84=\"Altherma R Hybrid 5 kW\",\"-\",IF(I84=\"Altherma R Hybrid 8 kW\",\"-\",IF(I84=\"Altherma H Hybrid 4 kW\",\"-\",IF(ISERROR(ROUND(Berechnung!J136,-1)),\"-\",ROUND(Berechnung!J136,-1)))))","v":"-"},"*","* Es handelt sich hierbei um Schätzwerte. Individuelle Nutzergewohnheiten"]
[null,null,null,null,null,null,null,null,null,null,null,null,null,null,null,null,null,null,null,{"$f":"IF(I84=\"Altherma H Hybrid 4 kW\",\"Leistungsanteil bei Normaußentemperatur:\",\"Volllaststunden:\")","v":"Volllaststunden:"},null,null,null,{"$f":"IF(I84=\"Altherma H Hybrid 4 kW\",ROUND(X66/X63*100,0),Leistungsbedarf!G42)","v":{"$error":"#N/A"}},"h",null,null,"können einen erheblichen Einfluss auf den Energiebedarf / die Stromkosten haben."]
[]
[]
[]
[]
[]
[]
[]
[]
[]
[]
[]
[null,null,null,null,null,null,null,null,"Altherma 4 H ECH2O 500 8 kW",null,4.68,3.59,null,null,null,"Temperatur",-10,-9.5,-9,-8.5,-8,-7.5,-7,-6.5,-6,-5.5,-5,-4.5,-4,-3.5,-3,-2.5,-2,-1.5,-1,-0.5,0,0.5,1,1.5,2,2.5,3,3.5,4,4.5,5,5.5,6,6.5,7,7.5,8,8.5,9,9.5,10,10.5,11,11.5,12,12.5,13,13.5,14,14.5,15]
[null,null,null,null,null,null,null,null,11,-0.10660526952800177,7.2115593997067275,-5.0462620457883611,0,0,7.7495175252069215,"Heizlast",9.6645418326693235,9.4712509960159377,9.2779601593625518,9.0846693227091659,8.8913784860557801,8.6980876494023942,8.5047968127490083,8.3115059760956225,8.1182151394422366,7.9249243027888499,7.7316334661354631,7.5383426294820763,7.3450517928286896,7.1517609561753028,6.9584701195219161,6.7651792828685293,6.5718884462151426,6.3785976095617558,6.1853067729083691,5.9920159362549823,5.7987250996015955,5.6054342629482088,5.412143426294822,5.2188525896414353,5.0255617529880485,4.8322709163346618,4.638980079681275,4.4456892430278883,4.2523984063745015,4.0591075697211147,3.8658167330677284,3.6725258964143421,3.4792350597609558,3.2859442231075695,3.0926533864541832,2.8993625498007969,2.7060717131474106,2.5127808764940243,2.319490039840638,2.1261992031872516,1.9329083665338651,1.7396175298804786,1.546326693227092,1.3530358565737055,1.159745019920319,0.96645418326693244,0.77316334661354591,0.57987250996015938,0.3865816733067729,0.19329083665338642,-5.5511151231257827E-17]
[null,null,null,null,null,null,null,null,null,-0.38658167330677368,5.7987250996015938,-5.0462620457883611,7.7495175252069215,-5.0462620457883611,7.7495175252069215,"Leistung",7.5480059052323103,7.6163043020940489,7.6846026989557874,7.7529010958175251,7.8211994926792636,7.8894978895410013,7.9577962864027398,7.904493651638739,7.8511910168747381,7.7978883821107372,7.7445857473467363,7.6912831125827346,7.6379804778187337,7.5846778430547328,7.5313752082907319,7.478072573526731,7.4247699387627302,7.3109789784264434,7.1971880180901566,7.0833970577538699,6.969606097417584,6.8558151370812972,6.7420241767450104,6.6282332164087236,6.5144422560724369,6.630716008831814,6.746989761591192,6.8632635143505691,6.9795372671099463,7.0958110198693234,7.2120847726287014,7.3283585253880785,7.4446322781474557,7.5609060309068337,7.6771797836662108,7.4835526067708553,7.2899254298755007,7.0962982529801453,6.9026710760847898,6.7090438991894352,6.5154167222940798,6.3217895453987243,6.1281623685033697,5.9345351916080142,5.7409080147126588,5.7983447177867404,5.8557814208608221,5.9132181239349038,5.9706548270089845,6.0280915300830662,6.0855282331571479]
[null,null,null,null,null,null,null,null,null,"empfohlen",4.43,9,"0,4",4.43,3.32,4.46,5.01,0]
[]
[]
[]
[]
[]
[]
[]
[]
[]
[]
[]
[]
[]
[]
[null,null,null,null,null,null,null,null,null,null,null,null,null,null,null,null,null,null,null,null,null,null,null,null,null,null,null,null,null,null,null,null,null,null,null,null,null,null,"Altherma 4 H ECH2O 500 14 kW",5,"0,1"]
[null,null,null,null,null,null,null,null,null,null,null,null,null,null,null,null,null,null,null,null,null,null,null,null,null,null,null,null,null,null,null,null,null,null,null,null,null,null,"Altherma 4 H F 230 14 kW",10,"0,11"]
[null,null,null,null,null,null,null,null,null,null,null,null,null,null,null,null,null,null,null,null,null,null,null,null,null,null,null,null,null,null,null,null,null,null,null,null,null,null,"Altherma 4 H W 14 kW",15,"0,13"]
[null,null,null,null,null,null,null,null,null,null,null,null,null,null,null,null,null,null,null,null,null,null,null,null,null,null,null,null,null,null,null,null,null,null,null,null,null,null,"Altherma 4 H ECH2O 500 12 kW",4,"0,2"]
[null,null,null,null,null,null,null,null,null,null,null,null,null,null,null,null,null,null,null,null,null,null,null,null,null,null,null,null,null,null,null,null,null,null,null,null,null,null,"Altherma 4 H F 230 12 kW",9,"0,21"]
[null,null,null,null,null,null,null,null,null,null,null,null,null,null,null,null,null,null,null,null,null,null,null,null,null,null,null,null,null,null,null,null,null,null,null,null,null,null,"Altherma 4 H W 12 kW",14,"0,22"]
[null,null,null,null,null,null,null,null,null,null,null,null,null,null,null,null,null,null,null,null,null,null,null,null,null,null,null,null,null,null,null,null,null,null,null,null,null,null,"Altherma 4 H ECH2O 500 10 kW",3,"0,3"]
[null,null,null,null,null,null,null,null,null,null,null,null,null,null,null,null,null,null,null,null,null,null,null,null,null,null,null,null,null,null,null,null,null,null,null,null,null,null,"Altherma 4 H F 230 10 kW",8,"0,31"]
[null,null,null,null,null,null,null,null,null,null,null,null,null,null,null,null,null,null,null,null,null,null,null,null,null,null,null,null,null,null,null,null,null,null,null,null,null,null,"Altherma 4 H W 10 kW",13,"0,32"]
[null,null,null,null,null,null,null,null,null,null,null,null,null,null,null,null,null,null,null,null,null,null,null,null,null,null,null,null,null,null,null,null,null,null,null,null,null,null,"Altherma 4 H ECH2O 500 8 kW (empfohlen)",2,"0,4"]
[null,null,null,null,null,null,null,null,null,null,null,null,null,null,null,null,null,null,null,null,null,null,null,null,null,null,null,null,null,null,null,null,null,null,null,null,null,null,"Altherma 4 H F 230 8 kW (empfohlen)",7,"0,41"]
[null,null,null,null,null,null,null,null,null,null,null,null,null,null,null,null,null,null,null,null,null,null,null,null,null,null,null,null,null,null,null,null,null,null,null,null,null,null,"Altherma 4 H W 8 kW (empfohlen)",12,"0,42"]
[null,null,null,null,null,null,null,null,null,null,null,null,null,null,null,null,null,null,null,null,null,null,null,null,null,null,null,null,null,null,null,null,null,null,null,null,null,null,"Altherma 4 H ECH2O 500 6 kW",1,"0,5"]
[null,null,null,null,null,null,null,null,null,null,null,null,null,null,null,null,null,null,null,null,null,null,null,null,null,null,null,null,null,null,null,null,null,null,null,null,null,null,"Altherma 4 H F 230 6 kW",6,"0,51"]
[null,null,null,null,null,null,null,null,null,null,null,null,null,null,null,null,null,null,null,null,null,null,null,null,null,null,null,null,null,null,null,null,null,null,null,null,null,null,"Altherma 4 H W 6 kW",11,"0,52"]

{"sheet":"Anleitung","index":1,"n_rows":0,"n_cols":0,"rows_kept":0,"cut":false,"hidden":false,"merged":[]}

{"sheet":"Leistungsbedarf","index":2,"n_rows":44,"n_cols":8,"rows_kept":44,"cut":false,"hidden":true,"merged":[]}
["Heizleistung Brauchwasser pro Person:",0.2,"kW"]
["Gesamt:",{"$f":"IF(Eingabemaske!G18=\"ja\",Eingabemaske!G19*Leistungsbedarf!B1,IF(Eingabemaske!G18=\"nein\",0))","v":0.8},"kW"]
[]
["Sperrzeit:",{"$f":"Eingabemaske!G25*Eingabemaske!I25","v":0},"h"]
[]
[]
["Berechnung aus bekanntem Energiebedarf"]
[null,null,null,null,null,null,null,{"$f":"Eingabemaske!K64/100","v":0}]
["Energiegehalt Heizöl:",11,"kWh/l"]
["Energiegehalt Gas:",11,"kWh/m³"]
["Energiebedarf WW pro Person:",500,"kWh/a"]
["Vollbenutzungsstunden:",1865,"h/a"]
[]
["Energiegehalt gewählter Brennstoff:",{"$f":"IF(Eingabemaske!G62=\"Heizöl\",Leistungsbedarf!B9,IF(Eingabemaske!G62=\"Erdgas\",Leistungsbedarf!B10,IF(Eingabemaske!G62=\"Strom\",1)))","v":false},null,null,null,null,"Heizlast"]
["Energiegehalt Warmwasser",{"$f":"IF(Eingabemaske!G63=\"ja\",Eingabemaske!K63*Leistungsbedarf!B11,IF(Eingabemaske!G63=\"nein\",0))","v":false},"kWh",null,null,null,{"$f":"IF(B17>0,B17,IF(B26>0,B26,IF(B34>0,B34,0)))","v":{"$error":"#N/A"}},"kW"]
[]
["Gebäudeheizlast",{"$f":"((Eingabemaske!J62*Leistungsbedarf!B14)*(F44/100)-(B15))/B43","v":{"$error":"#N/A"}},"kW"]
[]
["Leistungsbedarf:",{"$f":"(B17+B2)*(24/(24-B4))","v":{"$error":"#N/A"}},"kW"]
[]
[]
[]
[null,null,null,null,null,null,"Hilfstabelle für B9"]
["Direkteingabe",null,null,null,null,null,{"$f":"B17","v":{"$error":"#N/A"}},{"$f":"B19","v":{"$error":"#N/A"}}]
[null,null,null,null,null,null,{"$f":"B26","v":0},{"$f":"B28","v":0.8}]
["Heizlast",{"$f":"Eingabemaske!G59","v":0},"kW",null,null,null,{"$f":"B34","v":{"$error":"#N/A"}},{"$f":"B36","v":{"$error":"#N/A"}}]
[]
["Leistungsbedarf:",{"$f":"(B26+B2)*(24/(24-B4))","v":0.8},"kW"]
[]
[]
[]
["Energiepass"]
[]
["Heizlast",{"$f":"(Eingabemaske!J69/B43)*1.2","v":{"$error":"#N/A"}},"kW"]
[]
["Leistungsbedarf:",{"$f":"(B34+B2)*(24/(24-B4))","v":{"$error":"#N/A"}},"kW"]
[]
[]
["Vollbenutzungsstunden:","Neubau:",1700,"h"]
[null,"Altbau:",{"$f":"G42","v":{"$error":"#N/A"}},"h","Gradtagszahl",null,{"$f":"VLOOKUP(Eingabemaske!K23,Klimadaten!C:P,13)","v":{"$error":"#N/A"}}]
[null,"Passivhaus:",1500,"h","Normaußentemperatur",null,{"$f":"IFERROR(VLOOKUP(Eingabemaske!K23,Klimadaten!C6:L8204,3),\"\")","v":""},{"$f":"IF(G41<-16,-16,IF(G41>-8,-8,ROUND(G41,0)))","v":-8}]
[null,null,null,null,"Vollbenutzungsstunden",null,{"$f":"ROUND(G40*24/(15-G41),0)","v":{"$error":"#N/A"}}]
[null,{"$f":"IF(Eingabemaske!G22=\"Neubau\",C39,IF(Eingabemaske!G22=\"Altbau\",C40,IF(Eingabemaske!G22=\"Passivhaus\",C41)))","v":{"$error":"#N/A"}}]
[null,null,null,null,"Wirkungsgrad",{"$f":"IF(Eingabemaske!G64=\"Brennwert 90 %\",90,IF(Eingabemaske!G64=\"Niedertemperatur 80 %\",80,IF(Eingabemaske!G64=\"Freie Eingabe\",Eingabemaske!K64,IF(Eingabemaske!G64=\"Nachtspeicher 60 %\",60,IF(Eingabemaske!G64=\"Direktheizung 100 %\",100)))))","v":false}]

{"sheet":"Berechnung","index":3,"n_rows":933,"n_cols":59,"rows_kept":933,"cut":false,"hidden":true,"merged":[[85,2,85,3],[70,0,71,3],[81,1,81,5],[83,1,83,5],[20,5,20,7],[32,6,32,7]]}
[]
["Heizgrenztemperatur",{"$f":"IF(Eingabemaske!G22=\"Altbau\",Dropdown!N2,IF(Eingabemaske!G22=\"Neubau\",Dropdown!N3,IF(Eingabemaske!G22=\"Passivhaus\",Dropdown!N4)))","v":15},"x-Achse",null,"Mittelwerte:",{"$f":"(B2-B3)*2","v":46}]
["Normaußentemperatur",{"$f":"Eingabemaske!G23","v":-8},"x-Achse"]
[]
["Heizleistung Brauchwasser",{"$f":"Eingabemaske!G19*Leistungsbedarf!B11","v":2000},"kW"]
["VLT",{"$f":"Eingabemaske!G20","v":50},"°C"]
[]
[null,0,"y-Achse"]
["Heizlast",{"$f":"SUMIFS(Leistungsbedarf!H24:H26,Leistungsbedarf!G24:G26,\">0\")","v":0},"y-Achse"]
[]
["Altherma 4 H W 14 kW",null,{"$f":"IFERROR(ROUND(G60,2),\"\")","v":4.72},{"$f":"IFERROR(ROUND(A41,2),\"\")","v":3.94},null,null,null,"Temperatur",-10,-9.5,-9,-8.5,-8,-7.5,-7,-6.5,-6,-5.5,-5,-4.5,-4,-3.5,-3,-2.5,-2,-1.5,-1,-0.5,0,0.5,1,1.5,2,2.5,3,3.5,4,4.5,5,5.5,6,6.5,7,7.5,8,8.5,9,9.5,10,10.5,11,11.5,12,12.5,13,13.5,14,14.5,15]
[{"$f":"MATCH(TRUE,I13:BW13>=I12:BW12,0)","v":1},{"$f":"LINEST(OFFSET(I13:BW13,0,A12-2,,2),OFFSET(I11:BW11,0,A12-2,,2),1)","v":{"$error":"#VALUE!"}},{"$error":"#VALUE!"},{"$f":"D13","v":{"$error":"#VALUE!"}},0,0,{"$f":"E13","v":{"$error":"#VALUE!"}},"Heizlast",9.6645418326693235,9.4712509960159377,9.2779601593625518,9.0846693227091659,8.8913784860557801,8.6980876494023942,8.5047968127490083,8.3115059760956225,8.1182151394422366,7.9249243027888499,7.7316334661354631,7.5383426294820763,7.3450517928286896,7.1517609561753028,6.9584701195219161,6.7651792828685293,6.5718884462151426,6.3785976095617558,6.1853067729083691,5.9920159362549823,5.7987250996015955,5.6054342629482088,5.412143426294822,5.2188525896414353,5.0255617529880485,4.8322709163346618,4.638980079681275,4.4456892430278883,4.2523984063745015,4.0591075697211147,3.8658167330677284,3.6725258964143421,3.4792350597609558,3.2859442231075695,3.0926533864541832,2.8993625498007969,2.7060717131474106,2.5127808764940243,2.319490039840638,2.1261992031872516,1.9329083665338651,1.7396175298804786,1.546326693227092,1.3530358565737055,1.159745019920319,0.96645418326693244,0.77316334661354591,0.57987250996015938,0.3865816733067729,0.19329083665338642,-5.5511151231257827E-17]
[null,{"$f":"LINEST(OFFSET(I12:BW12,0,A12-2,,2),OFFSET(I11:BW11,0,A12-2,,2),1)","v":{"$error":"#VALUE!"}},{"$error":"#VALUE!"},{"$f":"(C13-C12)/(B12-B13)","v":{"$error":"#VALUE!"}},{"$f":"D13*B13+C13","v":{"$error":"#VALUE!"}},{"$f":"D13","v":{"$error":"#VALUE!"}},{"$f":"E13","v":{"$error":"#VALUE!"}},"Leistung",13.08025178792492,13.085876966717413,13.091502145509903,13.097127324302395,13.102752503094887,13.108377681887379,13.114002860679872,13.129302574611884,13.144602288543897,13.15990200247591,13.175201716407923,13.190501430339935,13.205801144271948,13.221100858203961,13.236400572135974,13.251700286067987,13.266999999999999,12.978687465786759,12.690374931573517,12.402062397360277,12.113749863147035,11.825437328933795,11.537124794720555,11.248812260507314,10.960499726294072,11.385716420331331,11.810933114368591,12.23614980840585,12.66136650244311,13.086583196480369,13.511799890517629,13.937016584554888,14.362233278592146,14.787449972629407,15.212666666666665,14.895299999999999,14.577933333333332,14.260566666666666,13.943199999999999,13.625833333333333,13.308466666666666,12.991099999999999,12.673733333333333,12.356366666666666,12.039,12.206722222222222,12.374444444444444,12.542166666666667,12.709888888888889,12.877611111111111,13.045333333333334]
[null,{"$f":"IFERROR(IF(B108=\"empfohlen\",\"empfohlen\",\"\"),\"\")","v":""},{"$f":"IFERROR(A58,\"\")","v":4.5599999999999996},9,"0,13",{"$f":"IFERROR(B70,\"\")","v":4.5599999999999996},3.49,4.0599999999999996,5.5,0]
[]
[]
[]
[]
["nach VDI 4650 Blatt 1  - Stand 2016"]
["SCOPH:"]
[null,null,null,null,null,"COP"]
[{"$f":"(G27/(G28/F23+G29/G23+G30/H23))","v":4.7249306134012761},null,null,null,null,-7,2,7]
[null,null,null,null,null,3.49,4.0599999999999996,5.5]
[]
[]
[]
[null,null,null,null,null,"FΔϑ",{"$f":"SUMIFS(Korrekturfaktoren!D2:D65,Korrekturfaktoren!B2:B65,Eingabemaske!G21,Korrekturfaktoren!C2:C65,5)","v":1.0509999999999999}]
[null,null,null,null,null,"Fϑ 1 ",{"$f":"SUMIFS(Korrekturfaktoren!F69:F2579,Korrekturfaktoren!B69:B2579,B30,Korrekturfaktoren!C69:C2579,Berechnung!B3,Korrekturfaktoren!D69:D2579,F22,Korrekturfaktoren!E69:E2579,Eingabemaske!G20)","v":1.0999999999999999E-2},{"$f":"SUMIFS(Korrekturfaktoren!G69:G2579,Korrekturfaktoren!B69:B2579,B30,Korrekturfaktoren!C69:C2579,Berechnung!B3,Korrekturfaktoren!D69:D2579,F22,Korrekturfaktoren!E69:E2579,Eingabemaske!G20)","v":0}]
["Hilfswerte:",null,null,null,null,"Fϑ 2 ",{"$f":"SUMIFS(Korrekturfaktoren!F69:F2579,Korrekturfaktoren!B69:B2579,B30,Korrekturfaktoren!C69:C2579,Berechnung!B3,Korrekturfaktoren!D69:D2579,G22,Korrekturfaktoren!E69:E2579,Eingabemaske!G20)","v":0.58099999999999996},{"$f":"SUMIFS(Korrekturfaktoren!G69:G2579,Korrekturfaktoren!B69:B2579,B30,Korrekturfaktoren!C69:C2579,Berechnung!B3,Korrekturfaktoren!D69:D2579,G22,Korrekturfaktoren!E69:E2579,Eingabemaske!G20)","v":0}]
["Heizgrenztemperatur:",{"$f":"IF(Eingabemaske!G22=\"Neubau\",Dropdown!N3,IF(Eingabemaske!G22=\"Altbau\",Dropdown!N2,IF(Eingabemaske!G22=\"Passivhaus\",Dropdown!N4)))","v":15},"°C",null,null,"Fϑ 3 ",{"$f":"SUMIFS(Korrekturfaktoren!F69:F2579,Korrekturfaktoren!B69:B2579,B30,Korrekturfaktoren!C69:C2579,Berechnung!B3,Korrekturfaktoren!D69:D2579,H22,Korrekturfaktoren!E69:E2579,Eingabemaske!G20)","v":0.41899999999999998},{"$f":"SUMIFS(Korrekturfaktoren!G69:G2579,Korrekturfaktoren!B69:B2579,B30,Korrekturfaktoren!C69:C2579,Berechnung!B3,Korrekturfaktoren!D69:D2579,H22,Korrekturfaktoren!E69:E2579,Eingabemaske!G20)","v":0}]
[]
[null,null,null,null,null,null,null,{"$f":"IF(H28=0,0,IF(H28<>0,(G27/(H28/F23+H29/G23+H30/H23))))","v":0}]
[]
[null,null,null,null,null,null,"Mittelwert:",{"$f":"(A22+H32)/2","v":2.362465306700638}]
[]
[]
[]
[]
["SCOPW:",null,null,null,null,null,null,null,"F1 Korrekturfaktor:",50,{"$f":"C48","v":1}]
[null,null,null,null,null,null,null,null,"(inkl. Mittelwerte)",51,{"$f":"$K$39-(($K$39-$K$44)/5*1)","v":0.98099999999999998}]
[{"$f":"H23*B53*B52*0.716","v":3.9379999999999997},null,null,null,null,null,null,null,null,52,{"$f":"$K$39-(($K$39-$K$44)/5*2)","v":0.96199999999999997}]
[null,null,null,null,null,null,null,null,null,53,{"$f":"$K$39-(($K$39-$K$44)/5*3)","v":0.94300000000000006}]
[null,null,null,null,null,null,null,null,null,54,{"$f":"$K$39-(($K$39-$K$44)/5*4)","v":0.92400000000000004}]
[null,null,null,null,null,null,null,null,null,55,{"$f":"C49","v":0.90500000000000003}]
[null,null,null,null,null,null,null,null,null,56,{"$f":"$K$44-(($K$44-$K$49)/5*1)","v":0.88960000000000006}]
[null,null,null,null,null,null,null,null,null,57,{"$f":"$K$44-(($K$44-$K$49)/5*2)","v":0.87419999999999998}]
[null,"°C",null,null,null,null,null,null,null,58,{"$f":"$K$44-(($K$44-$K$49)/5*3)","v":0.85880000000000001}]
["Korrekturfaktor F1:",50,1,null,null,null,null,null,null,59,{"$f":"$K$44-(($K$44-$K$49)/5*4)","v":0.84339999999999993}]
[null,55,0.90500000000000003,null,null,null,null,null,null,60,{"$f":"C50","v":0.82799999999999996}]
[null,60,0.82799999999999996]
[]
["F1:",{"$f":"SUMIF(J39:K49,Eingabemaske!G27,K39:K49)","v":1}]
["FΔϑ:",1]
[]
[]
["JAZ Gesamt:"]
[]
[{"$f":"ROUND(1/((1-B63)*B66/G60+B63*B66/A41+1-B66),2)","v":4.5599999999999996},null,null,null,null,null,"SCOPH:"]
[]
[null,null,null,null,null,"Mittelwert",{"$f":"IF(H32<>0,H34,IF(H32=0,A22))","v":4.7249306134012761}]
[]
[]
["y",{"$f":"IF(Eingabemaske!G18=\"ja\",0.18,IF(Eingabemaske!G18=\"nein\",0))","v":0.18}]
[]
[null,null,null,"Deckungsanteil:"]
["α",{"$f":"MIN(SUMIFS(C133:C933,B133:B933,D66),1)","v":1},null,{"$f":"IFERROR(MIN(ROUND(ROUND(I13,2)/Eingabemaske!X63*100,1),100),100)","v":100}]
[]
[]
[]
["JAZ monoenergetisch für Hybrid",{"$f":"ROUND(1/((1-B63)*1/G60+B63*1/A41+1-1),2)","v":4.5599999999999996}]
[]
[]
[]
[]
[]
[]
[]
[]
[]
["Auswalhkriterien für Produktempfehlung:"]
[]
["1. ","Leistungsbedarf bei Normaußentemp. < Leistung WP bei Normaußentemp. + Leistung Heizstab"]
[]
["2. ","Bivalenzpunkt im Bereich nach folgender Tabelle:"]
[]
[null,"Normaußentemp.","Bivalenzbereich",null,null,{"$f":"SUMIFS(Berechnung!C87:C95,Berechnung!B87:B95,B3)","v":-2},{"$f":"SUMIFS(Berechnung!D87:D95,Berechnung!B87:B95,B3)","v":-5.5}]
[null,-16,-6,-12.5]
[null,-15,-5.5,-11.5]
[null,-14,-5,-10.5]
[null,-13,-4.5,-10]
[null,-12,-4,-9.5]
[null,-11,-3.5,-8.5]
[null,-10,-3,-7.5]
[null,-9,-2.5,-6.5]
[null,-8,-2,-5.5]
[]
["3.","JAZ > 3,5 (nur Heizen)","JAZ > 3,3 (Heizen/WW)"]
[null,{"$f":"IF(Eingabemaske!G18=\"ja\",3.3,IF(Eingabemaske!G18=\"nein\",3.5))","v":3.3}]
[]
["4.","Compact wird nur empfohlen wenn Personenzahl <= 5"]
[null,{"$f":"IF(Eingabemaske!G19>5,1,IF(Eingabemaske!G19<=5,0))","v":0},{"$f":"IF(ISERROR(FIND(\"ECH2O\",A11)>0),IF(ISERROR(FIND(\" F \",A11)>0),0,1),1)","v":0}]
[]
["1.",{"$f":"IF(A11=\"Altherma R Hybrid 5 kW\",\"falsch\",IF(A11=\"Altherma R Hybrid 8 kW\",\"falsch\",IF(A11=\"Altherma H Hybrid 4 kW\",\"falsch\",IF(Berechnung!B9<Berechnung!I13+D14-1,\"Ok\"))))","v":"Ok"},null,null,null,"=WENN(I84=\"Altherma R Hybrid 5 kW\";N87;WENN(I84=\"Altherma R Hybrid 8 kW\";N87;WENN(I84=\"Altherma H Hybrid 4 kW\";N87;WENN(K87=0;\"-\";K87))))"]
["2.",{"$f":"IF(AND(AND(LEFT(A11,12)=\"Altherma 3 M\",D13<F86),D13>G86-2),\"Ok\",IF(AND(D13<F86,D13>G86),\"Ok\"))","v":{"$error":"#VALUE!"}}]
["3.",{"$f":"IF(Berechnung!A58>=B98,\"Ok\")","v":"Ok"}]
["4.",{"$f":"IF(AND(B101=1,C101=1),\"falsch\",\"OK\")","v":"OK"}]
[]
[null,{"$f":"IF(AND(B103=\"Ok\",B104=\"Ok\",B105=\"Ok\",B106=\"OK\"),\"empfohlen\")","v":{"$error":"#VALUE!"}}]
[]
[]
[]
[]
[]
[]
[]
["Leistungsanteil WP / Heizstabanteil:",null,null,null,"Derzeit ist die untere detailierte Tabelle im Einsatz"]
[]
[null,100,0,"(1,00 nach Tabelle)"]
[null,90,1]
[null,80,1]
[null,70,0.99]
[null,60,0.98]
[null,50,0.97]
[null,40,0.93]
[null,30,0.87]
[]
[]
[null,{"$f":"ROUND((100-Eingabemaske!X69),-1)","v":80},null,null,null,{"$f":"ROUNDDOWN(B129,2)","v":0}]
["Heizstab Jahreswärmeedarf:",{"$f":"MIN(SUMIFS(C133:C933,B133:B933,D129),1)","v":0},null,{"$f":"MIN(ROUND(ROUND(Eingabemaske!Q86,2)/Eingabemaske!X63*100,1),100)","v":{"$error":"#N/A"}},null,{"$f":"IF(Berechnung!F128=2,0,IF(Berechnung!F128=0,\">13\",IF(Berechnung!F128<>1,(1-Berechnung!F128)*100,IF(Berechnung!F128=1,\"< 1\"))))","v":">13"},null,"Stromkosten"]
[null,null,null,null,null,null,null,null,{"$f":"MIN(ROUND(Eingabemaske!Q86/Eingabemaske!X64*100,1),100)","v":{"$error":"#DIV/0!"}}]
[null,null,null,null,null,null,null,null,{"$f":"ROUND(MIN(SUMIFS(C133:C933,B133:B933,I130),1),2)","v":0}]
["Hilfszahlen",null,null,null,null,null,null,null,"kWh WP","kWh HS"]
[1,100,1,"(wenn 0% angezeigt werden soll, muss in C91 bis C128 \"2\" eingetragen werden)",null,null,null,null,{"$f":"(((Leistungsbedarf!G15*Leistungsbedarf!B43)+Eingabemaske!G19*500)*I131)/Eingabemaske!K87","v":{"$error":"#N/A"}},{"$f":"(((Leistungsbedarf!G15*Leistungsbedarf!B43)+Eingabemaske!G19*500)*(1-I131))","v":{"$error":"#N/A"}}]
[2,99.9,{"$f":"($C$133-(($C$133-$C$233)/100*A133))","v":1},null,null,null,null,null,"Stromkosten","Stromkosten (0,31)"]
[3,99.8,{"$f":"($C$133-(($C$133-$C$233)/100*A134))","v":1},null,null,null,null,null,{"$f":"ROUND(I133*Eingabemaske!AC68/100,0)","v":{"$error":"#N/A"}},{"$f":"ROUND(J133*0.31,0)","v":{"$error":"#N/A"}}]
[4,99.7,1,null,null,null,null,"Gesamt:",{"$f":"IF(Eingabemaske!X69=100,\"-\",I135+J135)","v":{"$error":"#N/A"}},{"$f":"IF(Eingabemaske!X69=100,\"-\",I133+J133)","v":{"$error":"#N/A"}}]
[5,99.6,1]
[6,99.5,1]
[7,99.4,1]
[8,99.3,1]
[9,99.2,1]
[10,99.1,1]
[11,99,1]
[12,98.9,1]
[13,98.8,1]
[14,98.7,1]
[15,98.6,1]
[16,98.5,1]
[17,98.4,1]
[18,98.3,1]
[19,98.2,1]
[20,98.1,1]
[21,98,1]
[22,97.9,1]
[23,97.8,1]
[24,97.7,1]
[25,97.6,1]
[26,97.5,1]
[27,97.4,1]
[28,97.3,1]
[29,97.2,1]
[30,97.1,1]
[31,97,1]
[32,96.9,1]
[33,96.8,1]
[34,96.7,1]
[35,96.6,1]
[36,96.5,1]
[37,96.4,1]
[38,96.3,1]
[39,96.2,1]
[40,96.1,1]
[41,96,1]
[42,95.9,1]
[43,95.8,1]
[44,95.7,1]
[45,95.6,1]
[46,95.5,1]
[47,95.4,1]
[48,95.3,1]
[49,95.2,1]
[50,95.1,1]
[51,95,1]
[52,94.9,1]
[53,94.8,1]
[54,94.7,1]
[55,94.6,1]
[56,94.5,1]
[57,94.4,1]
[58,94.3,1]
[59,94.2,1]
[60,94.1,1]
[61,94,1]
[62,93.9,1]
[63,93.8,1]
[64,93.7,1]
[65,93.6,1]
[66,93.5,1]
[67,93.4,{"$f":"($C$133-(($C$133-$C$233)/100*A198))","v":1}]
[68,93.3,1]
[69,93.2,1]
[70,93.1,1]
[71,93,1]
[72,92.9,1]
[73,92.8,1]
[74,92.7,1]
[75,92.6,1]
[76,92.5,1]
[77,92.4,1]
[78,92.3,1]
[79,92.2,1]
[80,92.1,1]
[81,92,1]
[82,91.9,1]
[83,91.8,1]
[84,91.7,1]
[85,91.6,1]
[86,91.5,1]
[87,91.4,1]
[88,91.3,1]
[89,91.2,1]
[90,91.1,1]
[91,91,1]
[92,90.9,1]
[93,90.8,1]
[94,90.7,1]
[95,90.6,1]
[96,90.5,1]
[97,90.4,1]
[98,90.3,1]
[99,90.2,1]
[null,90.1,1]
[null,90,1]
[null,89.9,{"$f":"($C$233-(($C$233-$C$333)/100*A133))","v":1}]
[null,89.8,{"$f":"($C$233-(($C$233-$C$333)/100*A134))","v":1}]
[null,89.7,1]
[null,89.6,1]
[null,89.5,1]
[null,89.4,1]
[null,89.3,1]
[null,89.2,1]
[null,89.1,1]
[null,89,1]
[null,88.9,1]
[null,88.8,1]
[null,88.7,1]
[null,88.6,1]
[null,88.5,1]
[null,88.4,1]
[null,88.3,1]
[null,88.2,1]
[null,88.1,1]
[null,88,1]
[null,87.9,1]
[null,87.8,1]
[null,87.7,1]
[null,87.6,1]
[null,87.5,1]
[null,87.4,1]
[null,87.3,1]
[null,87.2,1]
[null,87.1,1]
[null,87,1]
[null,86.9,1]
[null,86.8,1]
[null,86.7,1]
[null,86.6,1]
[null,86.5,1]
[null,86.4,1]
[null,86.3,1]
[null,86.2,1]
[null,86.1,1]
[null,86,1]
[null,85.9,1]
[null,85.8,1]
[null,85.7,1]
[null,85.6,1]
[null,85.5,1]
[null,85.4,1]
[null,85.3,1]
[null,85.2,1]
[null,85.1,1]
[null,85,1]
[null,84.9,1]
[null,84.8,1]
[null,84.7,1]
[null,84.6,1]
[null,84.5,1]
[null,84.4,1]
[null,84.3,1]
[null,84.2,1]
[null,84.1,1]
[null,84,1]
[null,83.9,1]
[null,83.8,1]
[null,83.7,1]
[null,83.6,1]
[null,83.5,1]
[null,83.4,{"$f":"($C$233-(($C$233-$C$333)/100*A198))","v":1}]
[null,83.3,1]
[null,83.2,1]
[null,83.1,1]
[null,83,1]
[null,82.9,1]
[null,82.8,1]
[null,82.7,1]
[null,82.6,1]
[null,82.5,1]
[null,82.4,1]
[null,82.3,1]
[null,82.2,1]
[null,82.1,1]
[null,82,1]
[null,81.900000000000006,1]
[null,81.8,1]
[null,81.7,1]
[null,81.599999999999994,1]
[null,81.5,1]
[null,81.400000000000006,1]
[null,81.3,1]
[null,81.2,1]
[null,81.099999999999994,1]
[null,81,1]
[null,80.900000000000006,1]
[null,80.8,1]
[null,80.7,1]
[null,80.599999999999994,1]
[null,80.5,1]
[null,80.400000000000006,1]
[null,80.3,1]
[null,80.2,1]
[null,80.099999999999994,1]
[null,80,1]
[null,79.900000000000006,{"$f":"($C$333-(($C$333-$C$433)/100*A133))","v":0.99990000000000001}]
[null,79.8,{"$f":"($C$333-(($C$333-$C$433)/100*A134))","v":0.99980000000000002}]
[null,79.7,0.99970000000000003]
[null,79.599999999999994,0.99960000000000004]
[null,79.5,0.99950000000000006]
[null,79.400000000000006,0.99939999999999996]
[null,79.3,0.99929999999999997]
[null,79.2,0.99919999999999998]
[null,79.099999999999994,0.99909999999999999]
[null,79,0.999]
[null,78.900000000000006,0.99890000000000001]
[null,78.8,0.99880000000000002]
[null,78.7,0.99870000000000003]
[null,78.599999999999994,0.99860000000000004]
[null,78.5,0.99849999999999994]
[null,78.400000000000006,0.99839999999999995]
[null,78.3,0.99829999999999997]
[null,78.2,0.99819999999999998]
[null,78.099999999999994,0.99809999999999999]
[null,78,0.998]
[null,77.900000000000006,0.99790000000000001]
[null,77.8,0.99780000000000002]
[null,77.7,0.99770000000000003]
[null,77.599999999999994,0.99760000000000004]
[null,77.5,0.99750000000000005]
[null,77.400000000000006,0.99739999999999995]
[null,77.3,0.99729999999999996]
[null,77.2,0.99719999999999998]
[null,77.099999999999994,0.99709999999999999]
[null,77,0.997]
[null,76.900000000000006,0.99690000000000001]
[null,76.8,0.99680000000000002]
[null,76.7,0.99670000000000003]
[null,76.599999999999994,0.99660000000000004]
[null,76.5,0.99649999999999994]
[null,76.400000000000006,0.99639999999999995]
[null,76.3,0.99629999999999996]
[null,76.2,0.99619999999999997]
[null,76.099999999999994,0.99609999999999999]
[null,76,0.996]
[null,75.900000000000006,0.99590000000000001]
[null,75.8,0.99580000000000002]
[null,75.7,0.99570000000000003]
[null,75.599999999999994,0.99560000000000004]
[null,75.5,0.99550000000000005]
[null,75.400000000000006,0.99539999999999995]
[null,75.3,0.99529999999999996]
[null,75.2,0.99519999999999997]
[null,75.099999999999994,0.99509999999999998]
[null,75,0.995]
[null,74.900000000000006,0.99490000000000001]
[null,74.8,0.99480000000000002]
[null,74.7,0.99470000000000003]
[null,74.599999999999994,0.99460000000000004]
[null,74.5,0.99449999999999994]
[null,74.400000000000006,0.99439999999999995]
[null,74.3,0.99429999999999996]
[null,74.2,0.99419999999999997]
[null,74.099999999999994,0.99409999999999998]
[null,74,0.99399999999999999]
[null,73.900000000000006,0.99390000000000001]
[null,73.8,0.99380000000000002]
[null,73.7,0.99370000000000003]
[null,73.599999999999994,0.99360000000000004]
[null,73.5,0.99350000000000005]
[null,73.400000000000006,{"$f":"($C$333-(($C$333-$C$433)/100*A198))","v":0.99339999999999995}]
[null,73.3,0.99329999999999996]
[null,73.2,0.99319999999999997]
[null,73.099999999999994,0.99309999999999998]
[null,73,0.99299999999999999]
[null,72.900000000000006,0.9929]
[null,72.8,0.99280000000000002]
[null,72.7,0.99270000000000003]
[null,72.599999999999994,0.99260000000000004]
[null,72.5,0.99249999999999994]
[null,72.400000000000006,0.99239999999999995]
[null,72.3,0.99229999999999996]
[null,72.2,0.99219999999999997]
[null,72.099999999999994,0.99209999999999998]
[null,72,0.99199999999999999]
[null,71.900000000000006,0.9919]
[null,71.8,0.99180000000000001]
[null,71.7,0.99170000000000003]
[null,71.599999999999994,0.99160000000000004]
[null,71.5,0.99150000000000005]
[null,71.400000000000006,0.99139999999999995]
[null,71.3,0.99129999999999996]
[null,71.2,0.99119999999999997]
[null,71.099999999999994,0.99109999999999998]
[null,71,0.99099999999999999]
[null,70.900000000000006,0.9909]
[null,70.8,0.99080000000000001]
[null,70.7,0.99070000000000003]
[null,70.599999999999994,0.99060000000000004]
[null,70.5,0.99049999999999994]
[null,70.400000000000006,0.99039999999999995]
[null,70.3,0.99029999999999996]
[null,70.2,0.99019999999999997]
[null,70.099999999999994,0.99009999999999998]
[null,70,0.99]
[null,69.900000000000006,{"$f":"($C$433-(($C$433-$C$533)/100*A133))","v":0.9899}]
[null,69.8,{"$f":"($C$433-(($C$433-$C$533)/100*A134))","v":0.98980000000000001}]
[null,69.7,0.98970000000000002]
[null,69.599999999999994,0.98960000000000004]
[null,69.5,0.98950000000000005]
[null,69.400000000000006,0.98939999999999995]
[null,69.3,0.98929999999999996]
[null,69.2,0.98919999999999997]
[null,69.099999999999994,0.98909999999999998]
[null,69,0.98899999999999999]
[null,68.900000000000006,0.9889]
[43,68.8,0.98880000000000001]
[44,68.7,0.98870000000000002]
[45,68.599999999999994,0.98860000000000003]
[46,68.5,0.98849999999999993]
[47,68.400000000000006,0.98839999999999995]
[48,68.3,0.98829999999999996]
[49,68.2,0.98819999999999997]
[50,68.099999999999994,0.98809999999999998]
[51,68,0.98799999999999999]
[52,67.900000000000006,0.9879]
[53,67.8,0.98780000000000001]
[54,67.7,0.98770000000000002]
[55,67.599999999999994,0.98760000000000003]
[56,67.5,0.98750000000000004]
[57,67.400000000000006,0.98739999999999994]
[58,67.3,0.98729999999999996]
[59,67.2,0.98719999999999997]
[60,67.099999999999994,0.98709999999999998]
[61,67,0.98699999999999999]
[62,66.900000000000006,0.9869]
[63,66.8,0.98680000000000001]
[64,66.7,0.98670000000000002]
[65,66.599999999999994,0.98660000000000003]
[66,66.5,0.98649999999999993]
[67,66.400000000000006,0.98639999999999994]
[68,66.3,0.98629999999999995]
[69,66.2,0.98619999999999997]
[70,66.099999999999994,0.98609999999999998]
[71,66,0.98599999999999999]
[72,65.900000000000006,0.9859]
[73,65.8,0.98580000000000001]
[74,65.7,0.98570000000000002]
[75,65.599999999999994,0.98560000000000003]
[76,65.5,0.98550000000000004]
[77,65.400000000000006,0.98539999999999994]
[78,65.3,0.98529999999999995]
[79,65.2,0.98519999999999996]
[80,65.099999999999994,0.98509999999999998]
[81,65,0.98499999999999999]
[82,64.900000000000006,0.9849]
[83,64.8,0.98480000000000001]
[84,64.7,0.98470000000000002]
[85,64.599999999999994,0.98460000000000003]
[86,64.5,0.98449999999999993]
[87,64.400000000000006,0.98439999999999994]
[88,64.3,0.98429999999999995]
[89,64.2,0.98419999999999996]
[90,64.099999999999994,0.98409999999999997]
[91,64,0.98399999999999999]
[92,63.9,0.9839]
[93,63.8,0.98380000000000001]
[94,63.7,0.98370000000000002]
[95,63.6,0.98360000000000003]
[96,63.5,0.98350000000000004]
[97,63.4,{"$f":"($C$433-(($C$433-$C$533)/100*A198))","v":0.98339999999999994}]
[98,63.3,0.98329999999999995]
[99,63.2,0.98319999999999996]
[100,63.1,0.98309999999999997]
[null,63,0.98299999999999998]
[null,62.9,0.9829]
[null,62.8,0.98280000000000001]
[null,62.7,0.98270000000000002]
[null,62.6,0.98260000000000003]
[null,62.5,0.98249999999999993]
[null,62.4,0.98239999999999994]
[null,62.3,0.98229999999999995]
[null,62.2,0.98219999999999996]
[null,62.1,0.98209999999999997]
[null,62,0.98199999999999998]
[null,61.9,0.9819]
[null,61.8,0.98180000000000001]
[null,61.7,0.98170000000000002]
[null,61.6,0.98160000000000003]
[null,61.5,0.98150000000000004]
[null,61.4,0.98139999999999994]
[null,61.3,0.98129999999999995]
[null,61.2,0.98119999999999996]
[null,61.1,0.98109999999999997]
[null,61,0.98099999999999998]
[null,60.9,0.98089999999999999]
[null,60.8,0.98080000000000001]
[null,60.7,0.98070000000000002]
[null,60.6,0.98060000000000003]
[null,60.5,0.98049999999999993]
[null,60.4,0.98039999999999994]
[null,60.3,0.98029999999999995]
[null,60.2,0.98019999999999996]
[null,60.1,0.98009999999999997]
[null,60,0.98]
[null,59.9,{"$f":"($C$533-(($C$533-$C$633)/100*A133))","v":0.97989999999999999}]
[null,59.8,{"$f":"($C$533-(($C$533-$C$633)/100*A134))","v":0.9798}]
[null,59.7,0.97970000000000002]
[null,59.6,0.97960000000000003]
[null,59.5,0.97950000000000004]
[null,59.4,0.97939999999999994]
[null,59.3,0.97929999999999995]
[null,59.2,0.97919999999999996]
[null,59.1,0.97909999999999997]
[null,59,0.97899999999999998]
[null,58.9,0.97889999999999999]
[null,58.8,0.9788]
[null,58.7,0.97870000000000001]
[null,58.6,0.97860000000000003]
[null,58.5,0.97849999999999993]
[null,58.4,0.97839999999999994]
[null,58.3,0.97829999999999995]
[null,58.2,0.97819999999999996]
[null,58.1,0.97809999999999997]
[null,58,0.97799999999999998]
[null,57.9,0.97789999999999999]
[null,57.8,0.9778]
[null,57.7,0.97770000000000001]
[null,57.6,0.97760000000000002]
[null,57.5,0.97750000000000004]
[null,57.4,0.97739999999999994]
[null,57.3,0.97729999999999995]
[null,57.2,0.97719999999999996]
[null,57.1,0.97709999999999997]
[null,57,0.97699999999999998]
[null,56.9,0.97689999999999999]
[null,56.8,0.9768]
[null,56.7,0.97670000000000001]
[null,56.6,0.97660000000000002]
[null,56.5,0.97649999999999992]
[null,56.4,0.97639999999999993]
[null,56.3,0.97629999999999995]
[null,56.2,0.97619999999999996]
[null,56.1,0.97609999999999997]
[null,56,0.97599999999999998]
[null,55.9,0.97589999999999999]
[null,55.8,0.9758]
[null,55.7,0.97570000000000001]
[null,55.6,0.97560000000000002]
[null,55.5,0.97550000000000003]
[null,55.4,0.97539999999999993]
[null,55.3,0.97529999999999994]
[null,55.2,0.97519999999999996]
[null,55.1,0.97509999999999997]
[null,55,0.97499999999999998]
[null,54.9,0.97489999999999999]
[null,54.8,0.9748]
[null,54.7,0.97470000000000001]
[null,54.6,0.97460000000000002]
[null,54.5,0.97449999999999992]
[null,54.4,0.97439999999999993]
[null,54.3,0.97429999999999994]
[null,54.2,0.97419999999999995]
[null,54.1,0.97409999999999997]
[null,54,0.97399999999999998]
[null,53.9,0.97389999999999999]
[null,53.8,0.9738]
[null,53.7,0.97370000000000001]
[null,53.6,0.97360000000000002]
[null,53.5,0.97350000000000003]
[null,53.4,{"$f":"($C$533-(($C$533-$C$633)/100*A198))","v":0.97339999999999993}]
[null,53.3,0.97329999999999994]
[null,53.2,0.97319999999999995]
[null,53.1,0.97309999999999997]
[null,53,0.97299999999999998]
[null,52.9,0.97289999999999999]
[null,52.8,0.9728]
[null,52.7,0.97270000000000001]
[null,52.6,0.97260000000000002]
[null,52.5,0.97249999999999992]
[null,52.4,0.97239999999999993]
[null,52.3,0.97229999999999994]
[null,52.2,0.97219999999999995]
[null,52.1,0.97209999999999996]
[null,52,0.97199999999999998]
[null,51.9,0.97189999999999999]
[null,51.8,0.9718]
[null,51.7,0.97170000000000001]
[null,51.6,0.97160000000000002]
[null,51.5,0.97150000000000003]
[null,51.4,0.97139999999999993]
[null,51.3,0.97129999999999994]
[null,51.2,0.97119999999999995]
[null,51.1,0.97109999999999996]
[null,51,0.97099999999999997]
[null,50.9,0.97089999999999999]
[null,50.8,0.9708]
[null,50.7,0.97070000000000001]
[null,50.6,0.97060000000000002]
[null,50.5,0.97049999999999992]
[null,50.4,0.97039999999999993]
[null,50.3,0.97029999999999994]
[null,50.2,0.97019999999999995]
[null,50.1,0.97009999999999996]
[null,50,0.97]
[null,49.9,{"$f":"($C$633-(($C$633-$C$733)/100*A133))","v":0.96960000000000002}]
[null,49.8,{"$f":"($C$633-(($C$633-$C$733)/100*A134))","v":0.96919999999999995}]
[null,49.7,0.96879999999999999]
[null,49.6,0.96839999999999993]
[null,49.5,0.96799999999999997]
[null,49.4,0.96760000000000002]
[null,49.3,0.96719999999999995]
[null,49.2,0.96679999999999999]
[null,49.1,0.96639999999999993]
[null,49,0.96599999999999997]
[null,48.9,0.96560000000000001]
[null,48.8,0.96519999999999995]
[null,48.7,0.96479999999999999]
[null,48.6,0.96440000000000003]
[null,48.5,0.96399999999999997]
[null,48.4,0.96360000000000001]
[null,48.3,0.96319999999999995]
[null,48.2,0.96279999999999999]
[null,48.1,0.96240000000000003]
[null,48,0.96199999999999997]
[null,47.9,0.96160000000000001]
[null,47.8,0.96119999999999994]
[null,47.7,0.96079999999999999]
[null,47.6,0.96040000000000003]
[null,47.5,0.96]
[null,47.4,0.95960000000000001]
[null,47.3,0.95919999999999994]
[null,47.2,0.95879999999999999]
[null,47.1,0.95840000000000003]
[null,47,0.95799999999999996]
[null,46.9,0.95760000000000001]
[null,46.8,0.95720000000000005]
[null,46.7,0.95679999999999998]
[null,46.6,0.95640000000000003]
[null,46.5,0.95599999999999996]
[null,46.4,0.9556]
[null,46.3,0.95520000000000005]
[null,46.2,0.95479999999999998]
[null,46.1,0.95440000000000003]
[null,46,0.95399999999999996]
[null,45.9,0.9536]
[null,45.8,0.95320000000000005]
[null,45.7,0.95279999999999998]
[null,45.6,0.95240000000000002]
[null,45.5,0.95199999999999996]
[null,45.4,0.9516]
[null,45.3,0.95120000000000005]
[null,45.2,0.95079999999999998]
[null,45.1,0.95040000000000002]
[null,45,0.95]
[null,44.9,0.9496]
[null,44.8,0.94920000000000004]
[null,44.7,0.94879999999999998]
[null,44.6,0.94840000000000002]
[null,44.5,0.94800000000000006]
[null,44.4,0.9476]
[null,44.3,0.94720000000000004]
[null,44.2,0.94679999999999997]
[null,44.1,0.94640000000000002]
[null,44,0.94600000000000006]
[null,43.9,0.9456]
[null,43.8,0.94520000000000004]
[null,43.7,0.94479999999999997]
[null,43.6,0.94440000000000002]
[null,43.5,0.94400000000000006]
[null,43.4,{"$f":"($C$633-(($C$633-$C$733)/100*A198))","v":0.94359999999999999}]
[null,43.3,0.94320000000000004]
[null,43.2,0.94279999999999997]
[null,43.1,0.94240000000000002]
[null,43,0.94200000000000006]
[null,42.9,0.94159999999999999]
[null,42.8,0.94120000000000004]
[null,42.7,0.94080000000000008]
[null,42.6,0.94040000000000001]
[null,42.5,0.94000000000000006]
[null,42.4,0.93959999999999999]
[null,42.3,0.93920000000000003]
[null,42.2,0.93880000000000008]
[null,42.1,0.93840000000000001]
[null,42,0.93800000000000006]
[null,41.9,0.93759999999999999]
[null,41.8,0.93720000000000003]
[null,41.7,0.93680000000000008]
[null,41.6,0.93640000000000001]
[null,41.5,0.93600000000000005]
[null,41.4,0.93559999999999999]
[null,41.3,0.93520000000000003]
[null,41.2,0.93480000000000008]
[null,41.1,0.93440000000000001]
[null,41,0.93400000000000005]
[null,40.9,0.93359999999999999]
[null,40.799999999999997,0.93320000000000003]
[null,40.700000000000003,0.93280000000000007]
[null,40.6,0.93240000000000001]
[null,40.5,0.93200000000000005]
[null,40.4,0.93160000000000009]
[null,40.299999999999997,0.93120000000000003]
[null,40.200000000000003,0.93080000000000007]
[null,40.1,{"$f":"($C$633-(($C$633-$C$733)/100*A231))","v":0.9304}]
[null,40,0.93]
[null,39.9,{"$f":"($C$733-(($C$733-$C$833)/100*A133))","v":0.9294}]
[null,39.799999999999997,{"$f":"($C$733-(($C$733-$C$833)/100*A134))","v":0.92880000000000007}]
[null,39.700000000000003,0.92820000000000003]
[null,39.6,0.92760000000000009]
[null,39.5,0.92700000000000005]
[null,39.4,0.9264]
[null,39.299999999999997,0.92580000000000007]
[null,39.200000000000003,0.92520000000000002]
[null,39.1,0.92460000000000009]
[null,39,0.92400000000000004]
[null,38.9,0.9234]
[null,38.799999999999997,0.92280000000000006]
[null,38.700000000000003,0.92220000000000002]
[null,38.6,0.92160000000000009]
[null,38.5,0.92100000000000004]
[null,38.4,0.9204]
[null,38.299999999999997,0.91980000000000006]
[null,38.200000000000003,0.91920000000000002]
[null,38.1,0.91860000000000008]
[null,38,0.91800000000000004]
[null,37.9,0.91739999999999999]
[null,37.799999999999997,0.91680000000000006]
[null,37.700000000000003,0.91620000000000001]
[null,37.6,0.91560000000000008]
[null,37.5,0.91500000000000004]
[null,37.4,0.91439999999999999]
[null,37.299999999999997,0.91380000000000006]
[null,37.200000000000003,0.91320000000000001]
[null,37.1,0.91260000000000008]
[null,37,0.91200000000000003]
[null,36.9,0.91139999999999999]
[null,36.799999999999997,0.91080000000000005]
[null,36.700000000000003,0.91020000000000001]
[null,36.6,0.90960000000000008]
[null,36.5,0.90900000000000003]
[null,36.4,0.90839999999999999]
[null,36.299999999999997,0.90780000000000005]
[null,36.200000000000003,0.90720000000000001]
[null,36.1,0.90660000000000007]
[null,36,0.90600000000000003]
[null,35.9,0.90539999999999998]
[null,35.799999999999997,0.90480000000000005]
[null,35.700000000000003,0.9042]
[null,35.6,0.90360000000000007]
[null,35.5,0.90300000000000002]
[null,35.4,0.90239999999999998]
[null,35.299999999999997,0.90180000000000005]
[null,35.200000000000003,0.9012]
[null,35.1,0.90060000000000007]
[null,35,0.9]
[null,34.9,0.89939999999999998]
[null,34.799999999999997,0.89880000000000004]
[null,34.700000000000003,0.8982]
[null,34.6,0.89760000000000006]
[null,34.5,0.89700000000000002]
[null,34.4,0.89639999999999997]
[null,34.299999999999997,0.89580000000000004]
[null,34.200000000000003,0.8952]
[null,34.1,0.89460000000000006]
[null,34,0.89400000000000002]
[null,33.9,0.89339999999999997]
[null,33.799999999999997,0.89280000000000004]
[null,33.700000000000003,0.89219999999999999]
[null,33.6,0.89160000000000006]
[null,33.5,0.89100000000000001]
[null,33.4,{"$f":"($C$733-(($C$733-$C$833)/100*A198))","v":0.89039999999999997}]
[null,33.299999999999997,0.88980000000000004]
[null,33.200000000000003,0.88919999999999999]
[null,33.1,0.88860000000000006]
[null,33,0.88800000000000001]
[null,32.9,0.88739999999999997]
[null,32.799999999999997,0.88680000000000003]
[null,32.700000000000003,0.88619999999999999]
[null,32.6,0.88560000000000005]
[null,32.5,0.88500000000000001]
[null,32.4,0.88439999999999996]
[null,32.299999999999997,0.88380000000000003]
[null,32.200000000000003,0.88319999999999999]
[null,32.1,0.88260000000000005]
[null,32,0.88200000000000001]
[null,31.9,0.88139999999999996]
[null,31.8,0.88080000000000003]
[null,31.7,0.88019999999999998]
[null,31.6,0.87960000000000005]
[null,31.5,0.879]
[null,31.4,0.87839999999999996]
[null,31.3,0.87780000000000002]
[null,31.2,0.87719999999999998]
[null,31.1,0.87660000000000005]
[null,31,0.876]
[null,30.9,0.87539999999999996]
[null,30.8,0.87480000000000002]
[null,30.7,0.87419999999999998]
[null,30.6,0.87360000000000004]
[null,30.5,0.873]
[null,30.4,0.87239999999999995]
[null,30.3,0.87180000000000002]
[null,30.2,0.87119999999999997]
[null,30.1,{"$f":"($C$733-(($C$733-$C$833)/100*A231))","v":0.87060000000000004}]
[null,30,0.87]
[null,29.9,{"$f":"($C$833-(($C$833-$C$933)/100*A133))","v":0.86850000000000005}]
[null,29.8,{"$f":"($C$833-(($C$833-$C$933)/100*A134))","v":0.86699999999999999},null,"-> siehe Ergänzung zur VDI 4650"]
[null,29.7,0.86550000000000005]
[null,29.6,0.86399999999999999]
[null,29.5,0.86250000000000004]
[null,29.4,0.86099999999999999]
[null,29.3,0.85950000000000004]
[null,29.2,0.85799999999999998]
[null,29.1,0.85650000000000004]
[null,29,0.85499999999999998]
[null,28.9,0.85350000000000004]
[null,28.8,0.85199999999999998]
[null,28.7,0.85050000000000003]
[null,28.6,0.84899999999999998]
[null,28.5,0.84750000000000003]
[null,28.4,0.84599999999999997]
[null,28.3,0.84450000000000003]
[null,28.2,0.84299999999999997]
[null,28.1,0.84150000000000003]
[null,28,0.84]
[null,27.9,0.83850000000000002]
[null,27.8,0.83699999999999997]
[null,27.7,0.83550000000000002]
[null,27.6,0.83399999999999996]
[null,27.5,0.83250000000000002]
[null,27.4,0.83099999999999996]
[null,27.3,0.82950000000000002]
[null,27.2,0.82799999999999996]
[null,27.1,0.82650000000000001]
[null,27,0.82499999999999996]
[null,26.9,0.82350000000000001]
[null,26.8,0.82199999999999995]
[null,26.7,0.82050000000000001]
[null,26.6,0.81899999999999995]
[null,26.5,0.8175]
[null,26.4,0.81599999999999995]
[null,26.3,0.8145]
[null,26.2,0.81299999999999994]
[null,26.1,0.8115]
[null,26,0.80999999999999994]
[null,25.9,0.8085]
[null,25.8,0.80699999999999994]
[null,25.7,0.80549999999999999]
[null,25.6,0.80399999999999994]
[null,25.5,0.80249999999999999]
[null,25.4,0.80099999999999993]
[null,25.3,0.79949999999999999]
[null,25.2,0.79800000000000004]
[null,25.1,0.79649999999999999]
[null,25,0.79499999999999993]
[null,24.9,0.79349999999999998]
[null,24.8,0.79200000000000004]
[null,24.7,0.79049999999999998]
[null,24.6,0.78899999999999992]
[null,24.5,0.78749999999999998]
[null,24.4,0.78600000000000003]
[null,24.3,0.78449999999999998]
[null,24.2,0.78300000000000003]
[null,24.1,0.78149999999999997]
[null,24,0.78]
[null,23.9,0.77849999999999997]
[null,23.8,0.77700000000000002]
[null,23.7,0.77549999999999997]
[null,23.6,0.77400000000000002]
[null,23.5,0.77249999999999996]
[null,23.4,{"$f":"($C$833-(($C$833-$C$933)/100*A198))","v":0.77100000000000002}]
[null,23.3,0.76949999999999996]
[null,23.2,0.76800000000000002]
[null,23.1,0.76649999999999996]
[null,23,0.76500000000000001]
[null,22.9,0.76349999999999996]
[null,22.8,0.76200000000000001]
[null,22.7,0.76049999999999995]
[null,22.6,0.75900000000000001]
[null,22.5,0.75749999999999995]
[null,22.4,0.75600000000000001]
[null,22.3,0.75449999999999995]
[null,22.2,0.753]
[null,22.1,0.75149999999999995]
[null,22,0.75]
[null,21.9,0.74849999999999994]
[null,21.8,0.747]
[null,21.7,0.74549999999999994]
[null,21.6,0.74399999999999999]
[null,21.5,0.74249999999999994]
[null,21.4,0.74099999999999999]
[null,21.3,0.73949999999999994]
[null,21.2,0.73799999999999999]
[null,21.1,0.73649999999999993]
[null,21,0.73499999999999999]
[null,20.9,0.73350000000000004]
[null,20.8,0.73199999999999998]
[null,20.7,0.73049999999999993]
[null,20.6,0.72899999999999998]
[null,20.5,0.72750000000000004]
[null,20.399999999999999,0.72599999999999998]
[null,20.3,0.72449999999999992]
[null,20.2,0.72299999999999998]
[null,20.100000000000001,0.72150000000000003]
[null,20.000000000000199,0.72]

{"sheet":"Liste Berechnungen","index":4,"n_rows":79,"n_cols":60,"rows_kept":79,"cut":false,"hidden":true,"merged":[]}
[0,"Bezeichnung WP"]
[0]
[0]
[0,"Kriterium 1","Kriterium 2","JAZ ","Heizstab","Priorisierung"]
[1,"Altherma 4 H ECH2O 500 6 kW",null,4.75,3.72,null,null,null,"Temperatur",-10,-9.5,-9,-8.5,-8,-7.5,-7,-6.5,-6,-5.5,-5,-4.5,-4,-3.5,-3,-2.5,-2,-1.5,-1,-0.5,0,0.5,1,1.5,2,2.5,3,3.5,4,4.5,5,5.5,6,6.5,7,7.5,8,8.5,9,9.5,10,10.5,11,11.5,12,12.5,13,13.5,14,14.5,15]
[1,18,-4.9281767274221649E-2,6.4176123181038198,-1.8348277228470291,0,0,6.508035870929457,"Heizlast",9.6645418326693235,9.4712509960159377,9.2779601593625518,9.0846693227091659,8.8913784860557801,8.6980876494023942,8.5047968127490083,8.3115059760956225,8.1182151394422366,7.9249243027888499,7.7316334661354631,7.5383426294820763,7.3450517928286896,7.1517609561753028,6.9584701195219161,6.7651792828685293,6.5718884462151426,6.3785976095617558,6.1853067729083691,5.9920159362549823,5.7987250996015955,5.6054342629482088,5.412143426294822,5.2188525896414353,5.0255617529880485,4.8322709163346618,4.638980079681275,4.4456892430278883,4.2523984063745015,4.0591075697211147,3.8658167330677284,3.6725258964143421,3.4792350597609558,3.2859442231075695,3.0926533864541832,2.8993625498007969,2.7060717131474106,2.5127808764940243,2.319490039840638,2.1261992031872516,1.9329083665338651,1.7396175298804786,1.546326693227092,1.3530358565737055,1.159745019920319,0.96645418326693244,0.77316334661354591,0.57987250996015938,0.3865816733067729,0.19329083665338642,-5.5511151231257827E-17]
[1,null,-0.38658167330677368,5.7987250996015955,-1.8348277228470291,6.508035870929457,-1.8348277228470291,6.508035870929457,"Leistung",6.0748272544590609,6.1506893787158843,6.2265515029727077,6.3024136272295301,6.3782757514863535,6.4541378757431769,6.53,6.5286175852652262,6.527235170530453,6.5258527557956789,6.5244703410609057,6.5230879263261317,6.5217055115913576,6.5203230968565844,6.5189406821218103,6.5175582673870371,6.5161758526522631,6.4915349690151523,6.4668940853780423,6.4422532017409315,6.4176123181038207,6.3929714344667099,6.3683305508295991,6.3436896671924892,6.3190487835553784,6.2750360507959018,6.2310233180364252,6.1870105852769486,6.142997852517472,6.0989851197579945,6.0549723869985179,6.0109596542390413,5.9669469214795647,5.9229341887200881,5.8789214559606116,5.7367939326834154,5.5946664094062202,5.452538886129024,5.3104113628518279,5.1682838395746327,5.0261563162974365,4.8840287930202404,4.7419012697430443,4.599773746465849,4.4576462231886529,4.5022441338108807,4.5468420444331086,4.5914399550553364,4.6360378656775643,4.6806357762997921,4.7252336869220199]
[1,null,"",4.3499999999999996,9,"0,5",4.5199999999999996,3.38,4.46,5.19,0]
[1]
[2,"Altherma 4 H ECH2O 500 8 kW",null,4.68,3.59,null,null,null,"Temperatur",-10,-9.5,-9,-8.5,-8,-7.5,-7,-6.5,-6,-5.5,-5,-4.5,-4,-3.5,-3,-2.5,-2,-1.5,-1,-0.5,0,0.5,1,1.5,2,2.5,3,3.5,4,4.5,5,5.5,6,6.5,7,7.5,8,8.5,9,9.5,10,10.5,11,11.5,12,12.5,13,13.5,14,14.5,15]
[2,11,-0.10660526952800177,7.2115593997067275,-5.0462620457883611,0,0,7.7495175252069215,"Heizlast",9.6645418326693235,9.4712509960159377,9.2779601593625518,9.0846693227091659,8.8913784860557801,8.6980876494023942,8.5047968127490083,8.3115059760956225,8.1182151394422366,7.9249243027888499,7.7316334661354631,7.5383426294820763,7.3450517928286896,7.1517609561753028,6.9584701195219161,6.7651792828685293,6.5718884462151426,6.3785976095617558,6.1853067729083691,5.9920159362549823,5.7987250996015955,5.6054342629482088,5.412143426294822,5.2188525896414353,5.0255617529880485,4.8322709163346618,4.638980079681275,4.4456892430278883,4.2523984063745015,4.0591075697211147,3.8658167330677284,3.6725258964143421,3.4792350597609558,3.2859442231075695,3.0926533864541832,2.8993625498007969,2.7060717131474106,2.5127808764940243,2.319490039840638,2.1261992031872516,1.9329083665338651,1.7396175298804786,1.546326693227092,1.3530358565737055,1.159745019920319,0.96645418326693244,0.77316334661354591,0.57987250996015938,0.3865816733067729,0.19329083665338642,-5.5511151231257827E-17]
[2,null,-0.38658167330677368,5.7987250996015938,-5.0462620457883611,7.7495175252069215,-5.0462620457883611,7.7495175252069215,"Leistung",7.5480059052323103,7.6163043020940489,7.6846026989557874,7.7529010958175251,7.8211994926792636,7.8894978895410013,7.9577962864027398,7.904493651638739,7.8511910168747381,7.7978883821107372,7.7445857473467363,7.6912831125827346,7.6379804778187337,7.5846778430547328,7.5313752082907319,7.478072573526731,7.4247699387627302,7.3109789784264434,7.1971880180901566,7.0833970577538699,6.969606097417584,6.8558151370812972,6.7420241767450104,6.6282332164087236,6.5144422560724369,6.630716008831814,6.746989761591192,6.8632635143505691,6.9795372671099463,7.0958110198693234,7.2120847726287014,7.3283585253880785,7.4446322781474557,7.5609060309068337,7.6771797836662108,7.4835526067708553,7.2899254298755007,7.0962982529801453,6.9026710760847898,6.7090438991894352,6.5154167222940798,6.3217895453987243,6.1281623685033697,5.9345351916080142,5.7409080147126588,5.7983447177867404,5.8557814208608221,5.9132181239349038,5.9706548270089845,6.0280915300830662,6.0855282331571479]
[2,null,"empfohlen",4.43,9,"0,4",4.43,3.32,4.46,5.01,0]
[2]
[3,"Altherma 4 H ECH2O 500 10 kW",null,4.62,3.54,null,null,null,"Temperatur",-10,-9.5,-9,-8.5,-8,-7.5,-7,-6.5,-6,-5.5,-5,-4.5,-4,-3.5,-3,-2.5,-2,-1.5,-1,-0.5,0,0.5,1,1.5,2,2.5,3,3.5,4,4.5,5,5.5,6,6.5,7,7.5,8,8.5,9,9.5,10,10.5,11,11.5,12,12.5,13,13.5,14,14.5,15]
[3,4,0.13591582761064203,10.318623627954956,-8.65056487431462,0,0,9.1428749437629353,"Heizlast",9.6645418326693235,9.4712509960159377,9.2779601593625518,9.0846693227091659,8.8913784860557801,8.6980876494023942,8.5047968127490083,8.3115059760956225,8.1182151394422366,7.9249243027888499,7.7316334661354631,7.5383426294820763,7.3450517928286896,7.1517609561753028,6.9584701195219161,6.7651792828685293,6.5718884462151426,6.3785976095617558,6.1853067729083691,5.9920159362549823,5.7987250996015955,5.6054342629482088,5.412143426294822,5.2188525896414353,5.0255617529880485,4.8322709163346618,4.638980079681275,4.4456892430278883,4.2523984063745015,4.0591075697211147,3.8658167330677284,3.6725258964143421,3.4792350597609558,3.2859442231075695,3.0926533864541832,2.8993625498007969,2.7060717131474106,2.5127808764940243,2.319490039840638,2.1261992031872516,1.9329083665338651,1.7396175298804786,1.546326693227092,1.3530358565737055,1.159745019920319,0.96645418326693244,0.77316334661354591,0.57987250996015938,0.3865816733067729,0.19329083665338642,-5.5511151231257827E-17]
[3,null,-0.38658167330677173,5.7987250996016062,-8.65056487431462,9.1428749437629353,-8.65056487431462,9.1428749437629353,"Leistung",8.9594653518485359,9.0274232656538587,9.0953811794591797,9.1633390932645007,9.2312970070698235,9.2992549208751445,9.3672128346804655,9.2642117012365812,9.1612105677926987,9.0582094343488144,8.9552083009049301,8.8522071674610459,8.7492060340171633,8.6462049005732791,8.5432037671293948,8.4402026336855123,8.337201500241628,8.2557979207438308,8.1743943412460336,8.0929907617482364,8.0115871822504392,7.930183602752642,7.8487800232548448,7.7673764437570476,7.6859728642592504,7.9133340362548878,8.1406952082505253,8.3680563802461627,8.5954175522418002,8.8227787242374376,9.050139896233075,9.2775010682287125,9.5048622402243499,9.7322234122199873,9.9595845842156248,9.713321172421244,9.4670577606268651,9.2207943488324844,8.9745309370381054,8.7282675252437247,8.4820041134493458,8.2357407016549651,7.9894772898605853,7.7432138780662054,7.4969504662718256,7.4884291851252343,7.479907903978642,7.4713866228320498,7.4628653416854585,7.4543440605388671,7.4458227793922749]
[3,null,"",4.38,9,"0,3",4.38,2.85,4.46,4.9400000000000004,0]
[3]
[4,"Altherma 4 H ECH2O 500 12 kW",null,4.6100000000000003,3.94,null,null,null,"Temperatur",-10,-9.5,-9,-8.5,-8,-7.5,-7,-6.5,-6,-5.5,-5,-4.5,-4,-3.5,-3,-2.5,-2,-1.5,-1,-0.5,0,0.5,1,1.5,2,2.5,3,3.5,4,4.5,5,5.5,6,6.5,7,7.5,8,8.5,9,9.5,10,10.5,11,11.5,12,12.5,13,13.5,14,14.5,15]
[4,1,{"$error":"#VALUE!"},{"$error":"#VALUE!"},{"$error":"#VALUE!"},0,0,{"$error":"#VALUE!"},"Heizlast",9.6645418326693235,9.4712509960159377,9.2779601593625518,9.0846693227091659,8.8913784860557801,8.6980876494023942,8.5047968127490083,8.3115059760956225,8.1182151394422366,7.9249243027888499,7.7316334661354631,7.5383426294820763,7.3450517928286896,7.1517609561753028,6.9584701195219161,6.7651792828685293,6.5718884462151426,6.3785976095617558,6.1853067729083691,5.9920159362549823,5.7987250996015955,5.6054342629482088,5.412143426294822,5.2188525896414353,5.0255617529880485,4.8322709163346618,4.638980079681275,4.4456892430278883,4.2523984063745015,4.0591075697211147,3.8658167330677284,3.6725258964143421,3.4792350597609558,3.2859442231075695,3.0926533864541832,2.8993625498007969,2.7060717131474106,2.5127808764940243,2.319490039840638,2.1261992031872516,1.9329083665338651,1.7396175298804786,1.546326693227092,1.3530358565737055,1.159745019920319,0.96645418326693244,0.77316334661354591,0.57987250996015938,0.3865816733067729,0.19329083665338642,-5.5511151231257827E-17]
[4,null,{"$error":"#VALUE!"},{"$error":"#VALUE!"},{"$error":"#VALUE!"},{"$error":"#VALUE!"},{"$error":"#VALUE!"},{"$error":"#VALUE!"},"Leistung",10.833536983208536,10.925796047383047,11.018055111557558,11.110314175732071,11.202573239906583,11.294832304081096,11.387091368255607,11.274140289462615,11.161189210669624,11.048238131876632,10.935287053083641,10.822335974290649,10.709384895497656,10.596433816704666,10.483482737911674,10.370531659118683,10.257580580325691,10.060449545391604,9.8633185104575176,9.6661874755234312,9.4690564405893447,9.27192540565526,9.0747943707211736,8.8776633357870871,8.6805323008530006,9.0250829355020006,9.3696335701509987,9.7141842047999987,10.058734839448999,10.403285474097999,10.747836108746997,11.092386743395997,11.436937378044995,11.781488012693995,12.126038647342995,11.854665691699605,11.583292736056213,11.311919780412824,11.040546824769432,10.769173869126043,10.497800913482653,10.226427957839261,9.9550550021958717,9.6836820465524802,9.4123090909090905,9.5434373737373726,9.6745656565656564,9.8056939393939402,9.9368222222222222,10.067950505050504,10.199078787878788]
[4,null,"",4.47,9,"0,2",4.47,3.49,4.0599999999999996,5.5,0]
[4]
[5,"Altherma 4 H ECH2O 500 14 kW",null,4.6100000000000003,3.94,null,null,null,"Temperatur",-10,-9.5,-9,-8.5,-8,-7.5,-7,-6.5,-6,-5.5,-5,-4.5,-4,-3.5,-3,-2.5,-2,-1.5,-1,-0.5,0,0.5,1,1.5,2,2.5,3,3.5,4,4.5,5,5.5,6,6.5,7,7.5,8,8.5,9,9.5,10,10.5,11,11.5,12,12.5,13,13.5,14,14.5,15]
[5,1,{"$error":"#VALUE!"},{"$error":"#VALUE!"},{"$error":"#VALUE!"},0,0,{"$error":"#VALUE!"},"Heizlast",9.6645418326693235,9.4712509960159377,9.2779601593625518,9.0846693227091659,8.8913784860557801,8.6980876494023942,8.5047968127490083,8.3115059760956225,8.1182151394422366,7.9249243027888499,7.7316334661354631,7.5383426294820763,7.3450517928286896,7.1517609561753028,6.9584701195219161,6.7651792828685293,6.5718884462151426,6.3785976095617558,6.1853067729083691,5.9920159362549823,5.7987250996015955,5.6054342629482088,5.412143426294822,5.2188525896414353,5.0255617529880485,4.8322709163346618,4.638980079681275,4.4456892430278883,4.2523984063745015,4.0591075697211147,3.8658167330677284,3.6725258964143421,3.4792350597609558,3.2859442231075695,3.0926533864541832,2.8993625498007969,2.7060717131474106,2.5127808764940243,2.319490039840638,2.1261992031872516,1.9329083665338651,1.7396175298804786,1.546326693227092,1.3530358565737055,1.159745019920319,0.96645418326693244,0.77316334661354591,0.57987250996015938,0.3865816733067729,0.19329083665338642,-5.5511151231257827E-17]
[5,null,{"$error":"#VALUE!"},{"$error":"#VALUE!"},{"$error":"#VALUE!"},{"$error":"#VALUE!"},{"$error":"#VALUE!"},{"$error":"#VALUE!"},"Leistung",13.08025178792492,13.085876966717413,13.091502145509903,13.097127324302395,13.102752503094887,13.108377681887379,13.114002860679872,13.129302574611884,13.144602288543897,13.15990200247591,13.175201716407923,13.190501430339935,13.205801144271948,13.221100858203961,13.236400572135974,13.251700286067987,13.266999999999999,12.978687465786759,12.690374931573517,12.402062397360277,12.113749863147035,11.825437328933795,11.537124794720555,11.248812260507314,10.960499726294072,11.385716420331331,11.810933114368591,12.23614980840585,12.66136650244311,13.086583196480369,13.511799890517629,13.937016584554888,14.362233278592146,14.787449972629407,15.212666666666665,14.895299999999999,14.577933333333332,14.260566666666666,13.943199999999999,13.625833333333333,13.308466666666666,12.991099999999999,12.673733333333333,12.356366666666666,12.039,12.206722222222222,12.374444444444444,12.542166666666667,12.709888888888889,12.877611111111111,13.045333333333334]
[5,null,"",4.47,9,"0,1",4.47,3.49,4.0599999999999996,5.5,0]
[5]
[6,"Altherma 4 H F 230 6 kW",null,4.75,3.72,null,null,null,"Temperatur",-10,-9.5,-9,-8.5,-8,-7.5,-7,-6.5,-6,-5.5,-5,-4.5,-4,-3.5,-3,-2.5,-2,-1.5,-1,-0.5,0,0.5,1,1.5,2,2.5,3,3.5,4,4.5,5,5.5,6,6.5,7,7.5,8,8.5,9,9.5,10,10.5,11,11.5,12,12.5,13,13.5,14,14.5,15]
[6,18,-4.9281767274221649E-2,6.4176123181038198,-1.8348277228470291,0,0,6.508035870929457,"Heizlast",9.6645418326693235,9.4712509960159377,9.2779601593625518,9.0846693227091659,8.8913784860557801,8.6980876494023942,8.5047968127490083,8.3115059760956225,8.1182151394422366,7.9249243027888499,7.7316334661354631,7.5383426294820763,7.3450517928286896,7.1517609561753028,6.9584701195219161,6.7651792828685293,6.5718884462151426,6.3785976095617558,6.1853067729083691,5.9920159362549823,5.7987250996015955,5.6054342629482088,5.412143426294822,5.2188525896414353,5.0255617529880485,4.8322709163346618,4.638980079681275,4.4456892430278883,4.2523984063745015,4.0591075697211147,3.8658167330677284,3.6725258964143421,3.4792350597609558,3.2859442231075695,3.0926533864541832,2.8993625498007969,2.7060717131474106,2.5127808764940243,2.319490039840638,2.1261992031872516,1.9329083665338651,1.7396175298804786,1.546326693227092,1.3530358565737055,1.159745019920319,0.96645418326693244,0.77316334661354591,0.57987250996015938,0.3865816733067729,0.19329083665338642,-5.5511151231257827E-17]
[6,null,-0.38658167330677368,5.7987250996015955,-1.8348277228470291,6.508035870929457,-1.8348277228470291,6.508035870929457,"Leistung",6.0748272544590609,6.1506893787158843,6.2265515029727077,6.3024136272295301,6.3782757514863535,6.4541378757431769,6.53,6.5286175852652262,6.527235170530453,6.5258527557956789,6.5244703410609057,6.5230879263261317,6.5217055115913576,6.5203230968565844,6.5189406821218103,6.5175582673870371,6.5161758526522631,6.4915349690151523,6.4668940853780423,6.4422532017409315,6.4176123181038207,6.3929714344667099,6.3683305508295991,6.3436896671924892,6.3190487835553784,6.2750360507959018,6.2310233180364252,6.1870105852769486,6.142997852517472,6.0989851197579945,6.0549723869985179,6.0109596542390413,5.9669469214795647,5.9229341887200881,5.8789214559606116,5.7367939326834154,5.5946664094062202,5.452538886129024,5.3104113628518279,5.1682838395746327,5.0261563162974365,4.8840287930202404,4.7419012697430443,4.599773746465849,4.4576462231886529,4.5022441338108807,4.5468420444331086,4.5914399550553364,4.6360378656775643,4.6806357762997921,4.7252336869220199]
[6,null,"",4.3499999999999996,9,"0,51",4.5199999999999996,3.38,4.46,5.19,0]
[6]
[7,"Altherma 4 H F 230 8 kW",null,4.68,3.59,null,null,null,"Temperatur",-10,-9.5,-9,-8.5,-8,-7.5,-7,-6.5,-6,-5.5,-5,-4.5,-4,-3.5,-3,-2.5,-2,-1.5,-1,-0.5,0,0.5,1,1.5,2,2.5,3,3.5,4,4.5,5,5.5,6,6.5,7,7.5,8,8.5,9,9.5,10,10.5,11,11.5,12,12.5,13,13.5,14,14.5,15]
[7,11,-0.10660526952800177,7.2115593997067275,-5.0462620457883611,0,0,7.7495175252069215,"Heizlast",9.6645418326693235,9.4712509960159377,9.2779601593625518,9.0846693227091659,8.8913784860557801,8.6980876494023942,8.5047968127490083,8.3115059760956225,8.1182151394422366,7.9249243027888499,7.7316334661354631,7.5383426294820763,7.3450517928286896,7.1517609561753028,6.9584701195219161,6.7651792828685293,6.5718884462151426,6.3785976095617558,6.1853067729083691,5.9920159362549823,5.7987250996015955,5.6054342629482088,5.412143426294822,5.2188525896414353,5.0255617529880485,4.8322709163346618,4.638980079681275,4.4456892430278883,4.2523984063745015,4.0591075697211147,3.8658167330677284,3.6725258964143421,3.4792350597609558,3.2859442231075695,3.0926533864541832,2.8993625498007969,2.7060717131474106,2.5127808764940243,2.319490039840638,2.1261992031872516,1.9329083665338651,1.7396175298804786,1.546326693227092,1.3530358565737055,1.159745019920319,0.96645418326693244,0.77316334661354591,0.57987250996015938,0.3865816733067729,0.19329083665338642,-5.5511151231257827E-17]
[7,null,-0.38658167330677368,5.7987250996015938,-5.0462620457883611,7.7495175252069215,-5.0462620457883611,7.7495175252069215,"Leistung",7.5480059052323103,7.6163043020940489,7.6846026989557874,7.7529010958175251,7.8211994926792636,7.8894978895410013,7.9577962864027398,7.904493651638739,7.8511910168747381,7.7978883821107372,7.7445857473467363,7.6912831125827346,7.6379804778187337,7.5846778430547328,7.5313752082907319,7.478072573526731,7.4247699387627302,7.3109789784264434,7.1971880180901566,7.0833970577538699,6.969606097417584,6.8558151370812972,6.7420241767450104,6.6282332164087236,6.5144422560724369,6.630716008831814,6.746989761591192,6.8632635143505691,6.9795372671099463,7.0958110198693234,7.2120847726287014,7.3283585253880785,7.4446322781474557,7.5609060309068337,7.6771797836662108,7.4835526067708553,7.2899254298755007,7.0962982529801453,6.9026710760847898,6.7090438991894352,6.5154167222940798,6.3217895453987243,6.1281623685033697,5.9345351916080142,5.7409080147126588,5.7983447177867404,5.8557814208608221,5.9132181239349038,5.9706548270089845,6.0280915300830662,6.0855282331571479]
[7,null,"empfohlen",4.43,9,"0,41",4.43,3.32,4.46,5.01,0]
[7]
[8,"Altherma 4 H F 230 10 kW",null,4.62,3.54,null,null,null,"Temperatur",-10,-9.5,-9,-8.5,-8,-7.5,-7,-6.5,-6,-5.5,-5,-4.5,-4,-3.5,-3,-2.5,-2,-1.5,-1,-0.5,0,0.5,1,1.5,2,2.5,3,3.5,4,4.5,5,5.5,6,6.5,7,7.5,8,8.5,9,9.5,10,10.5,11,11.5,12,12.5,13,13.5,14,14.5,15]
[8,4,0.13591582761064203,10.318623627954956,-8.65056487431462,0,0,9.1428749437629353,"Heizlast",9.6645418326693235,9.4712509960159377,9.2779601593625518,9.0846693227091659,8.8913784860557801,8.6980876494023942,8.5047968127490083,8.3115059760956225,8.1182151394422366,7.9249243027888499,7.7316334661354631,7.5383426294820763,7.3450517928286896,7.1517609561753028,6.9584701195219161,6.7651792828685293,6.5718884462151426,6.3785976095617558,6.1853067729083691,5.9920159362549823,5.7987250996015955,5.6054342629482088,5.412143426294822,5.2188525896414353,5.0255617529880485,4.8322709163346618,4.638980079681275,4.4456892430278883,4.2523984063745015,4.0591075697211147,3.8658167330677284,3.6725258964143421,3.4792350597609558,3.2859442231075695,3.0926533864541832,2.8993625498007969,2.7060717131474106,2.5127808764940243,2.319490039840638,2.1261992031872516,1.9329083665338651,1.7396175298804786,1.546326693227092,1.3530358565737055,1.159745019920319,0.96645418326693244,0.77316334661354591,0.57987250996015938,0.3865816733067729,0.19329083665338642,-5.5511151231257827E-17]
[8,null,-0.38658167330677173,5.7987250996016062,-8.65056487431462,9.1428749437629353,-8.65056487431462,9.1428749437629353,"Leistung",8.9594653518485359,9.0274232656538587,9.0953811794591797,9.1633390932645007,9.2312970070698235,9.2992549208751445,9.3672128346804655,9.2642117012365812,9.1612105677926987,9.0582094343488144,8.9552083009049301,8.8522071674610459,8.7492060340171633,8.6462049005732791,8.5432037671293948,8.4402026336855123,8.337201500241628,8.2557979207438308,8.1743943412460336,8.0929907617482364,8.0115871822504392,7.930183602752642,7.8487800232548448,7.7673764437570476,7.6859728642592504,7.9133340362548878,8.1406952082505253,8.3680563802461627,8.5954175522418002,8.8227787242374376,9.050139896233075,9.2775010682287125,9.5048622402243499,9.7322234122199873,9.9595845842156248,9.713321172421244,9.4670577606268651,9.2207943488324844,8.9745309370381054,8.7282675252437247,8.4820041134493458,8.2357407016549651,7.9894772898605853,7.7432138780662054,7.4969504662718256,7.4884291851252343,7.479907903978642,7.4713866228320498,7.4628653416854585,7.4543440605388671,7.4458227793922749]
[8,null,"",4.38,9,"0,31",4.38,2.85,4.46,4.9400000000000004,0]
[8]
[9,"Altherma 4 H F 230 12 kW",null,4.6100000000000003,3.94,null,null,null,"Temperatur",-10,-9.5,-9,-8.5,-8,-7.5,-7,-6.5,-6,-5.5,-5,-4.5,-4,-3.5,-3,-2.5,-2,-1.5,-1,-0.5,0,0.5,1,1.5,2,2.5,3,3.5,4,4.5,5,5.5,6,6.5,7,7.5,8,8.5,9,9.5,10,10.5,11,11.5,12,12.5,13,13.5,14,14.5,15]
[9,1,{"$error":"#VALUE!"},{"$error":"#VALUE!"},{"$error":"#VALUE!"},0,0,{"$error":"#VALUE!"},"Heizlast",9.6645418326693235,9.4712509960159377,9.2779601593625518,9.0846693227091659,8.8913784860557801,8.6980876494023942,8.5047968127490083,8.3115059760956225,8.1182151394422366,7.9249243027888499,7.7316334661354631,7.5383426294820763,7.3450517928286896,7.1517609561753028,6.9584701195219161,6.7651792828685293,6.5718884462151426,6.3785976095617558,6.1853067729083691,5.9920159362549823,5.7987250996015955,5.6054342629482088,5.412143426294822,5.2188525896414353,5.0255617529880485,4.8322709163346618,4.638980079681275,4.4456892430278883,4.2523984063745015,4.0591075697211147,3.8658167330677284,3.6725258964143421,3.4792350597609558,3.2859442231075695,3.0926533864541832,2.8993625498007969,2.7060717131474106,2.5127808764940243,2.319490039840638,2.1261992031872516,1.9329083665338651,1.7396175298804786,1.546326693227092,1.3530358565737055,1.159745019920319,0.96645418326693244,0.77316334661354591,0.57987250996015938,0.3865816733067729,0.19329083665338642,-5.5511151231257827E-17]
[9,null,{"$error":"#VALUE!"},{"$error":"#VALUE!"},{"$error":"#VALUE!"},{"$error":"#VALUE!"},{"$error":"#VALUE!"},{"$error":"#VALUE!"},"Leistung",10.833536983208536,10.925796047383047,11.018055111557558,11.110314175732071,11.202573239906583,11.294832304081096,11.387091368255607,11.274140289462615,11.161189210669624,11.048238131876632,10.935287053083641,10.822335974290649,10.709384895497656,10.596433816704666,10.483482737911674,10.370531659118683,10.257580580325691,10.060449545391604,9.8633185104575176,9.6661874755234312,9.4690564405893447,9.27192540565526,9.0747943707211736,8.8776633357870871,8.6805323008530006,9.0250829355020006,9.3696335701509987,9.7141842047999987,10.058734839448999,10.403285474097999,10.747836108746997,11.092386743395997,11.436937378044995,11.781488012693995,12.126038647342995,11.854665691699605,11.583292736056213,11.311919780412824,11.040546824769432,10.769173869126043,10.497800913482653,10.226427957839261,9.9550550021958717,9.6836820465524802,9.4123090909090905,9.5434373737373726,9.6745656565656564,9.8056939393939402,9.9368222222222222,10.067950505050504,10.199078787878788]
[9,null,"",4.47,9,"0,21",4.47,3.49,4.0599999999999996,5.5,0]
[9]
[10,"Altherma 4 H F 230 14 kW",null,4.6100000000000003,3.94,null,null,null,"Temperatur",-10,-9.5,-9,-8.5,-8,-7.5,-7,-6.5,-6,-5.5,-5,-4.5,-4,-3.5,-3,-2.5,-2,-1.5,-1,-0.5,0,0.5,1,1.5,2,2.5,3,3.5,4,4.5,5,5.5,6,6.5,7,7.5,8,8.5,9,9.5,10,10.5,11,11.5,12,12.5,13,13.5,14,14.5,15]
[10,1,{"$error":"#VALUE!"},{"$error":"#VALUE!"},{"$error":"#VALUE!"},0,0,{"$error":"#VALUE!"},"Heizlast",9.6645418326693235,9.4712509960159377,9.2779601593625518,9.0846693227091659,8.8913784860557801,8.6980876494023942,8.5047968127490083,8.3115059760956225,8.1182151394422366,7.9249243027888499,7.7316334661354631,7.5383426294820763,7.3450517928286896,7.1517609561753028,6.9584701195219161,6.7651792828685293,6.5718884462151426,6.3785976095617558,6.1853067729083691,5.9920159362549823,5.7987250996015955,5.6054342629482088,5.412143426294822,5.2188525896414353,5.0255617529880485,4.8322709163346618,4.638980079681275,4.4456892430278883,4.2523984063745015,4.0591075697211147,3.8658167330677284,3.6725258964143421,3.4792350597609558,3.2859442231075695,3.0926533864541832,2.8993625498007969,2.7060717131474106,2.5127808764940243,2.319490039840638,2.1261992031872516,1.9329083665338651,1.7396175298804786,1.546326693227092,1.3530358565737055,1.159745019920319,0.96645418326693244,0.77316334661354591,0.57987250996015938,0.3865816733067729,0.19329083665338642,-5.5511151231257827E-17]
[10,null,{"$error":"#VALUE!"},{"$error":"#VALUE!"},{"$error":"#VALUE!"},{"$error":"#VALUE!"},{"$error":"#VALUE!"},{"$error":"#VALUE!"},"Leistung",13.08025178792492,13.085876966717413,13.091502145509903,13.097127324302395,13.102752503094887,13.108377681887379,13.114002860679872,13.129302574611884,13.144602288543897,13.15990200247591,13.175201716407923,13.190501430339935,13.205801144271948,13.221100858203961,13.236400572135974,13.251700286067987,13.266999999999999,12.978687465786759,12.690374931573517,12.402062397360277,12.113749863147035,11.825437328933795,11.537124794720555,11.248812260507314,10.960499726294072,11.385716420331331,11.810933114368591,12.23614980840585,12.66136650244311,13.086583196480369,13.511799890517629,13.937016584554888,14.362233278592146,14.787449972629407,15.212666666666665,14.895299999999999,14.577933333333332,14.260566666666666,13.943199999999999,13.625833333333333,13.308466666666666,12.991099999999999,12.673733333333333,12.356366666666666,12.039,12.206722222222222,12.374444444444444,12.542166666666667,12.709888888888889,12.877611111111111,13.045333333333334]
[10,null,"",4.47,9,"0,11",4.47,3.49,4.0599999999999996,5.5,0]
[10]
[11,"Altherma 4 H W 6 kW",null,4.75,3.72,null,null,null,"Temperatur",-10,-9.5,-9,-8.5,-8,-7.5,-7,-6.5,-6,-5.5,-5,-4.5,-4,-3.5,-3,-2.5,-2,-1.5,-1,-0.5,0,0.5,1,1.5,2,2.5,3,3.5,4,4.5,5,5.5,6,6.5,7,7.5,8,8.5,9,9.5,10,10.5,11,11.5,12,12.5,13,13.5,14,14.5,15]
[11,18,-4.9281767274221649E-2,6.4176123181038198,-1.8348277228470291,0,0,6.508035870929457,"Heizlast",9.6645418326693235,9.4712509960159377,9.2779601593625518,9.0846693227091659,8.8913784860557801,8.6980876494023942,8.5047968127490083,8.3115059760956225,8.1182151394422366,7.9249243027888499,7.7316334661354631,7.5383426294820763,7.3450517928286896,7.1517609561753028,6.9584701195219161,6.7651792828685293,6.5718884462151426,6.3785976095617558,6.1853067729083691,5.9920159362549823,5.7987250996015955,5.6054342629482088,5.412143426294822,5.2188525896414353,5.0255617529880485,4.8322709163346618,4.638980079681275,4.4456892430278883,4.2523984063745015,4.0591075697211147,3.8658167330677284,3.6725258964143421,3.4792350597609558,3.2859442231075695,3.0926533864541832,2.8993625498007969,2.7060717131474106,2.5127808764940243,2.319490039840638,2.1261992031872516,1.9329083665338651,1.7396175298804786,1.546326693227092,1.3530358565737055,1.159745019920319,0.96645418326693244,0.77316334661354591,0.57987250996015938,0.3865816733067729,0.19329083665338642,-5.5511151231257827E-17]
[11,null,-0.38658167330677368,5.7987250996015955,-1.8348277228470291,6.508035870929457,-1.8348277228470291,6.508035870929457,"Leistung",6.0748272544590609,6.1506893787158843,6.2265515029727077,6.3024136272295301,6.3782757514863535,6.4541378757431769,6.53,6.5286175852652262,6.527235170530453,6.5258527557956789,6.5244703410609057,6.5230879263261317,6.5217055115913576,6.5203230968565844,6.5189406821218103,6.5175582673870371,6.5161758526522631,6.4915349690151523,6.4668940853780423,6.4422532017409315,6.4176123181038207,6.3929714344667099,6.3683305508295991,6.3436896671924892,6.3190487835553784,6.2750360507959018,6.2310233180364252,6.1870105852769486,6.142997852517472,6.0989851197579945,6.0549723869985179,6.0109596542390413,5.9669469214795647,5.9229341887200881,5.8789214559606116,5.7367939326834154,5.5946664094062202,5.452538886129024,5.3104113628518279,5.1682838395746327,5.0261563162974365,4.8840287930202404,4.7419012697430443,4.599773746465849,4.4576462231886529,4.5022441338108807,4.5468420444331086,4.5914399550553364,4.6360378656775643,4.6806357762997921,4.7252336869220199]
[11,null,"",4.3499999999999996,9,"0,52",4.5199999999999996,3.38,4.46,5.19,0]
[11]
[12,"Altherma 4 H W 8 kW",null,4.68,3.59,null,null,null,"Temperatur",-10,-9.5,-9,-8.5,-8,-7.5,-7,-6.5,-6,-5.5,-5,-4.5,-4,-3.5,-3,-2.5,-2,-1.5,-1,-0.5,0,0.5,1,1.5,2,2.5,3,3.5,4,4.5,5,5.5,6,6.5,7,7.5,8,8.5,9,9.5,10,10.5,11,11.5,12,12.5,13,13.5,14,14.5,15]
[12,11,-0.10660526952800177,7.2115593997067275,-5.0462620457883611,0,0,7.7495175252069215,"Heizlast",9.6645418326693235,9.4712509960159377,9.2779601593625518,9.0846693227091659,8.8913784860557801,8.6980876494023942,8.5047968127490083,8.3115059760956225,8.1182151394422366,7.9249243027888499,7.7316334661354631,7.5383426294820763,7.3450517928286896,7.1517609561753028,6.9584701195219161,6.7651792828685293,6.5718884462151426,6.3785976095617558,6.1853067729083691,5.9920159362549823,5.7987250996015955,5.6054342629482088,5.412143426294822,5.2188525896414353,5.0255617529880485,4.8322709163346618,4.638980079681275,4.4456892430278883,4.2523984063745015,4.0591075697211147,3.8658167330677284,3.6725258964143421,3.4792350597609558,3.2859442231075695,3.0926533864541832,2.8993625498007969,2.7060717131474106,2.5127808764940243,2.319490039840638,2.1261992031872516,1.9329083665338651,1.7396175298804786,1.546326693227092,1.3530358565737055,1.159745019920319,0.96645418326693244,0.77316334661354591,0.57987250996015938,0.3865816733067729,0.19329083665338642,-5.5511151231257827E-17]
[12,null,-0.38658167330677368,5.7987250996015938,-5.0462620457883611,7.7495175252069215,-5.0462620457883611,7.7495175252069215,"Leistung",7.5480059052323103,7.6163043020940489,7.6846026989557874,7.7529010958175251,7.8211994926792636,7.8894978895410013,7.9577962864027398,7.904493651638739,7.8511910168747381,7.7978883821107372,7.7445857473467363,7.6912831125827346,7.6379804778187337,7.5846778430547328,7.5313752082907319,7.478072573526731,7.4247699387627302,7.3109789784264434,7.1971880180901566,7.0833970577538699,6.969606097417584,6.8558151370812972,6.7420241767450104,6.6282332164087236,6.5144422560724369,6.630716008831814,6.746989761591192,6.8632635143505691,6.9795372671099463,7.0958110198693234,7.2120847726287014,7.3283585253880785,7.4446322781474557,7.5609060309068337,7.6771797836662108,7.4835526067708553,7.2899254298755007,7.0962982529801453,6.9026710760847898,6.7090438991894352,6.5154167222940798,6.3217895453987243,6.1281623685033697,5.9345351916080142,5.7409080147126588,5.7983447177867404,5.8557814208608221,5.9132181239349038,5.9706548270089845,6.0280915300830662,6.0855282331571479]
[12,null,"empfohlen",4.43,9,"0,42",4.43,3.32,4.46,5.01,0]
[12]
[13,"Altherma 4 H W 10 kW",null,4.62,3.54,null,null,null,"Temperatur",-10,-9.5,-9,-8.5,-8,-7.5,-7,-6.5,-6,-5.5,-5,-4.5,-4,-3.5,-3,-2.5,-2,-1.5,-1,-0.5,0,0.5,1,1.5,2,2.5,3,3.5,4,4.5,5,5.5,6,6.5,7,7.5,8,8.5,9,9.5,10,10.5,11,11.5,12,12.5,13,13.5,14,14.5,15]
[13,4,0.13591582761064203,10.318623627954956,-8.65056487431462,0,0,9.1428749437629353,"Heizlast",9.6645418326693235,9.4712509960159377,9.2779601593625518,9.0846693227091659,8.8913784860557801,8.6980876494023942,8.5047968127490083,8.3115059760956225,8.1182151394422366,7.9249243027888499,7.7316334661354631,7.5383426294820763,7.3450517928286896,7.1517609561753028,6.9584701195219161,6.7651792828685293,6.5718884462151426,6.3785976095617558,6.1853067729083691,5.9920159362549823,5.7987250996015955,5.6054342629482088,5.412143426294822,5.2188525896414353,5.0255617529880485,4.8322709163346618,4.638980079681275,4.4456892430278883,4.2523984063745015,4.0591075697211147,3.8658167330677284,3.6725258964143421,3.4792350597609558,3.2859442231075695,3.0926533864541832,2.8993625498007969,2.7060717131474106,2.5127808764940243,2.319490039840638,2.1261992031872516,1.9329083665338651,1.7396175298804786,1.546326693227092,1.3530358565737055,1.159745019920319,0.96645418326693244,0.77316334661354591,0.57987250996015938,0.3865816733067729,0.19329083665338642,-5.5511151231257827E-17]
[13,null,-0.38658167330677173,5.7987250996016062,-8.65056487431462,9.1428749437629353,-8.65056487431462,9.1428749437629353,"Leistung",8.9594653518485359,9.0274232656538587,9.0953811794591797,9.1633390932645007,9.2312970070698235,9.2992549208751445,9.3672128346804655,9.2642117012365812,9.1612105677926987,9.0582094343488144,8.9552083009049301,8.8522071674610459,8.7492060340171633,8.6462049005732791,8.5432037671293948,8.4402026336855123,8.337201500241628,8.2557979207438308,8.1743943412460336,8.0929907617482364,8.0115871822504392,7.930183602752642,7.8487800232548448,7.7673764437570476,7.6859728642592504,7.9133340362548878,8.1406952082505253,8.3680563802461627,8.5954175522418002,8.8227787242374376,9.050139896233075,9.2775010682287125,9.5048622402243499,9.7322234122199873,9.9595845842156248,9.713321172421244,9.4670577606268651,9.2207943488324844,8.9745309370381054,8.7282675252437247,8.4820041134493458,8.2357407016549651,7.9894772898605853,7.7432138780662054,7.4969504662718256,7.4884291851252343,7.479907903978642,7.4713866228320498,7.4628653416854585,7.4543440605388671,7.4458227793922749]
[13,null,"",4.38,9,"0,32",4.38,2.85,4.46,4.9400000000000004,0]
[13]
[14,"Altherma 4 H W 12 kW",null,4.6100000000000003,3.94,null,null,null,"Temperatur",-10,-9.5,-9,-8.5,-8,-7.5,-7,-6.5,-6,-5.5,-5,-4.5,-4,-3.5,-3,-2.5,-2,-1.5,-1,-0.5,0,0.5,1,1.5,2,2.5,3,3.5,4,4.5,5,5.5,6,6.5,7,7.5,8,8.5,9,9.5,10,10.5,11,11.5,12,12.5,13,13.5,14,14.5,15]
[14,1,{"$error":"#VALUE!"},{"$error":"#VALUE!"},{"$error":"#VALUE!"},0,0,{"$error":"#VALUE!"},"Heizlast",9.6645418326693235,9.4712509960159377,9.2779601593625518,9.0846693227091659,8.8913784860557801,8.6980876494023942,8.5047968127490083,8.3115059760956225,8.1182151394422366,7.9249243027888499,7.7316334661354631,7.5383426294820763,7.3450517928286896,7.1517609561753028,6.9584701195219161,6.7651792828685293,6.5718884462151426,6.3785976095617558,6.1853067729083691,5.9920159362549823,5.7987250996015955,5.6054342629482088,5.412143426294822,5.2188525896414353,5.0255617529880485,4.8322709163346618,4.638980079681275,4.4456892430278883,4.2523984063745015,4.0591075697211147,3.8658167330677284,3.6725258964143421,3.4792350597609558,3.2859442231075695,3.0926533864541832,2.8993625498007969,2.7060717131474106,2.5127808764940243,2.319490039840638,2.1261992031872516,1.9329083665338651,1.7396175298804786,1.546326693227092,1.3530358565737055,1.159745019920319,0.96645418326693244,0.77316334661354591,0.57987250996015938,0.3865816733067729,0.19329083665338642,-5.5511151231257827E-17]
[14,null,{"$error":"#VALUE!"},{"$error":"#VALUE!"},{"$error":"#VALUE!"},{"$error":"#VALUE!"},{"$error":"#VALUE!"},{"$error":"#VALUE!"},"Leistung",10.833536983208536,10.925796047383047,11.018055111557558,11.110314175732071,11.202573239906583,11.294832304081096,11.387091368255607,11.274140289462615,11.161189210669624,11.048238131876632,10.935287053083641,10.822335974290649,10.709384895497656,10.596433816704666,10.483482737911674,10.370531659118683,10.257580580325691,10.060449545391604,9.8633185104575176,9.6661874755234312,9.4690564405893447,9.27192540565526,9.0747943707211736,8.8776633357870871,8.6805323008530006,9.0250829355020006,9.3696335701509987,9.7141842047999987,10.058734839448999,10.403285474097999,10.747836108746997,11.092386743395997,11.436937378044995,11.781488012693995,12.126038647342995,11.854665691699605,11.583292736056213,11.311919780412824,11.040546824769432,10.769173869126043,10.497800913482653,10.226427957839261,9.9550550021958717,9.6836820465524802,9.4123090909090905,9.5434373737373726,9.6745656565656564,9.8056939393939402,9.9368222222222222,10.067950505050504,10.199078787878788]
[14,null,"",4.47,9,"0,22",4.47,3.49,4.0599999999999996,5.5,0]
[14]
[15,"Altherma 4 H W 14 kW",null,4.6100000000000003,3.94,null,null,null,"Temperatur",-10,-9.5,-9,-8.5,-8,-7.5,-7,-6.5,-6,-5.5,-5,-4.5,-4,-3.5,-3,-2.5,-2,-1.5,-1,-0.5,0,0.5,1,1.5,2,2.5,3,3.5,4,4.5,5,5.5,6,6.5,7,7.5,8,8.5,9,9.5,10,10.5,11,11.5,12,12.5,13,13.5,14,14.5,15]
[15,1,{"$error":"#VALUE!"},{"$error":"#VALUE!"},{"$error":"#VALUE!"},0,0,{"$error":"#VALUE!"},"Heizlast",9.6645418326693235,9.4712509960159377,9.2779601593625518,9.0846693227091659,8.8913784860557801,8.6980876494023942,8.5047968127490083,8.3115059760956225,8.1182151394422366,7.9249243027888499,7.7316334661354631,7.5383426294820763,7.3450517928286896,7.1517609561753028,6.9584701195219161,6.7651792828685293,6.5718884462151426,6.3785976095617558,6.1853067729083691,5.9920159362549823,5.7987250996015955,5.6054342629482088,5.412143426294822,5.2188525896414353,5.0255617529880485,4.8322709163346618,4.638980079681275,4.4456892430278883,4.2523984063745015,4.0591075697211147,3.8658167330677284,3.6725258964143421,3.4792350597609558,3.2859442231075695,3.0926533864541832,2.8993625498007969,2.7060717131474106,2.5127808764940243,2.319490039840638,2.1261992031872516,1.9329083665338651,1.7396175298804786,1.546326693227092,1.3530358565737055,1.159745019920319,0.96645418326693244,0.77316334661354591,0.57987250996015938,0.3865816733067729,0.19329083665338642,-5.5511151231257827E-17]
[15,null,{"$error":"#VALUE!"},{"$error":"#VALUE!"},{"$error":"#VALUE!"},{"$error":"#VALUE!"},{"$error":"#VALUE!"},{"$error":"#VALUE!"},"Leistung",13.08025178792492,13.085876966717413,13.091502145509903,13.097127324302395,13.102752503094887,13.108377681887379,13.114002860679872,13.129302574611884,13.144602288543897,13.15990200247591,13.175201716407923,13.190501430339935,13.205801144271948,13.221100858203961,13.236400572135974,13.251700286067987,13.266999999999999,12.978687465786759,12.690374931573517,12.402062397360277,12.113749863147035,11.825437328933795,11.537124794720555,11.248812260507314,10.960499726294072,11.385716420331331,11.810933114368591,12.23614980840585,12.66136650244311,13.086583196480369,13.511799890517629,13.937016584554888,14.362233278592146,14.787449972629407,15.212666666666665,14.895299999999999,14.577933333333332,14.260566666666666,13.943199999999999,13.625833333333333,13.308466666666666,12.991099999999999,12.673733333333333,12.356366666666666,12.039,12.206722222222222,12.374444444444444,12.542166666666667,12.709888888888889,12.877611111111111,13.045333333333334]
[15,null,"",4.47,9,"0,13",4.47,3.49,4.0599999999999996,5.5,0]
[15]

{"sheet":"VDI 4650","index":5,"n_rows":91,"n_cols":11,"rows_kept":91,"cut":false,"hidden":true,"merged":[[3,1,3,8],[1,0,1,8],[24,0,26,0],[27,0,29,0],[30,0,32,0],[63,3,63,8],[33,0,35,0],[17,0,17,8],[19,3,19,8],[39,0,39,8],[41,3,41,8],[46,0,48,0],[49,0,51,0],[52,0,54,0],[55,0,57,0],[61,0,61,8],[21,0,23,0],[43,0,45,0],[65,0,67,0],[89,0,90,0],[85,2,85,9],[83,0,84,9],[87,0,88,0],[68,0,70,0],[71,0,73,0],[74,0,76,0],[77,0,79,0]]}
[]
["Tabelle 1: Korrekturfaktor FΔϑ für abweichende Temeperaturdifferenzen am Verflüssiger"]
[null,null,null,null,null,null,null,null,null,null,"VDI 4650"]
[null,"Temperaturdifferenz bei der Prüfstandsmessung ΔϑM in K",null,null,null,null,null,null,null,null,"- Stand 2016"]
["ΔϑB*) in K ",3,4,5,6,7,8,9,10]
[3,1,0.99,0.98,0.96899999999999997,0.95899999999999996,0.94899999999999995,0.93899999999999995,0.92800000000000005]
[4,1.01,1,0.99,0.98,0.96899999999999997,0.95899999999999996,0.94899999999999995,0.93899999999999995]
[5,1.02,1.01,1,0.99,0.98,0.96899999999999997,0.95899999999999996,0.94899999999999995]
[6,1.0309999999999999,1.02,1.01,1,0.99,0.98,0.96899999999999997,0.95899999999999996]
[7,1.0409999999999999,1.0309999999999999,1.02,1.01,1,0.99,0.98,0.96899999999999997]
[8,1.0509999999999999,1.0409999999999999,1.0309999999999999,1.02,1.01,1,0.99,0.98]
[9,1.0609999999999999,1.0509999999999999,1.0409999999999999,1.0309999999999999,1.02,1.01,1,0.99]
[10,1.0720000000000001,1.0609999999999999,1.0509999999999999,1.0409999999999999,1.0309999999999999,1.02,1.01,1]
["*) ΔϑB – Temperaturdifferenz beim Betrieb im Auslegungspunkt der Heizungsanlage"]
[]
[]
[]
["Tabelle 12: Korrekturfaktoren Fϑ1, Fϑ2, Fϑ3 für Luft-Wasser-Wärmepumpen (leistungsgeregelt) bei unterschiedlichen Betriebsbedingungen"]
["(HG = 15 °C)"]
[null,null,null,"Maximale Vorlauftemperatur tvorl,max in °C"]
["Normaußentemperatur","Lufttemperatur\nin °C","Korrekturfaktor",30,35,40,45,50,55,60]
["–8°C","–7 ","Fϑ 1 ",8.0000000000000002E-3,8.0000000000000002E-3,8.9999999999999993E-3,0.01,1.0999999999999999E-2,1.2E-2,1.2999999999999999E-2,"NEU"]
[null,2,"Fϑ 2 ",0.45800000000000002,0.48299999999999998,0.51200000000000001,0.54400000000000004,0.58099999999999996,0.623,0.66500000000000004]
[null,7,"Fϑ 3 ",0.35299999999999998,0.36799999999999999,0.38300000000000001,0.4,0.41899999999999998,0.439,0.46]
["–10°C","–7 ","Fϑ 1 ",0.02,2.1999999999999999E-2,2.4E-2,2.5999999999999999E-2,2.8000000000000001E-2,3.1E-2,3.5000000000000003E-2]
[null,2,"Fϑ 2 ",0.439,0.46200000000000002,0.48799999999999999,0.51700000000000002,0.55000000000000004,0.58699999999999997,0.625]
[null,7,"Fϑ 3 ",0.39800000000000002,0.41299999999999998,0.43,0.44700000000000001,0.46600000000000003,0.48699999999999999,0.50800000000000001]
["–12°C","–7 ","Fϑ 1 ",3.5999999999999997E-2,3.7999999999999999E-2,4.1000000000000002E-2,4.4999999999999998E-2,4.9000000000000002E-2,5.3999999999999999E-2,5.8999999999999997E-2]
[null,2,"Fϑ 2 ",0.5,0.52500000000000002,0.55300000000000005,0.58399999999999996,0.61899999999999999,0.65800000000000003,0.69799999999999995]
[null,7,"Fϑ 3 ",0.32800000000000001,0.34,0.35199999999999998,0.36599999999999999,0.38,0.39600000000000002,0.41199999999999998]
["–14°C","–7 ","Fϑ 1 ",8.8999999999999996E-2,9.5000000000000001E-2,0.10199999999999999,0.11,0.11899999999999999,0.13100000000000001,0.14199999999999999]
[null,2,"Fϑ 2 ",0.52100000000000002,0.54700000000000004,0.57499999999999996,0.60599999999999998,0.64,0.67900000000000005,0.71799999999999997]
[null,7,"Fϑ 3 ",0.26400000000000001,0.27200000000000002,0.28199999999999997,0.29199999999999998,0.30299999999999999,0.315,0.32600000000000001]
["–16°C","–7 ","Fϑ 1 ",0.13800000000000001,0.14699999999999999,0.158,0.17100000000000001,0.185,0.20300000000000001,0.221]
[null,2,"Fϑ 2 ",0.52,0.54400000000000004,0.57099999999999995,0.6,0.63200000000000001,0.66800000000000004,0.70299999999999996]
[null,7,"Fϑ 3 ",0.219,0.22600000000000001,0.23300000000000001,0.24099999999999999,0.249,0.25800000000000001,0.26700000000000002]
[]
[]
[]
["Tabelle 14: Korrekturfaktoren Fϑ1, Fϑ2, Fϑ3 für Luft-Wasser-Wärmepumpen (leistungsgeregelt) bei unterschiedlichen Betriebsbedingungen"]
["(HG = 12 °C)"]
[null,null,null,"Maximale Vorlauftemperatur tvorl,max in °C"]
["Normaußentemperatur","Lufttemperatur\nin °C","Korrekturfaktor",30,35,40,45,50,55,60]
["–8°C","–7 ","Fϑ 1 ",0.01,1.0999999999999999E-2,1.2E-2,1.2999999999999999E-2,1.4E-2,1.4999999999999999E-2,1.7000000000000001E-2]
[null,2,"Fϑ 2 ",0.54100000000000004,0.57099999999999995,0.60499999999999998,0.64300000000000002,0.68700000000000006,0.73599999999999999,0.78600000000000003]
[null,7,"Fϑ 3 ",0.28000000000000003,0.29199999999999998,0.30499999999999999,0.32,0.33600000000000002,0.35399999999999998,0.372]
["–10°C","–7 ","Fϑ 1 ",2.5999999999999999E-2,2.8000000000000001E-2,3.1E-2,3.4000000000000002E-2,3.6999999999999998E-2,4.1000000000000002E-2,4.4999999999999998E-2]
[null,2,"Fϑ 2 ",0.52300000000000002,0.55100000000000005,0.58199999999999996,0.61699999999999999,0.65700000000000003,0.70199999999999996,0.747]
[null,7,"Fϑ 3 ",0.32900000000000001,0.34200000000000003,0.35599999999999998,0.371,0.38800000000000001,0.40600000000000003,0.42499999999999999]
["–12°C","–7 ","Fϑ 1 ",4.4999999999999998E-2,4.8000000000000001E-2,5.1999999999999998E-2,5.7000000000000002E-2,6.2E-2,6.8000000000000005E-2,7.4999999999999997E-2]
[null,2,"Fϑ 2 ",0.57899999999999996,0.60799999999999998,0.64100000000000001,0.67700000000000005,0.71799999999999997,0.76400000000000001,0.81]
[null,7,"Fϑ 3 ",0.25900000000000001,0.26900000000000002,0.28000000000000003,0.29099999999999998,0.30299999999999999,0.317,0.33]
["–14°C","–7 ","Fϑ 1 ",0.107,0.115,0.123,0.13300000000000001,0.14399999999999999,0.158,0.17199999999999999]
[null,2,"Fϑ 2 ",0.58299999999999996,0.61199999999999999,0.64300000000000002,0.67800000000000005,0.71699999999999997,0.76100000000000001,0.80500000000000005]
[null,7,"Fϑ 3 ",0.2,0.20699999999999999,0.215,0.223,0.23200000000000001,0.24199999999999999,0.251]
["–16°C","–7 ","Fϑ 1 ",0.16400000000000001,0.17499999999999999,0.188,0.20300000000000001,0.221,0.24199999999999999,0.26400000000000001]
[null,2,"Fϑ 2 ",0.56999999999999995,0.59599999999999997,0.625,0.65700000000000003,0.69199999999999995,0.73099999999999998,0.77100000000000002]
[null,7,"Fϑ 3 ",0.16,0.16500000000000001,0.17100000000000001,0.17699999999999999,0.183,0.191,0.19800000000000001]
[]
[]
[]
["Tabelle 16: Korrekturfaktoren Fϑ1, Fϑ2, Fϑ3 für Luft-Wasser-Wärmepumpen (leistungsgeregelt) bei unterschiedlichen Betriebsbedingungen"]
["(HG = 10 °C)"]
[null,null,null,"Maximale Vorlauftemperatur tvorl,max in °C"]
["Normaußentemperatur","Lufttemperatur\nin °C","Korrekturfaktor",30,35,40,45,50,55,60]
["–8°C","–7 ","Fϑ 1 ",1.2E-2,1.2999999999999999E-2,1.4E-2,1.4999999999999999E-2,1.7000000000000001E-2,1.9E-2,2.1000000000000001E-2]
[null,2,"Fϑ 2 ",0.61099999999999999,0.64500000000000002,0.68400000000000005,0.72699999999999998,0.77700000000000002,0.83399999999999996,0.89]
[null,7,"Fϑ 3 ",0.219,0.22900000000000001,0.24,0.252,0.26500000000000001,0.28000000000000003,0.29499999999999998]
["–10°C","–7 ","Fϑ 1 ",3.3000000000000002E-2,3.5000000000000003E-2,3.7999999999999999E-2,4.2000000000000003E-2,4.5999999999999999E-2,5.0999999999999997E-2,5.6000000000000001E-2]
[null,2,"Fϑ 2 ",0.59799999999999998,0.63,0.66600000000000004,0.70599999999999996,0.751,0.80300000000000005,0.85499999999999998]
[null,7,"Fϑ 3 ",0.26,0.27100000000000002,0.28299999999999997,0.29499999999999998,0.309,0.32400000000000001,0.34]
["–12°C","–7 ","Fϑ 1 ",5.3999999999999999E-2,5.8000000000000003E-2,6.3E-2,6.8000000000000005E-2,7.3999999999999996E-2,8.2000000000000003E-2,8.8999999999999996E-2]
[null,2,"Fϑ 2 ",0.64,0.67300000000000004,0.70899999999999996,0.749,0.79500000000000004,0.84599999999999997,0.89700000000000002]
[null,7,"Fϑ 3 ",0.2,0.20799999999999999,0.217,0.22600000000000001,0.23599999999999999,0.246,0.25700000000000001]
["–14°C","–7 ","Fϑ 1 ",0.124,0.13300000000000001,0.14299999999999999,0.154,0.16700000000000001,0.183,0.19900000000000001]
[null,2,"Fϑ 2 ",0.629,0.65900000000000003,0.69399999999999995,0.73099999999999998,0.77400000000000002,0.82099999999999995,0.86899999999999999]
[null,7,"Fϑ 3 ",0.14799999999999999,0.153,0.159,0.16500000000000001,0.17199999999999999,0.17899999999999999,0.187]
["–16°C","–7 ","Fϑ 1 ",0.188,0.20100000000000001,0.216,0.23300000000000001,0.253,0.27800000000000002,0.30199999999999999]
[null,2,"Fϑ 2 ",0.60199999999999998,0.63,0.66100000000000003,0.69399999999999995,0.73199999999999998,0.77400000000000002,0.81599999999999995]
[null,7,"Fϑ 3 ",0.13300000000000001,0.11700000000000001,0.121,0.126,0.13100000000000001,0.13600000000000001,0.14099999999999999]
[]
[]
[]
["Tabelle 28: Deckungsanteil α des Grundlast-Wärmeerzeugers Wärmepumpe für die Wärmequellen „Geothermie“ (Grundwasser/Erdreich) und „Luft“ in Abhängigkeit vom Leistungsanteil ξ bei monoenergetischem oder bivalentem (parallel oder alternativ)\n(Grundwasser/Erdreich) und „Luft“ in Abhängigkeit vom Leistungsanteil ξ bei monoenergetischem oder bivalentem (parallel oder alternativ)"]
[]
["Quellen","Betriebsweise bivalent oder monoenergetisch","Leistungsanteil ξ der Wärmepumpe bei Normaußentemperatur in %"]
[null,null,1,0.9,0.8,0.7,0.6,0.5,0.4,0.3,0.2]
["Sole, Wasser, Direktverdampfer","alternativ",1,0.97,0.93,0.88,0.78,0.64,0.42,0.24,0.11]
[null,"parallel",1,1,0.99,0.98,0.96,0.92,0.84,0.71,0.53]
["Luft","alternativ",1,0.99,0.97,0.94,0.91,0.86,0.76,0.56999999999999995,0.33]
[null,"parallel",1,1,1,0.99,0.98,0.97,0.93,0.87,0.72]

{"sheet":"Korrekturfaktoren","index":6,"n_rows":2598,"n_cols":8,"rows_kept":2598,"cut":false,"hidden":true,"merged":[]}
[null,"ΔϑB*) in K","Temperaturdifferenz bei der Prüfstandsmessung ΔϑM in K"]
[null,3,3,{"$f":"'VDI 4650'!B$6","v":1}]
[null,3,4,{"$f":"'VDI 4650'!C$6","v":0.99}]
[null,3,5,{"$f":"'VDI 4650'!D$6","v":0.98}]
[null,3,6,{"$f":"'VDI 4650'!E$6","v":0.96899999999999997}]
[null,3,7,{"$f":"'VDI 4650'!F$6","v":0.95899999999999996}]
[null,3,8,{"$f":"'VDI 4650'!G$6","v":0.94899999999999995}]
[null,3,9,{"$f":"'VDI 4650'!H$6","v":0.93899999999999995}]
[null,3,10,{"$f":"'VDI 4650'!I$6","v":0.92800000000000005}]
[null,4,3,{"$f":"'VDI 4650'!B$7","v":1.01}]
[null,4,4,{"$f":"'VDI 4650'!C$7","v":1}]
[null,4,5,{"$f":"'VDI 4650'!D$7","v":0.99}]
[null,4,6,{"$f":"'VDI 4650'!E$7","v":0.98}]
[null,4,7,{"$f":"'VDI 4650'!F$7","v":0.96899999999999997}]
[null,4,8,{"$f":"'VDI 4650'!G$7","v":0.95899999999999996}]
[null,4,9,{"$f":"'VDI 4650'!H$7","v":0.94899999999999995}]
[null,4,10,{"$f":"'VDI 4650'!I$7","v":0.93899999999999995}]
[null,5,3,{"$f":"'VDI 4650'!B$8","v":1.02}]
[null,5,4,{"$f":"'VDI 4650'!C$8","v":1.01}]
[null,5,5,{"$f":"'VDI 4650'!D$8","v":1}]
[null,5,6,{"$f":"'VDI 4650'!E$8","v":0.99}]
[null,5,7,{"$f":"'VDI 4650'!F$8","v":0.98}]
[null,5,8,{"$f":"'VDI 4650'!G$8","v":0.96899999999999997}]
[null,5,9,{"$f":"'VDI 4650'!H$8","v":0.95899999999999996}]
[null,5,10,{"$f":"'VDI 4650'!I$8","v":0.94899999999999995}]
[null,6,3,{"$f":"'VDI 4650'!B$9","v":1.0309999999999999}]
[null,6,4,{"$f":"'VDI 4650'!C$9","v":1.02}]
[null,6,5,{"$f":"'VDI 4650'!D$9","v":1.01}]
[null,6,6,{"$f":"'VDI 4650'!E$9","v":1}]
[null,6,7,{"$f":"'VDI 4650'!F$9","v":0.99}]
[null,6,8,{"$f":"'VDI 4650'!G$9","v":0.98}]
[null,6,9,{"$f":"'VDI 4650'!H$9","v":0.96899999999999997}]
[null,6,10,{"$f":"'VDI 4650'!I$9","v":0.95899999999999996}]
[null,7,3,{"$f":"'VDI 4650'!B$10","v":1.0409999999999999}]
[null,7,4,{"$f":"'VDI 4650'!C$10","v":1.0309999999999999}]
[null,7,5,{"$f":"'VDI 4650'!D$10","v":1.02}]
[null,7,6,{"$f":"'VDI 4650'!E$10","v":1.01}]
[null,7,7,{"$f":"'VDI 4650'!F$10","v":1}]
[null,7,8,{"$f":"'VDI 4650'!G$10","v":0.99}]
[null,7,9,{"$f":"'VDI 4650'!H$10","v":0.98}]
[null,7,10,{"$f":"'VDI 4650'!I$10","v":0.96899999999999997}]
[null,8,3,{"$f":"'VDI 4650'!B$11","v":1.0509999999999999}]
[null,8,4,{"$f":"'VDI 4650'!C$11","v":1.0409999999999999}]
[null,8,5,{"$f":"'VDI 4650'!D$11","v":1.0309999999999999}]
[null,8,6,{"$f":"'VDI 4650'!E$11","v":1.02}]
[null,8,7,{"$f":"'VDI 4650'!F$11","v":1.01}]
[null,8,8,{"$f":"'VDI 4650'!G$11","v":1}]
[null,8,9,{"$f":"'VDI 4650'!H$11","v":0.99}]
[null,8,10,{"$f":"'VDI 4650'!I$11","v":0.98}]
[null,9,3,{"$f":"'VDI 4650'!B$12","v":1.0609999999999999}]
[null,9,4,{"$f":"'VDI 4650'!C$12","v":1.0509999999999999}]
[null,9,5,{"$f":"'VDI 4650'!D$12","v":1.0409999999999999}]
[null,9,6,{"$f":"'VDI 4650'!E$12","v":1.0309999999999999}]
[null,9,7,{"$f":"'VDI 4650'!F$12","v":1.02}]
[null,9,8,{"$f":"'VDI 4650'!G$12","v":1.01}]
[null,9,9,{"$f":"'VDI 4650'!H$12","v":1}]
[null,9,10,{"$f":"'VDI 4650'!I$12","v":0.99}]
[null,10,3,{"$f":"'VDI 4650'!B$13","v":1.0720000000000001}]
[null,10,4,{"$f":"'VDI 4650'!C$13","v":1.0609999999999999}]
[null,10,5,{"$f":"'VDI 4650'!D$13","v":1.0509999999999999}]
[null,10,6,{"$f":"'VDI 4650'!E$13","v":1.0409999999999999}]
[null,10,7,{"$f":"'VDI 4650'!F$13","v":1.0309999999999999}]
[null,10,8,{"$f":"'VDI 4650'!G$13","v":1.02}]
[null,10,9,{"$f":"'VDI 4650'!H$13","v":1.01}]
[null,10,10,{"$f":"'VDI 4650'!I$13","v":1}]
[null,null,null,null,null,null,null,"Zwischenwerte (-9,-11 etc.) haben keine Formel hinterlegt"]
[]
[null,"Heizgrenztemperatur","Normaußentemperatur","Lufttemperatur","VLT"]
[null,15,-8,-7,30,{"$f":"'VDI 4650'!D22","v":8.0000000000000002E-3}]
[null,15,-8,-7,31,{"$f":"ROUND($F69-(($F69-$F74)/5*A$256),3)","v":8.0000000000000002E-3}]
[null,15,-8,-7,32,{"$f":"ROUND($F69-(($F69-$F74)/5*A$257),3)","v":8.0000000000000002E-3}]
[null,15,-8,-7,33,{"$f":"ROUND($F69-(($F69-$F74)/5*A$258),3)","v":8.0000000000000002E-3}]
[null,15,-8,-7,34,{"$f":"ROUND($F69-(($F69-$F74)/5*A$259),3)","v":8.0000000000000002E-3}]
[null,15,-8,-7,35,{"$f":"'VDI 4650'!E22","v":8.0000000000000002E-3}]
[null,15,-8,-7,36,{"$f":"ROUND($F74-(($F74-$F79)/5*A$256),3)","v":8.0000000000000002E-3}]
[null,15,-8,-7,37,{"$f":"ROUND($F74-(($F74-$F79)/5*A$257),3)","v":8.0000000000000002E-3}]
[null,15,-8,-7,38,{"$f":"ROUND($F74-(($F74-$F79)/5*A$258),3)","v":8.9999999999999993E-3}]
[null,15,-8,-7,39,{"$f":"ROUND($F74-(($F74-$F79)/5*A$259),3)","v":8.9999999999999993E-3}]
[null,15,-8,-7,40,{"$f":"'VDI 4650'!F22","v":8.9999999999999993E-3}]
[null,15,-8,-7,41,{"$f":"ROUND($F79-(($F79-$F84)/5*A$256),3)","v":8.9999999999999993E-3}]
[null,15,-8,-7,42,{"$f":"ROUND($F79-(($F79-$F84)/5*A$257),3)","v":8.9999999999999993E-3}]
[null,15,-8,-7,43,{"$f":"ROUND($F79-(($F79-$F84)/5*A$258),3)","v":0.01}]
[null,15,-8,-7,44,{"$f":"ROUND($F79-(($F79-$F84)/5*A$259),3)","v":0.01}]
[null,15,-8,-7,45,{"$f":"'VDI 4650'!G22","v":0.01}]
[null,15,-8,-7,46,{"$f":"ROUND($F84-(($F84-$F89)/5*A$256),3)","v":0.01}]
[null,15,-8,-7,47,{"$f":"ROUND($F84-(($F84-$F89)/5*A$257),3)","v":0.01}]
[null,15,-8,-7,48,{"$f":"ROUND($F84-(($F84-$F89)/5*A$258),3)","v":1.0999999999999999E-2}]
[null,15,-8,-7,49,{"$f":"ROUND($F84-(($F84-$F89)/5*A$259),3)","v":1.0999999999999999E-2}]
[null,15,-8,-7,50,{"$f":"'VDI 4650'!H22","v":1.0999999999999999E-2}]
[null,15,-8,-7,51,{"$f":"ROUND($F89-(($F89-$F94)/5*A$256),3)","v":1.0999999999999999E-2}]
[null,15,-8,-7,52,{"$f":"ROUND($F89-(($F89-$F94)/5*A$257),3)","v":1.0999999999999999E-2}]
[null,15,-8,-7,53,{"$f":"ROUND($F89-(($F89-$F94)/5*A$258),3)","v":1.2E-2}]
[null,15,-8,-7,54,{"$f":"ROUND($F89-(($F89-$F94)/5*A$259),3)","v":1.2E-2}]
[null,15,-8,-7,55,{"$f":"'VDI 4650'!I22","v":1.2E-2}]
[null,15,-8,-7,56,{"$f":"ROUND($F94-(($F94-$F99)/5*A$256),3)","v":1.2E-2}]
[null,15,-8,-7,57,{"$f":"ROUND($F94-(($F94-$F99)/5*A$257),3)","v":1.2E-2}]
[null,15,-8,-7,58,{"$f":"ROUND($F94-(($F94-$F99)/5*A$258),3)","v":1.2999999999999999E-2}]
[null,15,-8,-7,59,{"$f":"ROUND($F94-(($F94-$F99)/5*A$259),3)","v":1.2999999999999999E-2}]
[null,15,-8,-7,60,{"$f":"'VDI 4650'!J22","v":1.2999999999999999E-2}]
[null,15,-8,2,30,{"$f":"'VDI 4650'!D23","v":0.45800000000000002}]
[null,15,-8,2,31,{"$f":"ROUND($F100-(($F100-$F105)/5*A$256),3)","v":0.46300000000000002}]
[null,15,-8,2,32,{"$f":"ROUND($F100-(($F100-$F105)/5*A$257),3)","v":0.46800000000000003}]
[null,15,-8,2,33,{"$f":"ROUND($F100-(($F100-$F105)/5*A$258),3)","v":0.47299999999999998}]
[null,15,-8,2,34,{"$f":"ROUND($F100-(($F100-$F105)/5*A$259),3)","v":0.47799999999999998}]
[null,15,-8,2,35,{"$f":"'VDI 4650'!E23","v":0.48299999999999998}]
[null,15,-8,2,36,{"$f":"ROUND($F105-(($F105-$F110)/5*A$256),3)","v":0.48899999999999999}]
[null,15,-8,2,37,{"$f":"ROUND($F105-(($F105-$F110)/5*A$257),3)","v":0.495}]
[null,15,-8,2,38,{"$f":"ROUND($F105-(($F105-$F110)/5*A$258),3)","v":0.5}]
[null,15,-8,2,39,{"$f":"ROUND($F105-(($F105-$F110)/5*A$259),3)","v":0.50600000000000001}]
[null,15,-8,2,40,{"$f":"'VDI 4650'!F23","v":0.51200000000000001}]
[null,15,-8,2,41,{"$f":"ROUND($F110-(($F110-$F115)/5*A$256),3)","v":0.51800000000000002}]
[null,15,-8,2,42,{"$f":"ROUND($F110-(($F110-$F115)/5*A$257),3)","v":0.52500000000000002}]
[null,15,-8,2,43,{"$f":"ROUND($F110-(($F110-$F115)/5*A$258),3)","v":0.53100000000000003}]
[null,15,-8,2,44,{"$f":"ROUND($F110-(($F110-$F115)/5*A$259),3)","v":0.53800000000000003}]
[null,15,-8,2,45,{"$f":"'VDI 4650'!G23","v":0.54400000000000004}]
[null,15,-8,2,46,{"$f":"ROUND($F115-(($F115-$F120)/5*A$256),3)","v":0.55100000000000005}]
[null,15,-8,2,47,{"$f":"ROUND($F115-(($F115-$F120)/5*A$257),3)","v":0.55900000000000005}]
[null,15,-8,2,48,{"$f":"ROUND($F115-(($F115-$F120)/5*A$258),3)","v":0.56599999999999995}]
[null,15,-8,2,49,{"$f":"ROUND($F115-(($F115-$F120)/5*A$259),3)","v":0.57399999999999995}]
[null,15,-8,2,50,{"$f":"'VDI 4650'!H23","v":0.58099999999999996}]
[null,15,-8,2,51,{"$f":"ROUND($F120-(($F120-$F125)/5*A$256),3)","v":0.58899999999999997}]
[null,15,-8,2,52,{"$f":"ROUND($F120-(($F120-$F125)/5*A$257),3)","v":0.59799999999999998}]
[null,15,-8,2,53,{"$f":"ROUND($F120-(($F120-$F125)/5*A$258),3)","v":0.60599999999999998}]
[null,15,-8,2,54,{"$f":"ROUND($F120-(($F120-$F125)/5*A$259),3)","v":0.61499999999999999}]
[null,15,-8,2,55,{"$f":"'VDI 4650'!I23","v":0.623}]
[null,15,-8,2,56,{"$f":"ROUND($F125-(($F125-$F130)/5*A$256),3)","v":0.63100000000000001}]
[null,15,-8,2,57,{"$f":"ROUND($F125-(($F125-$F130)/5*A$257),3)","v":0.64}]
[null,15,-8,2,58,{"$f":"ROUND($F125-(($F125-$F130)/5*A$258),3)","v":0.64800000000000002}]
[null,15,-8,2,59,{"$f":"ROUND($F125-(($F125-$F130)/5*A$259),3)","v":0.65700000000000003}]
[null,15,-8,2,60,{"$f":"'VDI 4650'!J23","v":0.66500000000000004}]
[null,15,-8,7,30,{"$f":"'VDI 4650'!D24","v":0.35299999999999998}]
[null,15,-8,7,31,{"$f":"ROUND($F131-(($F131-$F136)/5*A$256),3)","v":0.35599999999999998}]
[null,15,-8,7,32,{"$f":"ROUND($F131-(($F131-$F136)/5*A$257),3)","v":0.35899999999999999}]
[null,15,-8,7,33,{"$f":"ROUND($F131-(($F131-$F136)/5*A$258),3)","v":0.36199999999999999}]
[null,15,-8,7,34,{"$f":"ROUND($F131-(($F131-$F136)/5*A$259),3)","v":0.36499999999999999}]
[null,15,-8,7,35,{"$f":"'VDI 4650'!E24","v":0.36799999999999999}]
[null,15,-8,7,36,{"$f":"ROUND($F136-(($F136-$F141)/5*A$256),3)","v":0.371}]
[null,15,-8,7,37,{"$f":"ROUND($F136-(($F136-$F141)/5*A$257),3)","v":0.374}]
[null,15,-8,7,38,{"$f":"ROUND($F136-(($F136-$F141)/5*A$258),3)","v":0.377}]
[null,15,-8,7,39,{"$f":"ROUND($F136-(($F136-$F141)/5*A$259),3)","v":0.38}]
[null,15,-8,7,40,{"$f":"'VDI 4650'!F24","v":0.38300000000000001}]
[null,15,-8,7,41,{"$f":"ROUND($F141-(($F141-$F146)/5*A$256),3)","v":0.38600000000000001}]
[null,15,-8,7,42,{"$f":"ROUND($F141-(($F141-$F146)/5*A$257),3)","v":0.39}]
[null,15,-8,7,43,{"$f":"ROUND($F141-(($F141-$F146)/5*A$258),3)","v":0.39300000000000002}]
[null,15,-8,7,44,{"$f":"ROUND($F141-(($F141-$F146)/5*A$259),3)","v":0.39700000000000002}]
[null,15,-8,7,45,{"$f":"'VDI 4650'!G24","v":0.4}]
[null,15,-8,7,46,{"$f":"ROUND($F146-(($F146-$F151)/5*A$256),3)","v":0.40400000000000003}]
[null,15,-8,7,47,{"$f":"ROUND($F146-(($F146-$F151)/5*A$257),3)","v":0.40799999999999997}]
[null,15,-8,7,48,{"$f":"ROUND($F146-(($F146-$F151)/5*A$258),3)","v":0.41099999999999998}]
[null,15,-8,7,49,{"$f":"ROUND($F146-(($F146-$F151)/5*A$259),3)","v":0.41499999999999998}]
[null,15,-8,7,50,{"$f":"'VDI 4650'!H24","v":0.41899999999999998}]
[null,15,-8,7,51,{"$f":"ROUND($F151-(($F151-$F156)/5*A$256),3)","v":0.42299999999999999}]
[null,15,-8,7,52,{"$f":"ROUND($F151-(($F151-$F156)/5*A$257),3)","v":0.42699999999999999}]
[null,15,-8,7,53,{"$f":"ROUND($F151-(($F151-$F156)/5*A$258),3)","v":0.43099999999999999}]
[null,15,-8,7,54,{"$f":"ROUND($F151-(($F151-$F156)/5*A$259),3)","v":0.435}]
[null,15,-8,7,55,{"$f":"'VDI 4650'!I24","v":0.439}]
[null,15,-8,7,56,{"$f":"ROUND($F156-(($F156-$F161)/5*A$256),3)","v":0.443}]
[null,15,-8,7,57,{"$f":"ROUND($F156-(($F156-$F161)/5*A$257),3)","v":0.44700000000000001}]
[null,15,-8,7,58,{"$f":"ROUND($F156-(($F156-$F161)/5*A$258),3)","v":0.45200000000000001}]
[null,15,-8,7,59,{"$f":"ROUND($F156-(($F156-$F161)/5*A$259),3)","v":0.45600000000000002}]
[null,15,-8,7,60,{"$f":"'VDI 4650'!J24","v":0.46}]
[null,15,-9,-7,30,{"$f":"F69","v":8.0000000000000002E-3},{"$f":"F255","v":0.02}]
[null,15,-9,-7,31,{"$f":"F70","v":8.0000000000000002E-3},{"$f":"F256","v":0.02}]
[null,15,-9,-7,32,8.0000000000000002E-3,2.1000000000000001E-2]
[null,15,-9,-7,33,8.0000000000000002E-3,2.1000000000000001E-2]
[null,15,-9,-7,34,8.0000000000000002E-3,2.1999999999999999E-2]
[null,15,-9,-7,35,8.0000000000000002E-3,2.1999999999999999E-2]
[null,15,-9,-7,36,8.0000000000000002E-3,2.1999999999999999E-2]
[null,15,-9,-7,37,8.0000000000000002E-3,2.3E-2]
[null,15,-9,-7,38,8.9999999999999993E-3,2.3E-2]
[null,15,-9,-7,39,8.9999999999999993E-3,2.4E-2]
[null,15,-9,-7,40,8.9999999999999993E-3,2.4E-2]
[null,15,-9,-7,41,8.9999999999999993E-3,2.4E-2]
[null,15,-9,-7,42,8.9999999999999993E-3,2.5000000000000001E-2]
[null,15,-9,-7,43,0.01,2.5000000000000001E-2]
[null,15,-9,-7,44,0.01,2.5999999999999999E-2]
[null,15,-9,-7,45,0.01,2.5999999999999999E-2]
[null,15,-9,-7,46,0.01,2.5999999999999999E-2]
[null,15,-9,-7,47,0.01,2.7E-2]
[null,15,-9,-7,48,1.0999999999999999E-2,2.7E-2]
[null,15,-9,-7,49,1.0999999999999999E-2,2.8000000000000001E-2]
[null,15,-9,-7,50,1.0999999999999999E-2,2.8000000000000001E-2]
[null,15,-9,-7,51,1.0999999999999999E-2,2.9000000000000001E-2]
[null,15,-9,-7,52,1.0999999999999999E-2,2.9000000000000001E-2]
[null,15,-9,-7,53,1.2E-2,0.03]
[null,15,-9,-7,54,1.2E-2,0.03]
[null,15,-9,-7,55,1.2E-2,3.1E-2]
[null,15,-9,-7,56,1.2E-2,3.2000000000000001E-2]
[null,15,-9,-7,57,1.2E-2,3.3000000000000002E-2]
[null,15,-9,-7,58,1.2999999999999999E-2,3.3000000000000002E-2]
[null,15,-9,-7,59,1.2999999999999999E-2,3.4000000000000002E-2]
[null,15,-9,-7,60,1.2999999999999999E-2,3.5000000000000003E-2]
[null,15,-9,2,30,0.45800000000000002,0.439]
[null,15,-9,2,31,0.46300000000000002,0.44400000000000001]
[null,15,-9,2,32,0.46800000000000003,0.44800000000000001]
[null,15,-9,2,33,0.47299999999999998,0.45300000000000001]
[null,15,-9,2,34,0.47799999999999998,0.45700000000000002]
[null,15,-9,2,35,0.48299999999999998,0.46200000000000002]
[null,15,-9,2,36,0.48899999999999999,0.46700000000000003]
[null,15,-9,2,37,0.495,0.47199999999999998]
[null,15,-9,2,38,0.5,0.47799999999999998]
[null,15,-9,2,39,0.50600000000000001,0.48299999999999998]
[null,15,-9,2,40,0.51200000000000001,0.48799999999999999]
[null,15,-9,2,41,0.51800000000000002,0.49399999999999999]
[null,15,-9,2,42,0.52500000000000002,0.5]
[null,15,-9,2,43,0.53100000000000003,0.505]
[null,15,-9,2,44,0.53800000000000003,0.51100000000000001]
[null,15,-9,2,45,0.54400000000000004,0.51700000000000002]
[null,15,-9,2,46,0.55100000000000005,0.52400000000000002]
[null,15,-9,2,47,0.55900000000000005,0.53]
[null,15,-9,2,48,0.56599999999999995,0.53700000000000003]
[null,15,-9,2,49,0.57399999999999995,0.54300000000000004]
[null,15,-9,2,50,0.58099999999999996,0.55000000000000004]
[null,15,-9,2,51,0.58899999999999997,0.55700000000000005]
[null,15,-9,2,52,0.59799999999999998,0.56499999999999995]
[null,15,-9,2,53,0.60599999999999998,0.57199999999999995]
[null,15,-9,2,54,0.61499999999999999,0.57999999999999996]
[null,15,-9,2,55,0.623,0.58699999999999997]
[null,15,-9,2,56,0.63100000000000001,0.59499999999999997]
[null,15,-9,2,57,0.64,0.60199999999999998]
[null,15,-9,2,58,0.64800000000000002,0.61]
[null,15,-9,2,59,0.65700000000000003,0.61699999999999999]
[null,15,-9,2,60,0.66500000000000004,0.625]
[null,15,-9,7,30,0.35299999999999998,0.39800000000000002]
[null,15,-9,7,31,0.35599999999999998,0.40100000000000002]
[null,15,-9,7,32,0.35899999999999999,0.40400000000000003]
[null,15,-9,7,33,{"$f":"F134","v":0.36199999999999999},{"$f":"F320","v":0.40699999999999997}]
[null,15,-9,7,34,0.36499999999999999,0.41]
[null,15,-9,7,35,0.36799999999999999,0.41299999999999998]
[null,15,-9,7,36,0.371,0.41599999999999998]
[null,15,-9,7,37,0.374,0.42]
[null,15,-9,7,38,0.377,0.42299999999999999]
[null,15,-9,7,39,0.38,0.42699999999999999]
[null,15,-9,7,40,0.38300000000000001,0.43]
[null,15,-9,7,41,0.38600000000000001,0.433]
[null,15,-9,7,42,0.39,0.437]
[null,15,-9,7,43,0.39300000000000002,0.44]
[null,15,-9,7,44,0.39700000000000002,0.44400000000000001]
[null,15,-9,7,45,0.4,0.44700000000000001]
[null,15,-9,7,46,0.40400000000000003,0.45100000000000001]
[null,15,-9,7,47,0.40799999999999997,0.45500000000000002]
[null,15,-9,7,48,0.41099999999999998,0.45800000000000002]
[null,15,-9,7,49,0.41499999999999998,0.46200000000000002]
[null,15,-9,7,50,0.41899999999999998,0.46600000000000003]
[null,15,-9,7,51,0.42299999999999999,0.47]
[null,15,-9,7,52,0.42699999999999999,0.47399999999999998]
[null,15,-9,7,53,0.43099999999999999,0.47899999999999998]
[null,15,-9,7,54,0.435,0.48299999999999998]
[null,15,-9,7,55,0.439,0.48699999999999999]
[null,15,-9,7,56,0.443,0.49099999999999999]
[null,15,-9,7,57,0.44700000000000001,0.495]
[null,15,-9,7,58,0.45200000000000001,0.5]
[null,15,-9,7,59,0.45600000000000002,0.504]
[null,15,-9,7,60,0.46,0.50800000000000001]
[null,15,-10,-7,30,{"$f":"'VDI 4650'!D25","v":0.02}]
[1,15,-10,-7,31,{"$f":"ROUND($F255-(($F255-$F260)/5*A$256),3)","v":0.02}]
[2,15,-10,-7,32,{"$f":"ROUND($F255-(($F255-$F260)/5*A$257),3)","v":2.1000000000000001E-2}]
[3,15,-10,-7,33,{"$f":"ROUND($F255-(($F255-$F260)/5*A$258),3)","v":2.1000000000000001E-2}]
[4,15,-10,-7,34,{"$f":"ROUND($F255-(($F255-$F260)/5*A$259),3)","v":2.1999999999999999E-2}]
[null,15,-10,-7,35,{"$f":"'VDI 4650'!E25","v":2.1999999999999999E-2}]
[null,15,-10,-7,36,{"$f":"ROUND($F260-(($F260-$F265)/5*A$256),3)","v":2.1999999999999999E-2}]
[null,15,-10,-7,37,{"$f":"ROUND($F260-(($F260-$F265)/5*A$257),3)","v":2.3E-2}]
[null,15,-10,-7,38,{"$f":"ROUND($F260-(($F260-$F265)/5*A$258),3)","v":2.3E-2}]
[null,15,-10,-7,39,{"$f":"ROUND($F260-(($F260-$F265)/5*A$259),3)","v":2.4E-2}]
[null,15,-10,-7,40,{"$f":"'VDI 4650'!F25","v":2.4E-2}]
[null,15,-10,-7,41,{"$f":"ROUND($F265-(($F265-$F270)/5*A$256),3)","v":2.4E-2}]
[null,15,-10,-7,42,{"$f":"ROUND($F265-(($F265-$F270)/5*A$257),3)","v":2.5000000000000001E-2}]
[null,15,-10,-7,43,{"$f":"ROUND($F265-(($F265-$F270)/5*A$258),3)","v":2.5000000000000001E-2}]
[null,15,-10,-7,44,{"$f":"ROUND($F265-(($F265-$F270)/5*A$259),3)","v":2.5999999999999999E-2}]
[null,15,-10,-7,45,{"$f":"'VDI 4650'!G25","v":2.5999999999999999E-2}]
[null,15,-10,-7,46,{"$f":"ROUND($F270-(($F270-$F275)/5*A$256),3)","v":2.5999999999999999E-2}]
[null,15,-10,-7,47,{"$f":"ROUND($F270-(($F270-$F275)/5*A$257),3)","v":2.7E-2}]
[null,15,-10,-7,48,{"$f":"ROUND($F270-(($F270-$F275)/5*A$258),3)","v":2.7E-2}]
[null,15,-10,-7,49,{"$f":"ROUND($F270-(($F270-$F275)/5*A$259),3)","v":2.8000000000000001E-2}]
[null,15,-10,-7,50,{"$f":"'VDI 4650'!H25","v":2.8000000000000001E-2}]
[null,15,-10,-7,51,{"$f":"ROUND($F275-(($F275-$F280)/5*A$256),3)","v":2.9000000000000001E-2}]
[null,15,-10,-7,52,{"$f":"ROUND($F275-(($F275-$F280)/5*A$257),3)","v":2.9000000000000001E-2}]
[null,15,-10,-7,53,{"$f":"ROUND($F275-(($F275-$F280)/5*A$258),3)","v":0.03}]
[null,15,-10,-7,54,{"$f":"ROUND($F275-(($F275-$F280)/5*A$259),3)","v":0.03}]
[null,15,-10,-7,55,{"$f":"'VDI 4650'!I25","v":3.1E-2}]
[null,15,-10,-7,56,{"$f":"ROUND($F280-(($F280-$F285)/5*A$256),3)","v":3.2000000000000001E-2}]
[null,15,-10,-7,57,{"$f":"ROUND($F280-(($F280-$F285)/5*A$257),3)","v":3.3000000000000002E-2}]
[null,15,-10,-7,58,{"$f":"ROUND($F280-(($F280-$F285)/5*A$258),3)","v":3.3000000000000002E-2}]
[null,15,-10,-7,59,{"$f":"ROUND($F280-(($F280-$F285)/5*A$259),3)","v":3.4000000000000002E-2}]
[null,15,-10,-7,60,{"$f":"'VDI 4650'!J25","v":3.5000000000000003E-2}]
[null,15,-10,2,30,{"$f":"'VDI 4650'!D26","v":0.439}]
[null,15,-10,2,31,{"$f":"ROUND($F286-(($F286-$F291)/5*A$256),3)","v":0.44400000000000001}]
[null,15,-10,2,32,{"$f":"ROUND($F286-(($F286-$F291)/5*A$257),3)","v":0.44800000000000001}]
[null,15,-10,2,33,{"$f":"ROUND($F286-(($F286-$F291)/5*A$258),3)","v":0.45300000000000001}]
[null,15,-10,2,34,{"$f":"ROUND($F286-(($F286-$F291)/5*A$259),3)","v":0.45700000000000002}]
[null,15,-10,2,35,{"$f":"'VDI 4650'!E26","v":0.46200000000000002}]
[null,15,-10,2,36,{"$f":"ROUND($F291-(($F291-$F296)/5*A$256),3)","v":0.46700000000000003}]
[null,15,-10,2,37,{"$f":"ROUND($F291-(($F291-$F296)/5*A$257),3)","v":0.47199999999999998}]
[null,15,-10,2,38,{"$f":"ROUND($F291-(($F291-$F296)/5*A$258),3)","v":0.47799999999999998}]
[null,15,-10,2,39,{"$f":"ROUND($F291-(($F291-$F296)/5*A$259),3)","v":0.48299999999999998}]
[null,15,-10,2,40,{"$f":"'VDI 4650'!F26","v":0.48799999999999999}]
[null,15,-10,2,41,{"$f":"ROUND($F296-(($F296-$F301)/5*A$256),3)","v":0.49399999999999999}]
[null,15,-10,2,42,{"$f":"ROUND($F296-(($F296-$F301)/5*A$257),3)","v":0.5}]
[null,15,-10,2,43,{"$f":"ROUND($F296-(($F296-$F301)/5*A$258),3)","v":0.505}]
[null,15,-10,2,44,{"$f":"ROUND($F296-(($F296-$F301)/5*A$259),3)","v":0.51100000000000001}]
[null,15,-10,2,45,{"$f":"'VDI 4650'!G26","v":0.51700000000000002}]
[null,15,-10,2,46,{"$f":"ROUND($F301-(($F301-$F306)/5*A$256),3)","v":0.52400000000000002}]
[null,15,-10,2,47,{"$f":"ROUND($F301-(($F301-$F306)/5*A$257),3)","v":0.53}]
[null,15,-10,2,48,{"$f":"ROUND($F301-(($F301-$F306)/5*A$258),3)","v":0.53700000000000003}]
[null,15,-10,2,49,{"$f":"ROUND($F301-(($F301-$F306)/5*A$259),3)","v":0.54300000000000004}]
[null,15,-10,2,50,{"$f":"'VDI 4650'!H26","v":0.55000000000000004}]
[null,15,-10,2,51,{"$f":"ROUND($F306-(($F306-$F311)/5*A$256),3)","v":0.55700000000000005}]
[null,15,-10,2,52,{"$f":"ROUND($F306-(($F306-$F311)/5*A$257),3)","v":0.56499999999999995}]
[null,15,-10,2,53,{"$f":"ROUND($F306-(($F306-$F311)/5*A$258),3)","v":0.57199999999999995}]
[null,15,-10,2,54,{"$f":"ROUND($F306-(($F306-$F311)/5*A$259),3)","v":0.57999999999999996}]
[null,15,-10,2,55,{"$f":"'VDI 4650'!I26","v":0.58699999999999997}]
[null,15,-10,2,56,{"$f":"ROUND($F311-(($F311-$F316)/5*A$256),3)","v":0.59499999999999997}]
[null,15,-10,2,57,{"$f":"ROUND($F311-(($F311-$F316)/5*A$257),3)","v":0.60199999999999998}]
[null,15,-10,2,58,{"$f":"ROUND($F311-(($F311-$F316)/5*A$258),3)","v":0.61}]
[null,15,-10,2,59,{"$f":"ROUND($F311-(($F311-$F316)/5*A$259),3)","v":0.61699999999999999}]
[null,15,-10,2,60,{"$f":"'VDI 4650'!J26","v":0.625}]
[null,15,-10,7,30,{"$f":"'VDI 4650'!D27","v":0.39800000000000002}]
[null,15,-10,7,31,{"$f":"ROUND($F317-(($F317-$F322)/5*A$256),3)","v":0.40100000000000002}]
[null,15,-10,7,32,{"$f":"ROUND($F317-(($F317-$F322)/5*A$257),3)","v":0.40400000000000003}]
[null,15,-10,7,33,{"$f":"ROUND($F317-(($F317-$F322)/5*A$258),3)","v":0.40699999999999997}]
[null,15,-10,7,34,{"$f":"ROUND($F317-(($F317-$F322)/5*A$259),3)","v":0.41}]
[null,15,-10,7,35,{"$f":"'VDI 4650'!E27","v":0.41299999999999998}]
[null,15,-10,7,36,{"$f":"ROUND($F322-(($F322-$F327)/5*A$256),3)","v":0.41599999999999998}]
[null,15,-10,7,37,{"$f":"ROUND($F322-(($F322-$F327)/5*A$257),3)","v":0.42}]
[null,15,-10,7,38,{"$f":"ROUND($F322-(($F322-$F327)/5*A$258),3)","v":0.42299999999999999}]
[null,15,-10,7,39,{"$f":"ROUND($F322-(($F322-$F327)/5*A$259),3)","v":0.42699999999999999}]
[null,15,-10,7,40,{"$f":"'VDI 4650'!F27","v":0.43}]
[null,15,-10,7,41,{"$f":"ROUND($F327-(($F327-$F332)/5*A$256),3)","v":0.433}]
[null,15,-10,7,42,{"$f":"ROUND($F327-(($F327-$F332)/5*A$257),3)","v":0.437}]
[null,15,-10,7,43,{"$f":"ROUND($F327-(($F327-$F332)/5*A$258),3)","v":0.44}]
[null,15,-10,7,44,{"$f":"ROUND($F327-(($F327-$F332)/5*A$259),3)","v":0.44400000000000001}]
[null,15,-10,7,45,{"$f":"'VDI 4650'!G27","v":0.44700000000000001}]
[null,15,-10,7,46,{"$f":"ROUND($F332-(($F332-$F337)/5*A$256),3)","v":0.45100000000000001}]
[null,15,-10,7,47,{"$f":"ROUND($F332-(($F332-$F337)/5*A$257),3)","v":0.45500000000000002}]
[null,15,-10,7,48,{"$f":"ROUND($F332-(($F332-$F337)/5*A$258),3)","v":0.45800000000000002}]
[null,15,-10,7,49,{"$f":"ROUND($F332-(($F332-$F337)/5*A$259),3)","v":0.46200000000000002}]
[null,15,-10,7,50,{"$f":"'VDI 4650'!H27","v":0.46600000000000003}]
[null,15,-10,7,51,{"$f":"ROUND($F337-(($F337-$F342)/5*A$256),3)","v":0.47}]
[null,15,-10,7,52,{"$f":"ROUND($F337-(($F337-$F342)/5*A$257),3)","v":0.47399999999999998}]
[null,15,-10,7,53,{"$f":"ROUND($F337-(($F337-$F342)/5*A$258),3)","v":0.47899999999999998}]
[null,15,-10,7,54,{"$f":"ROUND($F337-(($F337-$F342)/5*A$259),3)","v":0.48299999999999998}]
[null,15,-10,7,55,{"$f":"'VDI 4650'!I27","v":0.48699999999999999}]
[null,15,-10,7,56,{"$f":"ROUND($F342-(($F342-$F347)/5*A$256),3)","v":0.49099999999999999}]
[null,15,-10,7,57,{"$f":"ROUND($F342-(($F342-$F347)/5*A$257),3)","v":0.495}]
[null,15,-10,7,58,{"$f":"ROUND($F342-(($F342-$F347)/5*A$258),3)","v":0.5}]
[null,15,-10,7,59,{"$f":"ROUND($F342-(($F342-$F347)/5*A$259),3)","v":0.504}]
[null,15,-10,7,60,{"$f":"'VDI 4650'!J27","v":0.50800000000000001}]
[null,15,-11,-7,30,{"$f":"F255","v":0.02},{"$f":"F441","v":3.5999999999999997E-2}]
[null,15,-11,-7,31,{"$f":"F256","v":0.02},{"$f":"F442","v":3.5999999999999997E-2}]
[null,15,-11,-7,32,2.1000000000000001E-2,3.6999999999999998E-2]
[null,15,-11,-7,33,2.1000000000000001E-2,3.6999999999999998E-2]
[null,15,-11,-7,34,2.1999999999999999E-2,3.7999999999999999E-2]
[null,15,-11,-7,35,2.1999999999999999E-2,3.7999999999999999E-2]
[null,15,-11,-7,36,2.1999999999999999E-2,3.9E-2]
[null,15,-11,-7,37,2.3E-2,3.9E-2]
[null,15,-11,-7,38,2.3E-2,0.04]
[null,15,-11,-7,39,2.4E-2,0.04]
[null,15,-11,-7,40,2.4E-2,4.1000000000000002E-2]
[null,15,-11,-7,41,2.4E-2,4.2000000000000003E-2]
[null,15,-11,-7,42,2.5000000000000001E-2,4.2999999999999997E-2]
[null,15,-11,-7,43,2.5000000000000001E-2,4.2999999999999997E-2]
[null,15,-11,-7,44,2.5999999999999999E-2,4.3999999999999997E-2]
[null,15,-11,-7,45,2.5999999999999999E-2,4.4999999999999998E-2]
[null,15,-11,-7,46,2.5999999999999999E-2,4.5999999999999999E-2]
[null,15,-11,-7,47,2.7E-2,4.7E-2]
[null,15,-11,-7,48,2.7E-2,4.7E-2]
[null,15,-11,-7,49,2.8000000000000001E-2,4.8000000000000001E-2]
[null,15,-11,-7,50,2.8000000000000001E-2,4.9000000000000002E-2]
[null,15,-11,-7,51,2.9000000000000001E-2,0.05]
[null,15,-11,-7,52,2.9000000000000001E-2,5.0999999999999997E-2]
[null,15,-11,-7,53,0.03,5.1999999999999998E-2]
[null,15,-11,-7,54,0.03,5.2999999999999999E-2]
[null,15,-11,-7,55,3.1E-2,5.3999999999999999E-2]
[null,15,-11,-7,56,3.2000000000000001E-2,5.5E-2]
[null,15,-11,-7,57,3.3000000000000002E-2,5.6000000000000001E-2]
[null,15,-11,-7,58,3.3000000000000002E-2,5.7000000000000002E-2]
[null,15,-11,-7,59,3.4000000000000002E-2,5.8000000000000003E-2]
[null,15,-11,-7,60,3.5000000000000003E-2,5.8999999999999997E-2]
[null,15,-11,2,30,0.439,0.5]
[null,15,-11,2,31,0.44400000000000001,0.505]
[null,15,-11,2,32,0.44800000000000001,0.51]
[null,15,-11,2,33,0.45300000000000001,0.51500000000000001]
[null,15,-11,2,34,0.45700000000000002,0.52]
[null,15,-11,2,35,0.46200000000000002,0.52500000000000002]
[null,15,-11,2,36,0.46700000000000003,0.53100000000000003]
[null,15,-11,2,37,0.47199999999999998,0.53600000000000003]
[null,15,-11,2,38,0.47799999999999998,0.54200000000000004]
[null,15,-11,2,39,0.48299999999999998,0.54700000000000004]
[null,15,-11,2,40,0.48799999999999999,0.55300000000000005]
[null,15,-11,2,41,0.49399999999999999,0.55900000000000005]
[null,15,-11,2,42,0.5,0.56499999999999995]
[null,15,-11,2,43,0.505,0.57199999999999995]
[null,15,-11,2,44,0.51100000000000001,0.57799999999999996]
[null,15,-11,2,45,0.51700000000000002,0.58399999999999996]
[null,15,-11,2,46,0.52400000000000002,0.59099999999999997]
[null,15,-11,2,47,0.53,0.59799999999999998]
[null,15,-11,2,48,0.53700000000000003,0.60499999999999998]
[null,15,-11,2,49,0.54300000000000004,0.61199999999999999]
[null,15,-11,2,50,0.55000000000000004,0.61899999999999999]
[null,15,-11,2,51,0.55700000000000005,0.627]
[null,15,-11,2,52,0.56499999999999995,0.63500000000000001]
[null,15,-11,2,53,0.57199999999999995,0.64200000000000002]
[null,15,-11,2,54,0.57999999999999996,0.65]
[null,15,-11,2,55,0.58699999999999997,0.65800000000000003]
[null,15,-11,2,56,0.59499999999999997,0.66600000000000004]
[null,15,-11,2,57,0.60199999999999998,0.67400000000000004]
[null,15,-11,2,58,0.61,0.68200000000000005]
[null,15,-11,2,59,0.61699999999999999,0.69]
[null,15,-11,2,60,0.625,0.69799999999999995]
[null,15,-11,7,30,0.39800000000000002,0.32800000000000001]
[null,15,-11,7,31,0.40100000000000002,0.33]
[null,15,-11,7,32,0.40400000000000003,0.33300000000000002]
[null,15,-11,7,33,{"$f":"F320","v":0.40699999999999997},{"$f":"F506","v":0.33500000000000002}]
[null,15,-11,7,34,0.41,0.33800000000000002]
[null,15,-11,7,35,0.41299999999999998,0.34]
[null,15,-11,7,36,0.41599999999999998,0.34200000000000003]
[null,15,-11,7,37,0.42,0.34499999999999997]
[null,15,-11,7,38,0.42299999999999999,0.34699999999999998]
[null,15,-11,7,39,0.42699999999999999,0.35]
[null,15,-11,7,40,0.43,0.35199999999999998]
[null,15,-11,7,41,0.433,0.35499999999999998]
[null,15,-11,7,42,0.437,0.35799999999999998]
[null,15,-11,7,43,0.44,0.36]
[null,15,-11,7,44,0.44400000000000001,0.36299999999999999]
[null,15,-11,7,45,0.44700000000000001,0.36599999999999999]
[null,15,-11,7,46,0.45100000000000001,0.36899999999999999]
[null,15,-11,7,47,0.45500000000000002,0.372]
[null,15,-11,7,48,0.45800000000000002,0.374]
[null,15,-11,7,49,0.46200000000000002,0.377]
[null,15,-11,7,50,0.46600000000000003,0.38]
[null,15,-11,7,51,0.47,0.38300000000000001]
[null,15,-11,7,52,0.47399999999999998,0.38600000000000001]
[null,15,-11,7,53,0.47899999999999998,0.39]
[null,15,-11,7,54,0.48299999999999998,0.39300000000000002]
[null,15,-11,7,55,0.48699999999999999,0.39600000000000002]
[null,15,-11,7,56,0.49099999999999999,0.39900000000000002]
[null,15,-11,7,57,0.495,0.40200000000000002]
[null,15,-11,7,58,0.5,0.40600000000000003]
[null,15,-11,7,59,0.504,0.40899999999999997]
[null,15,-11,7,60,0.50800000000000001,0.41199999999999998]
[null,15,-12,-7,30,{"$f":"'VDI 4650'!D28","v":3.5999999999999997E-2}]
[null,15,-12,-7,31,{"$f":"ROUND($F441-(($F441-$F446)/5*A$256),3)","v":3.5999999999999997E-2}]
[null,15,-12,-7,32,{"$f":"ROUND($F441-(($F441-$F446)/5*A$257),3)","v":3.6999999999999998E-2}]
[null,15,-12,-7,33,{"$f":"ROUND($F441-(($F441-$F446)/5*A$258),3)","v":3.6999999999999998E-2}]
[null,15,-12,-7,34,{"$f":"ROUND($F441-(($F441-$F446)/5*A$259),3)","v":3.7999999999999999E-2}]
[null,15,-12,-7,35,{"$f":"'VDI 4650'!E28","v":3.7999999999999999E-2}]
[null,15,-12,-7,36,{"$f":"ROUND($F446-(($F446-$F451)/5*A$256),3)","v":3.9E-2}]
[null,15,-12,-7,37,{"$f":"ROUND($F446-(($F446-$F451)/5*A$257),3)","v":3.9E-2}]
[null,15,-12,-7,38,{"$f":"ROUND($F446-(($F446-$F451)/5*A$258),3)","v":0.04}]
[null,15,-12,-7,39,{"$f":"ROUND($F446-(($F446-$F451)/5*A$259),3)","v":0.04}]
[null,15,-12,-7,40,{"$f":"'VDI 4650'!F28","v":4.1000000000000002E-2}]
[null,15,-12,-7,41,{"$f":"ROUND($F451-(($F451-$F456)/5*A$256),3)","v":4.2000000000000003E-2}]
[null,15,-12,-7,42,{"$f":"ROUND($F451-(($F451-$F456)/5*A$257),3)","v":4.2999999999999997E-2}]
[null,15,-12,-7,43,{"$f":"ROUND($F451-(($F451-$F456)/5*A$258),3)","v":4.2999999999999997E-2}]
[null,15,-12,-7,44,{"$f":"ROUND($F451-(($F451-$F456)/5*A$259),3)","v":4.3999999999999997E-2}]
[null,15,-12,-7,45,{"$f":"'VDI 4650'!G28","v":4.4999999999999998E-2}]
[null,15,-12,-7,46,{"$f":"ROUND($F456-(($F456-$F461)/5*A$256),3)","v":4.5999999999999999E-2}]
[null,15,-12,-7,47,{"$f":"ROUND($F456-(($F456-$F461)/5*A$257),3)","v":4.7E-2}]
[null,15,-12,-7,48,{"$f":"ROUND($F456-(($F456-$F461)/5*A$258),3)","v":4.7E-2}]
[null,15,-12,-7,49,{"$f":"ROUND($F456-(($F456-$F461)/5*A$259),3)","v":4.8000000000000001E-2}]
[null,15,-12,-7,50,{"$f":"'VDI 4650'!H28","v":4.9000000000000002E-2}]
[null,15,-12,-7,51,{"$f":"ROUND($F461-(($F461-$F466)/5*A$256),3)","v":0.05}]
[null,15,-12,-7,52,{"$f":"ROUND($F461-(($F461-$F466)/5*A$257),3)","v":5.0999999999999997E-2}]
[null,15,-12,-7,53,{"$f":"ROUND($F461-(($F461-$F466)/5*A$258),3)","v":5.1999999999999998E-2}]
[null,15,-12,-7,54,{"$f":"ROUND($F461-(($F461-$F466)/5*A$259),3)","v":5.2999999999999999E-2}]
[null,15,-12,-7,55,{"$f":"'VDI 4650'!I28","v":5.3999999999999999E-2}]
[null,15,-12,-7,56,{"$f":"ROUND($F466-(($F466-$F471)/5*A$256),3)","v":5.5E-2}]
[null,15,-12,-7,57,{"$f":"ROUND($F466-(($F466-$F471)/5*A$257),3)","v":5.6000000000000001E-2}]
[null,15,-12,-7,58,{"$f":"ROUND($F466-(($F466-$F471)/5*A$258),3)","v":5.7000000000000002E-2}]
[null,15,-12,-7,59,{"$f":"ROUND($F466-(($F466-$F471)/5*A$259),3)","v":5.8000000000000003E-2}]
[null,15,-12,-7,60,{"$f":"'VDI 4650'!J28","v":5.8999999999999997E-2}]
[null,15,-12,2,30,{"$f":"'VDI 4650'!D29","v":0.5}]
[null,15,-12,2,31,{"$f":"ROUND($F472-(($F472-$F477)/5*A$256),3)","v":0.505}]
[null,15,-12,2,32,{"$f":"ROUND($F472-(($F472-$F477)/5*A$257),3)","v":0.51}]
[null,15,-12,2,33,{"$f":"ROUND($F472-(($F472-$F477)/5*A$258),3)","v":0.51500000000000001}]
[null,15,-12,2,34,{"$f":"ROUND($F472-(($F472-$F477)/5*A$259),3)","v":0.52}]
[null,15,-12,2,35,{"$f":"'VDI 4650'!E29","v":0.52500000000000002}]
[null,15,-12,2,36,{"$f":"ROUND($F477-(($F477-$F482)/5*A$256),3)","v":0.53100000000000003}]
[null,15,-12,2,37,{"$f":"ROUND($F477-(($F477-$F482)/5*A$257),3)","v":0.53600000000000003}]
[null,15,-12,2,38,{"$f":"ROUND($F477-(($F477-$F482)/5*A$258),3)","v":0.54200000000000004}]
[null,15,-12,2,39,{"$f":"ROUND($F477-(($F477-$F482)/5*A$259),3)","v":0.54700000000000004}]
[null,15,-12,2,40,{"$f":"'VDI 4650'!F29","v":0.55300000000000005}]
[null,15,-12,2,41,{"$f":"ROUND($F482-(($F482-$F487)/5*A$256),3)","v":0.55900000000000005}]
[null,15,-12,2,42,{"$f":"ROUND($F482-(($F482-$F487)/5*A$257),3)","v":0.56499999999999995}]
[null,15,-12,2,43,{"$f":"ROUND($F482-(($F482-$F487)/5*A$258),3)","v":0.57199999999999995}]
[null,15,-12,2,44,{"$f":"ROUND($F482-(($F482-$F487)/5*A$259),3)","v":0.57799999999999996}]
[null,15,-12,2,45,{"$f":"'VDI 4650'!G29","v":0.58399999999999996}]
[null,15,-12,2,46,{"$f":"ROUND($F487-(($F487-$F492)/5*A$256),3)","v":0.59099999999999997}]
[null,15,-12,2,47,{"$f":"ROUND($F487-(($F487-$F492)/5*A$257),3)","v":0.59799999999999998}]
[null,15,-12,2,48,{"$f":"ROUND($F487-(($F487-$F492)/5*A$258),3)","v":0.60499999999999998}]
[null,15,-12,2,49,{"$f":"ROUND($F487-(($F487-$F492)/5*A$259),3)","v":0.61199999999999999}]
[null,15,-12,2,50,{"$f":"'VDI 4650'!H29","v":0.61899999999999999}]
[null,15,-12,2,51,{"$f":"ROUND($F492-(($F492-$F497)/5*A$256),3)","v":0.627}]
[null,15,-12,2,52,{"$f":"ROUND($F492-(($F492-$F497)/5*A$257),3)","v":0.63500000000000001}]
[null,15,-12,2,53,{"$f":"ROUND($F492-(($F492-$F497)/5*A$258),3)","v":0.64200000000000002}]
[null,15,-12,2,54,{"$f":"ROUND($F492-(($F492-$F497)/5*A$259),3)","v":0.65}]
[null,15,-12,2,55,{"$f":"'VDI 4650'!I29","v":0.65800000000000003}]
[null,15,-12,2,56,{"$f":"ROUND($F497-(($F497-$F502)/5*A$256),3)","v":0.66600000000000004}]
[null,15,-12,2,57,{"$f":"ROUND($F497-(($F497-$F502)/5*A$257),3)","v":0.67400000000000004}]
[null,15,-12,2,58,{"$f":"ROUND($F497-(($F497-$F502)/5*A$258),3)","v":0.68200000000000005}]
[null,15,-12,2,59,{"$f":"ROUND($F497-(($F497-$F502)/5*A$259),3)","v":0.69}]
[null,15,-12,2,60,{"$f":"'VDI 4650'!J29","v":0.69799999999999995}]
[null,15,-12,7,30,{"$f":"'VDI 4650'!D30","v":0.32800000000000001}]
[null,15,-12,7,31,{"$f":"ROUND($F503-(($F503-$F508)/5*A$256),3)","v":0.33}]
[null,15,-12,7,32,{"$f":"ROUND($F503-(($F503-$F508)/5*A$257),3)","v":0.33300000000000002}]
[null,15,-12,7,33,{"$f":"ROUND($F503-(($F503-$F508)/5*A$258),3)","v":0.33500000000000002}]
[null,15,-12,7,34,{"$f":"ROUND($F503-(($F503-$F508)/5*A$259),3)","v":0.33800000000000002}]
[null,15,-12,7,35,{"$f":"'VDI 4650'!E30","v":0.34}]
[null,15,-12,7,36,{"$f":"ROUND($F508-(($F508-$F513)/5*A$256),3)","v":0.34200000000000003}]
[null,15,-12,7,37,{"$f":"ROUND($F508-(($F508-$F513)/5*A$257),3)","v":0.34499999999999997}]
[null,15,-12,7,38,{"$f":"ROUND($F508-(($F508-$F513)/5*A$258),3)","v":0.34699999999999998}]
[null,15,-12,7,39,{"$f":"ROUND($F508-(($F508-$F513)/5*A$259),3)","v":0.35}]
[null,15,-12,7,40,{"$f":"'VDI 4650'!F30","v":0.35199999999999998}]
[null,15,-12,7,41,{"$f":"ROUND($F513-(($F513-$F518)/5*A$256),3)","v":0.35499999999999998}]
[null,15,-12,7,42,{"$f":"ROUND($F513-(($F513-$F518)/5*A$257),3)","v":0.35799999999999998}]
[null,15,-12,7,43,{"$f":"ROUND($F513-(($F513-$F518)/5*A$258),3)","v":0.36}]
[null,15,-12,7,44,{"$f":"ROUND($F513-(($F513-$F518)/5*A$259),3)","v":0.36299999999999999}]
[null,15,-12,7,45,{"$f":"'VDI 4650'!G30","v":0.36599999999999999}]
[null,15,-12,7,46,{"$f":"ROUND($F518-(($F518-$F523)/5*A$256),3)","v":0.36899999999999999}]
[null,15,-12,7,47,{"$f":"ROUND($F518-(($F518-$F523)/5*A$257),3)","v":0.372}]
[null,15,-12,7,48,{"$f":"ROUND($F518-(($F518-$F523)/5*A$258),3)","v":0.374}]
[null,15,-12,7,49,{"$f":"ROUND($F518-(($F518-$F523)/5*A$259),3)","v":0.377}]
[null,15,-12,7,50,{"$f":"'VDI 4650'!H30","v":0.38}]
[null,15,-12,7,51,{"$f":"ROUND($F523-(($F523-$F528)/5*A$256),3)","v":0.38300000000000001}]
[null,15,-12,7,52,{"$f":"ROUND($F523-(($F523-$F528)/5*A$257),3)","v":0.38600000000000001}]
[null,15,-12,7,53,{"$f":"ROUND($F523-(($F523-$F528)/5*A$258),3)","v":0.39}]
[null,15,-12,7,54,{"$f":"ROUND($F523-(($F523-$F528)/5*A$259),3)","v":0.39300000000000002}]
[null,15,-12,7,55,{"$f":"'VDI 4650'!I30","v":0.39600000000000002}]
[null,15,-12,7,56,{"$f":"ROUND($F528-(($F528-$F533)/5*A$256),3)","v":0.39900000000000002}]
[null,15,-12,7,57,{"$f":"ROUND($F528-(($F528-$F533)/5*A$257),3)","v":0.40200000000000002}]
[null,15,-12,7,58,{"$f":"ROUND($F528-(($F528-$F533)/5*A$258),3)","v":0.40600000000000003}]
[null,15,-12,7,59,{"$f":"ROUND($F528-(($F528-$F533)/5*A$259),3)","v":0.40899999999999997}]
[null,15,-12,7,60,{"$f":"'VDI 4650'!J30","v":0.41199999999999998}]
[null,15,-13,-7,30,{"$f":"F441","v":3.5999999999999997E-2},{"$f":"F627","v":8.8999999999999996E-2}]
[null,15,-13,-7,31,{"$f":"F442","v":3.5999999999999997E-2},{"$f":"F628","v":0.09}]
[null,15,-13,-7,32,3.6999999999999998E-2,9.0999999999999998E-2]
[null,15,-13,-7,33,3.6999999999999998E-2,9.2999999999999999E-2]
[null,15,-13,-7,34,3.7999999999999999E-2,9.4E-2]
[null,15,-13,-7,35,3.7999999999999999E-2,9.5000000000000001E-2]
[null,15,-13,-7,36,3.9E-2,9.6000000000000002E-2]
[null,15,-13,-7,37,3.9E-2,9.8000000000000004E-2]
[null,15,-13,-7,38,0.04,9.9000000000000005E-2]
[null,15,-13,-7,39,0.04,0.10100000000000001]
[null,15,-13,-7,40,4.1000000000000002E-2,0.10199999999999999]
[null,15,-13,-7,41,4.2000000000000003E-2,0.104]
[null,15,-13,-7,42,4.2999999999999997E-2,0.105]
[null,15,-13,-7,43,4.2999999999999997E-2,0.107]
[null,15,-13,-7,44,4.3999999999999997E-2,0.108]
[null,15,-13,-7,45,4.4999999999999998E-2,0.11]
[null,15,-13,-7,46,4.5999999999999999E-2,0.112]
[null,15,-13,-7,47,4.7E-2,0.114]
[null,15,-13,-7,48,4.7E-2,0.115]
[null,15,-13,-7,49,4.8000000000000001E-2,0.11700000000000001]
[null,15,-13,-7,50,4.9000000000000002E-2,0.11899999999999999]
[null,15,-13,-7,51,0.05,0.121]
[null,15,-13,-7,52,5.0999999999999997E-2,0.124]
[null,15,-13,-7,53,5.1999999999999998E-2,0.126]
[null,15,-13,-7,54,5.2999999999999999E-2,0.129]
[null,15,-13,-7,55,5.3999999999999999E-2,0.13100000000000001]
[null,15,-13,-7,56,5.5E-2,0.13300000000000001]
[null,15,-13,-7,57,5.6000000000000001E-2,0.13500000000000001]
[null,15,-13,-7,58,5.7000000000000002E-2,0.13800000000000001]
[null,15,-13,-7,59,5.8000000000000003E-2,0.14000000000000001]
[null,15,-13,-7,60,5.8999999999999997E-2,0.14199999999999999]
[null,15,-13,2,30,0.5,0.52100000000000002]
[null,15,-13,2,31,0.505,0.52600000000000002]
[null,15,-13,2,32,0.51,0.53100000000000003]
[null,15,-13,2,33,0.51500000000000001,0.53700000000000003]
[null,15,-13,2,34,0.52,0.54200000000000004]
[null,15,-13,2,35,0.52500000000000002,0.54700000000000004]
[null,15,-13,2,36,0.53100000000000003,0.55300000000000005]
[null,15,-13,2,37,0.53600000000000003,0.55800000000000005]
[null,15,-13,2,38,0.54200000000000004,0.56399999999999995]
[null,15,-13,2,39,0.54700000000000004,0.56899999999999995]
[null,15,-13,2,40,0.55300000000000005,0.57499999999999996]
[null,15,-13,2,41,0.55900000000000005,0.58099999999999996]
[null,15,-13,2,42,0.56499999999999995,0.58699999999999997]
[null,15,-13,2,43,0.57199999999999995,0.59399999999999997]
[null,15,-13,2,44,0.57799999999999996,0.6]
[null,15,-13,2,45,0.58399999999999996,0.60599999999999998]
[null,15,-13,2,46,0.59099999999999997,0.61299999999999999]
[null,15,-13,2,47,0.59799999999999998,0.62]
[null,15,-13,2,48,0.60499999999999998,0.626]
[null,15,-13,2,49,0.61199999999999999,0.63300000000000001]
[null,15,-13,2,50,0.61899999999999999,0.64]
[null,15,-13,2,51,0.627,0.64800000000000002]
[null,15,-13,2,52,0.63500000000000001,0.65600000000000003]
[null,15,-13,2,53,0.64200000000000002,0.66300000000000003]
[null,15,-13,2,54,0.65,0.67100000000000004]
[null,15,-13,2,55,0.65800000000000003,0.67900000000000005]
[null,15,-13,2,56,0.66600000000000004,0.68700000000000006]
[null,15,-13,2,57,0.67400000000000004,0.69499999999999995]
[null,15,-13,2,58,0.68200000000000005,0.70199999999999996]
[null,15,-13,2,59,0.69,0.71]
[null,15,-13,2,60,0.69799999999999995,0.71799999999999997]
[null,15,-13,7,30,0.32800000000000001,0.26400000000000001]
[null,15,-13,7,31,0.33,0.26600000000000001]
[null,15,-13,7,32,0.33300000000000002,0.26700000000000002]
[null,15,-13,7,33,{"$f":"F506","v":0.33500000000000002},{"$f":"F692","v":0.26900000000000002}]
[null,15,-13,7,34,0.33800000000000002,0.27]
[null,15,-13,7,35,0.34,0.27200000000000002]
[null,15,-13,7,36,0.34200000000000003,0.27400000000000002]
[null,15,-13,7,37,0.34499999999999997,0.27600000000000002]
[null,15,-13,7,38,0.34699999999999998,0.27800000000000002]
[null,15,-13,7,39,0.35,0.28000000000000003]
[null,15,-13,7,40,0.35199999999999998,0.28199999999999997]
[null,15,-13,7,41,0.35499999999999998,0.28399999999999997]
[null,15,-13,7,42,0.35799999999999998,0.28599999999999998]
[null,15,-13,7,43,0.36,0.28799999999999998]
[null,15,-13,7,44,0.36299999999999999,0.28999999999999998]
[null,15,-13,7,45,0.36599999999999999,0.29199999999999998]
[null,15,-13,7,46,0.36899999999999999,0.29399999999999998]
[null,15,-13,7,47,0.372,0.29599999999999999]
[null,15,-13,7,48,0.374,0.29899999999999999]
[null,15,-13,7,49,0.377,0.30099999999999999]
[null,15,-13,7,50,0.38,0.30299999999999999]
[null,15,-13,7,51,0.38300000000000001,0.30499999999999999]
[null,15,-13,7,52,0.38600000000000001,0.308]
[null,15,-13,7,53,0.39,0.31]
[null,15,-13,7,54,0.39300000000000002,0.313]
[null,15,-13,7,55,0.39600000000000002,0.315]
[null,15,-13,7,56,0.39900000000000002,0.317]
[null,15,-13,7,57,0.40200000000000002,0.31900000000000001]
[null,15,-13,7,58,0.40600000000000003,0.32200000000000001]
[null,15,-13,7,59,0.40899999999999997,0.32400000000000001]
[null,15,-13,7,60,0.41199999999999998,0.32600000000000001]
[null,15,-14,-7,30,{"$f":"'VDI 4650'!D31","v":8.8999999999999996E-2}]
[null,15,-14,-7,31,{"$f":"ROUND($F627-(($F627-$F632)/5*A$256),3)","v":0.09}]
[null,15,-14,-7,32,{"$f":"ROUND($F627-(($F627-$F632)/5*A$257),3)","v":9.0999999999999998E-2}]
[null,15,-14,-7,33,{"$f":"ROUND($F627-(($F627-$F632)/5*A$258),3)","v":9.2999999999999999E-2}]
[null,15,-14,-7,34,{"$f":"ROUND($F627-(($F627-$F632)/5*A$259),3)","v":9.4E-2}]
[null,15,-14,-7,35,{"$f":"'VDI 4650'!E31","v":9.5000000000000001E-2}]
[null,15,-14,-7,36,{"$f":"ROUND($F632-(($F632-$F637)/5*A$256),3)","v":9.6000000000000002E-2}]
[null,15,-14,-7,37,{"$f":"ROUND($F632-(($F632-$F637)/5*A$257),3)","v":9.8000000000000004E-2}]
[null,15,-14,-7,38,{"$f":"ROUND($F632-(($F632-$F637)/5*A$258),3)","v":9.9000000000000005E-2}]
[null,15,-14,-7,39,{"$f":"ROUND($F632-(($F632-$F637)/5*A$259),3)","v":0.10100000000000001}]
[null,15,-14,-7,40,{"$f":"'VDI 4650'!F31","v":0.10199999999999999}]
[null,15,-14,-7,41,{"$f":"ROUND($F637-(($F637-$F642)/5*A$256),3)","v":0.104}]
[null,15,-14,-7,42,{"$f":"ROUND($F637-(($F637-$F642)/5*A$257),3)","v":0.105}]
[null,15,-14,-7,43,{"$f":"ROUND($F637-(($F637-$F642)/5*A$258),3)","v":0.107}]
[null,15,-14,-7,44,{"$f":"ROUND($F637-(($F637-$F642)/5*A$259),3)","v":0.108}]
[null,15,-14,-7,45,{"$f":"'VDI 4650'!G31","v":0.11}]
[null,15,-14,-7,46,{"$f":"ROUND($F642-(($F642-$F647)/5*A$256),3)","v":0.112}]
[null,15,-14,-7,47,{"$f":"ROUND($F642-(($F642-$F647)/5*A$257),3)","v":0.114}]
[null,15,-14,-7,48,{"$f":"ROUND($F642-(($F642-$F647)/5*A$258),3)","v":0.115}]
[null,15,-14,-7,49,{"$f":"ROUND($F642-(($F642-$F647)/5*A$259),3)","v":0.11700000000000001}]
[null,15,-14,-7,50,{"$f":"'VDI 4650'!H31","v":0.11899999999999999}]
[null,15,-14,-7,51,{"$f":"ROUND($F647-(($F647-$F652)/5*A$256),3)","v":0.121}]
[null,15,-14,-7,52,{"$f":"ROUND($F647-(($F647-$F652)/5*A$257),3)","v":0.124}]
[null,15,-14,-7,53,{"$f":"ROUND($F647-(($F647-$F652)/5*A$258),3)","v":0.126}]
[null,15,-14,-7,54,{"$f":"ROUND($F647-(($F647-$F652)/5*A$259),3)","v":0.129}]
[null,15,-14,-7,55,{"$f":"'VDI 4650'!I31","v":0.13100000000000001}]
[null,15,-14,-7,56,{"$f":"ROUND($F652-(($F652-$F657)/5*A$256),3)","v":0.13300000000000001}]
[null,15,-14,-7,57,{"$f":"ROUND($F652-(($F652-$F657)/5*A$257),3)","v":0.13500000000000001}]
[null,15,-14,-7,58,{"$f":"ROUND($F652-(($F652-$F657)/5*A$258),3)","v":0.13800000000000001}]
[null,15,-14,-7,59,{"$f":"ROUND($F652-(($F652-$F657)/5*A$259),3)","v":0.14000000000000001}]
[null,15,-14,-7,60,{"$f":"'VDI 4650'!J31","v":0.14199999999999999}]
[null,15,-14,2,30,{"$f":"'VDI 4650'!D32","v":0.52100000000000002}]
[null,15,-14,2,31,{"$f":"ROUND($F658-(($F658-$F663)/5*A$256),3)","v":0.52600000000000002}]
[null,15,-14,2,32,{"$f":"ROUND($F658-(($F658-$F663)/5*A$257),3)","v":0.53100000000000003}]
[null,15,-14,2,33,{"$f":"ROUND($F658-(($F658-$F663)/5*A$258),3)","v":0.53700000000000003}]
[null,15,-14,2,34,{"$f":"ROUND($F658-(($F658-$F663)/5*A$259),3)","v":0.54200000000000004}]
[null,15,-14,2,35,{"$f":"'VDI 4650'!E32","v":0.54700000000000004}]
[null,15,-14,2,36,{"$f":"ROUND($F663-(($F663-$F668)/5*A$256),3)","v":0.55300000000000005}]
[null,15,-14,2,37,{"$f":"ROUND($F663-(($F663-$F668)/5*A$257),3)","v":0.55800000000000005}]
[null,15,-14,2,38,{"$f":"ROUND($F663-(($F663-$F668)/5*A$258),3)","v":0.56399999999999995}]
[null,15,-14,2,39,{"$f":"ROUND($F663-(($F663-$F668)/5*A$259),3)","v":0.56899999999999995}]
[null,15,-14,2,40,{"$f":"'VDI 4650'!F32","v":0.57499999999999996}]
[null,15,-14,2,41,{"$f":"ROUND($F668-(($F668-$F673)/5*A$256),3)","v":0.58099999999999996}]
[null,15,-14,2,42,{"$f":"ROUND($F668-(($F668-$F673)/5*A$257),3)","v":0.58699999999999997}]
[null,15,-14,2,43,{"$f":"ROUND($F668-(($F668-$F673)/5*A$258),3)","v":0.59399999999999997}]
[null,15,-14,2,44,{"$f":"ROUND($F668-(($F668-$F673)/5*A$259),3)","v":0.6}]
[null,15,-14,2,45,{"$f":"'VDI 4650'!G32","v":0.60599999999999998}]
[null,15,-14,2,46,{"$f":"ROUND($F673-(($F673-$F678)/5*A$256),3)","v":0.61299999999999999}]
[null,15,-14,2,47,{"$f":"ROUND($F673-(($F673-$F678)/5*A$257),3)","v":0.62}]
[null,15,-14,2,48,{"$f":"ROUND($F673-(($F673-$F678)/5*A$258),3)","v":0.626}]
[null,15,-14,2,49,{"$f":"ROUND($F673-(($F673-$F678)/5*A$259),3)","v":0.63300000000000001}]
[null,15,-14,2,50,{"$f":"'VDI 4650'!H32","v":0.64}]
[null,15,-14,2,51,{"$f":"ROUND($F678-(($F678-$F683)/5*A$256),3)","v":0.64800000000000002}]
[null,15,-14,2,52,{"$f":"ROUND($F678-(($F678-$F683)/5*A$257),3)","v":0.65600000000000003}]
[null,15,-14,2,53,{"$f":"ROUND($F678-(($F678-$F683)/5*A$258),3)","v":0.66300000000000003}]
[null,15,-14,2,54,{"$f":"ROUND($F678-(($F678-$F683)/5*A$259),3)","v":0.67100000000000004}]
[null,15,-14,2,55,{"$f":"'VDI 4650'!I32","v":0.67900000000000005}]
[null,15,-14,2,56,{"$f":"ROUND($F683-(($F683-$F688)/5*A$256),3)","v":0.68700000000000006}]
[null,15,-14,2,57,{"$f":"ROUND($F683-(($F683-$F688)/5*A$257),3)","v":0.69499999999999995}]
[null,15,-14,2,58,{"$f":"ROUND($F683-(($F683-$F688)/5*A$258),3)","v":0.70199999999999996}]
[null,15,-14,2,59,{"$f":"ROUND($F683-(($F683-$F688)/5*A$259),3)","v":0.71}]
[null,15,-14,2,60,{"$f":"'VDI 4650'!J32","v":0.71799999999999997}]
[null,15,-14,7,30,{"$f":"'VDI 4650'!D33","v":0.26400000000000001}]
[null,15,-14,7,31,{"$f":"ROUND($F689-(($F689-$F694)/5*A$256),3)","v":0.26600000000000001}]
[null,15,-14,7,32,{"$f":"ROUND($F689-(($F689-$F694)/5*A$257),3)","v":0.26700000000000002}]
[null,15,-14,7,33,{"$f":"ROUND($F689-(($F689-$F694)/5*A$258),3)","v":0.26900000000000002}]
[null,15,-14,7,34,{"$f":"ROUND($F689-(($F689-$F694)/5*A$259),3)","v":0.27}]
[null,15,-14,7,35,{"$f":"'VDI 4650'!E33","v":0.27200000000000002}]
[null,15,-14,7,36,{"$f":"ROUND($F694-(($F694-$F699)/5*A$256),3)","v":0.27400000000000002}]
[null,15,-14,7,37,{"$f":"ROUND($F694-(($F694-$F699)/5*A$257),3)","v":0.27600000000000002}]
[null,15,-14,7,38,{"$f":"ROUND($F694-(($F694-$F699)/5*A$258),3)","v":0.27800000000000002}]
[null,15,-14,7,39,{"$f":"ROUND($F694-(($F694-$F699)/5*A$259),3)","v":0.28000000000000003}]
[null,15,-14,7,40,{"$f":"'VDI 4650'!F33","v":0.28199999999999997}]
[null,15,-14,7,41,{"$f":"ROUND($F699-(($F699-$F704)/5*A$256),3)","v":0.28399999999999997}]
[null,15,-14,7,42,{"$f":"ROUND($F699-(($F699-$F704)/5*A$257),3)","v":0.28599999999999998}]
[null,15,-14,7,43,{"$f":"ROUND($F699-(($F699-$F704)/5*A$258),3)","v":0.28799999999999998}]
[null,15,-14,7,44,{"$f":"ROUND($F699-(($F699-$F704)/5*A$259),3)","v":0.28999999999999998}]
[null,15,-14,7,45,{"$f":"'VDI 4650'!G33","v":0.29199999999999998}]
[null,15,-14,7,46,{"$f":"ROUND($F704-(($F704-$F709)/5*A$256),3)","v":0.29399999999999998}]
[null,15,-14,7,47,{"$f":"ROUND($F704-(($F704-$F709)/5*A$257),3)","v":0.29599999999999999}]
[null,15,-14,7,48,{"$f":"ROUND($F704-(($F704-$F709)/5*A$258),3)","v":0.29899999999999999}]
[null,15,-14,7,49,{"$f":"ROUND($F704-(($F704-$F709)/5*A$259),3)","v":0.30099999999999999}]
[null,15,-14,7,50,{"$f":"'VDI 4650'!H33","v":0.30299999999999999}]
[null,15,-14,7,51,{"$f":"ROUND($F709-(($F709-$F714)/5*A$256),3)","v":0.30499999999999999}]
[null,15,-14,7,52,{"$f":"ROUND($F709-(($F709-$F714)/5*A$257),3)","v":0.308}]
[null,15,-14,7,53,{"$f":"ROUND($F709-(($F709-$F714)/5*A$258),3)","v":0.31}]
[null,15,-14,7,54,{"$f":"ROUND($F709-(($F709-$F714)/5*A$259),3)","v":0.313}]
[null,15,-14,7,55,{"$f":"'VDI 4650'!I33","v":0.315}]
[null,15,-14,7,56,{"$f":"ROUND($F714-(($F714-$F719)/5*A$256),3)","v":0.317}]
[null,15,-14,7,57,{"$f":"ROUND($F714-(($F714-$F719)/5*A$257),3)","v":0.31900000000000001}]
[null,15,-14,7,58,{"$f":"ROUND($F714-(($F714-$F719)/5*A$258),3)","v":0.32200000000000001}]
[null,15,-14,7,59,{"$f":"ROUND($F714-(($F714-$F719)/5*A$259),3)","v":0.32400000000000001}]
[null,15,-14,7,60,{"$f":"'VDI 4650'!J33","v":0.32600000000000001}]
[null,15,-15,-7,30,{"$f":"F627","v":8.8999999999999996E-2},{"$f":"F813","v":0.13800000000000001}]
[null,15,-15,-7,31,{"$f":"F628","v":0.09},{"$f":"F814","v":0.14000000000000001}]
[null,15,-15,-7,32,9.0999999999999998E-2,0.14199999999999999]
[null,15,-15,-7,33,9.2999999999999999E-2,0.14299999999999999]
[null,15,-15,-7,34,9.4E-2,0.14499999999999999]
[null,15,-15,-7,35,9.5000000000000001E-2,0.14699999999999999]
[null,15,-15,-7,36,9.6000000000000002E-2,0.14899999999999999]
[null,15,-15,-7,37,9.8000000000000004E-2,0.151]
[null,15,-15,-7,38,9.9000000000000005E-2,0.154]
[null,15,-15,-7,39,0.10100000000000001,0.156]
[null,15,-15,-7,40,0.10199999999999999,0.158]
[null,15,-15,-7,41,0.104,0.161]
[null,15,-15,-7,42,0.105,0.16300000000000001]
[null,15,-15,-7,43,0.107,0.16600000000000001]
[null,15,-15,-7,44,0.108,0.16800000000000001]
[null,15,-15,-7,45,0.11,0.17100000000000001]
[null,15,-15,-7,46,0.112,0.17399999999999999]
[null,15,-15,-7,47,0.114,0.17699999999999999]
[null,15,-15,-7,48,0.115,0.17899999999999999]
[null,15,-15,-7,49,0.11700000000000001,0.182]
[null,15,-15,-7,50,0.11899999999999999,0.185]
[null,15,-15,-7,51,0.121,0.189]
[null,15,-15,-7,52,0.124,0.192]
[null,15,-15,-7,53,0.126,0.19600000000000001]
[null,15,-15,-7,54,0.129,0.19900000000000001]
[null,15,-15,-7,55,0.13100000000000001,0.20300000000000001]
[null,15,-15,-7,56,0.13300000000000001,0.20699999999999999]
[null,15,-15,-7,57,0.13500000000000001,0.21]
[null,15,-15,-7,58,0.13800000000000001,0.214]
[null,15,-15,-7,59,0.14000000000000001,0.217]
[null,15,-15,-7,60,0.14199999999999999,0.221]
[null,15,-15,2,30,0.52100000000000002,0.52]
[null,15,-15,2,31,0.52600000000000002,0.52500000000000002]
[null,15,-15,2,32,0.53100000000000003,0.53]
[null,15,-15,2,33,0.53700000000000003,0.53400000000000003]
[null,15,-15,2,34,0.54200000000000004,0.53900000000000003]
[null,15,-15,2,35,0.54700000000000004,0.54400000000000004]
[null,15,-15,2,36,0.55300000000000005,0.54900000000000004]
[null,15,-15,2,37,0.55800000000000005,0.55500000000000005]
[null,15,-15,2,38,0.56399999999999995,0.56000000000000005]
[null,15,-15,2,39,0.56899999999999995,0.56599999999999995]
[null,15,-15,2,40,0.57499999999999996,0.57099999999999995]
[null,15,-15,2,41,0.58099999999999996,0.57699999999999996]
[null,15,-15,2,42,0.58699999999999997,0.58299999999999996]
[null,15,-15,2,43,0.59399999999999997,0.58799999999999997]
[null,15,-15,2,44,0.6,0.59399999999999997]
[null,15,-15,2,45,0.60599999999999998,0.6]
[null,15,-15,2,46,0.61299999999999999,0.60599999999999998]
[null,15,-15,2,47,0.62,0.61299999999999999]
[null,15,-15,2,48,0.626,0.61899999999999999]
[null,15,-15,2,49,0.63300000000000001,0.626]
[null,15,-15,2,50,0.64,0.63200000000000001]
[null,15,-15,2,51,0.64800000000000002,0.63900000000000001]
[null,15,-15,2,52,0.65600000000000003,0.64600000000000002]
[null,15,-15,2,53,0.66300000000000003,0.65400000000000003]
[null,15,-15,2,54,0.67100000000000004,0.66100000000000003]
[null,15,-15,2,55,0.67900000000000005,0.66800000000000004]
[null,15,-15,2,56,0.68700000000000006,0.67500000000000004]
[null,15,-15,2,57,0.69499999999999995,0.68200000000000005]
[null,15,-15,2,58,0.70199999999999996,0.68899999999999995]
[null,15,-15,2,59,0.71,0.69599999999999995]
[null,15,-15,2,60,0.71799999999999997,0.70299999999999996]
[null,15,-15,7,30,0.26400000000000001,0.219]
[null,15,-15,7,31,0.26600000000000001,0.22]
[null,15,-15,7,32,0.26700000000000002,0.222]
[null,15,-15,7,33,{"$f":"F692","v":0.26900000000000002},{"$f":"F878","v":0.223}]
[null,15,-15,7,34,0.27,0.22500000000000001]
[null,15,-15,7,35,0.27200000000000002,0.22600000000000001]
[null,15,-15,7,36,0.27400000000000002,0.22700000000000001]
[null,15,-15,7,37,0.27600000000000002,0.22900000000000001]
[null,15,-15,7,38,0.27800000000000002,0.23]
[null,15,-15,7,39,0.28000000000000003,0.23200000000000001]
[null,15,-15,7,40,0.28199999999999997,0.23300000000000001]
[null,15,-15,7,41,0.28399999999999997,0.23499999999999999]
[null,15,-15,7,42,0.28599999999999998,0.23599999999999999]
[null,15,-15,7,43,0.28799999999999998,0.23799999999999999]
[null,15,-15,7,44,0.28999999999999998,0.23899999999999999]
[null,15,-15,7,45,0.29199999999999998,0.24099999999999999]
[null,15,-15,7,46,0.29399999999999998,0.24299999999999999]
[null,15,-15,7,47,0.29599999999999999,0.24399999999999999]
[null,15,-15,7,48,0.29899999999999999,0.246]
[null,15,-15,7,49,0.30099999999999999,0.247]
[null,15,-15,7,50,0.30299999999999999,0.249]
[null,15,-15,7,51,0.30499999999999999,0.251]
[null,15,-15,7,52,0.308,0.253]
[null,15,-15,7,53,0.31,0.254]
[null,15,-15,7,54,0.313,0.25600000000000001]
[null,15,-15,7,55,0.315,0.25800000000000001]
[null,15,-15,7,56,0.317,0.26]
[null,15,-15,7,57,0.31900000000000001,0.26200000000000001]
[null,15,-15,7,58,0.32200000000000001,0.26300000000000001]
[null,15,-15,7,59,0.32400000000000001,0.26500000000000001]
[null,15,-15,7,60,0.32600000000000001,0.26700000000000002]
[null,15,-16,-7,30,{"$f":"'VDI 4650'!D34","v":0.13800000000000001}]
[null,15,-16,-7,31,{"$f":"ROUND($F813-(($F813-$F818)/5*A$256),3)","v":0.14000000000000001}]
[null,15,-16,-7,32,{"$f":"ROUND($F813-(($F813-$F818)/5*A$257),3)","v":0.14199999999999999}]
[null,15,-16,-7,33,{"$f":"ROUND($F813-(($F813-$F818)/5*A$258),3)","v":0.14299999999999999}]
[null,15,-16,-7,34,{"$f":"ROUND($F813-(($F813-$F818)/5*A$259),3)","v":0.14499999999999999}]
[null,15,-16,-7,35,{"$f":"'VDI 4650'!E34","v":0.14699999999999999}]
[null,15,-16,-7,36,{"$f":"ROUND($F818-(($F818-$F823)/5*A$256),3)","v":0.14899999999999999}]
[null,15,-16,-7,37,{"$f":"ROUND($F818-(($F818-$F823)/5*A$257),3)","v":0.151}]
[null,15,-16,-7,38,{"$f":"ROUND($F818-(($F818-$F823)/5*A$258),3)","v":0.154}]
[null,15,-16,-7,39,{"$f":"ROUND($F818-(($F818-$F823)/5*A$259),3)","v":0.156}]
[null,15,-16,-7,40,{"$f":"'VDI 4650'!F34","v":0.158}]
[null,15,-16,-7,41,{"$f":"ROUND($F823-(($F823-$F828)/5*A$256),3)","v":0.161}]
[null,15,-16,-7,42,{"$f":"ROUND($F823-(($F823-$F828)/5*A$257),3)","v":0.16300000000000001}]
[null,15,-16,-7,43,{"$f":"ROUND($F823-(($F823-$F828)/5*A$258),3)","v":0.16600000000000001}]
[null,15,-16,-7,44,{"$f":"ROUND($F823-(($F823-$F828)/5*A$259),3)","v":0.16800000000000001}]
[null,15,-16,-7,45,{"$f":"'VDI 4650'!G34","v":0.17100000000000001}]
[null,15,-16,-7,46,{"$f":"ROUND($F828-(($F828-$F833)/5*A$256),3)","v":0.17399999999999999}]
[null,15,-16,-7,47,{"$f":"ROUND($F828-(($F828-$F833)/5*A$257),3)","v":0.17699999999999999}]
[null,15,-16,-7,48,{"$f":"ROUND($F828-(($F828-$F833)/5*A$258),3)","v":0.17899999999999999}]
[null,15,-16,-7,49,{"$f":"ROUND($F828-(($F828-$F833)/5*A$259),3)","v":0.182}]
[null,15,-16,-7,50,{"$f":"'VDI 4650'!H34","v":0.185}]
[null,15,-16,-7,51,{"$f":"ROUND($F833-(($F833-$F838)/5*A$256),3)","v":0.189}]
[null,15,-16,-7,52,{"$f":"ROUND($F833-(($F833-$F838)/5*A$257),3)","v":0.192}]
[null,15,-16,-7,53,{"$f":"ROUND($F833-(($F833-$F838)/5*A$258),3)","v":0.19600000000000001}]
[null,15,-16,-7,54,{"$f":"ROUND($F833-(($F833-$F838)/5*A$259),3)","v":0.19900000000000001}]
[null,15,-16,-7,55,{"$f":"'VDI 4650'!I34","v":0.20300000000000001}]
[null,15,-16,-7,56,{"$f":"ROUND($F838-(($F838-$F843)/5*A$256),3)","v":0.20699999999999999}]
[null,15,-16,-7,57,{"$f":"ROUND($F838-(($F838-$F843)/5*A$257),3)","v":0.21}]
[null,15,-16,-7,58,{"$f":"ROUND($F838-(($F838-$F843)/5*A$258),3)","v":0.214}]
[null,15,-16,-7,59,{"$f":"ROUND($F838-(($F838-$F843)/5*A$259),3)","v":0.217}]
[null,15,-16,-7,60,{"$f":"'VDI 4650'!J34","v":0.221}]
[null,15,-16,2,30,{"$f":"'VDI 4650'!D35","v":0.52}]
[null,15,-16,2,31,{"$f":"ROUND($F844-(($F844-$F849)/5*A$256),3)","v":0.52500000000000002}]
[null,15,-16,2,32,{"$f":"ROUND($F844-(($F844-$F849)/5*A$257),3)","v":0.53}]
[null,15,-16,2,33,{"$f":"ROUND($F844-(($F844-$F849)/5*A$258),3)","v":0.53400000000000003}]
[null,15,-16,2,34,{"$f":"ROUND($F844-(($F844-$F849)/5*A$259),3)","v":0.53900000000000003}]
[null,15,-16,2,35,{"$f":"'VDI 4650'!E35","v":0.54400000000000004}]
[null,15,-16,2,36,{"$f":"ROUND($F849-(($F849-$F854)/5*A$256),3)","v":0.54900000000000004}]
[null,15,-16,2,37,{"$f":"ROUND($F849-(($F849-$F854)/5*A$257),3)","v":0.55500000000000005}]
[null,15,-16,2,38,{"$f":"ROUND($F849-(($F849-$F854)/5*A$258),3)","v":0.56000000000000005}]
[null,15,-16,2,39,{"$f":"ROUND($F849-(($F849-$F854)/5*A$259),3)","v":0.56599999999999995}]
[null,15,-16,2,40,{"$f":"'VDI 4650'!F35","v":0.57099999999999995}]
[null,15,-16,2,41,{"$f":"ROUND($F854-(($F854-$F859)/5*A$256),3)","v":0.57699999999999996}]
[null,15,-16,2,42,{"$f":"ROUND($F854-(($F854-$F859)/5*A$257),3)","v":0.58299999999999996}]
[null,15,-16,2,43,{"$f":"ROUND($F854-(($F854-$F859)/5*A$258),3)","v":0.58799999999999997}]
[null,15,-16,2,44,{"$f":"ROUND($F854-(($F854-$F859)/5*A$259),3)","v":0.59399999999999997}]
[null,15,-16,2,45,{"$f":"'VDI 4650'!G35","v":0.6}]
[null,15,-16,2,46,{"$f":"ROUND($F859-(($F859-$F864)/5*A$256),3)","v":0.60599999999999998}]
[null,15,-16,2,47,{"$f":"ROUND($F859-(($F859-$F864)/5*A$257),3)","v":0.61299999999999999}]
[null,15,-16,2,48,{"$f":"ROUND($F859-(($F859-$F864)/5*A$258),3)","v":0.61899999999999999}]
[null,15,-16,2,49,{"$f":"ROUND($F859-(($F859-$F864)/5*A$259),3)","v":0.626}]
[null,15,-16,2,50,{"$f":"'VDI 4650'!H35","v":0.63200000000000001}]
[null,15,-16,2,51,{"$f":"ROUND($F864-(($F864-$F869)/5*A$256),3)","v":0.63900000000000001}]
[null,15,-16,2,52,{"$f":"ROUND($F864-(($F864-$F869)/5*A$257),3)","v":0.64600000000000002}]
[null,15,-16,2,53,{"$f":"ROUND($F864-(($F864-$F869)/5*A$258),3)","v":0.65400000000000003}]
[null,15,-16,2,54,{"$f":"ROUND($F864-(($F864-$F869)/5*A$259),3)","v":0.66100000000000003}]
[null,15,-16,2,55,{"$f":"'VDI 4650'!I35","v":0.66800000000000004}]
[null,15,-16,2,56,{"$f":"ROUND($F869-(($F869-$F874)/5*A$256),3)","v":0.67500000000000004}]
[null,15,-16,2,57,{"$f":"ROUND($F869-(($F869-$F874)/5*A$257),3)","v":0.68200000000000005}]
[null,15,-16,2,58,{"$f":"ROUND($F869-(($F869-$F874)/5*A$258),3)","v":0.68899999999999995}]
[null,15,-16,2,59,{"$f":"ROUND($F869-(($F869-$F874)/5*A$259),3)","v":0.69599999999999995}]
[null,15,-16,2,60,{"$f":"'VDI 4650'!J35","v":0.70299999999999996}]
[null,15,-16,7,30,{"$f":"'VDI 4650'!D36","v":0.219}]
[null,15,-16,7,31,{"$f":"ROUND($F875-(($F875-$F880)/5*A$256),3)","v":0.22}]
[null,15,-16,7,32,{"$f":"ROUND($F875-(($F875-$F880)/5*A$257),3)","v":0.222}]
[null,15,-16,7,33,{"$f":"ROUND($F875-(($F875-$F880)/5*A$258),3)","v":0.223}]
[null,15,-16,7,34,{"$f":"ROUND($F875-(($F875-$F880)/5*A$259),3)","v":0.22500000000000001}]
[null,15,-16,7,35,{"$f":"'VDI 4650'!E36","v":0.22600000000000001}]
[null,15,-16,7,36,{"$f":"ROUND($F880-(($F880-$F885)/5*A$256),3)","v":0.22700000000000001}]
[null,15,-16,7,37,{"$f":"ROUND($F880-(($F880-$F885)/5*A$257),3)","v":0.22900000000000001}]
[null,15,-16,7,38,{"$f":"ROUND($F880-(($F880-$F885)/5*A$258),3)","v":0.23}]
[null,15,-16,7,39,{"$f":"ROUND($F880-(($F880-$F885)/5*A$259),3)","v":0.23200000000000001}]
[null,15,-16,7,40,{"$f":"'VDI 4650'!F36","v":0.23300000000000001}]
[null,15,-16,7,41,{"$f":"ROUND($F885-(($F885-$F890)/5*A$256),3)","v":0.23499999999999999}]
[null,15,-16,7,42,{"$f":"ROUND($F885-(($F885-$F890)/5*A$257),3)","v":0.23599999999999999}]
[null,15,-16,7,43,{"$f":"ROUND($F885-(($F885-$F890)/5*A$258),3)","v":0.23799999999999999}]
[null,15,-16,7,44,{"$f":"ROUND($F885-(($F885-$F890)/5*A$259),3)","v":0.23899999999999999}]
[null,15,-16,7,45,{"$f":"'VDI 4650'!G36","v":0.24099999999999999}]
[null,15,-16,7,46,{"$f":"ROUND($F890-(($F890-$F895)/5*A$256),3)","v":0.24299999999999999}]
[null,15,-16,7,47,{"$f":"ROUND($F890-(($F890-$F895)/5*A$257),3)","v":0.24399999999999999}]
[null,15,-16,7,48,{"$f":"ROUND($F890-(($F890-$F895)/5*A$258),3)","v":0.246}]
[null,15,-16,7,49,{"$f":"ROUND($F890-(($F890-$F895)/5*A$259),3)","v":0.247}]
[null,15,-16,7,50,{"$f":"'VDI 4650'!H36","v":0.249}]
[null,15,-16,7,51,{"$f":"ROUND($F895-(($F895-$F900)/5*A$256),3)","v":0.251}]
[null,15,-16,7,52,{"$f":"ROUND($F895-(($F895-$F900)/5*A$257),3)","v":0.253}]
[null,15,-16,7,53,{"$f":"ROUND($F895-(($F895-$F900)/5*A$258),3)","v":0.254}]
[null,15,-16,7,54,{"$f":"ROUND($F895-(($F895-$F900)/5*A$259),3)","v":0.25600000000000001}]
[null,15,-16,7,55,{"$f":"'VDI 4650'!I36","v":0.25800000000000001}]
[null,15,-16,7,56,{"$f":"ROUND($F900-(($F900-$F905)/5*A$256),3)","v":0.26}]
[null,15,-16,7,57,{"$f":"ROUND($F900-(($F900-$F905)/5*A$257),3)","v":0.26200000000000001}]
[null,15,-16,7,58,{"$f":"ROUND($F900-(($F900-$F905)/5*A$258),3)","v":0.26300000000000001}]
[null,15,-16,7,59,{"$f":"ROUND($F900-(($F900-$F905)/5*A$259),3)","v":0.26500000000000001}]
[null,15,-16,7,60,{"$f":"'VDI 4650'!J36","v":0.26700000000000002}]
[null,12,-8,-7,30,{"$f":"'VDI 4650'!D44","v":0.01}]
[null,12,-8,-7,31,{"$f":"ROUND($F906-(($F906-$F911)/5*A$256),3)","v":0.01}]
[null,12,-8,-7,32,{"$f":"ROUND($F906-(($F906-$F911)/5*A$257),3)","v":0.01}]
[null,12,-8,-7,33,{"$f":"ROUND($F906-(($F906-$F911)/5*A$258),3)","v":1.0999999999999999E-2}]
[null,12,-8,-7,34,{"$f":"ROUND($F906-(($F906-$F911)/5*A$259),3)","v":1.0999999999999999E-2}]
[null,12,-8,-7,35,{"$f":"'VDI 4650'!E44","v":1.0999999999999999E-2}]
[null,12,-8,-7,36,{"$f":"ROUND($F911-(($F911-$F916)/5*A$256),3)","v":1.0999999999999999E-2}]
[null,12,-8,-7,37,{"$f":"ROUND($F911-(($F911-$F916)/5*A$257),3)","v":1.0999999999999999E-2}]
[null,12,-8,-7,38,{"$f":"ROUND($F911-(($F911-$F916)/5*A$258),3)","v":1.2E-2}]
[null,12,-8,-7,39,{"$f":"ROUND($F911-(($F911-$F916)/5*A$259),3)","v":1.2E-2}]
[null,12,-8,-7,40,{"$f":"'VDI 4650'!F44","v":1.2E-2}]
[null,12,-8,-7,41,{"$f":"ROUND($F916-(($F916-$F921)/5*A$256),3)","v":1.2E-2}]
[null,12,-8,-7,42,{"$f":"ROUND($F916-(($F916-$F921)/5*A$257),3)","v":1.2E-2}]
[null,12,-8,-7,43,{"$f":"ROUND($F916-(($F916-$F921)/5*A$258),3)","v":1.2999999999999999E-2}]
[null,12,-8,-7,44,{"$f":"ROUND($F916-(($F916-$F921)/5*A$259),3)","v":1.2999999999999999E-2}]
[null,12,-8,-7,45,{"$f":"'VDI 4650'!G44","v":1.2999999999999999E-2}]
[null,12,-8,-7,46,{"$f":"ROUND($F921-(($F921-$F926)/5*A$256),3)","v":1.2999999999999999E-2}]
[null,12,-8,-7,47,{"$f":"ROUND($F921-(($F921-$F926)/5*A$257),3)","v":1.2999999999999999E-2}]
[null,12,-8,-7,48,{"$f":"ROUND($F921-(($F921-$F926)/5*A$258),3)","v":1.4E-2}]
[null,12,-8,-7,49,{"$f":"ROUND($F921-(($F921-$F926)/5*A$259),3)","v":1.4E-2}]
[null,12,-8,-7,50,{"$f":"'VDI 4650'!H44","v":1.4E-2}]
[null,12,-8,-7,51,{"$f":"ROUND($F926-(($F926-$F931)/5*A$256),3)","v":1.4E-2}]
[null,12,-8,-7,52,{"$f":"ROUND($F926-(($F926-$F931)/5*A$257),3)","v":1.4E-2}]
[null,12,-8,-7,53,{"$f":"ROUND($F926-(($F926-$F931)/5*A$258),3)","v":1.4999999999999999E-2}]
[null,12,-8,-7,54,{"$f":"ROUND($F926-(($F926-$F931)/5*A$259),3)","v":1.4999999999999999E-2}]
[null,12,-8,-7,55,{"$f":"'VDI 4650'!I44","v":1.4999999999999999E-2}]
[null,12,-8,-7,56,{"$f":"ROUND($F931-(($F931-$F936)/5*A$256),3)","v":1.4999999999999999E-2}]
[null,12,-8,-7,57,{"$f":"ROUND($F931-(($F931-$F936)/5*A$257),3)","v":1.6E-2}]
[null,12,-8,-7,58,{"$f":"ROUND($F931-(($F931-$F936)/5*A$258),3)","v":1.6E-2}]
[null,12,-8,-7,59,{"$f":"ROUND($F931-(($F931-$F936)/5*A$259),3)","v":1.7000000000000001E-2}]
[null,12,-8,-7,60,{"$f":"'VDI 4650'!J44","v":1.7000000000000001E-2}]
[null,12,-8,2,30,{"$f":"'VDI 4650'!D45","v":0.54100000000000004}]
[null,12,-8,2,31,{"$f":"ROUND($F937-(($F937-$F942)/5*A$256),3)","v":0.54700000000000004}]
[null,12,-8,2,32,{"$f":"ROUND($F937-(($F937-$F942)/5*A$257),3)","v":0.55300000000000005}]
[null,12,-8,2,33,{"$f":"ROUND($F937-(($F937-$F942)/5*A$258),3)","v":0.55900000000000005}]
[null,12,-8,2,34,{"$f":"ROUND($F937-(($F937-$F942)/5*A$259),3)","v":0.56499999999999995}]
[null,12,-8,2,35,{"$f":"'VDI 4650'!E45","v":0.57099999999999995}]
[null,12,-8,2,36,{"$f":"ROUND($F942-(($F942-$F947)/5*A$256),3)","v":0.57799999999999996}]
[null,12,-8,2,37,{"$f":"ROUND($F942-(($F942-$F947)/5*A$257),3)","v":0.58499999999999996}]
[null,12,-8,2,38,{"$f":"ROUND($F942-(($F942-$F947)/5*A$258),3)","v":0.59099999999999997}]
[null,12,-8,2,39,{"$f":"ROUND($F942-(($F942-$F947)/5*A$259),3)","v":0.59799999999999998}]
[null,12,-8,2,40,{"$f":"'VDI 4650'!F45","v":0.60499999999999998}]
[null,12,-8,2,41,{"$f":"ROUND($F947-(($F947-$F952)/5*A$256),3)","v":0.61299999999999999}]
[null,12,-8,2,42,{"$f":"ROUND($F947-(($F947-$F952)/5*A$257),3)","v":0.62}]
[null,12,-8,2,43,{"$f":"ROUND($F947-(($F947-$F952)/5*A$258),3)","v":0.628}]
[null,12,-8,2,44,{"$f":"ROUND($F947-(($F947-$F952)/5*A$259),3)","v":0.63500000000000001}]
[null,12,-8,2,45,{"$f":"'VDI 4650'!G45","v":0.64300000000000002}]
[null,12,-8,2,46,{"$f":"ROUND($F952-(($F952-$F957)/5*A$256),3)","v":0.65200000000000002}]
[null,12,-8,2,47,{"$f":"ROUND($F952-(($F952-$F957)/5*A$257),3)","v":0.66100000000000003}]
[null,12,-8,2,48,{"$f":"ROUND($F952-(($F952-$F957)/5*A$258),3)","v":0.66900000000000004}]
[null,12,-8,2,49,{"$f":"ROUND($F952-(($F952-$F957)/5*A$259),3)","v":0.67800000000000005}]
[null,12,-8,2,50,{"$f":"'VDI 4650'!H45","v":0.68700000000000006}]
[null,12,-8,2,51,{"$f":"ROUND($F957-(($F957-$F962)/5*A$256),3)","v":0.69699999999999995}]
[null,12,-8,2,52,{"$f":"ROUND($F957-(($F957-$F962)/5*A$257),3)","v":0.70699999999999996}]
[null,12,-8,2,53,{"$f":"ROUND($F957-(($F957-$F962)/5*A$258),3)","v":0.71599999999999997}]
[null,12,-8,2,54,{"$f":"ROUND($F957-(($F957-$F962)/5*A$259),3)","v":0.72599999999999998}]
[null,12,-8,2,55,{"$f":"'VDI 4650'!I45","v":0.73599999999999999}]
[null,12,-8,2,56,{"$f":"ROUND($F962-(($F962-$F967)/5*A$256),3)","v":0.746}]
[null,12,-8,2,57,{"$f":"ROUND($F962-(($F962-$F967)/5*A$257),3)","v":0.75600000000000001}]
[null,12,-8,2,58,{"$f":"ROUND($F962-(($F962-$F967)/5*A$258),3)","v":0.76600000000000001}]
[null,12,-8,2,59,{"$f":"ROUND($F962-(($F962-$F967)/5*A$259),3)","v":0.77600000000000002}]
[null,12,-8,2,60,{"$f":"'VDI 4650'!J45","v":0.78600000000000003}]
[null,12,-8,7,30,{"$f":"'VDI 4650'!D46","v":0.28000000000000003}]
[null,12,-8,7,31,{"$f":"ROUND($F968-(($F968-$F973)/5*A$256),3)","v":0.28199999999999997}]
[null,12,-8,7,32,{"$f":"ROUND($F968-(($F968-$F973)/5*A$257),3)","v":0.28499999999999998}]
[null,12,-8,7,33,{"$f":"ROUND($F968-(($F968-$F973)/5*A$258),3)","v":0.28699999999999998}]
[null,12,-8,7,34,{"$f":"ROUND($F968-(($F968-$F973)/5*A$259),3)","v":0.28999999999999998}]
[null,12,-8,7,35,{"$f":"'VDI 4650'!E46","v":0.29199999999999998}]
[null,12,-8,7,36,{"$f":"ROUND($F973-(($F973-$F978)/5*A$256),3)","v":0.29499999999999998}]
[null,12,-8,7,37,{"$f":"ROUND($F973-(($F973-$F978)/5*A$257),3)","v":0.29699999999999999}]
[null,12,-8,7,38,{"$f":"ROUND($F973-(($F973-$F978)/5*A$258),3)","v":0.3}]
[null,12,-8,7,39,{"$f":"ROUND($F973-(($F973-$F978)/5*A$259),3)","v":0.30199999999999999}]
[null,12,-8,7,40,{"$f":"'VDI 4650'!F46","v":0.30499999999999999}]
[null,12,-8,7,41,{"$f":"ROUND($F978-(($F978-$F983)/5*A$256),3)","v":0.308}]
[null,12,-8,7,42,{"$f":"ROUND($F978-(($F978-$F983)/5*A$257),3)","v":0.311}]
[null,12,-8,7,43,{"$f":"ROUND($F978-(($F978-$F983)/5*A$258),3)","v":0.314}]
[null,12,-8,7,44,{"$f":"ROUND($F978-(($F978-$F983)/5*A$259),3)","v":0.317}]
[null,12,-8,7,45,{"$f":"'VDI 4650'!G46","v":0.32}]
[null,12,-8,7,46,{"$f":"ROUND($F983-(($F983-$F988)/5*A$256),3)","v":0.32300000000000001}]
[null,12,-8,7,47,{"$f":"ROUND($F983-(($F983-$F988)/5*A$257),3)","v":0.32600000000000001}]
[null,12,-8,7,48,{"$f":"ROUND($F983-(($F983-$F988)/5*A$258),3)","v":0.33}]
[null,12,-8,7,49,{"$f":"ROUND($F983-(($F983-$F988)/5*A$259),3)","v":0.33300000000000002}]
[null,12,-8,7,50,{"$f":"'VDI 4650'!H46","v":0.33600000000000002}]
[null,12,-8,7,51,{"$f":"ROUND($F988-(($F988-$F993)/5*A$256),3)","v":0.34}]
[null,12,-8,7,52,{"$f":"ROUND($F988-(($F988-$F993)/5*A$257),3)","v":0.34300000000000003}]
[null,12,-8,7,53,{"$f":"ROUND($F988-(($F988-$F993)/5*A$258),3)","v":0.34699999999999998}]
[null,12,-8,7,54,{"$f":"ROUND($F988-(($F988-$F993)/5*A$259),3)","v":0.35}]
[null,12,-8,7,55,{"$f":"'VDI 4650'!I46","v":0.35399999999999998}]
[null,12,-8,7,56,{"$f":"ROUND($F993-(($F993-$F998)/5*A$256),3)","v":0.35799999999999998}]
[null,12,-8,7,57,{"$f":"ROUND($F993-(($F993-$F998)/5*A$257),3)","v":0.36099999999999999}]
[null,12,-8,7,58,{"$f":"ROUND($F993-(($F993-$F998)/5*A$258),3)","v":0.36499999999999999}]
[null,12,-8,7,59,{"$f":"ROUND($F993-(($F993-$F998)/5*A$259),3)","v":0.36799999999999999}]
[null,12,-8,7,60,{"$f":"'VDI 4650'!J46","v":0.372}]
[null,12,-9,-7,30,{"$f":"F906","v":0.01},{"$f":"F1092","v":2.5999999999999999E-2}]
[null,12,-9,-7,31,{"$f":"F907","v":0.01},{"$f":"F1093","v":2.5999999999999999E-2}]
[null,12,-9,-7,32,0.01,2.7E-2]
[null,12,-9,-7,33,1.0999999999999999E-2,2.7E-2]
[null,12,-9,-7,34,1.0999999999999999E-2,2.8000000000000001E-2]
[null,12,-9,-7,35,1.0999999999999999E-2,2.8000000000000001E-2]
[null,12,-9,-7,36,1.0999999999999999E-2,2.9000000000000001E-2]
[null,12,-9,-7,37,1.0999999999999999E-2,2.9000000000000001E-2]
[null,12,-9,-7,38,1.2E-2,0.03]
[null,12,-9,-7,39,1.2E-2,0.03]
[null,12,-9,-7,40,1.2E-2,3.1E-2]
[null,12,-9,-7,41,1.2E-2,3.2000000000000001E-2]
[null,12,-9,-7,42,1.2E-2,3.2000000000000001E-2]
[null,12,-9,-7,43,1.2999999999999999E-2,3.3000000000000002E-2]
[null,12,-9,-7,44,1.2999999999999999E-2,3.3000000000000002E-2]
[null,12,-9,-7,45,1.2999999999999999E-2,3.4000000000000002E-2]
[null,12,-9,-7,46,1.2999999999999999E-2,3.5000000000000003E-2]
[null,12,-9,-7,47,1.2999999999999999E-2,3.5000000000000003E-2]
[null,12,-9,-7,48,1.4E-2,3.5999999999999997E-2]
[null,12,-9,-7,49,1.4E-2,3.5999999999999997E-2]
[null,12,-9,-7,50,1.4E-2,3.6999999999999998E-2]
[null,12,-9,-7,51,1.4E-2,3.7999999999999999E-2]
[null,12,-9,-7,52,1.4E-2,3.9E-2]
[null,12,-9,-7,53,1.4999999999999999E-2,3.9E-2]
[null,12,-9,-7,54,1.4999999999999999E-2,0.04]
[null,12,-9,-7,55,1.4999999999999999E-2,4.1000000000000002E-2]
[null,12,-9,-7,56,1.4999999999999999E-2,4.2000000000000003E-2]
[null,12,-9,-7,57,1.6E-2,4.2999999999999997E-2]
[null,12,-9,-7,58,1.6E-2,4.2999999999999997E-2]
[null,12,-9,-7,59,1.7000000000000001E-2,4.3999999999999997E-2]
[null,12,-9,-7,60,1.7000000000000001E-2,4.4999999999999998E-2]
[null,12,-9,2,30,0.54100000000000004,0.52300000000000002]
[null,12,-9,2,31,0.54700000000000004,0.52900000000000003]
[null,12,-9,2,32,0.55300000000000005,0.53400000000000003]
[null,12,-9,2,33,0.55900000000000005,0.54]
[null,12,-9,2,34,0.56499999999999995,0.54500000000000004]
[null,12,-9,2,35,0.57099999999999995,0.55100000000000005]
[null,12,-9,2,36,0.57799999999999996,0.55700000000000005]
[null,12,-9,2,37,0.58499999999999996,0.56299999999999994]
[null,12,-9,2,38,0.59099999999999997,0.56999999999999995]
[null,12,-9,2,39,0.59799999999999998,0.57599999999999996]
[null,12,-9,2,40,0.60499999999999998,0.58199999999999996]
[null,12,-9,2,41,0.61299999999999999,0.58899999999999997]
[null,12,-9,2,42,0.62,0.59599999999999997]
[null,12,-9,2,43,0.628,0.60299999999999998]
[null,12,-9,2,44,0.63500000000000001,0.61]
[null,12,-9,2,45,0.64300000000000002,0.61699999999999999]
[null,12,-9,2,46,0.65200000000000002,0.625]
[null,12,-9,2,47,0.66100000000000003,0.63300000000000001]
[null,12,-9,2,48,0.66900000000000004,0.64100000000000001]
[null,12,-9,2,49,0.67800000000000005,0.64900000000000002]
[null,12,-9,2,50,0.68700000000000006,0.65700000000000003]
[null,12,-9,2,51,0.69699999999999995,0.66600000000000004]
[null,12,-9,2,52,0.70699999999999996,0.67500000000000004]
[null,12,-9,2,53,0.71599999999999997,0.68400000000000005]
[null,12,-9,2,54,0.72599999999999998,0.69299999999999995]
[null,12,-9,2,55,0.73599999999999999,0.70199999999999996]
[null,12,-9,2,56,0.746,0.71099999999999997]
[null,12,-9,2,57,0.75600000000000001,0.72]
[null,12,-9,2,58,0.76600000000000001,0.72899999999999998]
[null,12,-9,2,59,0.77600000000000002,0.73799999999999999]
[null,12,-9,2,60,0.78600000000000003,0.747]
[null,12,-9,7,30,0.28000000000000003,0.32900000000000001]
[null,12,-9,7,31,0.28199999999999997,0.33200000000000002]
[null,12,-9,7,32,0.28499999999999998,0.33400000000000002]
[null,12,-9,7,33,{"$f":"F971","v":0.28699999999999998},{"$f":"F1157","v":0.33700000000000002}]
[null,12,-9,7,34,0.28999999999999998,0.33900000000000002]
[null,12,-9,7,35,0.29199999999999998,0.34200000000000003]
[null,12,-9,7,36,0.29499999999999998,0.34499999999999997]
[null,12,-9,7,37,0.29699999999999999,0.34799999999999998]
[null,12,-9,7,38,0.3,0.35]
[null,12,-9,7,39,0.30199999999999999,0.35299999999999998]
[null,12,-9,7,40,0.30499999999999999,0.35599999999999998]
[null,12,-9,7,41,0.308,0.35899999999999999]
[null,12,-9,7,42,0.311,0.36199999999999999]
[null,12,-9,7,43,0.314,0.36499999999999999]
[null,12,-9,7,44,0.317,0.36799999999999999]
[null,12,-9,7,45,0.32,0.371]
[null,12,-9,7,46,0.32300000000000001,0.374]
[null,12,-9,7,47,0.32600000000000001,0.378]
[null,12,-9,7,48,0.33,0.38100000000000001]
[null,12,-9,7,49,0.33300000000000002,0.38500000000000001]
[null,12,-9,7,50,0.33600000000000002,0.38800000000000001]
[null,12,-9,7,51,0.34,0.39200000000000002]
[null,12,-9,7,52,0.34300000000000003,0.39500000000000002]
[null,12,-9,7,53,0.34699999999999998,0.39900000000000002]
[null,12,-9,7,54,0.35,0.40200000000000002]
[null,12,-9,7,55,0.35399999999999998,0.40600000000000003]
[null,12,-9,7,56,0.35799999999999998,0.41]
[null,12,-9,7,57,0.36099999999999999,0.41399999999999998]
[null,12,-9,7,58,0.36499999999999999,0.41699999999999998]
[null,12,-9,7,59,0.36799999999999999,0.42099999999999999]
[null,12,-9,7,60,0.372,0.42499999999999999]
[null,12,-10,-7,30,{"$f":"'VDI 4650'!D47","v":2.5999999999999999E-2}]
[null,12,-10,-7,31,{"$f":"ROUND($F1092-(($F1092-$F1097)/5*A$256),3)","v":2.5999999999999999E-2}]
[null,12,-10,-7,32,{"$f":"ROUND($F1092-(($F1092-$F1097)/5*A$257),3)","v":2.7E-2}]
[null,12,-10,-7,33,{"$f":"ROUND($F1092-(($F1092-$F1097)/5*A$258),3)","v":2.7E-2}]
[null,12,-10,-7,34,{"$f":"ROUND($F1092-(($F1092-$F1097)/5*A$259),3)","v":2.8000000000000001E-2}]
[null,12,-10,-7,35,{"$f":"'VDI 4650'!E47","v":2.8000000000000001E-2}]
[null,12,-10,-7,36,{"$f":"ROUND($F1097-(($F1097-$F1102)/5*A$256),3)","v":2.9000000000000001E-2}]
[null,12,-10,-7,37,{"$f":"ROUND($F1097-(($F1097-$F1102)/5*A$257),3)","v":2.9000000000000001E-2}]
[null,12,-10,-7,38,{"$f":"ROUND($F1097-(($F1097-$F1102)/5*A$258),3)","v":0.03}]
[null,12,-10,-7,39,{"$f":"ROUND($F1097-(($F1097-$F1102)/5*A$259),3)","v":0.03}]
[null,12,-10,-7,40,{"$f":"'VDI 4650'!F47","v":3.1E-2}]
[null,12,-10,-7,41,{"$f":"ROUND($F1102-(($F1102-$F1107)/5*A$256),3)","v":3.2000000000000001E-2}]
[null,12,-10,-7,42,{"$f":"ROUND($F1102-(($F1102-$F1107)/5*A$257),3)","v":3.2000000000000001E-2}]
[null,12,-10,-7,43,{"$f":"ROUND($F1102-(($F1102-$F1107)/5*A$258),3)","v":3.3000000000000002E-2}]
[null,12,-10,-7,44,{"$f":"ROUND($F1102-(($F1102-$F1107)/5*A$259),3)","v":3.3000000000000002E-2}]
[null,12,-10,-7,45,{"$f":"'VDI 4650'!G47","v":3.4000000000000002E-2}]
[null,12,-10,-7,46,{"$f":"ROUND($F1107-(($F1107-$F1112)/5*A$256),3)","v":3.5000000000000003E-2}]
[null,12,-10,-7,47,{"$f":"ROUND($F1107-(($F1107-$F1112)/5*A$257),3)","v":3.5000000000000003E-2}]
[null,12,-10,-7,48,{"$f":"ROUND($F1107-(($F1107-$F1112)/5*A$258),3)","v":3.5999999999999997E-2}]
[null,12,-10,-7,49,{"$f":"ROUND($F1107-(($F1107-$F1112)/5*A$259),3)","v":3.5999999999999997E-2}]
[null,12,-10,-7,50,{"$f":"'VDI 4650'!H47","v":3.6999999999999998E-2}]
[null,12,-10,-7,51,{"$f":"ROUND($F1112-(($F1112-$F1117)/5*A$256),3)","v":3.7999999999999999E-2}]
[null,12,-10,-7,52,{"$f":"ROUND($F1112-(($F1112-$F1117)/5*A$257),3)","v":3.9E-2}]
[null,12,-10,-7,53,{"$f":"ROUND($F1112-(($F1112-$F1117)/5*A$258),3)","v":3.9E-2}]
[null,12,-10,-7,54,{"$f":"ROUND($F1112-(($F1112-$F1117)/5*A$259),3)","v":0.04}]
[null,12,-10,-7,55,{"$f":"'VDI 4650'!I47","v":4.1000000000000002E-2}]
[null,12,-10,-7,56,{"$f":"ROUND($F1117-(($F1117-$F1122)/5*A$256),3)","v":4.2000000000000003E-2}]
[null,12,-10,-7,57,{"$f":"ROUND($F1117-(($F1117-$F1122)/5*A$257),3)","v":4.2999999999999997E-2}]
[null,12,-10,-7,58,{"$f":"ROUND($F1117-(($F1117-$F1122)/5*A$258),3)","v":4.2999999999999997E-2}]
[null,12,-10,-7,59,{"$f":"ROUND($F1117-(($F1117-$F1122)/5*A$259),3)","v":4.3999999999999997E-2}]
[null,12,-10,-7,60,{"$f":"'VDI 4650'!J47","v":4.4999999999999998E-2}]
[null,12,-10,2,30,{"$f":"'VDI 4650'!D48","v":0.52300000000000002}]
[null,12,-10,2,31,{"$f":"ROUND($F1123-(($F1123-$F1128)/5*A$256),3)","v":0.52900000000000003}]
[null,12,-10,2,32,{"$f":"ROUND($F1123-(($F1123-$F1128)/5*A$257),3)","v":0.53400000000000003}]
[null,12,-10,2,33,{"$f":"ROUND($F1123-(($F1123-$F1128)/5*A$258),3)","v":0.54}]
[null,12,-10,2,34,{"$f":"ROUND($F1123-(($F1123-$F1128)/5*A$259),3)","v":0.54500000000000004}]
[null,12,-10,2,35,{"$f":"'VDI 4650'!E48","v":0.55100000000000005}]
[null,12,-10,2,36,{"$f":"ROUND($F1128-(($F1128-$F1133)/5*A$256),3)","v":0.55700000000000005}]
[null,12,-10,2,37,{"$f":"ROUND($F1128-(($F1128-$F1133)/5*A$257),3)","v":0.56299999999999994}]
[null,12,-10,2,38,{"$f":"ROUND($F1128-(($F1128-$F1133)/5*A$258),3)","v":0.56999999999999995}]
[null,12,-10,2,39,{"$f":"ROUND($F1128-(($F1128-$F1133)/5*A$259),3)","v":0.57599999999999996}]
[null,12,-10,2,40,{"$f":"'VDI 4650'!F48","v":0.58199999999999996}]
[null,12,-10,2,41,{"$f":"ROUND($F1133-(($F1133-$F1138)/5*A$256),3)","v":0.58899999999999997}]
[null,12,-10,2,42,{"$f":"ROUND($F1133-(($F1133-$F1138)/5*A$257),3)","v":0.59599999999999997}]
[null,12,-10,2,43,{"$f":"ROUND($F1133-(($F1133-$F1138)/5*A$258),3)","v":0.60299999999999998}]
[null,12,-10,2,44,{"$f":"ROUND($F1133-(($F1133-$F1138)/5*A$259),3)","v":0.61}]
[null,12,-10,2,45,{"$f":"'VDI 4650'!G48","v":0.61699999999999999}]
[null,12,-10,2,46,{"$f":"ROUND($F1138-(($F1138-$F1143)/5*A$256),3)","v":0.625}]
[null,12,-10,2,47,{"$f":"ROUND($F1138-(($F1138-$F1143)/5*A$257),3)","v":0.63300000000000001}]
[null,12,-10,2,48,{"$f":"ROUND($F1138-(($F1138-$F1143)/5*A$258),3)","v":0.64100000000000001}]
[null,12,-10,2,49,{"$f":"ROUND($F1138-(($F1138-$F1143)/5*A$259),3)","v":0.64900000000000002}]
[null,12,-10,2,50,{"$f":"'VDI 4650'!H48","v":0.65700000000000003}]
[null,12,-10,2,51,{"$f":"ROUND($F1143-(($F1143-$F1148)/5*A$256),3)","v":0.66600000000000004}]
[null,12,-10,2,52,{"$f":"ROUND($F1143-(($F1143-$F1148)/5*A$257),3)","v":0.67500000000000004}]
[null,12,-10,2,53,{"$f":"ROUND($F1143-(($F1143-$F1148)/5*A$258),3)","v":0.68400000000000005}]
[null,12,-10,2,54,{"$f":"ROUND($F1143-(($F1143-$F1148)/5*A$259),3)","v":0.69299999999999995}]
[null,12,-10,2,55,{"$f":"'VDI 4650'!I48","v":0.70199999999999996}]
[null,12,-10,2,56,{"$f":"ROUND($F1148-(($F1148-$F1153)/5*A$256),3)","v":0.71099999999999997}]
[null,12,-10,2,57,{"$f":"ROUND($F1148-(($F1148-$F1153)/5*A$257),3)","v":0.72}]
[null,12,-10,2,58,{"$f":"ROUND($F1148-(($F1148-$F1153)/5*A$258),3)","v":0.72899999999999998}]
[null,12,-10,2,59,{"$f":"ROUND($F1148-(($F1148-$F1153)/5*A$259),3)","v":0.73799999999999999}]
[null,12,-10,2,60,{"$f":"'VDI 4650'!J48","v":0.747}]
[null,12,-10,7,30,{"$f":"'VDI 4650'!D49","v":0.32900000000000001}]
[null,12,-10,7,31,{"$f":"ROUND($F1154-(($F1154-$F1159)/5*A$256),3)","v":0.33200000000000002}]
[null,12,-10,7,32,{"$f":"ROUND($F1154-(($F1154-$F1159)/5*A$257),3)","v":0.33400000000000002}]
[null,12,-10,7,33,{"$f":"ROUND($F1154-(($F1154-$F1159)/5*A$258),3)","v":0.33700000000000002}]
[null,12,-10,7,34,{"$f":"ROUND($F1154-(($F1154-$F1159)/5*A$259),3)","v":0.33900000000000002}]
[null,12,-10,7,35,{"$f":"'VDI 4650'!E49","v":0.34200000000000003}]
[null,12,-10,7,36,{"$f":"ROUND($F1159-(($F1159-$F1164)/5*A$256),3)","v":0.34499999999999997}]
[null,12,-10,7,37,{"$f":"ROUND($F1159-(($F1159-$F1164)/5*A$257),3)","v":0.34799999999999998}]
[null,12,-10,7,38,{"$f":"ROUND($F1159-(($F1159-$F1164)/5*A$258),3)","v":0.35}]
[null,12,-10,7,39,{"$f":"ROUND($F1159-(($F1159-$F1164)/5*A$259),3)","v":0.35299999999999998}]
[null,12,-10,7,40,{"$f":"'VDI 4650'!F49","v":0.35599999999999998}]
[null,12,-10,7,41,{"$f":"ROUND($F1164-(($F1164-$F1169)/5*A$256),3)","v":0.35899999999999999}]
[null,12,-10,7,42,{"$f":"ROUND($F1164-(($F1164-$F1169)/5*A$257),3)","v":0.36199999999999999}]
[null,12,-10,7,43,{"$f":"ROUND($F1164-(($F1164-$F1169)/5*A$258),3)","v":0.36499999999999999}]
[null,12,-10,7,44,{"$f":"ROUND($F1164-(($F1164-$F1169)/5*A$259),3)","v":0.36799999999999999}]
[null,12,-10,7,45,{"$f":"'VDI 4650'!G49","v":0.371}]
[null,12,-10,7,46,{"$f":"ROUND($F1169-(($F1169-$F1174)/5*A$256),3)","v":0.374}]
[null,12,-10,7,47,{"$f":"ROUND($F1169-(($F1169-$F1174)/5*A$257),3)","v":0.378}]
[null,12,-10,7,48,{"$f":"ROUND($F1169-(($F1169-$F1174)/5*A$258),3)","v":0.38100000000000001}]
[null,12,-10,7,49,{"$f":"ROUND($F1169-(($F1169-$F1174)/5*A$259),3)","v":0.38500000000000001}]
[null,12,-10,7,50,{"$f":"'VDI 4650'!H49","v":0.38800000000000001}]
[null,12,-10,7,51,{"$f":"ROUND($F1174-(($F1174-$F1179)/5*A$256),3)","v":0.39200000000000002}]
[null,12,-10,7,52,{"$f":"ROUND($F1174-(($F1174-$F1179)/5*A$257),3)","v":0.39500000000000002}]
[null,12,-10,7,53,{"$f":"ROUND($F1174-(($F1174-$F1179)/5*A$258),3)","v":0.39900000000000002}]
[null,12,-10,7,54,{"$f":"ROUND($F1174-(($F1174-$F1179)/5*A$259),3)","v":0.40200000000000002}]
[null,12,-10,7,55,{"$f":"'VDI 4650'!I49","v":0.40600000000000003}]
[null,12,-10,7,56,{"$f":"ROUND($F1179-(($F1179-$F1184)/5*A$256),3)","v":0.41}]
[null,12,-10,7,57,{"$f":"ROUND($F1179-(($F1179-$F1184)/5*A$257),3)","v":0.41399999999999998}]
[null,12,-10,7,58,{"$f":"ROUND($F1179-(($F1179-$F1184)/5*A$258),3)","v":0.41699999999999998}]
[null,12,-10,7,59,{"$f":"ROUND($F1179-(($F1179-$F1184)/5*A$259),3)","v":0.42099999999999999}]
[null,12,-10,7,60,{"$f":"'VDI 4650'!J49","v":0.42499999999999999}]
[null,12,-11,-7,30,{"$f":"F1092","v":2.5999999999999999E-2},{"$f":"F1278","v":4.4999999999999998E-2}]
[null,12,-11,-7,31,{"$f":"F1093","v":2.5999999999999999E-2},{"$f":"F1279","v":4.5999999999999999E-2}]
[null,12,-11,-7,32,2.7E-2,4.5999999999999999E-2]
[null,12,-11,-7,33,2.7E-2,4.7E-2]
[null,12,-11,-7,34,2.8000000000000001E-2,4.7E-2]
[null,12,-11,-7,35,2.8000000000000001E-2,4.8000000000000001E-2]
[null,12,-11,-7,36,2.9000000000000001E-2,4.9000000000000002E-2]
[null,12,-11,-7,37,2.9000000000000001E-2,0.05]
[null,12,-11,-7,38,0.03,0.05]
[null,12,-11,-7,39,0.03,5.0999999999999997E-2]
[null,12,-11,-7,40,3.1E-2,5.1999999999999998E-2]
[null,12,-11,-7,41,3.2000000000000001E-2,5.2999999999999999E-2]
[null,12,-11,-7,42,3.2000000000000001E-2,5.3999999999999999E-2]
[null,12,-11,-7,43,3.3000000000000002E-2,5.5E-2]
[null,12,-11,-7,44,3.3000000000000002E-2,5.6000000000000001E-2]
[null,12,-11,-7,45,3.4000000000000002E-2,5.7000000000000002E-2]
[null,12,-11,-7,46,3.5000000000000003E-2,5.8000000000000003E-2]
[null,12,-11,-7,47,3.5000000000000003E-2,5.8999999999999997E-2]
[null,12,-11,-7,48,3.5999999999999997E-2,0.06]
[null,12,-11,-7,49,3.5999999999999997E-2,6.0999999999999999E-2]
[null,12,-11,-7,50,3.6999999999999998E-2,6.2E-2]
[null,12,-11,-7,51,3.7999999999999999E-2,6.3E-2]
[null,12,-11,-7,52,3.9E-2,6.4000000000000001E-2]
[null,12,-11,-7,53,3.9E-2,6.6000000000000003E-2]
[null,12,-11,-7,54,0.04,6.7000000000000004E-2]
[null,12,-11,-7,55,4.1000000000000002E-2,6.8000000000000005E-2]
[null,12,-11,-7,56,4.2000000000000003E-2,6.9000000000000006E-2]
[null,12,-11,-7,57,4.2999999999999997E-2,7.0999999999999994E-2]
[null,12,-11,-7,58,4.2999999999999997E-2,7.1999999999999995E-2]
[null,12,-11,-7,59,4.3999999999999997E-2,7.3999999999999996E-2]
[null,12,-11,-7,60,4.4999999999999998E-2,7.4999999999999997E-2]
[null,12,-11,2,30,0.52300000000000002,0.57899999999999996]
[null,12,-11,2,31,0.52900000000000003,0.58499999999999996]
[null,12,-11,2,32,0.53400000000000003,0.59099999999999997]
[null,12,-11,2,33,0.54,0.59599999999999997]
[null,12,-11,2,34,0.54500000000000004,0.60199999999999998]
[null,12,-11,2,35,0.55100000000000005,0.60799999999999998]
[null,12,-11,2,36,0.55700000000000005,0.61499999999999999]
[null,12,-11,2,37,0.56299999999999994,0.621]
[null,12,-11,2,38,0.56999999999999995,0.628]
[null,12,-11,2,39,0.57599999999999996,0.63400000000000001]
[null,12,-11,2,40,0.58199999999999996,0.64100000000000001]
[null,12,-11,2,41,0.58899999999999997,0.64800000000000002]
[null,12,-11,2,42,0.59599999999999997,0.65500000000000003]
[null,12,-11,2,43,0.60299999999999998,0.66300000000000003]
[null,12,-11,2,44,0.61,0.67]
[null,12,-11,2,45,0.61699999999999999,0.67700000000000005]
[null,12,-11,2,46,0.625,0.68500000000000005]
[null,12,-11,2,47,0.63300000000000001,0.69299999999999995]
[null,12,-11,2,48,0.64100000000000001,0.70199999999999996]
[null,12,-11,2,49,0.64900000000000002,0.71]
[null,12,-11,2,50,0.65700000000000003,0.71799999999999997]
[null,12,-11,2,51,0.66600000000000004,0.72699999999999998]
[null,12,-11,2,52,0.67500000000000004,0.73599999999999999]
[null,12,-11,2,53,0.68400000000000005,0.746]
[null,12,-11,2,54,0.69299999999999995,0.755]
[null,12,-11,2,55,0.70199999999999996,0.76400000000000001]
[null,12,-11,2,56,0.71099999999999997,0.77300000000000002]
[null,12,-11,2,57,0.72,0.78200000000000003]
[null,12,-11,2,58,0.72899999999999998,0.79200000000000004]
[null,12,-11,2,59,0.73799999999999999,0.80100000000000005]
[null,12,-11,2,60,0.747,0.81]
[null,12,-11,7,30,0.32900000000000001,0.25900000000000001]
[null,12,-11,7,31,0.33200000000000002,0.26100000000000001]
[null,12,-11,7,32,0.33400000000000002,0.26300000000000001]
[null,12,-11,7,33,{"$f":"F1157","v":0.33700000000000002},{"$f":"F1343","v":0.26500000000000001}]
[null,12,-11,7,34,0.33900000000000002,0.26700000000000002]
[null,12,-11,7,35,0.34200000000000003,0.26900000000000002]
[null,12,-11,7,36,0.34499999999999997,0.27100000000000002]
[null,12,-11,7,37,0.34799999999999998,0.27300000000000002]
[null,12,-11,7,38,0.35,0.27600000000000002]
[null,12,-11,7,39,0.35299999999999998,0.27800000000000002]
[null,12,-11,7,40,0.35599999999999998,0.28000000000000003]
[null,12,-11,7,41,0.35899999999999999,0.28199999999999997]
[null,12,-11,7,42,0.36199999999999999,0.28399999999999997]
[null,12,-11,7,43,0.36499999999999999,0.28699999999999998]
[null,12,-11,7,44,0.36799999999999999,0.28899999999999998]
[null,12,-11,7,45,0.371,0.29099999999999998]
[null,12,-11,7,46,0.374,0.29299999999999998]
[null,12,-11,7,47,0.378,0.29599999999999999]
[null,12,-11,7,48,0.38100000000000001,0.29799999999999999]
[null,12,-11,7,49,0.38500000000000001,0.30099999999999999]
[null,12,-11,7,50,0.38800000000000001,0.30299999999999999]
[null,12,-11,7,51,0.39200000000000002,0.30599999999999999]
[null,12,-11,7,52,0.39500000000000002,0.309]
[null,12,-11,7,53,0.39900000000000002,0.311]
[null,12,-11,7,54,0.40200000000000002,0.314]
[null,12,-11,7,55,0.40600000000000003,0.317]
[null,12,-11,7,56,0.41,0.32]
[null,12,-11,7,57,0.41399999999999998,0.32200000000000001]
[null,12,-11,7,58,0.41699999999999998,0.32500000000000001]
[null,12,-11,7,59,0.42099999999999999,0.32700000000000001]
[null,12,-11,7,60,0.42499999999999999,0.33]
[null,12,-12,-7,30,{"$f":"'VDI 4650'!D50","v":4.4999999999999998E-2}]
[null,12,-12,-7,31,{"$f":"ROUND($F1278-(($F1278-$F1283)/5*A$256),3)","v":4.5999999999999999E-2}]
[null,12,-12,-7,32,{"$f":"ROUND($F1278-(($F1278-$F1283)/5*A$257),3)","v":4.5999999999999999E-2}]
[null,12,-12,-7,33,{"$f":"ROUND($F1278-(($F1278-$F1283)/5*A$258),3)","v":4.7E-2}]
[null,12,-12,-7,34,{"$f":"ROUND($F1278-(($F1278-$F1283)/5*A$259),3)","v":4.7E-2}]
[null,12,-12,-7,35,{"$f":"'VDI 4650'!E50","v":4.8000000000000001E-2}]
[null,12,-12,-7,36,{"$f":"ROUND($F1283-(($F1283-$F1288)/5*A$256),3)","v":4.9000000000000002E-2}]
[null,12,-12,-7,37,{"$f":"ROUND($F1283-(($F1283-$F1288)/5*A$257),3)","v":0.05}]
[null,12,-12,-7,38,{"$f":"ROUND($F1283-(($F1283-$F1288)/5*A$258),3)","v":0.05}]
[null,12,-12,-7,39,{"$f":"ROUND($F1283-(($F1283-$F1288)/5*A$259),3)","v":5.0999999999999997E-2}]
[null,12,-12,-7,40,{"$f":"'VDI 4650'!F50","v":5.1999999999999998E-2}]
[null,12,-12,-7,41,{"$f":"ROUND($F1288-(($F1288-$F1293)/5*A$256),3)","v":5.2999999999999999E-2}]
[null,12,-12,-7,42,{"$f":"ROUND($F1288-(($F1288-$F1293)/5*A$257),3)","v":5.3999999999999999E-2}]
[null,12,-12,-7,43,{"$f":"ROUND($F1288-(($F1288-$F1293)/5*A$258),3)","v":5.5E-2}]
[null,12,-12,-7,44,{"$f":"ROUND($F1288-(($F1288-$F1293)/5*A$259),3)","v":5.6000000000000001E-2}]
[null,12,-12,-7,45,{"$f":"'VDI 4650'!G50","v":5.7000000000000002E-2}]
[null,12,-12,-7,46,{"$f":"ROUND($F1293-(($F1293-$F1298)/5*A$256),3)","v":5.8000000000000003E-2}]
[null,12,-12,-7,47,{"$f":"ROUND($F1293-(($F1293-$F1298)/5*A$257),3)","v":5.8999999999999997E-2}]
[null,12,-12,-7,48,{"$f":"ROUND($F1293-(($F1293-$F1298)/5*A$258),3)","v":0.06}]
[null,12,-12,-7,49,{"$f":"ROUND($F1293-(($F1293-$F1298)/5*A$259),3)","v":6.0999999999999999E-2}]
[null,12,-12,-7,50,{"$f":"'VDI 4650'!H50","v":6.2E-2}]
[null,12,-12,-7,51,{"$f":"ROUND($F1298-(($F1298-$F1303)/5*A$256),3)","v":6.3E-2}]
[null,12,-12,-7,52,{"$f":"ROUND($F1298-(($F1298-$F1303)/5*A$257),3)","v":6.4000000000000001E-2}]
[null,12,-12,-7,53,{"$f":"ROUND($F1298-(($F1298-$F1303)/5*A$258),3)","v":6.6000000000000003E-2}]
[null,12,-12,-7,54,{"$f":"ROUND($F1298-(($F1298-$F1303)/5*A$259),3)","v":6.7000000000000004E-2}]
[null,12,-12,-7,55,{"$f":"'VDI 4650'!I50","v":6.8000000000000005E-2}]
[null,12,-12,-7,56,{"$f":"ROUND($F1303-(($F1303-$F1308)/5*A$256),3)","v":6.9000000000000006E-2}]
[null,12,-12,-7,57,{"$f":"ROUND($F1303-(($F1303-$F1308)/5*A$257),3)","v":7.0999999999999994E-2}]
[null,12,-12,-7,58,{"$f":"ROUND($F1303-(($F1303-$F1308)/5*A$258),3)","v":7.1999999999999995E-2}]
[null,12,-12,-7,59,{"$f":"ROUND($F1303-(($F1303-$F1308)/5*A$259),3)","v":7.3999999999999996E-2}]
[null,12,-12,-7,60,{"$f":"'VDI 4650'!J50","v":7.4999999999999997E-2}]
[null,12,-12,2,30,{"$f":"'VDI 4650'!D51","v":0.57899999999999996}]
[null,12,-12,2,31,{"$f":"ROUND($F1309-(($F1309-$F1314)/5*A$256),3)","v":0.58499999999999996}]
[null,12,-12,2,32,{"$f":"ROUND($F1309-(($F1309-$F1314)/5*A$257),3)","v":0.59099999999999997}]
[null,12,-12,2,33,{"$f":"ROUND($F1309-(($F1309-$F1314)/5*A$258),3)","v":0.59599999999999997}]
[null,12,-12,2,34,{"$f":"ROUND($F1309-(($F1309-$F1314)/5*A$259),3)","v":0.60199999999999998}]
[null,12,-12,2,35,{"$f":"'VDI 4650'!E51","v":0.60799999999999998}]
[null,12,-12,2,36,{"$f":"ROUND($F1314-(($F1314-$F1319)/5*A$256),3)","v":0.61499999999999999}]
[null,12,-12,2,37,{"$f":"ROUND($F1314-(($F1314-$F1319)/5*A$257),3)","v":0.621}]
[null,12,-12,2,38,{"$f":"ROUND($F1314-(($F1314-$F1319)/5*A$258),3)","v":0.628}]
[null,12,-12,2,39,{"$f":"ROUND($F1314-(($F1314-$F1319)/5*A$259),3)","v":0.63400000000000001}]
[null,12,-12,2,40,{"$f":"'VDI 4650'!F51","v":0.64100000000000001}]
[null,12,-12,2,41,{"$f":"ROUND($F1319-(($F1319-$F1324)/5*A$256),3)","v":0.64800000000000002}]
[null,12,-12,2,42,{"$f":"ROUND($F1319-(($F1319-$F1324)/5*A$257),3)","v":0.65500000000000003}]
[null,12,-12,2,43,{"$f":"ROUND($F1319-(($F1319-$F1324)/5*A$258),3)","v":0.66300000000000003}]
[null,12,-12,2,44,{"$f":"ROUND($F1319-(($F1319-$F1324)/5*A$259),3)","v":0.67}]
[null,12,-12,2,45,{"$f":"'VDI 4650'!G51","v":0.67700000000000005}]
[null,12,-12,2,46,{"$f":"ROUND($F1324-(($F1324-$F1329)/5*A$256),3)","v":0.68500000000000005}]
[null,12,-12,2,47,{"$f":"ROUND($F1324-(($F1324-$F1329)/5*A$257),3)","v":0.69299999999999995}]
[null,12,-12,2,48,{"$f":"ROUND($F1324-(($F1324-$F1329)/5*A$258),3)","v":0.70199999999999996}]
[null,12,-12,2,49,{"$f":"ROUND($F1324-(($F1324-$F1329)/5*A$259),3)","v":0.71}]
[null,12,-12,2,50,{"$f":"'VDI 4650'!H51","v":0.71799999999999997}]
[null,12,-12,2,51,{"$f":"ROUND($F1329-(($F1329-$F1334)/5*A$256),3)","v":0.72699999999999998}]
[null,12,-12,2,52,{"$f":"ROUND($F1329-(($F1329-$F1334)/5*A$257),3)","v":0.73599999999999999}]
[null,12,-12,2,53,{"$f":"ROUND($F1329-(($F1329-$F1334)/5*A$258),3)","v":0.746}]
[null,12,-12,2,54,{"$f":"ROUND($F1329-(($F1329-$F1334)/5*A$259),3)","v":0.755}]
[null,12,-12,2,55,{"$f":"'VDI 4650'!I51","v":0.76400000000000001}]
[null,12,-12,2,56,{"$f":"ROUND($F1334-(($F1334-$F1339)/5*A$256),3)","v":0.77300000000000002}]
[null,12,-12,2,57,{"$f":"ROUND($F1334-(($F1334-$F1339)/5*A$257),3)","v":0.78200000000000003}]
[null,12,-12,2,58,{"$f":"ROUND($F1334-(($F1334-$F1339)/5*A$258),3)","v":0.79200000000000004}]
[null,12,-12,2,59,{"$f":"ROUND($F1334-(($F1334-$F1339)/5*A$259),3)","v":0.80100000000000005}]
[null,12,-12,2,60,{"$f":"'VDI 4650'!J51","v":0.81}]
[null,12,-12,7,30,{"$f":"'VDI 4650'!D52","v":0.25900000000000001}]
[null,12,-12,7,31,{"$f":"ROUND($F1340-(($F1340-$F1345)/5*A$256),3)","v":0.26100000000000001}]
[null,12,-12,7,32,{"$f":"ROUND($F1340-(($F1340-$F1345)/5*A$257),3)","v":0.26300000000000001}]
[null,12,-12,7,33,{"$f":"ROUND($F1340-(($F1340-$F1345)/5*A$258),3)","v":0.26500000000000001}]
[null,12,-12,7,34,{"$f":"ROUND($F1340-(($F1340-$F1345)/5*A$259),3)","v":0.26700000000000002}]
[null,12,-12,7,35,{"$f":"'VDI 4650'!E52","v":0.26900000000000002}]
[null,12,-12,7,36,{"$f":"ROUND($F1345-(($F1345-$F1350)/5*A$256),3)","v":0.27100000000000002}]
[null,12,-12,7,37,{"$f":"ROUND($F1345-(($F1345-$F1350)/5*A$257),3)","v":0.27300000000000002}]
[null,12,-12,7,38,{"$f":"ROUND($F1345-(($F1345-$F1350)/5*A$258),3)","v":0.27600000000000002}]
[null,12,-12,7,39,{"$f":"ROUND($F1345-(($F1345-$F1350)/5*A$259),3)","v":0.27800000000000002}]
[null,12,-12,7,40,{"$f":"'VDI 4650'!F52","v":0.28000000000000003}]
[null,12,-12,7,41,{"$f":"ROUND($F1350-(($F1350-$F1355)/5*A$256),3)","v":0.28199999999999997}]
[null,12,-12,7,42,{"$f":"ROUND($F1350-(($F1350-$F1355)/5*A$257),3)","v":0.28399999999999997}]
[null,12,-12,7,43,{"$f":"ROUND($F1350-(($F1350-$F1355)/5*A$258),3)","v":0.28699999999999998}]
[null,12,-12,7,44,{"$f":"ROUND($F1350-(($F1350-$F1355)/5*A$259),3)","v":0.28899999999999998}]
[null,12,-12,7,45,{"$f":"'VDI 4650'!G52","v":0.29099999999999998}]
[null,12,-12,7,46,{"$f":"ROUND($F1355-(($F1355-$F1360)/5*A$256),3)","v":0.29299999999999998}]
[null,12,-12,7,47,{"$f":"ROUND($F1355-(($F1355-$F1360)/5*A$257),3)","v":0.29599999999999999}]
[null,12,-12,7,48,{"$f":"ROUND($F1355-(($F1355-$F1360)/5*A$258),3)","v":0.29799999999999999}]
[null,12,-12,7,49,{"$f":"ROUND($F1355-(($F1355-$F1360)/5*A$259),3)","v":0.30099999999999999}]
[null,12,-12,7,50,{"$f":"'VDI 4650'!H52","v":0.30299999999999999}]
[null,12,-12,7,51,{"$f":"ROUND($F1360-(($F1360-$F1365)/5*A$256),3)","v":0.30599999999999999}]
[null,12,-12,7,52,{"$f":"ROUND($F1360-(($F1360-$F1365)/5*A$257),3)","v":0.309}]
[null,12,-12,7,53,{"$f":"ROUND($F1360-(($F1360-$F1365)/5*A$258),3)","v":0.311}]
[null,12,-12,7,54,{"$f":"ROUND($F1360-(($F1360-$F1365)/5*A$259),3)","v":0.314}]
[null,12,-12,7,55,{"$f":"'VDI 4650'!I52","v":0.317}]
[null,12,-12,7,56,{"$f":"ROUND($F1365-(($F1365-$F1370)/5*A$256),3)","v":0.32}]
[null,12,-12,7,57,{"$f":"ROUND($F1365-(($F1365-$F1370)/5*A$257),3)","v":0.32200000000000001}]
[null,12,-12,7,58,{"$f":"ROUND($F1365-(($F1365-$F1370)/5*A$258),3)","v":0.32500000000000001}]
[null,12,-12,7,59,{"$f":"ROUND($F1365-(($F1365-$F1370)/5*A$259),3)","v":0.32700000000000001}]
[null,12,-12,7,60,{"$f":"'VDI 4650'!J52","v":0.33}]
[null,12,-13,-7,30,{"$f":"F1278","v":4.4999999999999998E-2},{"$f":"F1464","v":0.107}]
[null,12,-13,-7,31,{"$f":"F1279","v":4.5999999999999999E-2},{"$f":"F1465","v":0.109}]
[null,12,-13,-7,32,4.5999999999999999E-2,0.11]
[null,12,-13,-7,33,4.7E-2,0.112]
[null,12,-13,-7,34,4.7E-2,0.113]
[null,12,-13,-7,35,4.8000000000000001E-2,0.115]
[null,12,-13,-7,36,4.9000000000000002E-2,0.11700000000000001]
[null,12,-13,-7,37,0.05,0.11799999999999999]
[null,12,-13,-7,38,0.05,0.12]
[null,12,-13,-7,39,5.0999999999999997E-2,0.121]
[null,12,-13,-7,40,5.1999999999999998E-2,0.123]
[null,12,-13,-7,41,5.2999999999999999E-2,0.125]
[null,12,-13,-7,42,5.3999999999999999E-2,0.127]
[null,12,-13,-7,43,5.5E-2,0.129]
[null,12,-13,-7,44,5.6000000000000001E-2,0.13100000000000001]
[null,12,-13,-7,45,5.7000000000000002E-2,0.13300000000000001]
[null,12,-13,-7,46,5.8000000000000003E-2,0.13500000000000001]
[null,12,-13,-7,47,5.8999999999999997E-2,0.13700000000000001]
[null,12,-13,-7,48,0.06,0.14000000000000001]
[null,12,-13,-7,49,6.0999999999999999E-2,0.14199999999999999]
[null,12,-13,-7,50,6.2E-2,0.14399999999999999]
[null,12,-13,-7,51,6.3E-2,0.14699999999999999]
[null,12,-13,-7,52,6.4000000000000001E-2,0.15]
[null,12,-13,-7,53,6.6000000000000003E-2,0.152]
[null,12,-13,-7,54,6.7000000000000004E-2,0.155]
[null,12,-13,-7,55,6.8000000000000005E-2,0.158]
[null,12,-13,-7,56,6.9000000000000006E-2,0.161]
[null,12,-13,-7,57,7.0999999999999994E-2,0.16400000000000001]
[null,12,-13,-7,58,7.1999999999999995E-2,0.16600000000000001]
[null,12,-13,-7,59,7.3999999999999996E-2,0.16900000000000001]
[null,12,-13,-7,60,7.4999999999999997E-2,0.17199999999999999]
[null,12,-13,2,30,0.57899999999999996,0.58299999999999996]
[null,12,-13,2,31,0.58499999999999996,0.58899999999999997]
[null,12,-13,2,32,0.59099999999999997,0.59499999999999997]
[null,12,-13,2,33,0.59599999999999997,0.6]
[null,12,-13,2,34,0.60199999999999998,0.60599999999999998]
[null,12,-13,2,35,0.60799999999999998,0.61199999999999999]
[null,12,-13,2,36,0.61499999999999999,0.61799999999999999]
[null,12,-13,2,37,0.621,0.624]
[null,12,-13,2,38,0.628,0.63100000000000001]
[null,12,-13,2,39,0.63400000000000001,0.63700000000000001]
[null,12,-13,2,40,0.64100000000000001,0.64300000000000002]
[null,12,-13,2,41,0.64800000000000002,0.65]
[null,12,-13,2,42,0.65500000000000003,0.65700000000000003]
[null,12,-13,2,43,0.66300000000000003,0.66400000000000003]
[null,12,-13,2,44,0.67,0.67100000000000004]
[null,12,-13,2,45,0.67700000000000005,0.67800000000000005]
[null,12,-13,2,46,0.68500000000000005,0.68600000000000005]
[null,12,-13,2,47,0.69299999999999995,0.69399999999999995]
[null,12,-13,2,48,0.70199999999999996,0.70099999999999996]
[null,12,-13,2,49,0.71,0.70899999999999996]
[null,12,-13,2,50,0.71799999999999997,0.71699999999999997]
[null,12,-13,2,51,0.72699999999999998,0.72599999999999998]
[null,12,-13,2,52,0.73599999999999999,0.73499999999999999]
[null,12,-13,2,53,0.746,0.74299999999999999]
[null,12,-13,2,54,0.755,0.752]
[null,12,-13,2,55,0.76400000000000001,0.76100000000000001]
[null,12,-13,2,56,0.77300000000000002,0.77]
[null,12,-13,2,57,0.78200000000000003,0.77900000000000003]
[null,12,-13,2,58,0.79200000000000004,0.78700000000000003]
[null,12,-13,2,59,0.80100000000000005,0.79600000000000004]
[null,12,-13,2,60,0.81,0.80500000000000005]
[null,12,-13,7,30,0.25900000000000001,0.2]
[null,12,-13,7,31,0.26100000000000001,0.20100000000000001]
[null,12,-13,7,32,0.26300000000000001,0.20300000000000001]
[null,12,-13,7,33,{"$f":"F1343","v":0.26500000000000001},{"$f":"F1529","v":0.20399999999999999}]
[null,12,-13,7,34,0.26700000000000002,0.20599999999999999]
[null,12,-13,7,35,0.26900000000000002,0.20699999999999999]
[null,12,-13,7,36,0.27100000000000002,0.20899999999999999]
[null,12,-13,7,37,0.27300000000000002,0.21]
[null,12,-13,7,38,0.27600000000000002,0.21199999999999999]
[null,12,-13,7,39,0.27800000000000002,0.21299999999999999]
[null,12,-13,7,40,0.28000000000000003,0.215]
[null,12,-13,7,41,0.28199999999999997,0.217]
[null,12,-13,7,42,0.28399999999999997,0.218]
[null,12,-13,7,43,0.28699999999999998,0.22]
[null,12,-13,7,44,0.28899999999999998,0.221]
[null,12,-13,7,45,0.29099999999999998,0.223]
[null,12,-13,7,46,0.29299999999999998,0.22500000000000001]
[null,12,-13,7,47,0.29599999999999999,0.22700000000000001]
[null,12,-13,7,48,0.29799999999999999,0.22800000000000001]
[null,12,-13,7,49,0.30099999999999999,0.23]
[null,12,-13,7,50,0.30299999999999999,0.23200000000000001]
[null,12,-13,7,51,0.30599999999999999,0.23400000000000001]
[null,12,-13,7,52,0.309,0.23599999999999999]
[null,12,-13,7,53,0.311,0.23799999999999999]
[null,12,-13,7,54,0.314,0.24]
[null,12,-13,7,55,0.317,0.24199999999999999]
[null,12,-13,7,56,0.32,0.24399999999999999]
[null,12,-13,7,57,0.32200000000000001,0.246]
[null,12,-13,7,58,0.32500000000000001,0.247]
[null,12,-13,7,59,0.32700000000000001,0.249]
[null,12,-13,7,60,0.33,0.251]
[null,12,-14,-7,30,{"$f":"'VDI 4650'!D53","v":0.107}]
[null,12,-14,-7,31,{"$f":"ROUND($F1464-(($F1464-$F1469)/5*A$256),3)","v":0.109}]
[null,12,-14,-7,32,{"$f":"ROUND($F1464-(($F1464-$F1469)/5*A$257),3)","v":0.11}]
[null,12,-14,-7,33,{"$f":"ROUND($F1464-(($F1464-$F1469)/5*A$258),3)","v":0.112}]
[null,12,-14,-7,34,{"$f":"ROUND($F1464-(($F1464-$F1469)/5*A$259),3)","v":0.113}]
[null,12,-14,-7,35,{"$f":"'VDI 4650'!E53","v":0.115}]
[null,12,-14,-7,36,{"$f":"ROUND($F1469-(($F1469-$F1474)/5*A$256),3)","v":0.11700000000000001}]
[null,12,-14,-7,37,{"$f":"ROUND($F1469-(($F1469-$F1474)/5*A$257),3)","v":0.11799999999999999}]
[null,12,-14,-7,38,{"$f":"ROUND($F1469-(($F1469-$F1474)/5*A$258),3)","v":0.12}]
[null,12,-14,-7,39,{"$f":"ROUND($F1469-(($F1469-$F1474)/5*A$259),3)","v":0.121}]
[null,12,-14,-7,40,{"$f":"'VDI 4650'!F53","v":0.123}]
[null,12,-14,-7,41,{"$f":"ROUND($F1474-(($F1474-$F1479)/5*A$256),3)","v":0.125}]
[null,12,-14,-7,42,{"$f":"ROUND($F1474-(($F1474-$F1479)/5*A$257),3)","v":0.127}]
[null,12,-14,-7,43,{"$f":"ROUND($F1474-(($F1474-$F1479)/5*A$258),3)","v":0.129}]
[null,12,-14,-7,44,{"$f":"ROUND($F1474-(($F1474-$F1479)/5*A$259),3)","v":0.13100000000000001}]
[null,12,-14,-7,45,{"$f":"'VDI 4650'!G53","v":0.13300000000000001}]
[null,12,-14,-7,46,{"$f":"ROUND($F1479-(($F1479-$F1484)/5*A$256),3)","v":0.13500000000000001}]
[null,12,-14,-7,47,{"$f":"ROUND($F1479-(($F1479-$F1484)/5*A$257),3)","v":0.13700000000000001}]
[null,12,-14,-7,48,{"$f":"ROUND($F1479-(($F1479-$F1484)/5*A$258),3)","v":0.14000000000000001}]
[null,12,-14,-7,49,{"$f":"ROUND($F1479-(($F1479-$F1484)/5*A$259),3)","v":0.14199999999999999}]
[null,12,-14,-7,50,{"$f":"'VDI 4650'!H53","v":0.14399999999999999}]
[null,12,-14,-7,51,{"$f":"ROUND($F1484-(($F1484-$F1489)/5*A$256),3)","v":0.14699999999999999}]
[null,12,-14,-7,52,{"$f":"ROUND($F1484-(($F1484-$F1489)/5*A$257),3)","v":0.15}]
[null,12,-14,-7,53,{"$f":"ROUND($F1484-(($F1484-$F1489)/5*A$258),3)","v":0.152}]
[null,12,-14,-7,54,{"$f":"ROUND($F1484-(($F1484-$F1489)/5*A$259),3)","v":0.155}]
[null,12,-14,-7,55,{"$f":"'VDI 4650'!I53","v":0.158}]
[null,12,-14,-7,56,{"$f":"ROUND($F1489-(($F1489-$F1494)/5*A$256),3)","v":0.161}]
[null,12,-14,-7,57,{"$f":"ROUND($F1489-(($F1489-$F1494)/5*A$257),3)","v":0.16400000000000001}]
[null,12,-14,-7,58,{"$f":"ROUND($F1489-(($F1489-$F1494)/5*A$258),3)","v":0.16600000000000001}]
[null,12,-14,-7,59,{"$f":"ROUND($F1489-(($F1489-$F1494)/5*A$259),3)","v":0.16900000000000001}]
[null,12,-14,-7,60,{"$f":"'VDI 4650'!J53","v":0.17199999999999999}]
[null,12,-14,2,30,{"$f":"'VDI 4650'!D54","v":0.58299999999999996}]
[null,12,-14,2,31,{"$f":"ROUND($F1495-(($F1495-$F1500)/5*A$256),3)","v":0.58899999999999997}]
[null,12,-14,2,32,{"$f":"ROUND($F1495-(($F1495-$F1500)/5*A$257),3)","v":0.59499999999999997}]
[null,12,-14,2,33,{"$f":"ROUND($F1495-(($F1495-$F1500)/5*A$258),3)","v":0.6}]
[null,12,-14,2,34,{"$f":"ROUND($F1495-(($F1495-$F1500)/5*A$259),3)","v":0.60599999999999998}]
[null,12,-14,2,35,{"$f":"'VDI 4650'!E54","v":0.61199999999999999}]
[null,12,-14,2,36,{"$f":"ROUND($F1500-(($F1500-$F1505)/5*A$256),3)","v":0.61799999999999999}]
[null,12,-14,2,37,{"$f":"ROUND($F1500-(($F1500-$F1505)/5*A$257),3)","v":0.624}]
[null,12,-14,2,38,{"$f":"ROUND($F1500-(($F1500-$F1505)/5*A$258),3)","v":0.63100000000000001}]
[null,12,-14,2,39,{"$f":"ROUND($F1500-(($F1500-$F1505)/5*A$259),3)","v":0.63700000000000001}]
[null,12,-14,2,40,{"$f":"'VDI 4650'!F54","v":0.64300000000000002}]
[null,12,-14,2,41,{"$f":"ROUND($F1505-(($F1505-$F1510)/5*A$256),3)","v":0.65}]
[null,12,-14,2,42,{"$f":"ROUND($F1505-(($F1505-$F1510)/5*A$257),3)","v":0.65700000000000003}]
[null,12,-14,2,43,{"$f":"ROUND($F1505-(($F1505-$F1510)/5*A$258),3)","v":0.66400000000000003}]
[null,12,-14,2,44,{"$f":"ROUND($F1505-(($F1505-$F1510)/5*A$259),3)","v":0.67100000000000004}]
[null,12,-14,2,45,{"$f":"'VDI 4650'!G54","v":0.67800000000000005}]
[null,12,-14,2,46,{"$f":"ROUND($F1510-(($F1510-$F1515)/5*A$256),3)","v":0.68600000000000005}]
[null,12,-14,2,47,{"$f":"ROUND($F1510-(($F1510-$F1515)/5*A$257),3)","v":0.69399999999999995}]
[null,12,-14,2,48,{"$f":"ROUND($F1510-(($F1510-$F1515)/5*A$258),3)","v":0.70099999999999996}]
[null,12,-14,2,49,{"$f":"ROUND($F1510-(($F1510-$F1515)/5*A$259),3)","v":0.70899999999999996}]
[null,12,-14,2,50,{"$f":"'VDI 4650'!H54","v":0.71699999999999997}]
[null,12,-14,2,51,{"$f":"ROUND($F1515-(($F1515-$F1520)/5*A$256),3)","v":0.72599999999999998}]
[null,12,-14,2,52,{"$f":"ROUND($F1515-(($F1515-$F1520)/5*A$257),3)","v":0.73499999999999999}]
[null,12,-14,2,53,{"$f":"ROUND($F1515-(($F1515-$F1520)/5*A$258),3)","v":0.74299999999999999}]
[null,12,-14,2,54,{"$f":"ROUND($F1515-(($F1515-$F1520)/5*A$259),3)","v":0.752}]
[null,12,-14,2,55,{"$f":"'VDI 4650'!I54","v":0.76100000000000001}]
[null,12,-14,2,56,{"$f":"ROUND($F1520-(($F1520-$F1525)/5*A$256),3)","v":0.77}]
[null,12,-14,2,57,{"$f":"ROUND($F1520-(($F1520-$F1525)/5*A$257),3)","v":0.77900000000000003}]
[null,12,-14,2,58,{"$f":"ROUND($F1520-(($F1520-$F1525)/5*A$258),3)","v":0.78700000000000003}]
[null,12,-14,2,59,{"$f":"ROUND($F1520-(($F1520-$F1525)/5*A$259),3)","v":0.79600000000000004}]
[null,12,-14,2,60,{"$f":"'VDI 4650'!J54","v":0.80500000000000005}]
[null,12,-14,7,30,{"$f":"'VDI 4650'!D55","v":0.2}]
[null,12,-14,7,31,{"$f":"ROUND($F1526-(($F1526-$F1531)/5*A$256),3)","v":0.20100000000000001}]
[null,12,-14,7,32,{"$f":"ROUND($F1526-(($F1526-$F1531)/5*A$257),3)","v":0.20300000000000001}]
[null,12,-14,7,33,{"$f":"ROUND($F1526-(($F1526-$F1531)/5*A$258),3)","v":0.20399999999999999}]
[null,12,-14,7,34,{"$f":"ROUND($F1526-(($F1526-$F1531)/5*A$259),3)","v":0.20599999999999999}]
[null,12,-14,7,35,{"$f":"'VDI 4650'!E55","v":0.20699999999999999}]
[null,12,-14,7,36,{"$f":"ROUND($F1531-(($F1531-$F1536)/5*A$256),3)","v":0.20899999999999999}]
[null,12,-14,7,37,{"$f":"ROUND($F1531-(($F1531-$F1536)/5*A$257),3)","v":0.21}]
[null,12,-14,7,38,{"$f":"ROUND($F1531-(($F1531-$F1536)/5*A$258),3)","v":0.21199999999999999}]
[null,12,-14,7,39,{"$f":"ROUND($F1531-(($F1531-$F1536)/5*A$259),3)","v":0.21299999999999999}]
[null,12,-14,7,40,{"$f":"'VDI 4650'!F55","v":0.215}]
[null,12,-14,7,41,{"$f":"ROUND($F1536-(($F1536-$F1541)/5*A$256),3)","v":0.217}]
[null,12,-14,7,42,{"$f":"ROUND($F1536-(($F1536-$F1541)/5*A$257),3)","v":0.218}]
[null,12,-14,7,43,{"$f":"ROUND($F1536-(($F1536-$F1541)/5*A$258),3)","v":0.22}]
[null,12,-14,7,44,{"$f":"ROUND($F1536-(($F1536-$F1541)/5*A$259),3)","v":0.221}]
[null,12,-14,7,45,{"$f":"'VDI 4650'!G55","v":0.223}]
[null,12,-14,7,46,{"$f":"ROUND($F1541-(($F1541-$F1546)/5*A$256),3)","v":0.22500000000000001}]
[null,12,-14,7,47,{"$f":"ROUND($F1541-(($F1541-$F1546)/5*A$257),3)","v":0.22700000000000001}]
[null,12,-14,7,48,{"$f":"ROUND($F1541-(($F1541-$F1546)/5*A$258),3)","v":0.22800000000000001}]
[null,12,-14,7,49,{"$f":"ROUND($F1541-(($F1541-$F1546)/5*A$259),3)","v":0.23}]
[null,12,-14,7,50,{"$f":"'VDI 4650'!H55","v":0.23200000000000001}]
[null,12,-14,7,51,{"$f":"ROUND($F1546-(($F1546-$F1551)/5*A$256),3)","v":0.23400000000000001}]
[null,12,-14,7,52,{"$f":"ROUND($F1546-(($F1546-$F1551)/5*A$257),3)","v":0.23599999999999999}]
[null,12,-14,7,53,{"$f":"ROUND($F1546-(($F1546-$F1551)/5*A$258),3)","v":0.23799999999999999}]
[null,12,-14,7,54,{"$f":"ROUND($F1546-(($F1546-$F1551)/5*A$259),3)","v":0.24}]
[null,12,-14,7,55,{"$f":"'VDI 4650'!I55","v":0.24199999999999999}]
[null,12,-14,7,56,{"$f":"ROUND($F1551-(($F1551-$F1556)/5*A$256),3)","v":0.24399999999999999}]
[null,12,-14,7,57,{"$f":"ROUND($F1551-(($F1551-$F1556)/5*A$257),3)","v":0.246}]
[null,12,-14,7,58,{"$f":"ROUND($F1551-(($F1551-$F1556)/5*A$258),3)","v":0.247}]
[null,12,-14,7,59,{"$f":"ROUND($F1551-(($F1551-$F1556)/5*A$259),3)","v":0.249}]
[null,12,-14,7,60,{"$f":"'VDI 4650'!J55","v":0.251}]
[null,12,-15,-7,30,{"$f":"F1464","v":0.107},{"$f":"F1650","v":0.16400000000000001}]
[null,12,-15,-7,31,{"$f":"F1465","v":0.109},{"$f":"F1651","v":0.16600000000000001}]
[null,12,-15,-7,32,0.11,0.16800000000000001]
[null,12,-15,-7,33,0.112,0.17100000000000001]
[null,12,-15,-7,34,0.113,0.17299999999999999]
[null,12,-15,-7,35,0.115,0.17499999999999999]
[null,12,-15,-7,36,0.11700000000000001,0.17799999999999999]
[null,12,-15,-7,37,0.11799999999999999,0.18]
[null,12,-15,-7,38,0.12,0.183]
[null,12,-15,-7,39,0.121,0.185]
[null,12,-15,-7,40,0.123,0.188]
[null,12,-15,-7,41,0.125,0.191]
[null,12,-15,-7,42,0.127,0.19400000000000001]
[null,12,-15,-7,43,0.129,0.19700000000000001]
[null,12,-15,-7,44,0.13100000000000001,0.2]
[null,12,-15,-7,45,0.13300000000000001,0.20300000000000001]
[null,12,-15,-7,46,0.13500000000000001,0.20699999999999999]
[null,12,-15,-7,47,0.13700000000000001,0.21]
[null,12,-15,-7,48,0.14000000000000001,0.214]
[null,12,-15,-7,49,0.14199999999999999,0.217]
[null,12,-15,-7,50,0.14399999999999999,0.221]
[null,12,-15,-7,51,0.14699999999999999,0.22500000000000001]
[null,12,-15,-7,52,0.15,0.22900000000000001]
[null,12,-15,-7,53,0.152,0.23400000000000001]
[null,12,-15,-7,54,0.155,0.23799999999999999]
[null,12,-15,-7,55,0.158,0.24199999999999999]
[null,12,-15,-7,56,0.161,0.246]
[null,12,-15,-7,57,0.16400000000000001,0.251]
[null,12,-15,-7,58,0.16600000000000001,0.255]
[null,12,-15,-7,59,0.16900000000000001,0.26]
[null,12,-15,-7,60,0.17199999999999999,0.26400000000000001]
[null,12,-15,2,30,0.58299999999999996,0.56999999999999995]
[null,12,-15,2,31,0.58899999999999997,0.57499999999999996]
[null,12,-15,2,32,0.59499999999999997,0.57999999999999996]
[null,12,-15,2,33,0.6,0.58599999999999997]
[null,12,-15,2,34,0.60599999999999998,0.59099999999999997]
[null,12,-15,2,35,0.61199999999999999,0.59599999999999997]
[null,12,-15,2,36,0.61799999999999999,0.60199999999999998]
[null,12,-15,2,37,0.624,0.60799999999999998]
[null,12,-15,2,38,0.63100000000000001,0.61299999999999999]
[null,12,-15,2,39,0.63700000000000001,0.61899999999999999]
[null,12,-15,2,40,0.64300000000000002,0.625]
[null,12,-15,2,41,0.65,0.63100000000000001]
[null,12,-15,2,42,0.65700000000000003,0.63800000000000001]
[null,12,-15,2,43,0.66400000000000003,0.64400000000000002]
[null,12,-15,2,44,0.67100000000000004,0.65100000000000002]
[null,12,-15,2,45,0.67800000000000005,0.65700000000000003]
[null,12,-15,2,46,0.68600000000000005,0.66400000000000003]
[null,12,-15,2,47,0.69399999999999995,0.67100000000000004]
[null,12,-15,2,48,0.70099999999999996,0.67800000000000005]
[null,12,-15,2,49,0.70899999999999996,0.68500000000000005]
[null,12,-15,2,50,0.71699999999999997,0.69199999999999995]
[null,12,-15,2,51,0.72599999999999998,0.7]
[null,12,-15,2,52,0.73499999999999999,0.70799999999999996]
[null,12,-15,2,53,0.74299999999999999,0.71499999999999997]
[null,12,-15,2,54,0.752,0.72299999999999998]
[null,12,-15,2,55,0.76100000000000001,0.73099999999999998]
[null,12,-15,2,56,0.77,0.73899999999999999]
[null,12,-15,2,57,0.77900000000000003,0.747]
[null,12,-15,2,58,0.78700000000000003,0.755]
[null,12,-15,2,59,0.79600000000000004,0.76300000000000001]
[null,12,-15,2,60,0.80500000000000005,0.77100000000000002]
[null,12,-15,7,30,0.2,0.16]
[null,12,-15,7,31,0.20100000000000001,0.161]
[null,12,-15,7,32,0.20300000000000001,0.16200000000000001]
[null,12,-15,7,33,{"$f":"F1529","v":0.20399999999999999},{"$f":"F1715","v":0.16300000000000001}]
[null,12,-15,7,34,0.20599999999999999,0.16400000000000001]
[null,12,-15,7,35,0.20699999999999999,0.16500000000000001]
[null,12,-15,7,36,0.20899999999999999,0.16600000000000001]
[null,12,-15,7,37,0.21,0.16700000000000001]
[null,12,-15,7,38,0.21199999999999999,0.16900000000000001]
[null,12,-15,7,39,0.21299999999999999,0.17]
[null,12,-15,7,40,0.215,0.17100000000000001]
[null,12,-15,7,41,0.217,0.17199999999999999]
[null,12,-15,7,42,0.218,0.17299999999999999]
[null,12,-15,7,43,0.22,0.17499999999999999]
[null,12,-15,7,44,0.221,0.17599999999999999]
[null,12,-15,7,45,0.223,0.17699999999999999]
[null,12,-15,7,46,0.22500000000000001,0.17799999999999999]
[null,12,-15,7,47,0.22700000000000001,0.17899999999999999]
[null,12,-15,7,48,0.22800000000000001,0.18099999999999999]
[null,12,-15,7,49,0.23,0.182]
[null,12,-15,7,50,0.23200000000000001,0.183]
[null,12,-15,7,51,0.23400000000000001,0.185]
[null,12,-15,7,52,0.23599999999999999,0.186]
[null,12,-15,7,53,0.23799999999999999,0.188]
[null,12,-15,7,54,0.24,0.189]
[null,12,-15,7,55,0.24199999999999999,0.191]
[null,12,-15,7,56,0.24399999999999999,0.192]
[null,12,-15,7,57,0.246,0.19400000000000001]
[null,12,-15,7,58,0.247,0.19500000000000001]
[null,12,-15,7,59,0.249,0.19700000000000001]
[null,12,-15,7,60,0.251,0.19800000000000001]
[null,12,-16,-7,30,{"$f":"'VDI 4650'!D56","v":0.16400000000000001}]
[null,12,-16,-7,31,{"$f":"ROUND($F1650-(($F1650-$F1655)/5*A$256),3)","v":0.16600000000000001}]
[null,12,-16,-7,32,{"$f":"ROUND($F1650-(($F1650-$F1655)/5*A$257),3)","v":0.16800000000000001}]
[null,12,-16,-7,33,{"$f":"ROUND($F1650-(($F1650-$F1655)/5*A$258),3)","v":0.17100000000000001}]
[null,12,-16,-7,34,{"$f":"ROUND($F1650-(($F1650-$F1655)/5*A$259),3)","v":0.17299999999999999}]
[null,12,-16,-7,35,{"$f":"'VDI 4650'!E56","v":0.17499999999999999}]
[null,12,-16,-7,36,{"$f":"ROUND($F1655-(($F1655-$F1660)/5*A$256),3)","v":0.17799999999999999}]
[null,12,-16,-7,37,{"$f":"ROUND($F1655-(($F1655-$F1660)/5*A$257),3)","v":0.18}]
[null,12,-16,-7,38,{"$f":"ROUND($F1655-(($F1655-$F1660)/5*A$258),3)","v":0.183}]
[null,12,-16,-7,39,{"$f":"ROUND($F1655-(($F1655-$F1660)/5*A$259),3)","v":0.185}]
[null,12,-16,-7,40,{"$f":"'VDI 4650'!F56","v":0.188}]
[null,12,-16,-7,41,{"$f":"ROUND($F1660-(($F1660-$F1665)/5*A$256),3)","v":0.191}]
[null,12,-16,-7,42,{"$f":"ROUND($F1660-(($F1660-$F1665)/5*A$257),3)","v":0.19400000000000001}]
[null,12,-16,-7,43,{"$f":"ROUND($F1660-(($F1660-$F1665)/5*A$258),3)","v":0.19700000000000001}]
[null,12,-16,-7,44,{"$f":"ROUND($F1660-(($F1660-$F1665)/5*A$259),3)","v":0.2}]
[null,12,-16,-7,45,{"$f":"'VDI 4650'!G56","v":0.20300000000000001}]
[null,12,-16,-7,46,{"$f":"ROUND($F1665-(($F1665-$F1670)/5*A$256),3)","v":0.20699999999999999}]
[null,12,-16,-7,47,{"$f":"ROUND($F1665-(($F1665-$F1670)/5*A$257),3)","v":0.21}]
[null,12,-16,-7,48,{"$f":"ROUND($F1665-(($F1665-$F1670)/5*A$258),3)","v":0.214}]
[null,12,-16,-7,49,{"$f":"ROUND($F1665-(($F1665-$F1670)/5*A$259),3)","v":0.217}]
[null,12,-16,-7,50,{"$f":"'VDI 4650'!H56","v":0.221}]
[null,12,-16,-7,51,{"$f":"ROUND($F1670-(($F1670-$F1675)/5*A$256),3)","v":0.22500000000000001}]
[null,12,-16,-7,52,{"$f":"ROUND($F1670-(($F1670-$F1675)/5*A$257),3)","v":0.22900000000000001}]
[null,12,-16,-7,53,{"$f":"ROUND($F1670-(($F1670-$F1675)/5*A$258),3)","v":0.23400000000000001}]
[null,12,-16,-7,54,{"$f":"ROUND($F1670-(($F1670-$F1675)/5*A$259),3)","v":0.23799999999999999}]
[null,12,-16,-7,55,{"$f":"'VDI 4650'!I56","v":0.24199999999999999}]
[null,12,-16,-7,56,{"$f":"ROUND($F1675-(($F1675-$F1680)/5*A$256),3)","v":0.246}]
[null,12,-16,-7,57,{"$f":"ROUND($F1675-(($F1675-$F1680)/5*A$257),3)","v":0.251}]
[null,12,-16,-7,58,{"$f":"ROUND($F1675-(($F1675-$F1680)/5*A$258),3)","v":0.255}]
[null,12,-16,-7,59,{"$f":"ROUND($F1675-(($F1675-$F1680)/5*A$259),3)","v":0.26}]
[null,12,-16,-7,60,{"$f":"'VDI 4650'!J56","v":0.26400000000000001}]
[null,12,-16,2,30,{"$f":"'VDI 4650'!D57","v":0.56999999999999995}]
[null,12,-16,2,31,{"$f":"ROUND($F1681-(($F1681-$F1686)/5*A$256),3)","v":0.57499999999999996}]
[null,12,-16,2,32,{"$f":"ROUND($F1681-(($F1681-$F1686)/5*A$257),3)","v":0.57999999999999996}]
[null,12,-16,2,33,{"$f":"ROUND($F1681-(($F1681-$F1686)/5*A$258),3)","v":0.58599999999999997}]
[null,12,-16,2,34,{"$f":"ROUND($F1681-(($F1681-$F1686)/5*A$259),3)","v":0.59099999999999997}]
[null,12,-16,2,35,{"$f":"'VDI 4650'!E57","v":0.59599999999999997}]
[null,12,-16,2,36,{"$f":"ROUND($F1686-(($F1686-$F1691)/5*A$256),3)","v":0.60199999999999998}]
[null,12,-16,2,37,{"$f":"ROUND($F1686-(($F1686-$F1691)/5*A$257),3)","v":0.60799999999999998}]
[null,12,-16,2,38,{"$f":"ROUND($F1686-(($F1686-$F1691)/5*A$258),3)","v":0.61299999999999999}]
[null,12,-16,2,39,{"$f":"ROUND($F1686-(($F1686-$F1691)/5*A$259),3)","v":0.61899999999999999}]
[null,12,-16,2,40,{"$f":"'VDI 4650'!F57","v":0.625}]
[null,12,-16,2,41,{"$f":"ROUND($F1691-(($F1691-$F1696)/5*A$256),3)","v":0.63100000000000001}]
[null,12,-16,2,42,{"$f":"ROUND($F1691-(($F1691-$F1696)/5*A$257),3)","v":0.63800000000000001}]
[null,12,-16,2,43,{"$f":"ROUND($F1691-(($F1691-$F1696)/5*A$258),3)","v":0.64400000000000002}]
[null,12,-16,2,44,{"$f":"ROUND($F1691-(($F1691-$F1696)/5*A$259),3)","v":0.65100000000000002}]
[null,12,-16,2,45,{"$f":"'VDI 4650'!G57","v":0.65700000000000003}]
[null,12,-16,2,46,{"$f":"ROUND($F1696-(($F1696-$F1701)/5*A$256),3)","v":0.66400000000000003}]
[null,12,-16,2,47,{"$f":"ROUND($F1696-(($F1696-$F1701)/5*A$257),3)","v":0.67100000000000004}]
[null,12,-16,2,48,{"$f":"ROUND($F1696-(($F1696-$F1701)/5*A$258),3)","v":0.67800000000000005}]
[null,12,-16,2,49,{"$f":"ROUND($F1696-(($F1696-$F1701)/5*A$259),3)","v":0.68500000000000005}]
[null,12,-16,2,50,{"$f":"'VDI 4650'!H57","v":0.69199999999999995}]
[null,12,-16,2,51,{"$f":"ROUND($F1701-(($F1701-$F1706)/5*A$256),3)","v":0.7}]
[null,12,-16,2,52,{"$f":"ROUND($F1701-(($F1701-$F1706)/5*A$257),3)","v":0.70799999999999996}]
[null,12,-16,2,53,{"$f":"ROUND($F1701-(($F1701-$F1706)/5*A$258),3)","v":0.71499999999999997}]
[null,12,-16,2,54,{"$f":"ROUND($F1701-(($F1701-$F1706)/5*A$259),3)","v":0.72299999999999998}]
[null,12,-16,2,55,{"$f":"'VDI 4650'!I57","v":0.73099999999999998}]
[null,12,-16,2,56,{"$f":"ROUND($F1706-(($F1706-$F1711)/5*A$256),3)","v":0.73899999999999999}]
[null,12,-16,2,57,{"$f":"ROUND($F1706-(($F1706-$F1711)/5*A$257),3)","v":0.747}]
[null,12,-16,2,58,{"$f":"ROUND($F1706-(($F1706-$F1711)/5*A$258),3)","v":0.755}]
[null,12,-16,2,59,{"$f":"ROUND($F1706-(($F1706-$F1711)/5*A$259),3)","v":0.76300000000000001}]
[null,12,-16,2,60,{"$f":"'VDI 4650'!J57","v":0.77100000000000002}]
[null,12,-16,7,30,{"$f":"'VDI 4650'!D58","v":0.16}]
[null,12,-16,7,31,{"$f":"ROUND($F1712-(($F1712-$F1717)/5*A$256),3)","v":0.161}]
[null,12,-16,7,32,{"$f":"ROUND($F1712-(($F1712-$F1717)/5*A$257),3)","v":0.16200000000000001}]
[null,12,-16,7,33,{"$f":"ROUND($F1712-(($F1712-$F1717)/5*A$258),3)","v":0.16300000000000001}]
[null,12,-16,7,34,{"$f":"ROUND($F1712-(($F1712-$F1717)/5*A$259),3)","v":0.16400000000000001}]
[null,12,-16,7,35,{"$f":"'VDI 4650'!E58","v":0.16500000000000001}]
[null,12,-16,7,36,{"$f":"ROUND($F1717-(($F1717-$F1722)/5*A$256),3)","v":0.16600000000000001}]
[null,12,-16,7,37,{"$f":"ROUND($F1717-(($F1717-$F1722)/5*A$257),3)","v":0.16700000000000001}]
[null,12,-16,7,38,{"$f":"ROUND($F1717-(($F1717-$F1722)/5*A$258),3)","v":0.16900000000000001}]
[null,12,-16,7,39,{"$f":"ROUND($F1717-(($F1717-$F1722)/5*A$259),3)","v":0.17}]
[null,12,-16,7,40,{"$f":"'VDI 4650'!F58","v":0.17100000000000001}]
[null,12,-16,7,41,{"$f":"ROUND($F1722-(($F1722-$F1727)/5*A$256),3)","v":0.17199999999999999}]
[null,12,-16,7,42,{"$f":"ROUND($F1722-(($F1722-$F1727)/5*A$257),3)","v":0.17299999999999999}]
[null,12,-16,7,43,{"$f":"ROUND($F1722-(($F1722-$F1727)/5*A$258),3)","v":0.17499999999999999}]
[null,12,-16,7,44,{"$f":"ROUND($F1722-(($F1722-$F1727)/5*A$259),3)","v":0.17599999999999999}]
[null,12,-16,7,45,{"$f":"'VDI 4650'!G58","v":0.17699999999999999}]
[null,12,-16,7,46,{"$f":"ROUND($F1727-(($F1727-$F1732)/5*A$256),3)","v":0.17799999999999999}]
[null,12,-16,7,47,{"$f":"ROUND($F1727-(($F1727-$F1732)/5*A$257),3)","v":0.17899999999999999}]
[null,12,-16,7,48,{"$f":"ROUND($F1727-(($F1727-$F1732)/5*A$258),3)","v":0.18099999999999999}]
[null,12,-16,7,49,{"$f":"ROUND($F1727-(($F1727-$F1732)/5*A$259),3)","v":0.182}]
[null,12,-16,7,50,{"$f":"'VDI 4650'!H58","v":0.183}]
[null,12,-16,7,51,{"$f":"ROUND($F1732-(($F1732-$F1737)/5*A$256),3)","v":0.185}]
[null,12,-16,7,52,{"$f":"ROUND($F1732-(($F1732-$F1737)/5*A$257),3)","v":0.186}]
[null,12,-16,7,53,{"$f":"ROUND($F1732-(($F1732-$F1737)/5*A$258),3)","v":0.188}]
[null,12,-16,7,54,{"$f":"ROUND($F1732-(($F1732-$F1737)/5*A$259),3)","v":0.189}]
[null,12,-16,7,55,{"$f":"'VDI 4650'!I58","v":0.191}]
[null,12,-16,7,56,{"$f":"ROUND($F1737-(($F1737-$F1742)/5*A$256),3)","v":0.192}]
[null,12,-16,7,57,{"$f":"ROUND($F1737-(($F1737-$F1742)/5*A$257),3)","v":0.19400000000000001}]
[null,12,-16,7,58,{"$f":"ROUND($F1737-(($F1737-$F1742)/5*A$258),3)","v":0.19500000000000001}]
[null,12,-16,7,59,{"$f":"ROUND($F1737-(($F1737-$F1742)/5*A$259),3)","v":0.19700000000000001}]
[null,12,-16,7,60,{"$f":"'VDI 4650'!J58","v":0.19800000000000001}]
[null,10,-8,-7,30,{"$f":"'VDI 4650'!D66","v":1.2E-2}]
[null,10,-8,-7,31,{"$f":"ROUND($F1743-(($F1743-$F1748)/5*A$256),3)","v":1.2E-2}]
[null,10,-8,-7,32,{"$f":"ROUND($F1743-(($F1743-$F1748)/5*A$257),3)","v":1.2E-2}]
[null,10,-8,-7,33,{"$f":"ROUND($F1743-(($F1743-$F1748)/5*A$258),3)","v":1.2999999999999999E-2}]
[null,10,-8,-7,34,{"$f":"ROUND($F1743-(($F1743-$F1748)/5*A$259),3)","v":1.2999999999999999E-2}]
[null,10,-8,-7,35,{"$f":"'VDI 4650'!E66","v":1.2999999999999999E-2}]
[null,10,-8,-7,36,{"$f":"ROUND($F1748-(($F1748-$F1753)/5*A$256),3)","v":1.2999999999999999E-2}]
[null,10,-8,-7,37,{"$f":"ROUND($F1748-(($F1748-$F1753)/5*A$257),3)","v":1.2999999999999999E-2}]
[null,10,-8,-7,38,{"$f":"ROUND($F1748-(($F1748-$F1753)/5*A$258),3)","v":1.4E-2}]
[null,10,-8,-7,39,{"$f":"ROUND($F1748-(($F1748-$F1753)/5*A$259),3)","v":1.4E-2}]
[null,10,-8,-7,40,{"$f":"'VDI 4650'!F66","v":1.4E-2}]
[null,10,-8,-7,41,{"$f":"ROUND($F1753-(($F1753-$F1758)/5*A$256),3)","v":1.4E-2}]
[null,10,-8,-7,42,{"$f":"ROUND($F1753-(($F1753-$F1758)/5*A$257),3)","v":1.4E-2}]
[null,10,-8,-7,43,{"$f":"ROUND($F1753-(($F1753-$F1758)/5*A$258),3)","v":1.4999999999999999E-2}]
[null,10,-8,-7,44,{"$f":"ROUND($F1753-(($F1753-$F1758)/5*A$259),3)","v":1.4999999999999999E-2}]
[null,10,-8,-7,45,{"$f":"'VDI 4650'!G66","v":1.4999999999999999E-2}]
[null,10,-8,-7,46,{"$f":"ROUND($F1758-(($F1758-$F1763)/5*A$256),3)","v":1.4999999999999999E-2}]
[null,10,-8,-7,47,{"$f":"ROUND($F1758-(($F1758-$F1763)/5*A$257),3)","v":1.6E-2}]
[null,10,-8,-7,48,{"$f":"ROUND($F1758-(($F1758-$F1763)/5*A$258),3)","v":1.6E-2}]
[null,10,-8,-7,49,{"$f":"ROUND($F1758-(($F1758-$F1763)/5*A$259),3)","v":1.7000000000000001E-2}]
[null,10,-8,-7,50,{"$f":"'VDI 4650'!H66","v":1.7000000000000001E-2}]
[null,10,-8,-7,51,{"$f":"ROUND($F1763-(($F1763-$F1768)/5*A$256),3)","v":1.7000000000000001E-2}]
[null,10,-8,-7,52,{"$f":"ROUND($F1763-(($F1763-$F1768)/5*A$257),3)","v":1.7999999999999999E-2}]
[null,10,-8,-7,53,{"$f":"ROUND($F1763-(($F1763-$F1768)/5*A$258),3)","v":1.7999999999999999E-2}]
[null,10,-8,-7,54,{"$f":"ROUND($F1763-(($F1763-$F1768)/5*A$259),3)","v":1.9E-2}]
[null,10,-8,-7,55,{"$f":"'VDI 4650'!I66","v":1.9E-2}]
[null,10,-8,-7,56,{"$f":"ROUND($F1768-(($F1768-$F1773)/5*A$256),3)","v":1.9E-2}]
[null,10,-8,-7,57,{"$f":"ROUND($F1768-(($F1768-$F1773)/5*A$257),3)","v":0.02}]
[null,10,-8,-7,58,{"$f":"ROUND($F1768-(($F1768-$F1773)/5*A$258),3)","v":0.02}]
[null,10,-8,-7,59,{"$f":"ROUND($F1768-(($F1768-$F1773)/5*A$259),3)","v":2.1000000000000001E-2}]
[null,10,-8,-7,60,{"$f":"'VDI 4650'!J66","v":2.1000000000000001E-2}]
[null,10,-8,2,30,{"$f":"'VDI 4650'!D67","v":0.61099999999999999}]
[null,10,-8,2,31,{"$f":"ROUND($F1774-(($F1774-$F1779)/5*A$256),3)","v":0.61799999999999999}]
[null,10,-8,2,32,{"$f":"ROUND($F1774-(($F1774-$F1779)/5*A$257),3)","v":0.625}]
[null,10,-8,2,33,{"$f":"ROUND($F1774-(($F1774-$F1779)/5*A$258),3)","v":0.63100000000000001}]
[null,10,-8,2,34,{"$f":"ROUND($F1774-(($F1774-$F1779)/5*A$259),3)","v":0.63800000000000001}]
[null,10,-8,2,35,{"$f":"'VDI 4650'!E67","v":0.64500000000000002}]
[null,10,-8,2,36,{"$f":"ROUND($F1779-(($F1779-$F1784)/5*A$256),3)","v":0.65300000000000002}]
[null,10,-8,2,37,{"$f":"ROUND($F1779-(($F1779-$F1784)/5*A$257),3)","v":0.66100000000000003}]
[null,10,-8,2,38,{"$f":"ROUND($F1779-(($F1779-$F1784)/5*A$258),3)","v":0.66800000000000004}]
[null,10,-8,2,39,{"$f":"ROUND($F1779-(($F1779-$F1784)/5*A$259),3)","v":0.67600000000000005}]
[null,10,-8,2,40,{"$f":"'VDI 4650'!F67","v":0.68400000000000005}]
[null,10,-8,2,41,{"$f":"ROUND($F1784-(($F1784-$F1789)/5*A$256),3)","v":0.69299999999999995}]
[null,10,-8,2,42,{"$f":"ROUND($F1784-(($F1784-$F1789)/5*A$257),3)","v":0.70099999999999996}]
[null,10,-8,2,43,{"$f":"ROUND($F1784-(($F1784-$F1789)/5*A$258),3)","v":0.71}]
[null,10,-8,2,44,{"$f":"ROUND($F1784-(($F1784-$F1789)/5*A$259),3)","v":0.71799999999999997}]
[null,10,-8,2,45,{"$f":"'VDI 4650'!G67","v":0.72699999999999998}]
[null,10,-8,2,46,{"$f":"ROUND($F1789-(($F1789-$F1794)/5*A$256),3)","v":0.73699999999999999}]
[null,10,-8,2,47,{"$f":"ROUND($F1789-(($F1789-$F1794)/5*A$257),3)","v":0.747}]
[null,10,-8,2,48,{"$f":"ROUND($F1789-(($F1789-$F1794)/5*A$258),3)","v":0.75700000000000001}]
[null,10,-8,2,49,{"$f":"ROUND($F1789-(($F1789-$F1794)/5*A$259),3)","v":0.76700000000000002}]
[null,10,-8,2,50,{"$f":"'VDI 4650'!H67","v":0.77700000000000002}]
[null,10,-8,2,51,{"$f":"ROUND($F1794-(($F1794-$F1799)/5*A$256),3)","v":0.78800000000000003}]
[null,10,-8,2,52,{"$f":"ROUND($F1794-(($F1794-$F1799)/5*A$257),3)","v":0.8}]
[null,10,-8,2,53,{"$f":"ROUND($F1794-(($F1794-$F1799)/5*A$258),3)","v":0.81100000000000005}]
[null,10,-8,2,54,{"$f":"ROUND($F1794-(($F1794-$F1799)/5*A$259),3)","v":0.82299999999999995}]
[null,10,-8,2,55,{"$f":"'VDI 4650'!I67","v":0.83399999999999996}]
[null,10,-8,2,56,{"$f":"ROUND($F1799-(($F1799-$F1804)/5*A$256),3)","v":0.84499999999999997}]
[null,10,-8,2,57,{"$f":"ROUND($F1799-(($F1799-$F1804)/5*A$257),3)","v":0.85599999999999998}]
[null,10,-8,2,58,{"$f":"ROUND($F1799-(($F1799-$F1804)/5*A$258),3)","v":0.86799999999999999}]
[null,10,-8,2,59,{"$f":"ROUND($F1799-(($F1799-$F1804)/5*A$259),3)","v":0.879}]
[null,10,-8,2,60,{"$f":"'VDI 4650'!J67","v":0.89}]
[null,10,-8,7,30,{"$f":"'VDI 4650'!D68","v":0.219}]
[null,10,-8,7,31,{"$f":"ROUND($F1805-(($F1805-$F1810)/5*A$256),3)","v":0.221}]
[null,10,-8,7,32,{"$f":"ROUND($F1805-(($F1805-$F1810)/5*A$257),3)","v":0.223}]
[null,10,-8,7,33,{"$f":"ROUND($F1805-(($F1805-$F1810)/5*A$258),3)","v":0.22500000000000001}]
[null,10,-8,7,34,{"$f":"ROUND($F1805-(($F1805-$F1810)/5*A$259),3)","v":0.22700000000000001}]
[null,10,-8,7,35,{"$f":"'VDI 4650'!E68","v":0.22900000000000001}]
[null,10,-8,7,36,{"$f":"ROUND($F1810-(($F1810-$F1815)/5*A$256),3)","v":0.23100000000000001}]
[null,10,-8,7,37,{"$f":"ROUND($F1810-(($F1810-$F1815)/5*A$257),3)","v":0.23300000000000001}]
[null,10,-8,7,38,{"$f":"ROUND($F1810-(($F1810-$F1815)/5*A$258),3)","v":0.23599999999999999}]
[null,10,-8,7,39,{"$f":"ROUND($F1810-(($F1810-$F1815)/5*A$259),3)","v":0.23799999999999999}]
[null,10,-8,7,40,{"$f":"'VDI 4650'!F68","v":0.24}]
[null,10,-8,7,41,{"$f":"ROUND($F1815-(($F1815-$F1820)/5*A$256),3)","v":0.24199999999999999}]
[null,10,-8,7,42,{"$f":"ROUND($F1815-(($F1815-$F1820)/5*A$257),3)","v":0.245}]
[null,10,-8,7,43,{"$f":"ROUND($F1815-(($F1815-$F1820)/5*A$258),3)","v":0.247}]
[null,10,-8,7,44,{"$f":"ROUND($F1815-(($F1815-$F1820)/5*A$259),3)","v":0.25}]
[null,10,-8,7,45,{"$f":"'VDI 4650'!G68","v":0.252}]
[null,10,-8,7,46,{"$f":"ROUND($F1820-(($F1820-$F1825)/5*A$256),3)","v":0.255}]
[null,10,-8,7,47,{"$f":"ROUND($F1820-(($F1820-$F1825)/5*A$257),3)","v":0.25700000000000001}]
[null,10,-8,7,48,{"$f":"ROUND($F1820-(($F1820-$F1825)/5*A$258),3)","v":0.26}]
[null,10,-8,7,49,{"$f":"ROUND($F1820-(($F1820-$F1825)/5*A$259),3)","v":0.26200000000000001}]
[null,10,-8,7,50,{"$f":"'VDI 4650'!H68","v":0.26500000000000001}]
[null,10,-8,7,51,{"$f":"ROUND($F1825-(($F1825-$F1830)/5*A$256),3)","v":0.26800000000000002}]
[null,10,-8,7,52,{"$f":"ROUND($F1825-(($F1825-$F1830)/5*A$257),3)","v":0.27100000000000002}]
[null,10,-8,7,53,{"$f":"ROUND($F1825-(($F1825-$F1830)/5*A$258),3)","v":0.27400000000000002}]
[null,10,-8,7,54,{"$f":"ROUND($F1825-(($F1825-$F1830)/5*A$259),3)","v":0.27700000000000002}]
[null,10,-8,7,55,{"$f":"'VDI 4650'!I68","v":0.28000000000000003}]
[null,10,-8,7,56,{"$f":"ROUND($F1830-(($F1830-$F1835)/5*A$256),3)","v":0.28299999999999997}]
[null,10,-8,7,57,{"$f":"ROUND($F1830-(($F1830-$F1835)/5*A$257),3)","v":0.28599999999999998}]
[null,10,-8,7,58,{"$f":"ROUND($F1830-(($F1830-$F1835)/5*A$258),3)","v":0.28899999999999998}]
[null,10,-8,7,59,{"$f":"ROUND($F1830-(($F1830-$F1835)/5*A$259),3)","v":0.29199999999999998}]
[null,10,-8,7,60,{"$f":"'VDI 4650'!J68","v":0.29499999999999998}]
[null,10,-9,-7,30,{"$f":"F1743","v":1.2E-2},{"$f":"F1929","v":3.3000000000000002E-2}]
[null,10,-9,-7,31,{"$f":"F1744","v":1.2E-2},{"$f":"F1930","v":3.3000000000000002E-2}]
[null,10,-9,-7,32,1.2E-2,3.4000000000000002E-2]
[null,10,-9,-7,33,1.2999999999999999E-2,3.4000000000000002E-2]
[null,10,-9,-7,34,1.2999999999999999E-2,3.5000000000000003E-2]
[null,10,-9,-7,35,1.2999999999999999E-2,3.5000000000000003E-2]
[null,10,-9,-7,36,1.2999999999999999E-2,3.5999999999999997E-2]
[null,10,-9,-7,37,1.2999999999999999E-2,3.5999999999999997E-2]
[null,10,-9,-7,38,1.4E-2,3.6999999999999998E-2]
[null,10,-9,-7,39,1.4E-2,3.6999999999999998E-2]
[null,10,-9,-7,40,1.4E-2,3.7999999999999999E-2]
[null,10,-9,-7,41,1.4E-2,3.9E-2]
[null,10,-9,-7,42,1.4E-2,0.04]
[null,10,-9,-7,43,1.4999999999999999E-2,0.04]
[null,10,-9,-7,44,1.4999999999999999E-2,4.1000000000000002E-2]
[null,10,-9,-7,45,1.4999999999999999E-2,4.2000000000000003E-2]
[null,10,-9,-7,46,1.4999999999999999E-2,4.2999999999999997E-2]
[null,10,-9,-7,47,1.6E-2,4.3999999999999997E-2]
[null,10,-9,-7,48,1.6E-2,4.3999999999999997E-2]
[null,10,-9,-7,49,1.7000000000000001E-2,4.4999999999999998E-2]
[null,10,-9,-7,50,1.7000000000000001E-2,4.5999999999999999E-2]
[null,10,-9,-7,51,1.7000000000000001E-2,4.7E-2]
[null,10,-9,-7,52,1.7999999999999999E-2,4.8000000000000001E-2]
[null,10,-9,-7,53,1.7999999999999999E-2,4.9000000000000002E-2]
[null,10,-9,-7,54,1.9E-2,0.05]
[null,10,-9,-7,55,1.9E-2,5.0999999999999997E-2]
[null,10,-9,-7,56,1.9E-2,5.1999999999999998E-2]
[null,10,-9,-7,57,0.02,5.2999999999999999E-2]
[null,10,-9,-7,58,0.02,5.3999999999999999E-2]
[null,10,-9,-7,59,2.1000000000000001E-2,5.5E-2]
[null,10,-9,-7,60,2.1000000000000001E-2,5.6000000000000001E-2]
[null,10,-9,2,30,0.61099999999999999,0.59799999999999998]
[null,10,-9,2,31,0.61799999999999999,0.60399999999999998]
[null,10,-9,2,32,0.625,0.61099999999999999]
[null,10,-9,2,33,0.63100000000000001,0.61699999999999999]
[null,10,-9,2,34,0.63800000000000001,0.624]
[null,10,-9,2,35,0.64500000000000002,0.63]
[null,10,-9,2,36,0.65300000000000002,0.63700000000000001]
[null,10,-9,2,37,0.66100000000000003,0.64400000000000002]
[null,10,-9,2,38,0.66800000000000004,0.65200000000000002]
[null,10,-9,2,39,0.67600000000000005,0.65900000000000003]
[null,10,-9,2,40,0.68400000000000005,0.66600000000000004]
[null,10,-9,2,41,0.69299999999999995,0.67400000000000004]
[null,10,-9,2,42,0.70099999999999996,0.68200000000000005]
[null,10,-9,2,43,0.71,0.69]
[null,10,-9,2,44,0.71799999999999997,0.69799999999999995]
[null,10,-9,2,45,0.72699999999999998,0.70599999999999996]
[null,10,-9,2,46,0.73699999999999999,0.71499999999999997]
[null,10,-9,2,47,0.747,0.72399999999999998]
[null,10,-9,2,48,0.75700000000000001,0.73299999999999998]
[null,10,-9,2,49,0.76700000000000002,0.74199999999999999]
[null,10,-9,2,50,0.77700000000000002,0.751]
[null,10,-9,2,51,0.78800000000000003,0.76100000000000001]
[null,10,-9,2,52,0.8,0.77200000000000002]
[null,10,-9,2,53,0.81100000000000005,0.78200000000000003]
[null,10,-9,2,54,0.82299999999999995,0.79300000000000004]
[null,10,-9,2,55,0.83399999999999996,0.80300000000000005]
[null,10,-9,2,56,0.84499999999999997,0.81299999999999994]
[null,10,-9,2,57,0.85599999999999998,0.82399999999999995]
[null,10,-9,2,58,0.86799999999999999,0.83399999999999996]
[null,10,-9,2,59,0.879,0.84499999999999997]
[null,10,-9,2,60,0.89,0.85499999999999998]
[null,10,-9,7,30,0.219,0.26]
[null,10,-9,7,31,0.221,0.26200000000000001]
[null,10,-9,7,32,0.223,0.26400000000000001]
[null,10,-9,7,33,{"$f":"F1808","v":0.22500000000000001},{"$f":"F1994","v":0.26700000000000002}]
[null,10,-9,7,34,0.22700000000000001,0.26900000000000002]
[null,10,-9,7,35,0.22900000000000001,0.27100000000000002]
[null,10,-9,7,36,0.23100000000000001,0.27300000000000002]
[null,10,-9,7,37,0.23300000000000001,0.27600000000000002]
[null,10,-9,7,38,0.23599999999999999,0.27800000000000002]
[null,10,-9,7,39,0.23799999999999999,0.28100000000000003]
[null,10,-9,7,40,0.24,0.28299999999999997]
[null,10,-9,7,41,0.24199999999999999,0.28499999999999998]
[null,10,-9,7,42,0.245,0.28799999999999998]
[null,10,-9,7,43,0.247,0.28999999999999998]
[null,10,-9,7,44,0.25,0.29299999999999998]
[null,10,-9,7,45,0.252,0.29499999999999998]
[null,10,-9,7,46,0.255,0.29799999999999999]
[null,10,-9,7,47,0.25700000000000001,0.30099999999999999]
[null,10,-9,7,48,0.26,0.30299999999999999]
[null,10,-9,7,49,0.26200000000000001,0.30599999999999999]
[null,10,-9,7,50,0.26500000000000001,0.309]
[null,10,-9,7,51,0.26800000000000002,0.312]
[null,10,-9,7,52,0.27100000000000002,0.315]
[null,10,-9,7,53,0.27400000000000002,0.318]
[null,10,-9,7,54,0.27700000000000002,0.32100000000000001]
[null,10,-9,7,55,0.28000000000000003,0.32400000000000001]
[null,10,-9,7,56,0.28299999999999997,0.32700000000000001]
[null,10,-9,7,57,0.28599999999999998,0.33]
[null,10,-9,7,58,0.28899999999999998,0.33400000000000002]
[null,10,-9,7,59,0.29199999999999998,0.33700000000000002]
[null,10,-9,7,60,0.29499999999999998,0.34]
[null,10,-10,-7,30,{"$f":"'VDI 4650'!D69","v":3.3000000000000002E-2}]
[null,10,-10,-7,31,{"$f":"ROUND($F1929-(($F1929-$F1934)/5*A$256),3)","v":3.3000000000000002E-2}]
[null,10,-10,-7,32,{"$f":"ROUND($F1929-(($F1929-$F1934)/5*A$257),3)","v":3.4000000000000002E-2}]
[null,10,-10,-7,33,{"$f":"ROUND($F1929-(($F1929-$F1934)/5*A$258),3)","v":3.4000000000000002E-2}]
[null,10,-10,-7,34,{"$f":"ROUND($F1929-(($F1929-$F1934)/5*A$259),3)","v":3.5000000000000003E-2}]
[null,10,-10,-7,35,{"$f":"'VDI 4650'!E69","v":3.5000000000000003E-2}]
[null,10,-10,-7,36,{"$f":"ROUND($F1934-(($F1934-$F1939)/5*A$256),3)","v":3.5999999999999997E-2}]
[null,10,-10,-7,37,{"$f":"ROUND($F1934-(($F1934-$F1939)/5*A$257),3)","v":3.5999999999999997E-2}]
[null,10,-10,-7,38,{"$f":"ROUND($F1934-(($F1934-$F1939)/5*A$258),3)","v":3.6999999999999998E-2}]
[null,10,-10,-7,39,{"$f":"ROUND($F1934-(($F1934-$F1939)/5*A$259),3)","v":3.6999999999999998E-2}]
[null,10,-10,-7,40,{"$f":"'VDI 4650'!F69","v":3.7999999999999999E-2}]
[null,10,-10,-7,41,{"$f":"ROUND($F1939-(($F1939-$F1944)/5*A$256),3)","v":3.9E-2}]
[null,10,-10,-7,42,{"$f":"ROUND($F1939-(($F1939-$F1944)/5*A$257),3)","v":0.04}]
[null,10,-10,-7,43,{"$f":"ROUND($F1939-(($F1939-$F1944)/5*A$258),3)","v":0.04}]
[null,10,-10,-7,44,{"$f":"ROUND($F1939-(($F1939-$F1944)/5*A$259),3)","v":4.1000000000000002E-2}]
[null,10,-10,-7,45,{"$f":"'VDI 4650'!G69","v":4.2000000000000003E-2}]
[null,10,-10,-7,46,{"$f":"ROUND($F1944-(($F1944-$F1949)/5*A$256),3)","v":4.2999999999999997E-2}]
[null,10,-10,-7,47,{"$f":"ROUND($F1944-(($F1944-$F1949)/5*A$257),3)","v":4.3999999999999997E-2}]
[null,10,-10,-7,48,{"$f":"ROUND($F1944-(($F1944-$F1949)/5*A$258),3)","v":4.3999999999999997E-2}]
[null,10,-10,-7,49,{"$f":"ROUND($F1944-(($F1944-$F1949)/5*A$259),3)","v":4.4999999999999998E-2}]
[null,10,-10,-7,50,{"$f":"'VDI 4650'!H69","v":4.5999999999999999E-2}]
[null,10,-10,-7,51,{"$f":"ROUND($F1949-(($F1949-$F1954)/5*A$256),3)","v":4.7E-2}]
[null,10,-10,-7,52,{"$f":"ROUND($F1949-(($F1949-$F1954)/5*A$257),3)","v":4.8000000000000001E-2}]
[null,10,-10,-7,53,{"$f":"ROUND($F1949-(($F1949-$F1954)/5*A$258),3)","v":4.9000000000000002E-2}]
[null,10,-10,-7,54,{"$f":"ROUND($F1949-(($F1949-$F1954)/5*A$259),3)","v":0.05}]
[null,10,-10,-7,55,{"$f":"'VDI 4650'!I69","v":5.0999999999999997E-2}]
[null,10,-10,-7,56,{"$f":"ROUND($F1954-(($F1954-$F1959)/5*A$256),3)","v":5.1999999999999998E-2}]
[null,10,-10,-7,57,{"$f":"ROUND($F1954-(($F1954-$F1959)/5*A$257),3)","v":5.2999999999999999E-2}]
[null,10,-10,-7,58,{"$f":"ROUND($F1954-(($F1954-$F1959)/5*A$258),3)","v":5.3999999999999999E-2}]
[null,10,-10,-7,59,{"$f":"ROUND($F1954-(($F1954-$F1959)/5*A$259),3)","v":5.5E-2}]
[null,10,-10,-7,60,{"$f":"'VDI 4650'!J69","v":5.6000000000000001E-2}]
[null,10,-10,2,30,{"$f":"'VDI 4650'!D70","v":0.59799999999999998}]
[null,10,-10,2,31,{"$f":"ROUND($F1960-(($F1960-$F1965)/5*A$256),3)","v":0.60399999999999998}]
[null,10,-10,2,32,{"$f":"ROUND($F1960-(($F1960-$F1965)/5*A$257),3)","v":0.61099999999999999}]
[null,10,-10,2,33,{"$f":"ROUND($F1960-(($F1960-$F1965)/5*A$258),3)","v":0.61699999999999999}]
[null,10,-10,2,34,{"$f":"ROUND($F1960-(($F1960-$F1965)/5*A$259),3)","v":0.624}]
[null,10,-10,2,35,{"$f":"'VDI 4650'!E70","v":0.63}]
[null,10,-10,2,36,{"$f":"ROUND($F1965-(($F1965-$F1970)/5*A$256),3)","v":0.63700000000000001}]
[null,10,-10,2,37,{"$f":"ROUND($F1965-(($F1965-$F1970)/5*A$257),3)","v":0.64400000000000002}]
[null,10,-10,2,38,{"$f":"ROUND($F1965-(($F1965-$F1970)/5*A$258),3)","v":0.65200000000000002}]
[null,10,-10,2,39,{"$f":"ROUND($F1965-(($F1965-$F1970)/5*A$259),3)","v":0.65900000000000003}]
[null,10,-10,2,40,{"$f":"'VDI 4650'!F70","v":0.66600000000000004}]
[null,10,-10,2,41,{"$f":"ROUND($F1970-(($F1970-$F1975)/5*A$256),3)","v":0.67400000000000004}]
[null,10,-10,2,42,{"$f":"ROUND($F1970-(($F1970-$F1975)/5*A$257),3)","v":0.68200000000000005}]
[null,10,-10,2,43,{"$f":"ROUND($F1970-(($F1970-$F1975)/5*A$258),3)","v":0.69}]
[null,10,-10,2,44,{"$f":"ROUND($F1970-(($F1970-$F1975)/5*A$259),3)","v":0.69799999999999995}]
[null,10,-10,2,45,{"$f":"'VDI 4650'!G70","v":0.70599999999999996}]
[null,10,-10,2,46,{"$f":"ROUND($F1975-(($F1975-$F1980)/5*A$256),3)","v":0.71499999999999997}]
[null,10,-10,2,47,{"$f":"ROUND($F1975-(($F1975-$F1980)/5*A$257),3)","v":0.72399999999999998}]
[null,10,-10,2,48,{"$f":"ROUND($F1975-(($F1975-$F1980)/5*A$258),3)","v":0.73299999999999998}]
[null,10,-10,2,49,{"$f":"ROUND($F1975-(($F1975-$F1980)/5*A$259),3)","v":0.74199999999999999}]
[null,10,-10,2,50,{"$f":"'VDI 4650'!H70","v":0.751}]
[null,10,-10,2,51,{"$f":"ROUND($F1980-(($F1980-$F1985)/5*A$256),3)","v":0.76100000000000001}]
[null,10,-10,2,52,{"$f":"ROUND($F1980-(($F1980-$F1985)/5*A$257),3)","v":0.77200000000000002}]
[null,10,-10,2,53,{"$f":"ROUND($F1980-(($F1980-$F1985)/5*A$258),3)","v":0.78200000000000003}]
[null,10,-10,2,54,{"$f":"ROUND($F1980-(($F1980-$F1985)/5*A$259),3)","v":0.79300000000000004}]
[null,10,-10,2,55,{"$f":"'VDI 4650'!I70","v":0.80300000000000005}]
[null,10,-10,2,56,{"$f":"ROUND($F1985-(($F1985-$F1990)/5*A$256),3)","v":0.81299999999999994}]
[null,10,-10,2,57,{"$f":"ROUND($F1985-(($F1985-$F1990)/5*A$257),3)","v":0.82399999999999995}]
[null,10,-10,2,58,{"$f":"ROUND($F1985-(($F1985-$F1990)/5*A$258),3)","v":0.83399999999999996}]
[null,10,-10,2,59,{"$f":"ROUND($F1985-(($F1985-$F1990)/5*A$259),3)","v":0.84499999999999997}]
[null,10,-10,2,60,{"$f":"'VDI 4650'!J70","v":0.85499999999999998}]
[null,10,-10,7,30,{"$f":"'VDI 4650'!D71","v":0.26}]
[null,10,-10,7,31,{"$f":"ROUND($F1991-(($F1991-$F1996)/5*A$256),3)","v":0.26200000000000001}]
[null,10,-10,7,32,{"$f":"ROUND($F1991-(($F1991-$F1996)/5*A$257),3)","v":0.26400000000000001}]
[null,10,-10,7,33,{"$f":"ROUND($F1991-(($F1991-$F1996)/5*A$258),3)","v":0.26700000000000002}]
[null,10,-10,7,34,{"$f":"ROUND($F1991-(($F1991-$F1996)/5*A$259),3)","v":0.26900000000000002}]
[null,10,-10,7,35,{"$f":"'VDI 4650'!E71","v":0.27100000000000002}]
[null,10,-10,7,36,{"$f":"ROUND($F1996-(($F1996-$F2001)/5*A$256),3)","v":0.27300000000000002}]
[null,10,-10,7,37,{"$f":"ROUND($F1996-(($F1996-$F2001)/5*A$257),3)","v":0.27600000000000002}]
[null,10,-10,7,38,{"$f":"ROUND($F1996-(($F1996-$F2001)/5*A$258),3)","v":0.27800000000000002}]
[null,10,-10,7,39,{"$f":"ROUND($F1996-(($F1996-$F2001)/5*A$259),3)","v":0.28100000000000003}]
[null,10,-10,7,40,{"$f":"'VDI 4650'!F71","v":0.28299999999999997}]
[null,10,-10,7,41,{"$f":"ROUND($F2001-(($F2001-$F2006)/5*A$256),3)","v":0.28499999999999998}]
[null,10,-10,7,42,{"$f":"ROUND($F2001-(($F2001-$F2006)/5*A$257),3)","v":0.28799999999999998}]
[null,10,-10,7,43,{"$f":"ROUND($F2001-(($F2001-$F2006)/5*A$258),3)","v":0.28999999999999998}]
[null,10,-10,7,44,{"$f":"ROUND($F2001-(($F2001-$F2006)/5*A$259),3)","v":0.29299999999999998}]
[null,10,-10,7,45,{"$f":"'VDI 4650'!G71","v":0.29499999999999998}]
[null,10,-10,7,46,{"$f":"ROUND($F2006-(($F2006-$F2011)/5*A$256),3)","v":0.29799999999999999}]
[null,10,-10,7,47,{"$f":"ROUND($F2006-(($F2006-$F2011)/5*A$257),3)","v":0.30099999999999999}]
[null,10,-10,7,48,{"$f":"ROUND($F2006-(($F2006-$F2011)/5*A$258),3)","v":0.30299999999999999}]
[null,10,-10,7,49,{"$f":"ROUND($F2006-(($F2006-$F2011)/5*A$259),3)","v":0.30599999999999999}]
[null,10,-10,7,50,{"$f":"'VDI 4650'!H71","v":0.309}]
[null,10,-10,7,51,{"$f":"ROUND($F2011-(($F2011-$F2016)/5*A$256),3)","v":0.312}]
[null,10,-10,7,52,{"$f":"ROUND($F2011-(($F2011-$F2016)/5*A$257),3)","v":0.315}]
[null,10,-10,7,53,{"$f":"ROUND($F2011-(($F2011-$F2016)/5*A$258),3)","v":0.318}]
[null,10,-10,7,54,{"$f":"ROUND($F2011-(($F2011-$F2016)/5*A$259),3)","v":0.32100000000000001}]
[null,10,-10,7,55,{"$f":"'VDI 4650'!I71","v":0.32400000000000001}]
[null,10,-10,7,56,{"$f":"ROUND($F2016-(($F2016-$F2021)/5*A$256),3)","v":0.32700000000000001}]
[null,10,-10,7,57,{"$f":"ROUND($F2016-(($F2016-$F2021)/5*A$257),3)","v":0.33}]
[null,10,-10,7,58,{"$f":"ROUND($F2016-(($F2016-$F2021)/5*A$258),3)","v":0.33400000000000002}]
[null,10,-10,7,59,{"$f":"ROUND($F2016-(($F2016-$F2021)/5*A$259),3)","v":0.33700000000000002}]
[null,10,-10,7,60,{"$f":"'VDI 4650'!J71","v":0.34}]
[null,10,-11,-7,30,{"$f":"F1929","v":3.3000000000000002E-2},{"$f":"F2115","v":5.3999999999999999E-2}]
[null,10,-11,-7,31,{"$f":"F1930","v":3.3000000000000002E-2},{"$f":"F2116","v":5.5E-2}]
[null,10,-11,-7,32,3.4000000000000002E-2,5.6000000000000001E-2]
[null,10,-11,-7,33,3.4000000000000002E-2,5.6000000000000001E-2]
[null,10,-11,-7,34,3.5000000000000003E-2,5.7000000000000002E-2]
[null,10,-11,-7,35,3.5000000000000003E-2,5.8000000000000003E-2]
[null,10,-11,-7,36,3.5999999999999997E-2,5.8999999999999997E-2]
[null,10,-11,-7,37,3.5999999999999997E-2,0.06]
[null,10,-11,-7,38,3.6999999999999998E-2,6.0999999999999999E-2]
[null,10,-11,-7,39,3.6999999999999998E-2,6.2E-2]
[null,10,-11,-7,40,3.7999999999999999E-2,6.3E-2]
[null,10,-11,-7,41,3.9E-2,6.4000000000000001E-2]
[null,10,-11,-7,42,0.04,6.5000000000000002E-2]
[null,10,-11,-7,43,0.04,6.6000000000000003E-2]
[null,10,-11,-7,44,4.1000000000000002E-2,6.7000000000000004E-2]
[null,10,-11,-7,45,4.2000000000000003E-2,6.8000000000000005E-2]
[null,10,-11,-7,46,4.2999999999999997E-2,6.9000000000000006E-2]
[null,10,-11,-7,47,4.3999999999999997E-2,7.0000000000000007E-2]
[null,10,-11,-7,48,4.3999999999999997E-2,7.1999999999999995E-2]
[null,10,-11,-7,49,4.4999999999999998E-2,7.2999999999999995E-2]
[null,10,-11,-7,50,4.5999999999999999E-2,7.3999999999999996E-2]
[null,10,-11,-7,51,4.7E-2,7.5999999999999998E-2]
[null,10,-11,-7,52,4.8000000000000001E-2,7.6999999999999999E-2]
[null,10,-11,-7,53,4.9000000000000002E-2,7.9000000000000001E-2]
[null,10,-11,-7,54,0.05,0.08]
[null,10,-11,-7,55,5.0999999999999997E-2,8.2000000000000003E-2]
[null,10,-11,-7,56,5.1999999999999998E-2,8.3000000000000004E-2]
[null,10,-11,-7,57,5.2999999999999999E-2,8.5000000000000006E-2]
[null,10,-11,-7,58,5.3999999999999999E-2,8.5999999999999993E-2]
[null,10,-11,-7,59,5.5E-2,8.7999999999999995E-2]
[null,10,-11,-7,60,5.6000000000000001E-2,8.8999999999999996E-2]
[null,10,-11,2,30,0.59799999999999998,0.64]
[null,10,-11,2,31,0.60399999999999998,0.64700000000000002]
[null,10,-11,2,32,0.61099999999999999,0.65300000000000002]
[null,10,-11,2,33,0.61699999999999999,0.66]
[null,10,-11,2,34,0.624,0.66600000000000004]
[null,10,-11,2,35,0.63,0.67300000000000004]
[null,10,-11,2,36,0.63700000000000001,0.68]
[null,10,-11,2,37,0.64400000000000002,0.68700000000000006]
[null,10,-11,2,38,0.65200000000000002,0.69499999999999995]
[null,10,-11,2,39,0.65900000000000003,0.70199999999999996]
[null,10,-11,2,40,0.66600000000000004,0.70899999999999996]
[null,10,-11,2,41,0.67400000000000004,0.71699999999999997]
[null,10,-11,2,42,0.68200000000000005,0.72499999999999998]
[null,10,-11,2,43,0.69,0.73299999999999998]
[null,10,-11,2,44,0.69799999999999995,0.74099999999999999]
[null,10,-11,2,45,0.70599999999999996,0.749]
[null,10,-11,2,46,0.71499999999999997,0.75800000000000001]
[null,10,-11,2,47,0.72399999999999998,0.76700000000000002]
[null,10,-11,2,48,0.73299999999999998,0.77700000000000002]
[null,10,-11,2,49,0.74199999999999999,0.78600000000000003]
[null,10,-11,2,50,0.751,0.79500000000000004]
[null,10,-11,2,51,0.76100000000000001,0.80500000000000005]
[null,10,-11,2,52,0.77200000000000002,0.81499999999999995]
[null,10,-11,2,53,0.78200000000000003,0.82599999999999996]
[null,10,-11,2,54,0.79300000000000004,0.83599999999999997]
[null,10,-11,2,55,0.80300000000000005,0.84599999999999997]
[null,10,-11,2,56,0.81299999999999994,0.85599999999999998]
[null,10,-11,2,57,0.82399999999999995,0.86599999999999999]
[null,10,-11,2,58,0.83399999999999996,0.877]
[null,10,-11,2,59,0.84499999999999997,0.88700000000000001]
[null,10,-11,2,60,0.85499999999999998,0.89700000000000002]
[null,10,-11,7,30,0.26,0.2]
[null,10,-11,7,31,0.26200000000000001,0.20200000000000001]
[null,10,-11,7,32,0.26400000000000001,0.20300000000000001]
[null,10,-11,7,33,{"$f":"F1994","v":0.26700000000000002},{"$f":"F2180","v":0.20499999999999999}]
[null,10,-11,7,34,0.26900000000000002,0.20599999999999999]
[null,10,-11,7,35,0.27100000000000002,0.20799999999999999]
[null,10,-11,7,36,0.27300000000000002,0.21]
[null,10,-11,7,37,0.27600000000000002,0.21199999999999999]
[null,10,-11,7,38,0.27800000000000002,0.21299999999999999]
[null,10,-11,7,39,0.28100000000000003,0.215]
[null,10,-11,7,40,0.28299999999999997,0.217]
[null,10,-11,7,41,0.28499999999999998,0.219]
[null,10,-11,7,42,0.28799999999999998,0.221]
[null,10,-11,7,43,0.28999999999999998,0.222]
[null,10,-11,7,44,0.29299999999999998,0.224]
[null,10,-11,7,45,0.29499999999999998,0.22600000000000001]
[null,10,-11,7,46,0.29799999999999999,0.22800000000000001]
[null,10,-11,7,47,0.30099999999999999,0.23]
[null,10,-11,7,48,0.30299999999999999,0.23200000000000001]
[null,10,-11,7,49,0.30599999999999999,0.23400000000000001]
[null,10,-11,7,50,0.309,0.23599999999999999]
[null,10,-11,7,51,0.312,0.23799999999999999]
[null,10,-11,7,52,0.315,0.24]
[null,10,-11,7,53,0.318,0.24199999999999999]
[null,10,-11,7,54,0.32100000000000001,0.24399999999999999]
[null,10,-11,7,55,0.32400000000000001,0.246]
[null,10,-11,7,56,0.32700000000000001,0.248]
[null,10,-11,7,57,0.33,0.25]
[null,10,-11,7,58,0.33400000000000002,0.253]
[null,10,-11,7,59,0.33700000000000002,0.255]
[null,10,-11,7,60,0.34,0.25700000000000001]
[null,10,-12,-7,30,{"$f":"'VDI 4650'!D72","v":5.3999999999999999E-2}]
[null,10,-12,-7,31,{"$f":"ROUND($F2115-(($F2115-$F2120)/5*A$256),3)","v":5.5E-2}]
[null,10,-12,-7,32,{"$f":"ROUND($F2115-(($F2115-$F2120)/5*A$257),3)","v":5.6000000000000001E-2}]
[null,10,-12,-7,33,{"$f":"ROUND($F2115-(($F2115-$F2120)/5*A$258),3)","v":5.6000000000000001E-2}]
[null,10,-12,-7,34,{"$f":"ROUND($F2115-(($F2115-$F2120)/5*A$259),3)","v":5.7000000000000002E-2}]
[null,10,-12,-7,35,{"$f":"'VDI 4650'!E72","v":5.8000000000000003E-2}]
[null,10,-12,-7,36,{"$f":"ROUND($F2120-(($F2120-$F2125)/5*A$256),3)","v":5.8999999999999997E-2}]
[null,10,-12,-7,37,{"$f":"ROUND($F2120-(($F2120-$F2125)/5*A$257),3)","v":0.06}]
[null,10,-12,-7,38,{"$f":"ROUND($F2120-(($F2120-$F2125)/5*A$258),3)","v":6.0999999999999999E-2}]
[null,10,-12,-7,39,{"$f":"ROUND($F2120-(($F2120-$F2125)/5*A$259),3)","v":6.2E-2}]
[null,10,-12,-7,40,{"$f":"'VDI 4650'!F72","v":6.3E-2}]
[null,10,-12,-7,41,{"$f":"ROUND($F2125-(($F2125-$F2130)/5*A$256),3)","v":6.4000000000000001E-2}]
[null,10,-12,-7,42,{"$f":"ROUND($F2125-(($F2125-$F2130)/5*A$257),3)","v":6.5000000000000002E-2}]
[null,10,-12,-7,43,{"$f":"ROUND($F2125-(($F2125-$F2130)/5*A$258),3)","v":6.6000000000000003E-2}]
[null,10,-12,-7,44,{"$f":"ROUND($F2125-(($F2125-$F2130)/5*A$259),3)","v":6.7000000000000004E-2}]
[null,10,-12,-7,45,{"$f":"'VDI 4650'!G72","v":6.8000000000000005E-2}]
[null,10,-12,-7,46,{"$f":"ROUND($F2130-(($F2130-$F2135)/5*A$256),3)","v":6.9000000000000006E-2}]
[null,10,-12,-7,47,{"$f":"ROUND($F2130-(($F2130-$F2135)/5*A$257),3)","v":7.0000000000000007E-2}]
[null,10,-12,-7,48,{"$f":"ROUND($F2130-(($F2130-$F2135)/5*A$258),3)","v":7.1999999999999995E-2}]
[null,10,-12,-7,49,{"$f":"ROUND($F2130-(($F2130-$F2135)/5*A$259),3)","v":7.2999999999999995E-2}]
[null,10,-12,-7,50,{"$f":"'VDI 4650'!H72","v":7.3999999999999996E-2}]
[null,10,-12,-7,51,{"$f":"ROUND($F2135-(($F2135-$F2140)/5*A$256),3)","v":7.5999999999999998E-2}]
[null,10,-12,-7,52,{"$f":"ROUND($F2135-(($F2135-$F2140)/5*A$257),3)","v":7.6999999999999999E-2}]
[null,10,-12,-7,53,{"$f":"ROUND($F2135-(($F2135-$F2140)/5*A$258),3)","v":7.9000000000000001E-2}]
[null,10,-12,-7,54,{"$f":"ROUND($F2135-(($F2135-$F2140)/5*A$259),3)","v":0.08}]
[null,10,-12,-7,55,{"$f":"'VDI 4650'!I72","v":8.2000000000000003E-2}]
[null,10,-12,-7,56,{"$f":"ROUND($F2140-(($F2140-$F2145)/5*A$256),3)","v":8.3000000000000004E-2}]
[null,10,-12,-7,57,{"$f":"ROUND($F2140-(($F2140-$F2145)/5*A$257),3)","v":8.5000000000000006E-2}]
[null,10,-12,-7,58,{"$f":"ROUND($F2140-(($F2140-$F2145)/5*A$258),3)","v":8.5999999999999993E-2}]
[null,10,-12,-7,59,{"$f":"ROUND($F2140-(($F2140-$F2145)/5*A$259),3)","v":8.7999999999999995E-2}]
[null,10,-12,-7,60,{"$f":"'VDI 4650'!J72","v":8.8999999999999996E-2}]
[null,10,-12,2,30,{"$f":"'VDI 4650'!D73","v":0.64}]
[null,10,-12,2,31,{"$f":"ROUND($F2146-(($F2146-$F2151)/5*A$256),3)","v":0.64700000000000002}]
[null,10,-12,2,32,{"$f":"ROUND($F2146-(($F2146-$F2151)/5*A$257),3)","v":0.65300000000000002}]
[null,10,-12,2,33,{"$f":"ROUND($F2146-(($F2146-$F2151)/5*A$258),3)","v":0.66}]
[null,10,-12,2,34,{"$f":"ROUND($F2146-(($F2146-$F2151)/5*A$259),3)","v":0.66600000000000004}]
[null,10,-12,2,35,{"$f":"'VDI 4650'!E73","v":0.67300000000000004}]
[null,10,-12,2,36,{"$f":"ROUND($F2151-(($F2151-$F2156)/5*A$256),3)","v":0.68}]
[null,10,-12,2,37,{"$f":"ROUND($F2151-(($F2151-$F2156)/5*A$257),3)","v":0.68700000000000006}]
[null,10,-12,2,38,{"$f":"ROUND($F2151-(($F2151-$F2156)/5*A$258),3)","v":0.69499999999999995}]
[null,10,-12,2,39,{"$f":"ROUND($F2151-(($F2151-$F2156)/5*A$259),3)","v":0.70199999999999996}]
[null,10,-12,2,40,{"$f":"'VDI 4650'!F73","v":0.70899999999999996}]
[null,10,-12,2,41,{"$f":"ROUND($F2156-(($F2156-$F2161)/5*A$256),3)","v":0.71699999999999997}]
[null,10,-12,2,42,{"$f":"ROUND($F2156-(($F2156-$F2161)/5*A$257),3)","v":0.72499999999999998}]
[null,10,-12,2,43,{"$f":"ROUND($F2156-(($F2156-$F2161)/5*A$258),3)","v":0.73299999999999998}]
[null,10,-12,2,44,{"$f":"ROUND($F2156-(($F2156-$F2161)/5*A$259),3)","v":0.74099999999999999}]
[null,10,-12,2,45,{"$f":"'VDI 4650'!G73","v":0.749}]
[null,10,-12,2,46,{"$f":"ROUND($F2161-(($F2161-$F2166)/5*A$256),3)","v":0.75800000000000001}]
[null,10,-12,2,47,{"$f":"ROUND($F2161-(($F2161-$F2166)/5*A$257),3)","v":0.76700000000000002}]
[null,10,-12,2,48,{"$f":"ROUND($F2161-(($F2161-$F2166)/5*A$258),3)","v":0.77700000000000002}]
[null,10,-12,2,49,{"$f":"ROUND($F2161-(($F2161-$F2166)/5*A$259),3)","v":0.78600000000000003}]
[null,10,-12,2,50,{"$f":"'VDI 4650'!H73","v":0.79500000000000004}]
[null,10,-12,2,51,{"$f":"ROUND($F2166-(($F2166-$F2171)/5*A$256),3)","v":0.80500000000000005}]
[null,10,-12,2,52,{"$f":"ROUND($F2166-(($F2166-$F2171)/5*A$257),3)","v":0.81499999999999995}]
[null,10,-12,2,53,{"$f":"ROUND($F2166-(($F2166-$F2171)/5*A$258),3)","v":0.82599999999999996}]
[null,10,-12,2,54,{"$f":"ROUND($F2166-(($F2166-$F2171)/5*A$259),3)","v":0.83599999999999997}]
[null,10,-12,2,55,{"$f":"'VDI 4650'!I73","v":0.84599999999999997}]
[null,10,-12,2,56,{"$f":"ROUND($F2171-(($F2171-$F2176)/5*A$256),3)","v":0.85599999999999998}]
[null,10,-12,2,57,{"$f":"ROUND($F2171-(($F2171-$F2176)/5*A$257),3)","v":0.86599999999999999}]
[null,10,-12,2,58,{"$f":"ROUND($F2171-(($F2171-$F2176)/5*A$258),3)","v":0.877}]
[null,10,-12,2,59,{"$f":"ROUND($F2171-(($F2171-$F2176)/5*A$259),3)","v":0.88700000000000001}]
[null,10,-12,2,60,{"$f":"'VDI 4650'!J73","v":0.89700000000000002}]
[null,10,-12,7,30,{"$f":"'VDI 4650'!D74","v":0.2}]
[null,10,-12,7,31,{"$f":"ROUND($F2177-(($F2177-$F2182)/5*A$256),3)","v":0.20200000000000001}]
[null,10,-12,7,32,{"$f":"ROUND($F2177-(($F2177-$F2182)/5*A$257),3)","v":0.20300000000000001}]
[null,10,-12,7,33,{"$f":"ROUND($F2177-(($F2177-$F2182)/5*A$258),3)","v":0.20499999999999999}]
[null,10,-12,7,34,{"$f":"ROUND($F2177-(($F2177-$F2182)/5*A$259),3)","v":0.20599999999999999}]
[null,10,-12,7,35,{"$f":"'VDI 4650'!E74","v":0.20799999999999999}]
[null,10,-12,7,36,{"$f":"ROUND($F2182-(($F2182-$F2187)/5*A$256),3)","v":0.21}]
[null,10,-12,7,37,{"$f":"ROUND($F2182-(($F2182-$F2187)/5*A$257),3)","v":0.21199999999999999}]
[null,10,-12,7,38,{"$f":"ROUND($F2182-(($F2182-$F2187)/5*A$258),3)","v":0.21299999999999999}]
[null,10,-12,7,39,{"$f":"ROUND($F2182-(($F2182-$F2187)/5*A$259),3)","v":0.215}]
[null,10,-12,7,40,{"$f":"'VDI 4650'!F74","v":0.217}]
[null,10,-12,7,41,{"$f":"ROUND($F2187-(($F2187-$F2192)/5*A$256),3)","v":0.219}]
[null,10,-12,7,42,{"$f":"ROUND($F2187-(($F2187-$F2192)/5*A$257),3)","v":0.221}]
[null,10,-12,7,43,{"$f":"ROUND($F2187-(($F2187-$F2192)/5*A$258),3)","v":0.222}]
[null,10,-12,7,44,{"$f":"ROUND($F2187-(($F2187-$F2192)/5*A$259),3)","v":0.224}]
[null,10,-12,7,45,{"$f":"'VDI 4650'!G74","v":0.22600000000000001}]
[null,10,-12,7,46,{"$f":"ROUND($F2192-(($F2192-$F2197)/5*A$256),3)","v":0.22800000000000001}]
[null,10,-12,7,47,{"$f":"ROUND($F2192-(($F2192-$F2197)/5*A$257),3)","v":0.23}]
[null,10,-12,7,48,{"$f":"ROUND($F2192-(($F2192-$F2197)/5*A$258),3)","v":0.23200000000000001}]
[null,10,-12,7,49,{"$f":"ROUND($F2192-(($F2192-$F2197)/5*A$259),3)","v":0.23400000000000001}]
[null,10,-12,7,50,{"$f":"'VDI 4650'!H74","v":0.23599999999999999}]
[null,10,-12,7,51,{"$f":"ROUND($F2197-(($F2197-$F2202)/5*A$256),3)","v":0.23799999999999999}]
[null,10,-12,7,52,{"$f":"ROUND($F2197-(($F2197-$F2202)/5*A$257),3)","v":0.24}]
[null,10,-12,7,53,{"$f":"ROUND($F2197-(($F2197-$F2202)/5*A$258),3)","v":0.24199999999999999}]
[null,10,-12,7,54,{"$f":"ROUND($F2197-(($F2197-$F2202)/5*A$259),3)","v":0.24399999999999999}]
[null,10,-12,7,55,{"$f":"'VDI 4650'!I74","v":0.246}]
[null,10,-12,7,56,{"$f":"ROUND($F2202-(($F2202-$F2207)/5*A$256),3)","v":0.248}]
[null,10,-12,7,57,{"$f":"ROUND($F2202-(($F2202-$F2207)/5*A$257),3)","v":0.25}]
[null,10,-12,7,58,{"$f":"ROUND($F2202-(($F2202-$F2207)/5*A$258),3)","v":0.253}]
[null,10,-12,7,59,{"$f":"ROUND($F2202-(($F2202-$F2207)/5*A$259),3)","v":0.255}]
[null,10,-12,7,60,{"$f":"'VDI 4650'!J74","v":0.25700000000000001}]
[null,10,-13,-7,30,{"$f":"F2115","v":5.3999999999999999E-2},{"$f":"F2301","v":0.124}]
[null,10,-13,-7,31,{"$f":"F2116","v":5.5E-2},{"$f":"F2302","v":0.126}]
[null,10,-13,-7,32,5.6000000000000001E-2,0.128]
[null,10,-13,-7,33,5.6000000000000001E-2,0.129]
[null,10,-13,-7,34,5.7000000000000002E-2,0.13100000000000001]
[null,10,-13,-7,35,5.8000000000000003E-2,0.13300000000000001]
[null,10,-13,-7,36,5.8999999999999997E-2,0.13500000000000001]
[null,10,-13,-7,37,0.06,0.13700000000000001]
[null,10,-13,-7,38,6.0999999999999999E-2,0.13900000000000001]
[null,10,-13,-7,39,6.2E-2,0.14099999999999999]
[null,10,-13,-7,40,6.3E-2,0.14299999999999999]
[null,10,-13,-7,41,6.4000000000000001E-2,0.14499999999999999]
[null,10,-13,-7,42,6.5000000000000002E-2,0.14699999999999999]
[null,10,-13,-7,43,6.6000000000000003E-2,0.15]
[null,10,-13,-7,44,6.7000000000000004E-2,0.152]
[null,10,-13,-7,45,6.8000000000000005E-2,0.154]
[null,10,-13,-7,46,6.9000000000000006E-2,0.157]
[null,10,-13,-7,47,7.0000000000000007E-2,0.159]
[null,10,-13,-7,48,7.1999999999999995E-2,0.16200000000000001]
[null,10,-13,-7,49,7.2999999999999995E-2,0.16400000000000001]
[null,10,-13,-7,50,7.3999999999999996E-2,0.16700000000000001]
[null,10,-13,-7,51,7.5999999999999998E-2,0.17]
[null,10,-13,-7,52,7.6999999999999999E-2,0.17299999999999999]
[null,10,-13,-7,53,7.9000000000000001E-2,0.17699999999999999]
[null,10,-13,-7,54,0.08,0.18]
[null,10,-13,-7,55,8.2000000000000003E-2,0.183]
[null,10,-13,-7,56,8.3000000000000004E-2,0.186]
[null,10,-13,-7,57,8.5000000000000006E-2,0.189]
[null,10,-13,-7,58,8.5999999999999993E-2,0.193]
[null,10,-13,-7,59,8.7999999999999995E-2,0.19600000000000001]
[null,10,-13,-7,60,8.8999999999999996E-2,0.19900000000000001]
[null,10,-13,2,30,0.64,0.629]
[null,10,-13,2,31,0.64700000000000002,0.63500000000000001]
[null,10,-13,2,32,0.65300000000000002,0.64100000000000001]
[null,10,-13,2,33,0.66,0.64700000000000002]
[null,10,-13,2,34,0.66600000000000004,0.65300000000000002]
[null,10,-13,2,35,0.67300000000000004,0.65900000000000003]
[null,10,-13,2,36,0.68,0.66600000000000004]
[null,10,-13,2,37,0.68700000000000006,0.67300000000000004]
[null,10,-13,2,38,0.69499999999999995,0.68]
[null,10,-13,2,39,0.70199999999999996,0.68700000000000006]
[null,10,-13,2,40,0.70899999999999996,0.69399999999999995]
[null,10,-13,2,41,0.71699999999999997,0.70099999999999996]
[null,10,-13,2,42,0.72499999999999998,0.70899999999999996]
[null,10,-13,2,43,0.73299999999999998,0.71599999999999997]
[null,10,-13,2,44,0.74099999999999999,0.72399999999999998]
[null,10,-13,2,45,0.749,0.73099999999999998]
[null,10,-13,2,46,0.75800000000000001,0.74]
[null,10,-13,2,47,0.76700000000000002,0.748]
[null,10,-13,2,48,0.77700000000000002,0.75700000000000001]
[null,10,-13,2,49,0.78600000000000003,0.76500000000000001]
[null,10,-13,2,50,0.79500000000000004,0.77400000000000002]
[null,10,-13,2,51,0.80500000000000005,0.78300000000000003]
[null,10,-13,2,52,0.81499999999999995,0.79300000000000004]
[null,10,-13,2,53,0.82599999999999996,0.80200000000000005]
[null,10,-13,2,54,0.83599999999999997,0.81200000000000006]
[null,10,-13,2,55,0.84599999999999997,0.82099999999999995]
[null,10,-13,2,56,0.85599999999999998,0.83099999999999996]
[null,10,-13,2,57,0.86599999999999999,0.84]
[null,10,-13,2,58,0.877,0.85]
[null,10,-13,2,59,0.88700000000000001,0.85899999999999999]
[null,10,-13,2,60,0.89700000000000002,0.86899999999999999]
[null,10,-13,7,30,0.2,0.14799999999999999]
[null,10,-13,7,31,0.20200000000000001,0.14899999999999999]
[null,10,-13,7,32,0.20300000000000001,0.15]
[null,10,-13,7,33,{"$f":"F2180","v":0.20499999999999999},{"$f":"F2366","v":0.151}]
[null,10,-13,7,34,0.20599999999999999,0.152]
[null,10,-13,7,35,0.20799999999999999,0.153]
[null,10,-13,7,36,0.21,0.154]
[null,10,-13,7,37,0.21199999999999999,0.155]
[null,10,-13,7,38,0.21299999999999999,0.157]
[null,10,-13,7,39,0.215,0.158]
[null,10,-13,7,40,0.217,0.159]
[null,10,-13,7,41,0.219,0.16]
[null,10,-13,7,42,0.221,0.161]
[null,10,-13,7,43,0.222,0.16300000000000001]
[null,10,-13,7,44,0.224,0.16400000000000001]
[null,10,-13,7,45,0.22600000000000001,0.16500000000000001]
[null,10,-13,7,46,0.22800000000000001,0.16600000000000001]
[null,10,-13,7,47,0.23,0.16800000000000001]
[null,10,-13,7,48,0.23200000000000001,0.16900000000000001]
[null,10,-13,7,49,0.23400000000000001,0.17100000000000001]
[null,10,-13,7,50,0.23599999999999999,0.17199999999999999]
[null,10,-13,7,51,0.23799999999999999,0.17299999999999999]
[null,10,-13,7,52,0.24,0.17499999999999999]
[null,10,-13,7,53,0.24199999999999999,0.17599999999999999]
[null,10,-13,7,54,0.24399999999999999,0.17799999999999999]
[null,10,-13,7,55,0.246,0.17899999999999999]
[null,10,-13,7,56,0.248,0.18099999999999999]
[null,10,-13,7,57,0.25,0.182]
[null,10,-13,7,58,0.253,0.184]
[null,10,-13,7,59,0.255,0.185]
[null,10,-13,7,60,0.25700000000000001,0.187]
[null,10,-14,-7,30,{"$f":"'VDI 4650'!D75","v":0.124}]
[null,10,-14,-7,31,{"$f":"ROUND($F2301-(($F2301-$F2306)/5*A$256),3)","v":0.126}]
[null,10,-14,-7,32,{"$f":"ROUND($F2301-(($F2301-$F2306)/5*A$257),3)","v":0.128}]
[null,10,-14,-7,33,{"$f":"ROUND($F2301-(($F2301-$F2306)/5*A$258),3)","v":0.129}]
[null,10,-14,-7,34,{"$f":"ROUND($F2301-(($F2301-$F2306)/5*A$259),3)","v":0.13100000000000001}]
[null,10,-14,-7,35,{"$f":"'VDI 4650'!E75","v":0.13300000000000001}]
[null,10,-14,-7,36,{"$f":"ROUND($F2306-(($F2306-$F2311)/5*A$256),3)","v":0.13500000000000001}]
[null,10,-14,-7,37,{"$f":"ROUND($F2306-(($F2306-$F2311)/5*A$257),3)","v":0.13700000000000001}]
[null,10,-14,-7,38,{"$f":"ROUND($F2306-(($F2306-$F2311)/5*A$258),3)","v":0.13900000000000001}]
[null,10,-14,-7,39,{"$f":"ROUND($F2306-(($F2306-$F2311)/5*A$259),3)","v":0.14099999999999999}]
[null,10,-14,-7,40,{"$f":"'VDI 4650'!F75","v":0.14299999999999999}]
[null,10,-14,-7,41,{"$f":"ROUND($F2311-(($F2311-$F2316)/5*A$256),3)","v":0.14499999999999999}]
[null,10,-14,-7,42,{"$f":"ROUND($F2311-(($F2311-$F2316)/5*A$257),3)","v":0.14699999999999999}]
[null,10,-14,-7,43,{"$f":"ROUND($F2311-(($F2311-$F2316)/5*A$258),3)","v":0.15}]
[null,10,-14,-7,44,{"$f":"ROUND($F2311-(($F2311-$F2316)/5*A$259),3)","v":0.152}]
[null,10,-14,-7,45,{"$f":"'VDI 4650'!G75","v":0.154}]
[null,10,-14,-7,46,{"$f":"ROUND($F2316-(($F2316-$F2321)/5*A$256),3)","v":0.157}]
[null,10,-14,-7,47,{"$f":"ROUND($F2316-(($F2316-$F2321)/5*A$257),3)","v":0.159}]
[null,10,-14,-7,48,{"$f":"ROUND($F2316-(($F2316-$F2321)/5*A$258),3)","v":0.16200000000000001}]
[null,10,-14,-7,49,{"$f":"ROUND($F2316-(($F2316-$F2321)/5*A$259),3)","v":0.16400000000000001}]
[null,10,-14,-7,50,{"$f":"'VDI 4650'!H75","v":0.16700000000000001}]
[null,10,-14,-7,51,{"$f":"ROUND($F2321-(($F2321-$F2326)/5*A$256),3)","v":0.17}]
[null,10,-14,-7,52,{"$f":"ROUND($F2321-(($F2321-$F2326)/5*A$257),3)","v":0.17299999999999999}]
[null,10,-14,-7,53,{"$f":"ROUND($F2321-(($F2321-$F2326)/5*A$258),3)","v":0.17699999999999999}]
[null,10,-14,-7,54,{"$f":"ROUND($F2321-(($F2321-$F2326)/5*A$259),3)","v":0.18}]
[null,10,-14,-7,55,{"$f":"'VDI 4650'!I75","v":0.183}]
[null,10,-14,-7,56,{"$f":"ROUND($F2326-(($F2326-$F2331)/5*A$256),3)","v":0.186}]
[null,10,-14,-7,57,{"$f":"ROUND($F2326-(($F2326-$F2331)/5*A$257),3)","v":0.189}]
[null,10,-14,-7,58,{"$f":"ROUND($F2326-(($F2326-$F2331)/5*A$258),3)","v":0.193}]
[null,10,-14,-7,59,{"$f":"ROUND($F2326-(($F2326-$F2331)/5*A$259),3)","v":0.19600000000000001}]
[null,10,-14,-7,60,{"$f":"'VDI 4650'!J75","v":0.19900000000000001}]
[null,10,-14,2,30,{"$f":"'VDI 4650'!D76","v":0.629}]
[null,10,-14,2,31,{"$f":"ROUND($F2332-(($F2332-$F2337)/5*A$256),3)","v":0.63500000000000001}]
[null,10,-14,2,32,{"$f":"ROUND($F2332-(($F2332-$F2337)/5*A$257),3)","v":0.64100000000000001}]
[null,10,-14,2,33,{"$f":"ROUND($F2332-(($F2332-$F2337)/5*A$258),3)","v":0.64700000000000002}]
[null,10,-14,2,34,{"$f":"ROUND($F2332-(($F2332-$F2337)/5*A$259),3)","v":0.65300000000000002}]
[null,10,-14,2,35,{"$f":"'VDI 4650'!E76","v":0.65900000000000003}]
[null,10,-14,2,36,{"$f":"ROUND($F2337-(($F2337-$F2342)/5*A$256),3)","v":0.66600000000000004}]
[null,10,-14,2,37,{"$f":"ROUND($F2337-(($F2337-$F2342)/5*A$257),3)","v":0.67300000000000004}]
[null,10,-14,2,38,{"$f":"ROUND($F2337-(($F2337-$F2342)/5*A$258),3)","v":0.68}]
[null,10,-14,2,39,{"$f":"ROUND($F2337-(($F2337-$F2342)/5*A$259),3)","v":0.68700000000000006}]
[null,10,-14,2,40,{"$f":"'VDI 4650'!F76","v":0.69399999999999995}]
[null,10,-14,2,41,{"$f":"ROUND($F2342-(($F2342-$F2347)/5*A$256),3)","v":0.70099999999999996}]
[null,10,-14,2,42,{"$f":"ROUND($F2342-(($F2342-$F2347)/5*A$257),3)","v":0.70899999999999996}]
[null,10,-14,2,43,{"$f":"ROUND($F2342-(($F2342-$F2347)/5*A$258),3)","v":0.71599999999999997}]
[null,10,-14,2,44,{"$f":"ROUND($F2342-(($F2342-$F2347)/5*A$259),3)","v":0.72399999999999998}]
[null,10,-14,2,45,{"$f":"'VDI 4650'!G76","v":0.73099999999999998}]
[null,10,-14,2,46,{"$f":"ROUND($F2347-(($F2347-$F2352)/5*A$256),3)","v":0.74}]
[null,10,-14,2,47,{"$f":"ROUND($F2347-(($F2347-$F2352)/5*A$257),3)","v":0.748}]
[null,10,-14,2,48,{"$f":"ROUND($F2347-(($F2347-$F2352)/5*A$258),3)","v":0.75700000000000001}]
[null,10,-14,2,49,{"$f":"ROUND($F2347-(($F2347-$F2352)/5*A$259),3)","v":0.76500000000000001}]
[null,10,-14,2,50,{"$f":"'VDI 4650'!H76","v":0.77400000000000002}]
[null,10,-14,2,51,{"$f":"ROUND($F2352-(($F2352-$F2357)/5*A$256),3)","v":0.78300000000000003}]
[null,10,-14,2,52,{"$f":"ROUND($F2352-(($F2352-$F2357)/5*A$257),3)","v":0.79300000000000004}]
[null,10,-14,2,53,{"$f":"ROUND($F2352-(($F2352-$F2357)/5*A$258),3)","v":0.80200000000000005}]
[null,10,-14,2,54,{"$f":"ROUND($F2352-(($F2352-$F2357)/5*A$259),3)","v":0.81200000000000006}]
[null,10,-14,2,55,{"$f":"'VDI 4650'!I76","v":0.82099999999999995}]
[null,10,-14,2,56,{"$f":"ROUND($F2357-(($F2357-$F2362)/5*A$256),3)","v":0.83099999999999996}]
[null,10,-14,2,57,{"$f":"ROUND($F2357-(($F2357-$F2362)/5*A$257),3)","v":0.84}]
[null,10,-14,2,58,{"$f":"ROUND($F2357-(($F2357-$F2362)/5*A$258),3)","v":0.85}]
[null,10,-14,2,59,{"$f":"ROUND($F2357-(($F2357-$F2362)/5*A$259),3)","v":0.85899999999999999}]
[null,10,-14,2,60,{"$f":"'VDI 4650'!J76","v":0.86899999999999999}]
[null,10,-14,7,30,{"$f":"'VDI 4650'!D77","v":0.14799999999999999}]
[null,10,-14,7,31,{"$f":"ROUND($F2363-(($F2363-$F2368)/5*A$256),3)","v":0.14899999999999999}]
[null,10,-14,7,32,{"$f":"ROUND($F2363-(($F2363-$F2368)/5*A$257),3)","v":0.15}]
[null,10,-14,7,33,{"$f":"ROUND($F2363-(($F2363-$F2368)/5*A$258),3)","v":0.151}]
[null,10,-14,7,34,{"$f":"ROUND($F2363-(($F2363-$F2368)/5*A$259),3)","v":0.152}]
[null,10,-14,7,35,{"$f":"'VDI 4650'!E77","v":0.153}]
[null,10,-14,7,36,{"$f":"ROUND($F2368-(($F2368-$F2373)/5*A$256),3)","v":0.154}]
[null,10,-14,7,37,{"$f":"ROUND($F2368-(($F2368-$F2373)/5*A$257),3)","v":0.155}]
[null,10,-14,7,38,{"$f":"ROUND($F2368-(($F2368-$F2373)/5*A$258),3)","v":0.157}]
[null,10,-14,7,39,{"$f":"ROUND($F2368-(($F2368-$F2373)/5*A$259),3)","v":0.158}]
[null,10,-14,7,40,{"$f":"'VDI 4650'!F77","v":0.159}]
[null,10,-14,7,41,{"$f":"ROUND($F2373-(($F2373-$F2378)/5*A$256),3)","v":0.16}]
[null,10,-14,7,42,{"$f":"ROUND($F2373-(($F2373-$F2378)/5*A$257),3)","v":0.161}]
[null,10,-14,7,43,{"$f":"ROUND($F2373-(($F2373-$F2378)/5*A$258),3)","v":0.16300000000000001}]
[null,10,-14,7,44,{"$f":"ROUND($F2373-(($F2373-$F2378)/5*A$259),3)","v":0.16400000000000001}]
[null,10,-14,7,45,{"$f":"'VDI 4650'!G77","v":0.16500000000000001}]
[null,10,-14,7,46,{"$f":"ROUND($F2378-(($F2378-$F2383)/5*A$256),3)","v":0.16600000000000001}]
[null,10,-14,7,47,{"$f":"ROUND($F2378-(($F2378-$F2383)/5*A$257),3)","v":0.16800000000000001}]
[null,10,-14,7,48,{"$f":"ROUND($F2378-(($F2378-$F2383)/5*A$258),3)","v":0.16900000000000001}]
[null,10,-14,7,49,{"$f":"ROUND($F2378-(($F2378-$F2383)/5*A$259),3)","v":0.17100000000000001}]
[null,10,-14,7,50,{"$f":"'VDI 4650'!H77","v":0.17199999999999999}]
[null,10,-14,7,51,{"$f":"ROUND($F2383-(($F2383-$F2388)/5*A$256),3)","v":0.17299999999999999}]
[null,10,-14,7,52,{"$f":"ROUND($F2383-(($F2383-$F2388)/5*A$257),3)","v":0.17499999999999999}]
[null,10,-14,7,53,{"$f":"ROUND($F2383-(($F2383-$F2388)/5*A$258),3)","v":0.17599999999999999}]
[null,10,-14,7,54,{"$f":"ROUND($F2383-(($F2383-$F2388)/5*A$259),3)","v":0.17799999999999999}]
[null,10,-14,7,55,{"$f":"'VDI 4650'!I77","v":0.17899999999999999}]
[null,10,-14,7,56,{"$f":"ROUND($F2388-(($F2388-$F2393)/5*A$256),3)","v":0.18099999999999999}]
[null,10,-14,7,57,{"$f":"ROUND($F2388-(($F2388-$F2393)/5*A$257),3)","v":0.182}]
[null,10,-14,7,58,{"$f":"ROUND($F2388-(($F2388-$F2393)/5*A$258),3)","v":0.184}]
[null,10,-14,7,59,{"$f":"ROUND($F2388-(($F2388-$F2393)/5*A$259),3)","v":0.185}]
[null,10,-14,7,60,{"$f":"'VDI 4650'!J77","v":0.187}]
[null,10,-15,-7,30,{"$f":"F2301","v":0.124},{"$f":"F2487","v":0.188}]
[null,10,-15,-7,31,{"$f":"F2302","v":0.126},{"$f":"F2488","v":0.191}]
[null,10,-15,-7,32,0.128,0.193]
[null,10,-15,-7,33,0.129,0.19600000000000001]
[null,10,-15,-7,34,0.13100000000000001,0.19800000000000001]
[null,10,-15,-7,35,0.13300000000000001,0.20100000000000001]
[null,10,-15,-7,36,0.13500000000000001,0.20399999999999999]
[null,10,-15,-7,37,0.13700000000000001,0.20699999999999999]
[null,10,-15,-7,38,0.13900000000000001,0.21]
[null,10,-15,-7,39,0.14099999999999999,0.21299999999999999]
[null,10,-15,-7,40,0.14299999999999999,0.216]
[null,10,-15,-7,41,0.14499999999999999,0.219]
[null,10,-15,-7,42,0.14699999999999999,0.223]
[null,10,-15,-7,43,0.15,0.22600000000000001]
[null,10,-15,-7,44,0.152,0.23]
[null,10,-15,-7,45,0.154,0.23300000000000001]
[null,10,-15,-7,46,0.157,0.23699999999999999]
[null,10,-15,-7,47,0.159,0.24099999999999999]
[null,10,-15,-7,48,0.16200000000000001,0.245]
[null,10,-15,-7,49,0.16400000000000001,0.249]
[null,10,-15,-7,50,0.16700000000000001,0.253]
[null,10,-15,-7,51,0.17,0.25800000000000001]
[null,10,-15,-7,52,0.17299999999999999,0.26300000000000001]
[null,10,-15,-7,53,0.17699999999999999,0.26800000000000002]
[null,10,-15,-7,54,0.18,0.27300000000000002]
[null,10,-15,-7,55,0.183,0.27800000000000002]
[null,10,-15,-7,56,0.186,0.28299999999999997]
[null,10,-15,-7,57,0.189,0.28799999999999998]
[null,10,-15,-7,58,0.193,0.29199999999999998]
[null,10,-15,-7,59,0.19600000000000001,0.29699999999999999]
[null,10,-15,-7,60,0.19900000000000001,0.30199999999999999]
[null,10,-15,2,30,0.629,0.60199999999999998]
[null,10,-15,2,31,0.63500000000000001,0.60799999999999998]
[null,10,-15,2,32,0.64100000000000001,0.61299999999999999]
[null,10,-15,2,33,0.64700000000000002,0.61899999999999999]
[null,10,-15,2,34,0.65300000000000002,0.624]
[null,10,-15,2,35,0.65900000000000003,0.63]
[null,10,-15,2,36,0.66600000000000004,0.63600000000000001]
[null,10,-15,2,37,0.67300000000000004,0.64200000000000002]
[null,10,-15,2,38,0.68,0.64900000000000002]
[null,10,-15,2,39,0.68700000000000006,0.65500000000000003]
[null,10,-15,2,40,0.69399999999999995,0.66100000000000003]
[null,10,-15,2,41,0.70099999999999996,0.66800000000000004]
[null,10,-15,2,42,0.70899999999999996,0.67400000000000004]
[null,10,-15,2,43,0.71599999999999997,0.68100000000000005]
[null,10,-15,2,44,0.72399999999999998,0.68700000000000006]
[null,10,-15,2,45,0.73099999999999998,0.69399999999999995]
[null,10,-15,2,46,0.74,0.70199999999999996]
[null,10,-15,2,47,0.748,0.70899999999999996]
[null,10,-15,2,48,0.75700000000000001,0.71699999999999997]
[null,10,-15,2,49,0.76500000000000001,0.72399999999999998]
[null,10,-15,2,50,0.77400000000000002,0.73199999999999998]
[null,10,-15,2,51,0.78300000000000003,0.74]
[null,10,-15,2,52,0.79300000000000004,0.749]
[null,10,-15,2,53,0.80200000000000005,0.75700000000000001]
[null,10,-15,2,54,0.81200000000000006,0.76600000000000001]
[null,10,-15,2,55,0.82099999999999995,0.77400000000000002]
[null,10,-15,2,56,0.83099999999999996,0.78200000000000003]
[null,10,-15,2,57,0.84,0.79100000000000004]
[null,10,-15,2,58,0.85,0.79900000000000004]
[null,10,-15,2,59,0.85899999999999999,0.80800000000000005]
[null,10,-15,2,60,0.86899999999999999,0.81599999999999995]
[null,10,-15,7,30,0.14799999999999999,0.13300000000000001]
[null,10,-15,7,31,0.14899999999999999,0.13]
[null,10,-15,7,32,0.15,0.127]
[null,10,-15,7,33,{"$f":"F2366","v":0.151},{"$f":"F2552","v":0.123}]
[null,10,-15,7,34,0.152,0.12]
[null,10,-15,7,35,0.153,0.11700000000000001]
[null,10,-15,7,36,0.154,0.11799999999999999]
[null,10,-15,7,37,0.155,0.11899999999999999]
[null,10,-15,7,38,0.157,0.11899999999999999]
[null,10,-15,7,39,0.158,0.12]
[null,10,-15,7,40,0.159,0.121]
[null,10,-15,7,41,0.16,0.122]
[null,10,-15,7,42,0.161,0.123]
[null,10,-15,7,43,0.16300000000000001,0.124]
[null,10,-15,7,44,0.16400000000000001,0.125]
[null,10,-15,7,45,0.16500000000000001,0.126]
[null,10,-15,7,46,0.16600000000000001,0.127]
[null,10,-15,7,47,0.16800000000000001,0.128]
[null,10,-15,7,48,0.16900000000000001,0.129]
[null,10,-15,7,49,0.17100000000000001,0.13]
[null,10,-15,7,50,0.17199999999999999,0.13100000000000001]
[null,10,-15,7,51,0.17299999999999999,0.13200000000000001]
[null,10,-15,7,52,0.17499999999999999,0.13300000000000001]
[null,10,-15,7,53,0.17599999999999999,0.13400000000000001]
[null,10,-15,7,54,0.17799999999999999,0.13500000000000001]
[null,10,-15,7,55,0.17899999999999999,0.13600000000000001]
[null,10,-15,7,56,0.18099999999999999,0.13700000000000001]
[null,10,-15,7,57,0.182,0.13800000000000001]
[null,10,-15,7,58,0.184,0.13900000000000001]
[null,10,-15,7,59,0.185,0.14000000000000001]
[null,10,-15,7,60,0.187,0.14099999999999999]
[null,10,-16,-7,30,{"$f":"'VDI 4650'!D78","v":0.188}]
[null,10,-16,-7,31,{"$f":"ROUND($F2487-(($F2487-$F2492)/5*A$256),3)","v":0.191}]
[null,10,-16,-7,32,{"$f":"ROUND($F2487-(($F2487-$F2492)/5*A$257),3)","v":0.193}]
[null,10,-16,-7,33,{"$f":"ROUND($F2487-(($F2487-$F2492)/5*A$258),3)","v":0.19600000000000001}]
[null,10,-16,-7,34,{"$f":"ROUND($F2487-(($F2487-$F2492)/5*A$259),3)","v":0.19800000000000001}]
[null,10,-16,-7,35,{"$f":"'VDI 4650'!E78","v":0.20100000000000001}]
[null,10,-16,-7,36,{"$f":"ROUND($F2492-(($F2492-$F2497)/5*A$256),3)","v":0.20399999999999999}]
[null,10,-16,-7,37,{"$f":"ROUND($F2492-(($F2492-$F2497)/5*A$257),3)","v":0.20699999999999999}]
[null,10,-16,-7,38,{"$f":"ROUND($F2492-(($F2492-$F2497)/5*A$258),3)","v":0.21}]
[null,10,-16,-7,39,{"$f":"ROUND($F2492-(($F2492-$F2497)/5*A$259),3)","v":0.21299999999999999}]
[null,10,-16,-7,40,{"$f":"'VDI 4650'!F78","v":0.216}]
[null,10,-16,-7,41,{"$f":"ROUND($F2497-(($F2497-$F2502)/5*A$256),3)","v":0.219}]
[null,10,-16,-7,42,{"$f":"ROUND($F2497-(($F2497-$F2502)/5*A$257),3)","v":0.223}]
[null,10,-16,-7,43,{"$f":"ROUND($F2497-(($F2497-$F2502)/5*A$258),3)","v":0.22600000000000001}]
[null,10,-16,-7,44,{"$f":"ROUND($F2497-(($F2497-$F2502)/5*A$259),3)","v":0.23}]
[null,10,-16,-7,45,{"$f":"'VDI 4650'!G78","v":0.23300000000000001}]
[null,10,-16,-7,46,{"$f":"ROUND($F2502-(($F2502-$F2507)/5*A$256),3)","v":0.23699999999999999}]
[null,10,-16,-7,47,{"$f":"ROUND($F2502-(($F2502-$F2507)/5*A$257),3)","v":0.24099999999999999}]
[null,10,-16,-7,48,{"$f":"ROUND($F2502-(($F2502-$F2507)/5*A$258),3)","v":0.245}]
[null,10,-16,-7,49,{"$f":"ROUND($F2502-(($F2502-$F2507)/5*A$259),3)","v":0.249}]
[null,10,-16,-7,50,{"$f":"'VDI 4650'!H78","v":0.253}]
[null,10,-16,-7,51,{"$f":"ROUND($F2507-(($F2507-$F2512)/5*A$256),3)","v":0.25800000000000001}]
[null,10,-16,-7,52,{"$f":"ROUND($F2507-(($F2507-$F2512)/5*A$257),3)","v":0.26300000000000001}]
[null,10,-16,-7,53,{"$f":"ROUND($F2507-(($F2507-$F2512)/5*A$258),3)","v":0.26800000000000002}]
[null,10,-16,-7,54,{"$f":"ROUND($F2507-(($F2507-$F2512)/5*A$259),3)","v":0.27300000000000002}]
[null,10,-16,-7,55,{"$f":"'VDI 4650'!I78","v":0.27800000000000002}]
[null,10,-16,-7,56,{"$f":"ROUND($F2512-(($F2512-$F2517)/5*A$256),3)","v":0.28299999999999997}]
[null,10,-16,-7,57,{"$f":"ROUND($F2512-(($F2512-$F2517)/5*A$257),3)","v":0.28799999999999998}]
[null,10,-16,-7,58,{"$f":"ROUND($F2512-(($F2512-$F2517)/5*A$258),3)","v":0.29199999999999998}]
[null,10,-16,-7,59,{"$f":"ROUND($F2512-(($F2512-$F2517)/5*A$259),3)","v":0.29699999999999999}]
[null,10,-16,-7,60,{"$f":"'VDI 4650'!J78","v":0.30199999999999999}]
[null,10,-16,2,30,{"$f":"'VDI 4650'!D79","v":0.60199999999999998}]
[null,10,-16,2,31,{"$f":"ROUND($F2518-(($F2518-$F2523)/5*A$256),3)","v":0.60799999999999998}]
[null,10,-16,2,32,{"$f":"ROUND($F2518-(($F2518-$F2523)/5*A$257),3)","v":0.61299999999999999}]
[null,10,-16,2,33,{"$f":"ROUND($F2518-(($F2518-$F2523)/5*A$258),3)","v":0.61899999999999999}]
[null,10,-16,2,34,{"$f":"ROUND($F2518-(($F2518-$F2523)/5*A$259),3)","v":0.624}]
[null,10,-16,2,35,{"$f":"'VDI 4650'!E79","v":0.63}]
[null,10,-16,2,36,{"$f":"ROUND($F2523-(($F2523-$F2528)/5*A$256),3)","v":0.63600000000000001}]
[null,10,-16,2,37,{"$f":"ROUND($F2523-(($F2523-$F2528)/5*A$257),3)","v":0.64200000000000002}]
[null,10,-16,2,38,{"$f":"ROUND($F2523-(($F2523-$F2528)/5*A$258),3)","v":0.64900000000000002}]
[null,10,-16,2,39,{"$f":"ROUND($F2523-(($F2523-$F2528)/5*A$259),3)","v":0.65500000000000003}]
[null,10,-16,2,40,{"$f":"'VDI 4650'!F79","v":0.66100000000000003}]
[null,10,-16,2,41,{"$f":"ROUND($F2528-(($F2528-$F2533)/5*A$256),3)","v":0.66800000000000004}]
[null,10,-16,2,42,{"$f":"ROUND($F2528-(($F2528-$F2533)/5*A$257),3)","v":0.67400000000000004}]
[null,10,-16,2,43,{"$f":"ROUND($F2528-(($F2528-$F2533)/5*A$258),3)","v":0.68100000000000005}]
[null,10,-16,2,44,{"$f":"ROUND($F2528-(($F2528-$F2533)/5*A$259),3)","v":0.68700000000000006}]
[null,10,-16,2,45,{"$f":"'VDI 4650'!G79","v":0.69399999999999995}]
[null,10,-16,2,46,{"$f":"ROUND($F2533-(($F2533-$F2538)/5*A$256),3)","v":0.70199999999999996}]
[null,10,-16,2,47,{"$f":"ROUND($F2533-(($F2533-$F2538)/5*A$257),3)","v":0.70899999999999996}]
[null,10,-16,2,48,{"$f":"ROUND($F2533-(($F2533-$F2538)/5*A$258),3)","v":0.71699999999999997}]
[null,10,-16,2,49,{"$f":"ROUND($F2533-(($F2533-$F2538)/5*A$259),3)","v":0.72399999999999998}]
[null,10,-16,2,50,{"$f":"'VDI 4650'!H79","v":0.73199999999999998}]
[null,10,-16,2,51,{"$f":"ROUND($F2538-(($F2538-$F2543)/5*A$256),3)","v":0.74}]
[null,10,-16,2,52,{"$f":"ROUND($F2538-(($F2538-$F2543)/5*A$257),3)","v":0.749}]
[null,10,-16,2,53,{"$f":"ROUND($F2538-(($F2538-$F2543)/5*A$258),3)","v":0.75700000000000001}]
[null,10,-16,2,54,{"$f":"ROUND($F2538-(($F2538-$F2543)/5*A$259),3)","v":0.76600000000000001}]
[null,10,-16,2,55,{"$f":"'VDI 4650'!I79","v":0.77400000000000002}]
[null,10,-16,2,56,{"$f":"ROUND($F2543-(($F2543-$F2548)/5*A$256),3)","v":0.78200000000000003}]
[null,10,-16,2,57,{"$f":"ROUND($F2543-(($F2543-$F2548)/5*A$257),3)","v":0.79100000000000004}]
[null,10,-16,2,58,{"$f":"ROUND($F2543-(($F2543-$F2548)/5*A$258),3)","v":0.79900000000000004}]
[null,10,-16,2,59,{"$f":"ROUND($F2543-(($F2543-$F2548)/5*A$259),3)","v":0.80800000000000005}]
[null,10,-16,2,60,{"$f":"'VDI 4650'!J79","v":0.81599999999999995}]
[null,10,-16,7,30,{"$f":"'VDI 4650'!D80","v":0.13300000000000001}]
[null,10,-16,7,31,{"$f":"ROUND($F2549-(($F2549-$F2554)/5*A$256),3)","v":0.13}]
[null,10,-16,7,32,{"$f":"ROUND($F2549-(($F2549-$F2554)/5*A$257),3)","v":0.127}]
[null,10,-16,7,33,{"$f":"ROUND($F2549-(($F2549-$F2554)/5*A$258),3)","v":0.123}]
[null,10,-16,7,34,{"$f":"ROUND($F2549-(($F2549-$F2554)/5*A$259),3)","v":0.12}]
[null,10,-16,7,35,{"$f":"'VDI 4650'!E80","v":0.11700000000000001}]
[null,10,-16,7,36,{"$f":"ROUND($F2554-(($F2554-$F2559)/5*A$256),3)","v":0.11799999999999999}]
[null,10,-16,7,37,{"$f":"ROUND($F2554-(($F2554-$F2559)/5*A$257),3)","v":0.11899999999999999}]
[null,10,-16,7,38,{"$f":"ROUND($F2554-(($F2554-$F2559)/5*A$258),3)","v":0.11899999999999999}]
[null,10,-16,7,39,{"$f":"ROUND($F2554-(($F2554-$F2559)/5*A$259),3)","v":0.12}]
[null,10,-16,7,40,{"$f":"'VDI 4650'!F80","v":0.121}]
[null,10,-16,7,41,{"$f":"ROUND($F2559-(($F2559-$F2564)/5*A$256),3)","v":0.122}]
[null,10,-16,7,42,{"$f":"ROUND($F2559-(($F2559-$F2564)/5*A$257),3)","v":0.123}]
[null,10,-16,7,43,{"$f":"ROUND($F2559-(($F2559-$F2564)/5*A$258),3)","v":0.124}]
[null,10,-16,7,44,{"$f":"ROUND($F2559-(($F2559-$F2564)/5*A$259),3)","v":0.125}]
[null,10,-16,7,45,{"$f":"'VDI 4650'!G80","v":0.126}]
[null,10,-16,7,46,{"$f":"ROUND($F2564-(($F2564-$F2569)/5*A$256),3)","v":0.127}]
[null,10,-16,7,47,{"$f":"ROUND($F2564-(($F2564-$F2569)/5*A$257),3)","v":0.128}]
[null,10,-16,7,48,{"$f":"ROUND($F2564-(($F2564-$F2569)/5*A$258),3)","v":0.129}]
[null,10,-16,7,49,{"$f":"ROUND($F2564-(($F2564-$F2569)/5*A$259),3)","v":0.13}]
[null,10,-16,7,50,{"$f":"'VDI 4650'!H80","v":0.13100000000000001}]
[null,10,-16,7,51,{"$f":"ROUND($F2569-(($F2569-$F2574)/5*A$256),3)","v":0.13200000000000001}]
[null,10,-16,7,52,{"$f":"ROUND($F2569-(($F2569-$F2574)/5*A$257),3)","v":0.13300000000000001}]
[null,10,-16,7,53,{"$f":"ROUND($F2569-(($F2569-$F2574)/5*A$258),3)","v":0.13400000000000001}]
[null,10,-16,7,54,{"$f":"ROUND($F2569-(($F2569-$F2574)/5*A$259),3)","v":0.13500000000000001}]
[null,10,-16,7,55,{"$f":"'VDI 4650'!I80","v":0.13600000000000001}]
[null,10,-16,7,56,{"$f":"ROUND($F2574-(($F2574-$F2579)/5*A$256),3)","v":0.13700000000000001}]
[null,10,-16,7,57,{"$f":"ROUND($F2574-(($F2574-$F2579)/5*A$257),3)","v":0.13800000000000001}]
[null,10,-16,7,58,{"$f":"ROUND($F2574-(($F2574-$F2579)/5*A$258),3)","v":0.13900000000000001}]
[null,10,-16,7,59,{"$f":"ROUND($F2574-(($F2574-$F2579)/5*A$259),3)","v":0.14000000000000001}]
[null,10,-16,7,60,{"$f":"'VDI 4650'!J80","v":0.14099999999999999}]
[]
[]
[null,"Quellen","Betriebsweise bivalent oder monoenergetisch"]
[null,"Luft/Wasser","parallel",1,1]
[null,"Luft/Wasser","parallel",0.9,1]
[null,"Luft/Wasser","parallel",0.8,1]
[null,"Luft/Wasser","parallel",0.7,0.99]
[null,"Luft/Wasser","parallel",0.6,0.98]
[null,"Luft/Wasser","parallel",0.5,0.97]
[null,"Luft/Wasser","parallel",0.4,0.93]
[null,"Luft/Wasser","parallel",0.3,0.87]
[null,"Sole/Wasser","parallel",1,1]
[null,"Sole/Wasser","parallel",0.9,1]
[null,"Sole/Wasser","parallel",0.8,0.99]
[null,"Sole/Wasser","parallel",0.7,0.98]
[null,"Sole/Wasser","parallel",0.6,0.96]
[null,"Sole/Wasser","parallel",0.5,0.92]
[null,"Sole/Wasser","parallel",0.4,0.84]
[null,"Sole/Wasser","parallel",0.3,0.71]

{"sheet":"Rotex Leistungsdaten","index":7,"n_rows":2954,"n_cols":95,"rows_kept":562,"cut":true,"hidden":true,"merged":[[0,3,0,5],[2,89,2,90],[0,88,0,89]],"bounds":{"rows_first":250,"rows_last":62,"rows_between":250,"halvings":3}}
[0,"Produkt","Leistung","COP",null,null,"VLT","Außentemperatur",null,null,null,null,1,2,3,4,5,6,null,null,null,null,null,null,null,null,null,null,null,null,null,null,null,null,null,null,null,null,1,2,3,4,5,6,null,null,null,null,null,null,null,null,null,null,null,null,null,null,null,null,null,null,null,null,null,null,null,null,null,null,null,null,null,null,null,null,null,null,null,null,null,null,null,null,null,null,null,null,"Leistung Backup- / Boosterheater [kW]:",null,9]
[null,null,null,-7,2,7,null,-20,-19.5,-19,-18.5,-18,-17.5,-17,-16.5,-16,-15.5,-15,-14.5,-14,-13.5,-13,-12.5,-12,-11.5,-11,-10.5,-10,-9.5,-9,-8.5,-8,-7.5,-7,-6.5,-6,-5.5,-5,-4.5,-4,-3.5,-3,-2.5,-2,-1.5,-1,-0.5,0,0.5,1,1.5,2,2.5,3,3.5,4,4.5,5,5.5,6,6.5,7,7.5,8,8.5,9,9.5,10,10.5,11,11.5,12,12.5,13,13.5,14,14.5,15,15.5,16,16.5,17,17.5,18,18.5,19,19.5,20,"wenn Personenzahl <= 2 dann Spalte OT; wenn >2 dann Spalte OU"]
[null,null,null,null,null,null,null,null,1,2,3,4,5,6,7,8,9,10,1,2,3,4,5,6,7,8,9,10,11,12,13,14,15,16,1,2,3,4,5,6,7,8,9,10,1,2,3,4,5,6,7,8,1,2,3,4,5,6,7,8,9,10,1,2,3,4,5,6,7,8,9,10,1,2,3,4,5,6,1,2,3,4,5,6,7,8,9,10,"Personen","Produktbezeichnung",null,"Backupheater","Priorisierung",null,"Heizleistung (A7/W35)"]
[1,"Altherma 3 R W",4,{"$f":"'Altherma 3 R'!$L$8","v":3.1},{"$f":"'Altherma 3 R'!$L$9","v":4.0999999999999996},{"$f":"'Altherma 3 R'!$L$10","v":5.0999999999999996},30,{"$f":"'Altherma 3 R'!C7","v":4.71},{"$f":"$H4-(($H4-$R4)/$R$3*I$3)","v":4.758},4.806,4.8540000000000001,4.9020000000000001,4.95,4.9980000000000002,5.0460000000000003,5.0940000000000003,5.1420000000000003,{"$f":"'Altherma 3 R'!C8","v":5.19},{"$f":"$R4-(($R4-$AH4)/$AH$3*S$3)","v":5.2375000000000007},5.2850000000000001,5.3325000000000005,5.3800000000000008,5.4275000000000002,5.4750000000000005,5.5225,5.57,5.6175000000000006,5.665,5.7125000000000004,5.76,5.8075000000000001,5.8550000000000004,5.9024999999999999,{"$f":"'Altherma 3 R'!C9","v":5.95},{"$f":"$AH4-(($AH4-$AL4)/$AL$3*AI$3)","v":6.0350000000000001},6.12,6.2050000000000001,{"$f":"'Altherma 3 R'!C11","v":6.29},{"$f":"$AL4-(($AL4-$AR4)/$AR$1*AM$1)","v":6.2683333333333335},6.246666666666667,6.2249999999999996,6.2033333333333331,6.1816666666666666,{"$f":"'Altherma 3 R'!C10","v":6.16},{"$f":"$AR4-(($AR4-$AZ4)/$AZ$3*AS$3)","v":6.2112499999999997},6.2625000000000002,6.3137500000000006,6.3650000000000002,6.4162499999999998,6.4675000000000002,6.5187500000000007,{"$f":"'Altherma 3 R'!C12","v":6.57},{"$f":"$AZ4-(($AZ4-$BJ4)/$BJ$3*BA$3)","v":6.5780000000000003},6.5860000000000003,6.5940000000000003,6.6020000000000003,6.61,6.6180000000000003,6.6260000000000003,6.6340000000000003,6.6420000000000003,{"$f":"'Altherma 3 R'!C13","v":6.65},{"$f":"$BJ4-(($BJ4-$BT4)/$BT$3*BK$3)","v":6.617},6.5840000000000005,6.5510000000000002,6.5180000000000007,6.4850000000000003,6.452,6.4190000000000005,6.3860000000000001,6.3530000000000006,{"$f":"'Altherma 3 R'!C14","v":6.32},{"$f":"$BT4-(($BT4-$BZ4)/$BZ$3*BU$3)","v":6.2733333333333334},6.2266666666666666,6.18,6.1333333333333337,6.0866666666666669,{"$f":"'Altherma 3 R'!C15","v":6.04},{"$f":"$BZ4-(($BZ4-$CJ4)/$CJ$3*CA$3)","v":5.9850000000000003},5.93,5.875,5.82,5.7650000000000006,5.71,5.6550000000000002,5.6000000000000005,5.5449999999999999,{"$f":"'Altherma 3 R'!C16","v":5.49},{"$f":"Eingabemaske!G$19","v":4},"Altherma 3 R W 4 kW","Altherma 3 R W 4 kW",9,3.8,null,4.3]
[2,"Altherma 3 R W",4,{"$f":"'Altherma 3 R'!$L$8","v":3.1},{"$f":"'Altherma 3 R'!$L$9","v":4.0999999999999996},{"$f":"'Altherma 3 R'!$L$10","v":5.0999999999999996},31,{"$f":"$H$4-(($H$4-$H$9)/5*A4)","v":4.702},4.7492000000000001,4.7964000000000002,4.8436000000000003,4.8908000000000005,4.9380000000000006,4.9851999999999999,5.0324,5.0796000000000001,5.1268000000000002,{"$f":"$R$4-(($R$4-$R$9)/5*A4)","v":5.1740000000000004},5.2206250000000001,5.2672500000000007,5.3138750000000003,5.3605,5.4071250000000006,5.4537500000000003,5.500375,5.5470000000000006,5.5936250000000003,5.64025,5.6868750000000006,5.7335000000000003,5.780125,5.8267499999999997,5.8733750000000002,{"$f":"$AH$4-(($AH$4-$AH$9)/5*A4)","v":5.92},6.0045000000000002,6.0890000000000004,6.1734999999999998,{"$f":"$AL$4-(($AL$4-$AL$9)/5*A4)","v":6.258},6.2363333333333335,6.214666666666667,6.1929999999999996,6.1713333333333331,6.1496666666666666,{"$f":"$AR$4-(($AR$4-$AR$9)/5*A4)","v":6.1280000000000001},6.17875,6.2294999999999998,6.2802499999999997,6.3309999999999995,6.3817500000000003,6.4325000000000001,6.48325,{"$f":"$AZ$4-(($AZ$4-$AZ$9)/5*A4)","v":6.5339999999999998},6.5407999999999999,6.5476000000000001,6.5544000000000002,6.5612000000000004,6.5679999999999996,6.5747999999999998,6.5815999999999999,6.5884,6.5952000000000002,{"$f":"$BJ$4-(($BJ$4-$BJ$9)/5*A4)","v":6.6020000000000003},6.5688000000000004,6.5356000000000005,6.5024000000000006,6.4692000000000007,6.4359999999999999,6.4028,6.3696000000000002,6.3364000000000003,6.3032000000000004,{"$f":"$BT$4-(($BT$4-$BT$9)/5*A4)","v":6.2700000000000005},6.2210000000000001,6.1720000000000006,6.1230000000000002,6.0739999999999998,6.0250000000000004,{"$f":"$BZ$4-(($BZ$4-$BZ$9)/5*A4)","v":5.976},5.9206000000000003,5.8651999999999997,5.8098000000000001,5.7544000000000004,5.6989999999999998,5.6436000000000002,5.5882000000000005,5.5328000000000008,5.4774000000000003,{"$f":"$CJ$4-(($CJ$4-$CJ$9)/5*A4)","v":5.4220000000000006},{"$f":"Eingabemaske!G$19","v":4},"Altherma 3 R W 4 kW","Altherma 3 R W 4 kW",9,3.8,null,4.3]
[3,"Altherma 3 R W",4,{"$f":"'Altherma 3 R'!$L$8","v":3.1},{"$f":"'Altherma 3 R'!$L$9","v":4.0999999999999996},{"$f":"'Altherma 3 R'!$L$10","v":5.0999999999999996},32,{"$f":"$H$4-(($H$4-$H$9)/5*A5)","v":4.694},4.7404000000000002,4.7868000000000004,4.8331999999999997,4.8795999999999999,4.9260000000000002,4.9724000000000004,5.0188000000000006,5.0651999999999999,5.1116000000000001,{"$f":"$R$4-(($R$4-$R$9)/5*A5)","v":5.1580000000000004},5.2037500000000003,5.2495000000000003,5.2952500000000002,5.3410000000000002,5.3867500000000001,5.4325000000000001,5.4782500000000001,5.524,5.56975,5.6154999999999999,5.6612499999999999,5.7069999999999999,5.7527499999999998,5.7984999999999998,5.8442499999999997,{"$f":"$AH$4-(($AH$4-$AH$9)/5*A5)","v":5.89},5.9740000000000002,6.0579999999999998,6.1419999999999995,{"$f":"$AL$4-(($AL$4-$AL$9)/5*A5)","v":6.226},6.2043333333333335,6.182666666666667,6.1609999999999996,6.1393333333333331,6.1176666666666666,{"$f":"$AR$4-(($AR$4-$AR$9)/5*A5)","v":6.0960000000000001},6.1462500000000002,6.1965000000000003,6.2467500000000005,6.2970000000000006,6.3472499999999998,6.3975,6.4477500000000001,{"$f":"$AZ$4-(($AZ$4-$AZ$9)/5*A5)","v":6.4980000000000002},6.5036000000000005,6.5091999999999999,6.5148000000000001,6.5204000000000004,6.5259999999999998,6.5316000000000001,6.5372000000000003,6.5428000000000006,6.5484,{"$f":"$BJ$4-(($BJ$4-$BJ$9)/5*A5)","v":6.5540000000000003},6.5206,6.4872000000000005,6.4538000000000002,6.4204000000000008,6.3870000000000005,6.3536000000000001,6.3202000000000007,6.2868000000000004,6.253400000000001,{"$f":"$BT$4-(($BT$4-$BT$9)/5*A5)","v":6.2200000000000006},6.1686666666666667,6.1173333333333337,6.0660000000000007,6.0146666666666668,5.9633333333333329,{"$f":"$BZ$4-(($BZ$4-$BZ$9)/5*A5)","v":5.9119999999999999},5.8562000000000003,5.8003999999999998,5.7446000000000002,5.6887999999999996,5.633,5.5772000000000004,5.5213999999999999,5.4656000000000002,5.4097999999999997,{"$f":"$CJ$4-(($CJ$4-$CJ$9)/5*A5)","v":5.3540000000000001},{"$f":"Eingabemaske!G$19","v":4},"Altherma 3 R W 4 kW","Altherma 3 R W 4 kW",9,3.8,null,4.3]
[4,"Altherma 3 R W",4,{"$f":"'Altherma 3 R'!$L$8","v":3.1},{"$f":"'Altherma 3 R'!$L$9","v":4.0999999999999996},{"$f":"'Altherma 3 R'!$L$10","v":5.0999999999999996},33,4.6859999999999999,4.7316000000000003,4.7771999999999997,4.8228,4.8684000000000003,4.9139999999999997,4.9596,5.0052000000000003,5.0508000000000006,5.0964,{"$f":"$R$4-(($R$4-$R$9)/5*A6)","v":5.1420000000000003},5.1868750000000006,5.2317499999999999,5.2766250000000001,5.3215000000000003,5.3663750000000006,5.4112500000000008,5.4561250000000001,5.5010000000000003,5.5458750000000006,5.5907499999999999,5.6356250000000001,5.6805000000000003,5.7253750000000005,5.7702500000000008,5.8151250000000001,{"$f":"$AH$4-(($AH$4-$AH$9)/5*A6)","v":5.86},5.9435000000000002,6.0270000000000001,6.1105,{"$f":"$AL$4-(($AL$4-$AL$9)/5*A6)","v":6.194},6.1723333333333334,6.1506666666666669,6.1289999999999996,6.1073333333333331,6.0856666666666666,{"$f":"$AR$4-(($AR$4-$AR$9)/5*A6)","v":6.0640000000000001},6.1137499999999996,6.1635,6.2132500000000004,6.2629999999999999,6.3127499999999994,6.3624999999999998,6.4122500000000002,{"$f":"$AZ$4-(($AZ$4-$AZ$9)/5*A6)","v":6.4619999999999997},6.4664000000000001,6.4707999999999997,6.4752000000000001,6.4795999999999996,6.484,6.4884000000000004,6.4927999999999999,6.4972000000000003,6.5015999999999998,{"$f":"$BJ$4-(($BJ$4-$BJ$9)/5*A6)","v":6.5060000000000002},6.4724000000000004,6.4388000000000005,6.4051999999999998,6.3715999999999999,6.3380000000000001,6.3044000000000002,6.2708000000000004,6.2371999999999996,6.2035999999999998,{"$f":"$BT$4-(($BT$4-$BT$9)/5*A6)","v":6.17},6.1163333333333334,6.0626666666666669,6.0090000000000003,5.9553333333333329,5.9016666666666664,{"$f":"$BZ$4-(($BZ$4-$BZ$9)/5*A6)","v":5.8479999999999999},5.7918000000000003,5.7355999999999998,5.6794000000000002,5.6231999999999998,5.5670000000000002,5.5108000000000006,5.4546000000000001,5.3984000000000005,5.3422000000000001,{"$f":"$CJ$4-(($CJ$4-$CJ$9)/5*A6)","v":5.2860000000000005},{"$f":"Eingabemaske!G$19","v":4},"Altherma 3 R W 4 kW","Altherma 3 R W 4 kW",9,3.8,null,4.3]
[5,"Altherma 3 R W",4,{"$f":"'Altherma 3 R'!$L$8","v":3.1},{"$f":"'Altherma 3 R'!$L$9","v":4.0999999999999996},{"$f":"'Altherma 3 R'!$L$10","v":5.0999999999999996},34,4.6779999999999999,4.7228000000000003,4.7675999999999998,4.8124000000000002,4.8571999999999997,4.9020000000000001,4.9468000000000005,4.9916,5.0364000000000004,5.0811999999999999,{"$f":"$R$4-(($R$4-$R$9)/5*A7)","v":5.1260000000000003},5.17,5.2140000000000004,5.258,5.3020000000000005,5.3460000000000001,5.3900000000000006,5.4340000000000002,5.4779999999999998,5.5220000000000002,5.5659999999999998,5.61,5.6539999999999999,5.6980000000000004,5.742,5.7859999999999996,{"$f":"$AH$4-(($AH$4-$AH$9)/5*A7)","v":5.83},5.9130000000000003,5.9960000000000004,6.0789999999999997,{"$f":"$AL$4-(($AL$4-$AL$9)/5*A7)","v":6.1619999999999999},6.1403333333333334,6.1186666666666669,6.0969999999999995,6.075333333333333,6.0536666666666665,{"$f":"$AR$4-(($AR$4-$AR$9)/5*A7)","v":6.032},6.0812499999999998,6.1304999999999996,6.1797500000000003,6.2290000000000001,6.2782499999999999,6.3275000000000006,6.3767500000000004,{"$f":"$AZ$4-(($AZ$4-$AZ$9)/5*A7)","v":6.4260000000000002},6.4291999999999998,6.4324000000000003,6.4356,6.4388000000000005,6.4420000000000002,6.4451999999999998,6.4484000000000004,6.4516,6.4548000000000005,{"$f":"$BJ$4-(($BJ$4-$BJ$9)/5*A7)","v":6.4580000000000002},6.4241999999999999,6.3904000000000005,6.3566000000000003,6.3228,6.2889999999999997,6.2552000000000003,6.2214,6.1875999999999998,6.1538000000000004,{"$f":"$BT$4-(($BT$4-$BT$9)/5*A7)","v":6.12},6.0640000000000001,6.008,5.952,5.8959999999999999,5.84,{"$f":"$BZ$4-(($BZ$4-$BZ$9)/5*A7)","v":5.7839999999999998},5.7273999999999994,5.6707999999999998,5.6142000000000003,5.5575999999999999,5.5009999999999994,5.4443999999999999,5.3878000000000004,5.3311999999999999,5.2745999999999995,{"$f":"$CJ$4-(($CJ$4-$CJ$9)/5*A7)","v":5.218},{"$f":"Eingabemaske!G$19","v":4},"Altherma 3 R W 4 kW","Altherma 3 R W 4 kW",9,3.8,null,4.3]
[6,"Altherma 3 R W",4,{"$f":"'Altherma 3 R'!$L$8","v":3.1},{"$f":"'Altherma 3 R'!$L$9","v":4.0999999999999996},{"$f":"'Altherma 3 R'!$L$10","v":5.0999999999999996},35,{"$f":"'Altherma 3 R'!D7","v":4.67},4.7140000000000004,4.758,4.8019999999999996,4.8460000000000001,4.8900000000000006,4.9340000000000002,4.9779999999999998,5.0220000000000002,5.0660000000000007,{"$f":"'Altherma 3 R'!D8","v":5.1100000000000003},5.1531250000000002,5.19625,5.2393749999999999,5.2825000000000006,5.3256250000000005,5.3687500000000004,5.4118750000000002,5.4550000000000001,5.4981249999999999,5.5412499999999998,5.5843749999999996,5.6274999999999995,5.6706250000000002,5.7137500000000001,5.756875,{"$f":"'Altherma 3 R'!D9","v":5.8},5.8825000000000003,5.9649999999999999,6.0474999999999994,{"$f":"'Altherma 3 R'!D11","v":6.13},6.1083333333333334,6.0866666666666669,6.0649999999999995,6.043333333333333,6.0216666666666665,{"$f":"'Altherma 3 R'!D10","v":6},6.0487500000000001,6.0975000000000001,6.1462500000000002,6.1950000000000003,6.2437499999999995,6.2924999999999995,6.3412499999999996,{"$f":"'Altherma 3 R'!D12","v":6.39},6.3919999999999995,6.3940000000000001,6.3959999999999999,6.3979999999999997,6.4,6.4020000000000001,6.4039999999999999,6.4059999999999997,6.4080000000000004,{"$f":"'Altherma 3 R'!D13","v":6.41},6.3760000000000003,6.3420000000000005,6.3079999999999998,6.274,6.24,6.2060000000000004,6.1720000000000006,6.1379999999999999,6.1040000000000001,{"$f":"'Altherma 3 R'!D14","v":6.07},6.0116666666666667,5.9533333333333331,5.8949999999999996,5.8366666666666669,5.7783333333333333,{"$f":"'Altherma 3 R'!D15","v":5.72},5.6630000000000003,5.6059999999999999,5.5489999999999995,5.492,5.4350000000000005,5.3780000000000001,5.3209999999999997,5.2640000000000002,5.2070000000000007,{"$f":"'Altherma 3 R'!D16","v":5.15},{"$f":"Eingabemaske!G$19","v":4},"Altherma 3 R W 4 kW","Altherma 3 R W 4 kW",9,3.8,null,4.3]
[7,"Altherma 3 R W",4,{"$f":"'Altherma 3 R'!$L$8","v":3.1},{"$f":"'Altherma 3 R'!$L$9","v":4.0999999999999996},{"$f":"'Altherma 3 R'!$L$10","v":5.0999999999999996},36,{"$f":"$H$9-(($H$9-$H$14)/5*A4)","v":4.6639999999999997},4.7069999999999999,4.75,4.7930000000000001,4.8360000000000003,4.8789999999999996,4.9219999999999997,4.9649999999999999,5.008,5.0510000000000002,{"$f":"$R$9-(($R$9-$R$14)/5*A4)","v":5.0940000000000003},5.1362500000000004,5.1785000000000005,5.2207499999999998,5.2629999999999999,5.30525,5.3475000000000001,5.3897500000000003,5.4320000000000004,5.4742499999999996,5.5164999999999997,5.5587499999999999,5.601,5.6432500000000001,5.6854999999999993,5.7277499999999995,{"$f":"$AH$9-(($AH$9-$AH$14)/5*A4)","v":5.77},5.8514999999999997,5.9329999999999998,6.0145,{"$f":"$AL$9-(($AL$9-$AL$14)/5*A4)","v":6.0960000000000001},6.0746666666666664,6.0533333333333337,6.032,6.0106666666666664,5.9893333333333336,{"$f":"$AR$9-(($AR$9-$AR$14)/5*A4)","v":5.968},6.0162500000000003,6.0644999999999998,6.1127500000000001,6.1609999999999996,6.2092499999999999,6.2575000000000003,6.3057499999999997,{"$f":"$AZ$9-(($AZ$9-$AZ$14)/5*A4)","v":6.3540000000000001},6.3563999999999998,6.3588000000000005,6.3612000000000002,6.3635999999999999,6.3659999999999997,6.3684000000000003,6.3708,6.3731999999999998,6.3756000000000004,{"$f":"$BJ$9-(($BJ$9-$BJ$14)/5*A4)","v":6.3780000000000001},6.3410000000000002,6.3040000000000003,6.2670000000000003,6.23,6.1929999999999996,6.1559999999999997,6.1189999999999998,6.0819999999999999,6.0449999999999999,{"$f":"$BT$9-(($BT$9-$BT$14)/5*A4)","v":6.008},5.9493333333333336,5.8906666666666663,5.8319999999999999,5.7733333333333334,5.7146666666666661,{"$f":"$BZ$9-(($BZ$9-$BZ$14)/5*A4)","v":5.6559999999999997},5.5983999999999998,5.5407999999999999,5.4832000000000001,5.4256000000000002,5.3680000000000003,5.3103999999999996,5.2527999999999997,5.1951999999999998,5.1375999999999999,{"$f":"$CJ$9-(($CJ$9-$CJ$14)/5*A4)","v":5.08},{"$f":"Eingabemaske!G$19","v":4},"Altherma 3 R W 4 kW","Altherma 3 R W 4 kW",9,3.8,null,4.3]
[8,"Altherma 3 R W",4,{"$f":"'Altherma 3 R'!$L$8","v":3.1},{"$f":"'Altherma 3 R'!$L$9","v":4.0999999999999996},{"$f":"'Altherma 3 R'!$L$10","v":5.0999999999999996},37,{"$f":"$H$9-(($H$9-$H$14)/5*A5)","v":4.6579999999999995},4.6999999999999993,4.742,4.7839999999999998,4.8259999999999996,4.8680000000000003,4.91,4.952,4.9939999999999998,5.0360000000000005,{"$f":"$R$9-(($R$9-$R$14)/5*A5)","v":5.0780000000000003},5.1193750000000007,5.1607500000000002,5.2021250000000006,5.2435,5.2848750000000004,5.3262499999999999,5.3676250000000003,5.4090000000000007,5.4503750000000002,5.4917500000000006,5.5331250000000001,5.5745000000000005,5.615875,5.6572500000000003,5.6986249999999998,{"$f":"$AH$9-(($AH$9-$AH$14)/5*A5)","v":5.74},5.8205,5.9009999999999998,5.9815000000000005,{"$f":"$AL$9-(($AL$9-$AL$14)/5*A5)","v":6.0620000000000003},6.0410000000000004,6.0200000000000005,5.9990000000000006,5.9779999999999998,5.9569999999999999,{"$f":"$AR$9-(($AR$9-$AR$14)/5*A5)","v":5.9359999999999999},5.9837499999999997,6.0314999999999994,6.07925,6.1269999999999998,6.1747499999999995,6.2225000000000001,6.2702499999999999,{"$f":"$AZ$9-(($AZ$9-$AZ$14)/5*A5)","v":6.3179999999999996},6.3207999999999993,6.3235999999999999,6.3263999999999996,6.3292000000000002,6.3319999999999999,6.3347999999999995,6.3376000000000001,6.3403999999999998,6.3432000000000004,{"$f":"$BJ$9-(($BJ$9-$BJ$14)/5*A5)","v":6.3460000000000001},6.306,6.266,6.226,6.1859999999999999,6.1459999999999999,6.1059999999999999,6.0659999999999998,6.0259999999999998,5.9859999999999998,{"$f":"$BT$9-(($BT$9-$BT$14)/5*A5)","v":5.9459999999999997},5.8869999999999996,5.8279999999999994,5.7690000000000001,5.71,5.6509999999999998,{"$f":"$BZ$9-(($BZ$9-$BZ$14)/5*A5)","v":5.5919999999999996},5.5337999999999994,5.4756,5.4173999999999998,5.3591999999999995,5.3010000000000002,5.2427999999999999,5.1845999999999997,5.1263999999999994,5.0682,{"$f":"$CJ$9-(($CJ$9-$CJ$14)/5*A5)","v":5.01},{"$f":"Eingabemaske!G$19","v":4},"Altherma 3 R W 4 kW","Altherma 3 R W 4 kW",9,3.8,null,4.3]
[9,"Altherma 3 R W",4,{"$f":"'Altherma 3 R'!$L$8","v":3.1},{"$f":"'Altherma 3 R'!$L$9","v":4.0999999999999996},{"$f":"'Altherma 3 R'!$L$10","v":5.0999999999999996},38,4.6520000000000001,4.6930000000000005,4.734,4.7750000000000004,4.8159999999999998,4.8570000000000002,4.8980000000000006,4.9390000000000001,4.9800000000000004,5.0209999999999999,{"$f":"$R$9-(($R$9-$R$14)/5*A6)","v":5.0620000000000003},5.1025,5.1430000000000007,5.1835000000000004,5.2240000000000002,5.2645,5.3049999999999997,5.3455000000000004,5.3860000000000001,5.4264999999999999,5.4670000000000005,5.5075000000000003,5.548,5.5884999999999998,5.6289999999999996,5.6695000000000002,{"$f":"$AH$9-(($AH$9-$AH$14)/5*A6)","v":5.71},5.7895000000000003,5.8689999999999998,5.9484999999999992,{"$f":"$AL$9-(($AL$9-$AL$14)/5*A6)","v":6.0279999999999996},6.0073333333333334,5.9866666666666664,5.9659999999999993,5.9453333333333331,5.924666666666667,{"$f":"$AR$9-(($AR$9-$AR$14)/5*A6)","v":5.9039999999999999},5.9512499999999999,5.9984999999999999,6.04575,6.093,6.14025,6.1875,6.23475,{"$f":"$AZ$9-(($AZ$9-$AZ$14)/5*A6)","v":6.282},6.2851999999999997,6.2884000000000002,6.2915999999999999,6.2948000000000004,6.298,6.3011999999999997,6.3044000000000002,6.3075999999999999,6.3108000000000004,{"$f":"$BJ$9-(($BJ$9-$BJ$14)/5*A6)","v":6.3140000000000001},6.2709999999999999,6.2279999999999998,6.1850000000000005,6.1420000000000003,6.0990000000000002,6.056,6.0129999999999999,5.9700000000000006,5.9270000000000005,{"$f":"$BT$9-(($BT$9-$BT$14)/5*A6)","v":5.8840000000000003},5.8246666666666673,5.7653333333333334,5.7060000000000004,5.6466666666666674,5.5873333333333335,{"$f":"$BZ$9-(($BZ$9-$BZ$14)/5*A6)","v":5.5280000000000005},5.4692000000000007,5.4104000000000001,5.3516000000000004,5.2928000000000006,5.234,5.1752000000000002,5.1164000000000005,5.0576000000000008,4.9988000000000001,{"$f":"$CJ$9-(($CJ$9-$CJ$14)/5*A6)","v":4.9400000000000004},{"$f":"Eingabemaske!G$19","v":4},"Altherma 3 R W 4 kW","Altherma 3 R W 4 kW",9,3.8,null,4.3]
[null,"Altherma 3 R W",4,{"$f":"'Altherma 3 R'!$L$8","v":3.1},{"$f":"'Altherma 3 R'!$L$9","v":4.0999999999999996},{"$f":"'Altherma 3 R'!$L$10","v":5.0999999999999996},39,4.6459999999999999,4.6859999999999999,4.726,4.766,4.806,4.8460000000000001,4.8860000000000001,4.9260000000000002,4.9660000000000002,5.0060000000000002,{"$f":"$R$9-(($R$9-$R$14)/5*A7)","v":5.0460000000000003},5.0856250000000003,5.1252500000000003,5.1648750000000003,5.2045000000000003,5.2441250000000004,5.2837500000000004,5.3233750000000004,5.3630000000000004,5.4026250000000005,5.4422500000000005,5.4818750000000005,5.5215000000000005,5.5611250000000005,5.6007500000000006,5.6403750000000006,{"$f":"$AH$9-(($AH$9-$AH$14)/5*A7)","v":5.6800000000000006},5.7585000000000006,5.8369999999999997,5.9154999999999998,{"$f":"$AL$9-(($AL$9-$AL$14)/5*A7)","v":5.9939999999999998},5.9736666666666665,5.9533333333333331,5.9329999999999998,5.9126666666666665,5.8923333333333332,{"$f":"$AR$9-(($AR$9-$AR$14)/5*A7)","v":5.8719999999999999},5.9187500000000002,5.9654999999999996,6.0122499999999999,6.0589999999999993,6.1057499999999996,6.1524999999999999,6.1992499999999993,{"$f":"$AZ$9-(($AZ$9-$AZ$14)/5*A7)","v":6.2459999999999996},6.2495999999999992,6.2531999999999996,6.2568000000000001,6.2603999999999997,6.2639999999999993,6.2675999999999998,6.2712000000000003,6.2747999999999999,6.2783999999999995,{"$f":"$BJ$9-(($BJ$9-$BJ$14)/5*A7)","v":6.282},6.2359999999999998,6.19,6.1440000000000001,6.0979999999999999,6.0519999999999996,6.0060000000000002,5.96,5.9139999999999997,5.8680000000000003,{"$f":"$BT$9-(($BT$9-$BT$14)/5*A7)","v":5.8220000000000001},5.7623333333333333,5.7026666666666666,5.6430000000000007,5.5833333333333339,5.5236666666666672,{"$f":"$BZ$9-(($BZ$9-$BZ$14)/5*A7)","v":5.4640000000000004},5.4046000000000003,5.3452000000000002,5.2858000000000001,5.2263999999999999,5.1669999999999998,5.1076000000000006,5.0482000000000005,4.9888000000000003,4.9294000000000002,{"$f":"$CJ$9-(($CJ$9-$CJ$14)/5*A7)","v":4.87},{"$f":"Eingabemaske!G$19","v":4},"Altherma 3 R W 4 kW","Altherma 3 R W 4 kW",9,3.8,null,4.3]
[null,"Altherma 3 R W",4,{"$f":"'Altherma 3 R'!$L$8","v":3.1},{"$f":"'Altherma 3 R'!$L$9","v":4.0999999999999996},{"$f":"'Altherma 3 R'!$L$10","v":5.0999999999999996},40,{"$f":"'Altherma 3 R'!E7","v":4.6399999999999997},{"$f":"$H14-(($H14-$R14)/$R$3*I$3)","v":4.6789999999999994},4.718,4.7569999999999997,4.7960000000000003,4.835,4.8739999999999997,4.9130000000000003,4.952,4.9910000000000005,{"$f":"'Altherma 3 R'!E8","v":5.03},{"$f":"$R14-(($R14-$AH14)/$AH$3*S$3)","v":5.0687500000000005},5.1074999999999999,5.1462500000000002,5.1850000000000005,5.2237499999999999,5.2625000000000002,5.3012500000000005,5.34,5.3787500000000001,5.4175000000000004,5.4562500000000007,5.4950000000000001,5.5337500000000004,5.5725000000000007,5.6112500000000001,{"$f":"'Altherma 3 R'!E9","v":5.65},5.7275,5.8049999999999997,5.8825000000000003,{"$f":"'Altherma 3 R'!E11","v":5.96},{"$f":"$AL14-(($AL14-$AR14)/$AR$1*AM$1)","v":5.9399999999999995},5.92,5.9,5.88,5.8599999999999994,{"$f":"'Altherma 3 R'!E10","v":5.84},{"$f":"$AR14-(($AR14-$AZ14)/$AZ$3*AS$3)","v":5.8862499999999995},5.9325000000000001,5.9787499999999998,6.0250000000000004,6.07125,6.1174999999999997,6.1637500000000003,{"$f":"'Altherma 3 R'!E12","v":6.21},{"$f":"$AZ14-(($AZ14-$BJ14)/$BJ$3*BA$3)","v":6.2140000000000004},6.218,6.2219999999999995,6.226,6.23,6.234,6.2379999999999995,6.242,6.2460000000000004,{"$f":"'Altherma 3 R'!E13","v":6.25},{"$f":"$BJ14-(($BJ14-$BT14)/$BT$3*BK$3)","v":6.2009999999999996},6.1520000000000001,6.1029999999999998,6.0540000000000003,6.0049999999999999,5.9559999999999995,5.907,5.8579999999999997,5.8090000000000002,{"$f":"'Altherma 3 R'!E14","v":5.76},{"$f":"$BT14-(($BT14-$BZ14)/$BZ$3*BU$3)","v":5.7},5.64,5.58,5.5200000000000005,5.46,{"$f":"'Altherma 3 R'!E15","v":5.4},{"$f":"$BZ14-(($BZ14-$CJ14)/$CJ$3*CA$3)","v":5.34},5.28,5.2200000000000006,5.16,5.0999999999999996,5.04,4.9800000000000004,4.92,4.8599999999999994,{"$f":"'Altherma 3 R'!E16","v":4.8},{"$f":"Eingabemaske!G$19","v":4},"Altherma 3 R W 4 kW","Altherma 3 R W 4 kW",9,3.8,null,4.3]
[null,"Altherma 3 R W",4,{"$f":"'Altherma 3 R'!$L$8","v":3.1},{"$f":"'Altherma 3 R'!$L$9","v":4.0999999999999996},{"$f":"'Altherma 3 R'!$L$10","v":5.0999999999999996},41,{"$f":"$H$14-(($H$14-$H$19)/5*A4)","v":4.6339999999999995},4.6719999999999997,4.71,4.7479999999999993,4.7859999999999996,4.8239999999999998,4.8620000000000001,4.9000000000000004,4.9379999999999997,4.976,{"$f":"$R$14-(($R$14-$R$19)/5*A4)","v":5.0140000000000002},5.0518749999999999,5.0897500000000004,5.1276250000000001,5.1654999999999998,5.2033750000000003,5.24125,5.2791250000000005,5.3170000000000002,5.3548749999999998,5.3927500000000004,5.430625,5.4685000000000006,5.5063750000000002,5.5442499999999999,5.5821250000000004,{"$f":"$AH$14-(($AH$14-$AH$19)/5*A4)","v":5.62},5.6965000000000003,5.7729999999999997,5.8494999999999999,{"$f":"$AL$14-(($AL$14-$AL$19)/5*A4)","v":5.9260000000000002},5.9063333333333334,5.8866666666666667,5.867,5.8473333333333333,5.8276666666666666,{"$f":"$AR$14-(($AR$14-$AR$19)/5*A4)","v":5.8079999999999998},5.8537499999999998,5.8994999999999997,5.9452499999999997,5.9909999999999997,6.0367500000000005,6.0825000000000005,6.1282500000000004,{"$f":"$AZ$14-(($AZ$14-$AZ$19)/5*A4)","v":6.1740000000000004},6.1782000000000004,6.1824000000000003,6.1866000000000003,6.1908000000000003,6.1950000000000003,6.1992000000000003,6.2034000000000002,6.2076000000000002,6.2118000000000002,{"$f":"$BJ$14-(($BJ$14-$BJ$19)/5*A4)","v":6.2160000000000002},6.1644000000000005,6.1128,6.0612000000000004,6.0095999999999998,5.9580000000000002,5.9064000000000005,5.8548,5.8032000000000004,5.7515999999999998,{"$f":"$BT$14-(($BT$14-$BT$19)/5*A4)","v":5.7},5.6393333333333331,5.5786666666666669,5.5180000000000007,5.4573333333333336,5.3966666666666665,{"$f":"$BZ$14-(($BZ$14-$BZ$19)/5*A4)","v":5.3360000000000003},5.2754000000000003,5.2148000000000003,5.1542000000000003,5.0936000000000003,5.0329999999999995,4.9723999999999995,4.9117999999999995,4.8511999999999995,4.7905999999999995,{"$f":"$CJ$14-(($CJ$14-$CJ$19)/5*A4)","v":4.7299999999999995},{"$f":"Eingabemaske!G$19","v":4},"Altherma 3 R W 4 kW","Altherma 3 R W 4 kW",9,3.8,null,4.3]
[null,"Altherma 3 R W",4,{"$f":"'Altherma 3 R'!$L$8","v":3.1},{"$f":"'Altherma 3 R'!$L$9","v":4.0999999999999996},{"$f":"'Altherma 3 R'!$L$10","v":5.0999999999999996},42,{"$f":"$H$14-(($H$14-$H$19)/5*A5)","v":4.6280000000000001},4.665,4.702,4.7389999999999999,4.7759999999999998,4.8130000000000006,4.8500000000000005,4.8870000000000005,4.9240000000000004,4.9610000000000003,{"$f":"$R$14-(($R$14-$R$19)/5*A5)","v":4.9980000000000002},5.0350000000000001,5.0720000000000001,5.109,5.1459999999999999,5.1829999999999998,5.22,5.2569999999999997,5.2940000000000005,5.3310000000000004,5.3680000000000003,5.4050000000000002,5.4420000000000002,5.4790000000000001,5.516,5.5529999999999999,{"$f":"$AH$14-(($AH$14-$AH$19)/5*A5)","v":5.59},5.6654999999999998,5.7409999999999997,5.8165000000000004,{"$f":"$AL$14-(($AL$14-$AL$19)/5*A5)","v":5.8920000000000003},5.8726666666666674,5.8533333333333335,5.8339999999999996,5.8146666666666667,5.7953333333333337,{"$f":"$AR$14-(($AR$14-$AR$19)/5*A5)","v":5.7759999999999998},5.82125,5.8665000000000003,5.9117499999999996,5.9569999999999999,6.0022500000000001,6.0474999999999994,6.0927499999999997,{"$f":"$AZ$14-(($AZ$14-$AZ$19)/5*A5)","v":6.1379999999999999},6.1424000000000003,6.1467999999999998,6.1512000000000002,6.1555999999999997,6.16,6.1644000000000005,6.1688000000000001,6.1732000000000005,6.1776,{"$f":"$BJ$14-(($BJ$14-$BJ$19)/5*A5)","v":6.1820000000000004},6.1278000000000006,6.0735999999999999,6.0194000000000001,5.9652000000000003,5.9109999999999996,5.8567999999999998,5.8026,5.7484000000000002,5.6941999999999995,{"$f":"$BT$14-(($BT$14-$BT$19)/5*A5)","v":5.64},5.5786666666666669,5.5173333333333332,5.4559999999999995,5.3946666666666667,5.3333333333333339,{"$f":"$BZ$14-(($BZ$14-$BZ$19)/5*A5)","v":5.2720000000000002},5.2107999999999999,5.1496000000000004,5.0884,5.0272000000000006,4.9660000000000002,4.9047999999999998,4.8436000000000003,4.7824,4.7212000000000005,{"$f":"$CJ$14-(($CJ$14-$CJ$19)/5*A5)","v":4.66},{"$f":"Eingabemaske!G$19","v":4},"Altherma 3 R W 4 kW","Altherma 3 R W 4 kW",9,3.8,null,4.3]
[null,"Altherma 3 R W",4,{"$f":"'Altherma 3 R'!$L$8","v":3.1},{"$f":"'Altherma 3 R'!$L$9","v":4.0999999999999996},{"$f":"'Altherma 3 R'!$L$10","v":5.0999999999999996},43,4.6219999999999999,4.6579999999999995,4.694,4.7300000000000004,4.766,4.8019999999999996,4.8380000000000001,4.8740000000000006,4.91,4.9459999999999997,{"$f":"$R$14-(($R$14-$R$19)/5*A6)","v":4.9820000000000002},5.0181250000000004,5.0542500000000006,5.0903749999999999,5.1265000000000001,5.1626250000000002,5.1987500000000004,5.2348750000000006,5.2710000000000008,5.3071250000000001,5.3432500000000003,5.3793750000000005,5.4155000000000006,5.4516250000000008,5.4877500000000001,5.5238750000000003,{"$f":"$AH$14-(($AH$14-$AH$19)/5*A6)","v":5.5600000000000005},5.6345000000000001,5.7089999999999996,5.7835000000000001,{"$f":"$AL$14-(($AL$14-$AL$19)/5*A6)","v":5.8579999999999997},5.8389999999999995,5.8199999999999994,5.8010000000000002,5.782,5.7629999999999999,{"$f":"$AR$14-(($AR$14-$AR$19)/5*A6)","v":5.7439999999999998},5.7887500000000003,5.8334999999999999,5.8782499999999995,5.923,5.9677500000000006,6.0125000000000002,6.0572499999999998,{"$f":"$AZ$14-(($AZ$14-$AZ$19)/5*A6)","v":6.1020000000000003},6.1066000000000003,6.1112000000000002,6.1158000000000001,6.1204000000000001,6.125,6.1295999999999999,6.1341999999999999,6.1387999999999998,6.1433999999999997,{"$f":"$BJ$14-(($BJ$14-$BJ$19)/5*A6)","v":6.1479999999999997},6.0911999999999997,6.0343999999999998,5.9775999999999998,5.9207999999999998,5.8639999999999999,5.8071999999999999,5.7504,5.6936,5.6368,{"$f":"$BT$14-(($BT$14-$BT$19)/5*A6)","v":5.58},5.5179999999999998,5.4560000000000004,5.3940000000000001,5.3319999999999999,5.2700000000000005,{"$f":"$BZ$14-(($BZ$14-$BZ$19)/5*A6)","v":5.2080000000000002},5.1462000000000003,5.0844000000000005,5.0225999999999997,4.9607999999999999,4.899,4.8372000000000002,4.7754000000000003,4.7135999999999996,4.6517999999999997,{"$f":"$CJ$14-(($CJ$14-$CJ$19)/5*A6)","v":4.59},{"$f":"Eingabemaske!G$19","v":4},"Altherma 3 R W 4 kW","Altherma 3 R W 4 kW",9,3.8,null,4.3]
[null,"Altherma 3 R W",4,{"$f":"'Altherma 3 R'!$L$8","v":3.1},{"$f":"'Altherma 3 R'!$L$9","v":4.0999999999999996},{"$f":"'Altherma 3 R'!$L$10","v":5.0999999999999996},44,4.6160000000000005,4.6510000000000007,4.6860000000000008,4.7210000000000001,4.7560000000000002,4.7910000000000004,4.8260000000000005,4.8610000000000007,4.8959999999999999,4.931,{"$f":"$R$14-(($R$14-$R$19)/5*A7)","v":4.9660000000000002},5.0012500000000006,5.0365000000000002,5.0717499999999998,5.1070000000000002,5.1422500000000007,5.1775000000000002,5.2127499999999998,5.2480000000000002,5.2832500000000007,5.3185000000000002,5.3537499999999998,5.3890000000000002,5.4242500000000007,5.4595000000000002,5.4947499999999998,{"$f":"$AH$14-(($AH$14-$AH$19)/5*A7)","v":5.53},5.6035000000000004,5.6769999999999996,5.7504999999999997,{"$f":"$AL$14-(($AL$14-$AL$19)/5*A7)","v":5.8239999999999998},5.8053333333333335,5.7866666666666662,5.7679999999999998,5.7493333333333334,5.7306666666666661,{"$f":"$AR$14-(($AR$14-$AR$19)/5*A7)","v":5.7119999999999997},5.7562499999999996,5.8004999999999995,5.8447499999999994,5.8889999999999993,5.9332500000000001,5.9775,6.0217499999999999,{"$f":"$AZ$14-(($AZ$14-$AZ$19)/5*A7)","v":6.0659999999999998},6.0708000000000002,6.0755999999999997,6.0804,6.0851999999999995,6.09,6.0948000000000002,6.0995999999999997,6.1044,6.1091999999999995,{"$f":"$BJ$14-(($BJ$14-$BJ$19)/5*A7)","v":6.1139999999999999},6.0545999999999998,5.9951999999999996,5.9357999999999995,5.8763999999999994,5.8170000000000002,5.7576000000000001,5.6981999999999999,5.6387999999999998,5.5793999999999997,{"$f":"$BT$14-(($BT$14-$BT$19)/5*A7)","v":5.52},5.4573333333333327,5.3946666666666667,5.3319999999999999,5.269333333333333,5.206666666666667,{"$f":"$BZ$14-(($BZ$14-$BZ$19)/5*A7)","v":5.1440000000000001},5.0815999999999999,5.0192000000000005,4.9568000000000003,4.8944000000000001,4.8320000000000007,4.7696000000000005,4.7072000000000003,4.6448,4.5824000000000007,{"$f":"$CJ$14-(($CJ$14-$CJ$19)/5*A7)","v":4.5200000000000005},{"$f":"Eingabemaske!G$19","v":4},"Altherma 3 R W 4 kW","Altherma 3 R W 4 kW",9,3.8,null,4.3]
[null,"Altherma 3 R W",4,{"$f":"'Altherma 3 R'!$L$8","v":3.1},{"$f":"'Altherma 3 R'!$L$9","v":4.0999999999999996},{"$f":"'Altherma 3 R'!$L$10","v":5.0999999999999996},45,{"$f":"'Altherma 3 R'!F7","v":4.6100000000000003},4.6440000000000001,4.6779999999999999,4.7120000000000006,4.7460000000000004,4.78,4.8140000000000001,4.8479999999999999,4.8820000000000006,4.9160000000000004,{"$f":"'Altherma 3 R'!F8","v":4.95},4.984375,5.0187499999999998,5.0531250000000005,5.0875000000000004,5.1218750000000002,5.15625,5.1906249999999998,5.2249999999999996,5.2593750000000004,5.2937500000000002,5.328125,5.3624999999999998,5.3968749999999996,5.4312500000000004,5.4656250000000002,{"$f":"'Altherma 3 R'!F9","v":5.5},5.5724999999999998,5.6449999999999996,5.7175000000000002,{"$f":"'Altherma 3 R'!F11","v":5.79},5.7716666666666665,5.753333333333333,5.7349999999999994,5.7166666666666668,5.6983333333333333,{"$f":"'Altherma 3 R'!F10","v":5.68},5.7237499999999999,5.7675000000000001,5.8112500000000002,5.8550000000000004,5.8987499999999997,5.9424999999999999,5.9862500000000001,{"$f":"'Altherma 3 R'!F12","v":6.03},6.0350000000000001,6.04,6.0449999999999999,6.05,6.0549999999999997,6.0600000000000005,6.0650000000000004,6.07,6.0750000000000002,{"$f":"'Altherma 3 R'!F13","v":6.08},6.0179999999999998,5.9560000000000004,5.8940000000000001,5.8319999999999999,5.77,5.7080000000000002,5.6459999999999999,5.5839999999999996,5.5220000000000002,{"$f":"'Altherma 3 R'!F14","v":5.46},5.3966666666666665,5.333333333333333,5.27,5.206666666666667,5.1433333333333335,{"$f":"'Altherma 3 R'!F15","v":5.08},5.0170000000000003,4.9539999999999997,4.891,4.8280000000000003,4.7650000000000006,4.702,4.6390000000000002,4.5760000000000005,4.5129999999999999,{"$f":"'Altherma 3 R'!F16","v":4.45},{"$f":"Eingabemaske!G$19","v":4},"Altherma 3 R W 4 kW","Altherma 3 R W 4 kW",9,3.8,null,4.3]
[null,"Altherma 3 R W",4,{"$f":"'Altherma 3 R'!$L$8","v":3.1},{"$f":"'Altherma 3 R'!$L$9","v":4.0999999999999996},{"$f":"'Altherma 3 R'!$L$10","v":5.0999999999999996},46,{"$f":"$H$19-(($H$19-$H$24)/5*A4)","v":4.5340000000000007},4.5672000000000006,4.6004000000000005,4.6336000000000004,4.6668000000000003,4.7000000000000011,4.733200000000001,4.7664000000000009,4.7996000000000008,4.8328000000000007,{"$f":"$R$19-(($R$19-$R$24)/5*A4)","v":4.8660000000000005},4.8991250000000006,4.9322500000000007,4.9653750000000008,4.9984999999999999,5.031625,5.0647500000000001,5.0978750000000002,5.1310000000000002,5.1641250000000003,5.1972500000000004,5.2303750000000004,5.2635000000000005,5.2966249999999997,5.3297499999999998,5.3628749999999998,{"$f":"$AH$19-(($AH$19-$AH$24)/5*A4)","v":5.3959999999999999},5.4734999999999996,5.5510000000000002,5.6285000000000007,{"$f":"$AL$19-(($AL$19-$AL$24)/5*A4)","v":5.7060000000000004},5.6859999999999999,5.6660000000000004,5.6459999999999999,5.6259999999999994,5.6059999999999999,{"$f":"$AR$19-(($AR$19-$AR$24)/5*A4)","v":5.5859999999999994},5.6327499999999997,5.6794999999999991,5.7262499999999994,5.7729999999999997,5.81975,5.8665000000000003,5.9132499999999997,{"$f":"$AZ$19-(($AZ$19-$AZ$24)/5*A4)","v":5.96},5.9686000000000003,5.9771999999999998,5.9858000000000002,5.9943999999999997,6.0030000000000001,6.0116000000000005,6.0202,6.0288000000000004,6.0373999999999999,{"$f":"$BJ$19-(($BJ$19-$BJ$24)/5*A4)","v":6.0460000000000003},5.9828000000000001,5.9196,5.8563999999999998,5.7931999999999997,5.73,5.6668000000000003,5.6036000000000001,5.5404,5.4771999999999998,{"$f":"$BT$19-(($BT$19-$BT$24)/5*A4)","v":5.4139999999999997},5.343,5.2720000000000002,5.2010000000000005,5.13,5.0590000000000002,{"$f":"$BZ$19-(($BZ$19-$BZ$24)/5*A4)","v":4.9880000000000004},4.9176000000000002,4.8472,4.7768000000000006,4.7064000000000004,4.6360000000000001,4.5655999999999999,4.4951999999999996,4.4248000000000003,4.3544,{"$f":"$CJ$19-(($CJ$19-$CJ$24)/5*A4)","v":4.2839999999999998},{"$f":"Eingabemaske!G$19","v":4},"Altherma 3 R W 4 kW","Altherma 3 R W 4 kW",9,3.8,null,4.3]
[null,"Altherma 3 R W",4,{"$f":"'Altherma 3 R'!$L$8","v":3.1},{"$f":"'Altherma 3 R'!$L$9","v":4.0999999999999996},{"$f":"'Altherma 3 R'!$L$10","v":5.0999999999999996},47,{"$f":"$H$19-(($H$19-$H$24)/5*A5)","v":4.4580000000000002},4.4904000000000002,4.5228000000000002,4.5552000000000001,4.5876000000000001,4.62,4.6524000000000001,4.6848000000000001,4.7172000000000001,4.7496,{"$f":"$R$19-(($R$19-$R$24)/5*A5)","v":4.782},4.8138750000000003,4.8457499999999998,4.8776250000000001,4.9094999999999995,4.9413749999999999,4.9732500000000002,5.0051249999999996,5.0369999999999999,5.0688750000000002,5.1007499999999997,5.132625,5.1645000000000003,5.1963749999999997,5.2282500000000001,5.2601249999999995,{"$f":"$AH$19-(($AH$19-$AH$24)/5*A5)","v":5.2919999999999998},5.3744999999999994,5.4569999999999999,5.5395000000000003,{"$f":"$AL$19-(($AL$19-$AL$24)/5*A5)","v":5.6219999999999999},5.6003333333333334,5.5786666666666669,5.5570000000000004,5.535333333333333,5.5136666666666665,{"$f":"$AR$19-(($AR$19-$AR$24)/5*A5)","v":5.492},5.5417500000000004,5.5914999999999999,5.6412499999999994,5.6909999999999998,5.7407500000000002,5.7904999999999998,5.8402499999999993,{"$f":"$AZ$19-(($AZ$19-$AZ$24)/5*A5)","v":5.89},5.9021999999999997,5.9143999999999997,5.9265999999999996,5.9387999999999996,5.9510000000000005,5.9632000000000005,5.9754000000000005,5.9876000000000005,5.9998000000000005,{"$f":"$BJ$19-(($BJ$19-$BJ$24)/5*A5)","v":6.0120000000000005},5.9476000000000004,5.8832000000000004,5.8188000000000004,5.7544000000000004,5.69,5.6256000000000004,5.5612000000000004,5.4968000000000004,5.4324000000000003,{"$f":"$BT$19-(($BT$19-$BT$24)/5*A5)","v":5.3680000000000003},5.2893333333333334,5.2106666666666666,5.1319999999999997,5.0533333333333337,4.9746666666666668,{"$f":"$BZ$19-(($BZ$19-$BZ$24)/5*A5)","v":4.8959999999999999},4.8182,4.7404000000000002,4.6626000000000003,4.5848000000000004,4.5069999999999997,4.4291999999999998,4.3513999999999999,4.2736000000000001,4.1958000000000002,{"$f":"$CJ$19-(($CJ$19-$CJ$24)/5*A5)","v":4.1180000000000003},{"$f":"Eingabemaske!G$19","v":4},"Altherma 3 R W 4 kW","Altherma 3 R W 4 kW",9,3.8,null,4.3]
[null,"Altherma 3 R W",4,{"$f":"'Altherma 3 R'!$L$8","v":3.1},{"$f":"'Altherma 3 R'!$L$9","v":4.0999999999999996},{"$f":"'Altherma 3 R'!$L$10","v":5.0999999999999996},48,4.3820000000000006,4.4136000000000006,4.4452000000000007,4.4768000000000008,4.5084000000000009,4.5400000000000009,4.5716000000000001,4.6032000000000002,4.6348000000000003,4.6664000000000003,{"$f":"$R$19-(($R$19-$R$24)/5*A6)","v":4.6980000000000004},4.7286250000000001,4.7592500000000006,4.7898750000000003,4.8205000000000009,4.8511250000000006,4.8817500000000003,4.9123750000000008,4.9430000000000005,4.9736250000000002,5.0042500000000008,5.0348750000000004,5.0655000000000001,5.0961250000000007,5.1267500000000004,5.1573750000000009,{"$f":"$AH$19-(($AH$19-$AH$24)/5*A6)","v":5.1880000000000006},5.275500000000001,5.3630000000000004,5.4504999999999999,{"$f":"$AL$19-(($AL$19-$AL$24)/5*A6)","v":5.5380000000000003},5.5146666666666668,5.4913333333333334,5.468,5.4446666666666665,5.4213333333333331,{"$f":"$AR$19-(($AR$19-$AR$24)/5*A6)","v":5.3979999999999997},5.4507499999999993,5.5034999999999998,5.5562500000000004,5.609,5.6617499999999996,5.7145000000000001,5.7672500000000007,{"$f":"$AZ$19-(($AZ$19-$AZ$24)/5*A6)","v":5.82},5.8357999999999999,5.8516000000000004,5.8673999999999999,5.8832000000000004,5.899,5.9147999999999996,5.9306000000000001,5.9463999999999997,5.9622000000000002,{"$f":"$BJ$19-(($BJ$19-$BJ$24)/5*A6)","v":5.9779999999999998},5.9123999999999999,5.8468,5.7812000000000001,5.7156000000000002,5.65,5.5843999999999996,5.5187999999999997,5.4531999999999998,5.3875999999999999,{"$f":"$BT$19-(($BT$19-$BT$24)/5*A6)","v":5.3220000000000001},5.2356666666666669,5.1493333333333338,5.0630000000000006,4.9766666666666666,4.8903333333333334,{"$f":"$BZ$19-(($BZ$19-$BZ$24)/5*A6)","v":4.8040000000000003},4.7187999999999999,4.6336000000000004,4.5484,4.4632000000000005,4.3780000000000001,4.2927999999999997,4.2076000000000002,4.1223999999999998,4.0372000000000003,{"$f":"$CJ$19-(($CJ$19-$CJ$24)/5*A6)","v":3.952},{"$f":"Eingabemaske!G$19","v":4},"Altherma 3 R W 4 kW","Altherma 3 R W 4 kW",9,3.8,null,4.3]
[null,"Altherma 3 R W",4,{"$f":"'Altherma 3 R'!$L$8","v":3.1},{"$f":"'Altherma 3 R'!$L$9","v":4.0999999999999996},{"$f":"'Altherma 3 R'!$L$10","v":5.0999999999999996},49,4.306,4.3368000000000002,4.3676000000000004,4.3983999999999996,4.4291999999999998,4.46,4.4908000000000001,4.5216000000000003,4.5523999999999996,4.5831999999999997,{"$f":"$R$19-(($R$19-$R$24)/5*A7)","v":4.6139999999999999},4.6433749999999998,4.6727499999999997,4.7021249999999997,4.7315000000000005,4.7608750000000004,4.7902500000000003,4.8196250000000003,4.8490000000000002,4.8783750000000001,4.9077500000000001,4.937125,4.9664999999999999,4.9958750000000007,5.0252500000000007,5.0546250000000006,{"$f":"$AH$19-(($AH$19-$AH$24)/5*A7)","v":5.0840000000000005},5.1765000000000008,5.2690000000000001,5.3614999999999995,{"$f":"$AL$19-(($AL$19-$AL$24)/5*A7)","v":5.4539999999999997},5.4290000000000003,5.4039999999999999,5.3789999999999996,5.3540000000000001,5.3290000000000006,{"$f":"$AR$19-(($AR$19-$AR$24)/5*A7)","v":5.3040000000000003},5.35975,5.4154999999999998,5.4712500000000004,5.5270000000000001,5.5827499999999999,5.6385000000000005,5.6942500000000003,{"$f":"$AZ$19-(($AZ$19-$AZ$24)/5*A7)","v":5.75},5.7694000000000001,5.7888000000000002,5.8082000000000003,5.8276000000000003,5.8469999999999995,5.8663999999999996,5.8857999999999997,5.9051999999999998,5.9245999999999999,{"$f":"$BJ$19-(($BJ$19-$BJ$24)/5*A7)","v":5.944},5.8772000000000002,5.8104000000000005,5.7435999999999998,5.6768000000000001,5.61,5.5432000000000006,5.4764000000000008,5.4096000000000002,5.3428000000000004,{"$f":"$BT$19-(($BT$19-$BT$24)/5*A7)","v":5.2760000000000007},5.1820000000000004,5.0880000000000001,4.9939999999999998,4.9000000000000004,4.806,{"$f":"$BZ$19-(($BZ$19-$BZ$24)/5*A7)","v":4.7119999999999997},4.6193999999999997,4.5267999999999997,4.4341999999999997,4.3415999999999997,4.2489999999999997,4.1563999999999997,4.0637999999999996,3.9712000000000001,3.8786,{"$f":"$CJ$19-(($CJ$19-$CJ$24)/5*A7)","v":3.786},{"$f":"Eingabemaske!G$19","v":4},"Altherma 3 R W 4 kW","Altherma 3 R W 4 kW",9,3.8,null,4.3]
[null,"Altherma 3 R W",4,{"$f":"'Altherma 3 R'!$L$8","v":3.1},{"$f":"'Altherma 3 R'!$L$9","v":4.0999999999999996},{"$f":"'Altherma 3 R'!$L$10","v":5.0999999999999996},50,{"$f":"'Altherma 3 R'!G7","v":4.2300000000000004},4.2600000000000007,4.29,4.32,4.3500000000000005,4.3800000000000008,4.41,4.4400000000000004,4.4700000000000006,4.5,{"$f":"'Altherma 3 R'!G8","v":4.53},{"$f":"$R24-(($R24-$AH24)/$AH$3*S$3)","v":4.5581250000000004},4.5862500000000006,4.6143749999999999,4.6425000000000001,4.6706250000000002,4.6987500000000004,4.7268750000000006,4.7550000000000008,4.7831250000000001,4.8112500000000002,4.8393750000000004,4.8675000000000006,4.8956250000000008,4.9237500000000001,4.9518750000000002,{"$f":"'Altherma 3 R'!G9","v":4.9800000000000004},5.0775000000000006,5.1750000000000007,5.2725,{"$f":"'Altherma 3 R'!G11","v":5.37},{"$f":"$AL24-(($AL24-$AR24)/$AR$1*AM$1)","v":5.3433333333333337},5.3166666666666664,5.29,5.2633333333333336,5.2366666666666664,{"$f":"'Altherma 3 R'!G10","v":5.21},{"$f":"$AR24-(($AR24-$AZ24)/$AZ$3*AS$3)","v":5.2687499999999998},5.3274999999999997,5.3862499999999995,5.4450000000000003,5.5037500000000001,5.5625,5.6212499999999999,{"$f":"'Altherma 3 R'!G12","v":5.68},{"$f":"$AZ24-(($AZ24-$BJ24)/$BJ$3*BA$3)","v":5.7029999999999994},5.726,5.7489999999999997,5.7720000000000002,5.7949999999999999,5.8179999999999996,5.8410000000000002,5.8639999999999999,5.8870000000000005,{"$f":"'Altherma 3 R'!G13","v":5.91},{"$f":"$BJ24-(($BJ24-$BT24)/$BT$3*BK$3)","v":5.8420000000000005},5.774,5.7060000000000004,5.6379999999999999,5.57,5.5020000000000007,5.4340000000000002,5.3660000000000005,5.298,{"$f":"'Altherma 3 R'!G14","v":5.23},{"$f":"$BT24-(($BT24-$BZ24)/$BZ$3*BU$3)","v":5.1283333333333339},5.0266666666666673,4.9250000000000007,4.8233333333333333,4.7216666666666667,{"$f":"'Altherma 3 R'!G15","v":4.62},{"$f":"$BZ24-(($BZ24-$CJ24)/$CJ$3*CA$3)","v":4.5200000000000005},4.42,4.32,4.22,4.12,4.0199999999999996,3.92,3.8200000000000003,3.72,{"$f":"'Altherma 3 R'!G16","v":3.62},{"$f":"Eingabemaske!G$19","v":4},"Altherma 3 R W 4 kW","Altherma 3 R W 4 kW",9,3.8,null,4.3]
[null,"Altherma 3 R W",4,{"$f":"'Altherma 3 R'!$L$8","v":3.1},{"$f":"'Altherma 3 R'!$L$9","v":4.0999999999999996},{"$f":"'Altherma 3 R'!$L$10","v":5.0999999999999996},51,null,null,null,null,null,null,null,null,null,null,{"$f":"$R$24-(($R$24-$R$29)/5*A4)","v":4.4119999999999999},4.4408750000000001,4.4697500000000003,4.4986249999999997,4.5274999999999999,4.5563750000000001,4.5852500000000003,4.6141250000000005,4.6430000000000007,4.671875,4.7007500000000002,4.7296250000000004,4.7585000000000006,4.7873750000000008,4.8162500000000001,4.8451250000000003,{"$f":"$AH$24-(($AH$24-$AH$29)/5*A4)","v":4.8740000000000006},4.9765000000000006,5.0790000000000006,5.1814999999999998,{"$f":"$AL$24-(($AL$24-$AL$29)/5*A4)","v":5.2839999999999998},5.2563333333333331,5.2286666666666664,5.2010000000000005,5.1733333333333338,5.1456666666666671,{"$f":"$AR$24-(($AR$24-$AR$29)/5*A4)","v":5.1180000000000003},5.1795,5.2409999999999997,5.3025000000000002,5.3639999999999999,5.4254999999999995,5.4870000000000001,5.5484999999999998,{"$f":"$AZ$24-(($AZ$24-$AZ$29)/5*A4)","v":5.6099999999999994},5.6363999999999992,5.6627999999999998,5.6891999999999996,5.7156000000000002,5.742,5.7683999999999997,5.7948000000000004,5.8212000000000002,5.8476000000000008,{"$f":"$BJ$24-(($BJ$24-$BJ$29)/5*A4)","v":5.8740000000000006},5.8048000000000002,5.7356000000000007,5.6664000000000003,5.5972000000000008,5.5280000000000005,5.4588000000000001,5.3896000000000006,5.3204000000000002,5.2512000000000008,{"$f":"$BT$24-(($BT$24-$BT$29)/5*A4)","v":5.1820000000000004},5.0733333333333341,4.964666666666667,4.8559999999999999,4.7473333333333336,4.6386666666666674,{"$f":"$BZ$24-(($BZ$24-$BZ$29)/5*A4)","v":4.53},4.4226000000000001,4.3151999999999999,4.2078000000000007,4.1004000000000005,3.9930000000000003,3.8856000000000002,3.7782,3.6707999999999998,3.5634000000000001,{"$f":"$CJ$24-(($CJ$24-$CJ$29)/5*A4)","v":3.456},{"$f":"Eingabemaske!G$19","v":4},"Altherma 3 R W 4 kW","Altherma 3 R W 4 kW",9,3.8,null,4.3]
[null,"Altherma 3 R W",4,{"$f":"'Altherma 3 R'!$L$8","v":3.1},{"$f":"'Altherma 3 R'!$L$9","v":4.0999999999999996},{"$f":"'Altherma 3 R'!$L$10","v":5.0999999999999996},52,null,null,null,null,null,null,null,null,null,null,{"$f":"$R$24-(($R$24-$R$29)/5*A5)","v":4.2940000000000005},4.3236250000000007,4.353250000000001,4.3828750000000003,4.4125000000000005,4.4421250000000008,4.4717500000000001,4.5013750000000003,4.5310000000000006,4.5606250000000008,4.5902500000000011,4.6198750000000004,4.6495000000000006,4.6791250000000009,4.7087500000000002,4.7383750000000004,{"$f":"$AH$24-(($AH$24-$AH$29)/5*A5)","v":4.7680000000000007},4.8755000000000006,4.9830000000000005,5.0905000000000005,{"$f":"$AL$24-(($AL$24-$AL$29)/5*A5)","v":5.1980000000000004},5.1693333333333333,5.1406666666666672,5.1120000000000001,5.083333333333333,5.0546666666666669,{"$f":"$AR$24-(($AR$24-$AR$29)/5*A5)","v":5.0259999999999998},5.0902500000000002,5.1544999999999996,5.21875,5.2829999999999995,5.3472499999999998,5.4115000000000002,5.4757499999999997,{"$f":"$AZ$24-(($AZ$24-$AZ$29)/5*A5)","v":5.54},5.5697999999999999,5.5995999999999997,5.6294000000000004,5.6592000000000002,5.6890000000000001,5.7187999999999999,5.7485999999999997,5.7784000000000004,5.8082000000000003,{"$f":"$BJ$24-(($BJ$24-$BJ$29)/5*A5)","v":5.8380000000000001},5.7675999999999998,5.6972000000000005,5.6268000000000002,5.5564,5.4860000000000007,5.4156000000000004,5.3452000000000002,5.2747999999999999,5.2044000000000006,{"$f":"$BT$24-(($BT$24-$BT$29)/5*A5)","v":5.1340000000000003},5.0183333333333335,4.9026666666666667,4.7870000000000008,4.671333333333334,4.5556666666666672,{"$f":"$BZ$24-(($BZ$24-$BZ$29)/5*A5)","v":4.4400000000000004},4.3252000000000006,4.2103999999999999,4.0956000000000001,3.9808000000000003,3.8660000000000001,3.7511999999999999,3.6364000000000001,3.5215999999999998,3.4067999999999996,{"$f":"$CJ$24-(($CJ$24-$CJ$29)/5*A5)","v":3.2919999999999998},{"$f":"Eingabemaske!G$19","v":4},"Altherma 3 R W 4 kW","Altherma 3 R W 4 kW",9,3.8,null,4.3]
[null,"Altherma 3 R W",4,{"$f":"'Altherma 3 R'!$L$8","v":3.1},{"$f":"'Altherma 3 R'!$L$9","v":4.0999999999999996},{"$f":"'Altherma 3 R'!$L$10","v":5.0999999999999996},53,null,null,null,null,null,null,null,null,null,null,{"$f":"$R$24-(($R$24-$R$29)/5*A6)","v":4.1760000000000002},4.2063750000000004,4.2367499999999998,4.2671250000000001,4.2975000000000003,4.3278749999999997,4.35825,4.3886250000000002,4.4190000000000005,4.4493749999999999,4.4797500000000001,4.5101250000000004,4.5404999999999998,4.570875,4.6012500000000003,4.6316249999999997,{"$f":"$AH$24-(($AH$24-$AH$29)/5*A6)","v":4.6619999999999999},4.7744999999999997,4.8870000000000005,4.9995000000000003,{"$f":"$AL$24-(($AL$24-$AL$29)/5*A6)","v":5.1120000000000001},5.0823333333333336,5.0526666666666671,5.0229999999999997,4.9933333333333332,4.9636666666666667,{"$f":"$AR$24-(($AR$24-$AR$29)/5*A6)","v":4.9340000000000002},5.0010000000000003,5.0679999999999996,5.1349999999999998,5.202,5.2690000000000001,5.3360000000000003,5.4029999999999996,{"$f":"$AZ$24-(($AZ$24-$AZ$29)/5*A6)","v":5.47},5.5031999999999996,5.5363999999999995,5.5696000000000003,5.6028000000000002,5.6360000000000001,5.6692,5.7023999999999999,5.7356000000000007,5.7688000000000006,{"$f":"$BJ$24-(($BJ$24-$BJ$29)/5*A6)","v":5.8020000000000005},5.7304000000000004,5.6588000000000003,5.5872000000000002,5.5156000000000001,5.4440000000000008,5.3724000000000007,5.3008000000000006,5.2292000000000005,5.1576000000000004,{"$f":"$BT$24-(($BT$24-$BT$29)/5*A6)","v":5.0860000000000003},4.9633333333333338,4.8406666666666665,4.718,4.5953333333333335,4.4726666666666661,{"$f":"$BZ$24-(($BZ$24-$BZ$29)/5*A6)","v":4.3499999999999996},4.2277999999999993,4.1055999999999999,3.9833999999999996,3.8611999999999997,3.7389999999999999,3.6168,3.4946000000000002,3.3723999999999998,3.2502000000000004,{"$f":"$CJ$24-(($CJ$24-$CJ$29)/5*A6)","v":3.1280000000000001},{"$f":"Eingabemaske!G$19","v":4},"Altherma 3 R W 4 kW","Altherma 3 R W 4 kW",9,3.8,null,4.3]
[null,"Altherma 3 R W",4,{"$f":"'Altherma 3 R'!$L$8","v":3.1},{"$f":"'Altherma 3 R'!$L$9","v":4.0999999999999996},{"$f":"'Altherma 3 R'!$L$10","v":5.0999999999999996},54,null,null,null,null,null,null,null,null,null,null,{"$f":"$R$24-(($R$24-$R$29)/5*A7)","v":4.0579999999999998},4.0891250000000001,4.1202499999999995,4.1513749999999998,4.1825000000000001,4.2136249999999995,4.2447499999999998,4.2758750000000001,4.3070000000000004,4.3381249999999998,4.3692500000000001,4.4003750000000004,4.4314999999999998,4.4626250000000001,4.4937500000000004,4.5248749999999998,{"$f":"$AH$24-(($AH$24-$AH$29)/5*A7)","v":4.556},4.6735000000000007,4.7910000000000004,4.9085000000000001,{"$f":"$AL$24-(($AL$24-$AL$29)/5*A7)","v":5.0260000000000007},4.9953333333333338,4.964666666666667,4.9340000000000002,4.9033333333333333,4.8726666666666665,{"$f":"$AR$24-(($AR$24-$AR$29)/5*A7)","v":4.8419999999999996},4.9117499999999996,4.9814999999999996,5.0512499999999996,5.1210000000000004,5.1907500000000004,5.2605000000000004,5.3302500000000004,{"$f":"$AZ$24-(($AZ$24-$AZ$29)/5*A7)","v":5.4},5.4366000000000003,5.4732000000000003,5.5098000000000003,5.5464000000000002,5.5830000000000002,5.6196000000000002,5.6562000000000001,5.6928000000000001,5.7294,{"$f":"$BJ$24-(($BJ$24-$BJ$29)/5*A7)","v":5.766},5.6932,5.6204000000000001,5.5476000000000001,5.4748000000000001,5.4020000000000001,5.3292000000000002,5.2564000000000002,5.1836000000000002,5.1108000000000002,{"$f":"$BT$24-(($BT$24-$BT$29)/5*A7)","v":5.0380000000000003},4.9083333333333332,4.7786666666666671,4.649,4.519333333333333,4.3896666666666668,{"$f":"$BZ$24-(($BZ$24-$BZ$29)/5*A7)","v":4.26},4.1303999999999998,4.0007999999999999,3.8712,3.7416,3.6120000000000001,3.4823999999999997,3.3527999999999998,3.2231999999999998,3.0935999999999999,{"$f":"$CJ$24-(($CJ$24-$CJ$29)/5*A7)","v":2.964},{"$f":"Eingabemaske!G$19","v":4},"Altherma 3 R W 4 kW","Altherma 3 R W 4 kW",9,3.8,null,4.3]
[null,"Altherma 3 R W",4,{"$f":"'Altherma 3 R'!$L$8","v":3.1},{"$f":"'Altherma 3 R'!$L$9","v":4.0999999999999996},{"$f":"'Altherma 3 R'!$L$10","v":5.0999999999999996},55,null,null,null,null,null,null,null,null,null,null,3.94,3.9718749999999998,4.0037500000000001,4.0356249999999996,4.0674999999999999,4.0993750000000002,4.1312499999999996,4.163125,4.1950000000000003,4.2268749999999997,4.25875,4.2906250000000004,4.3224999999999998,4.3543750000000001,4.3862500000000004,4.4181249999999999,{"$f":"'Altherma 3 R'!H9","v":4.45},4.5724999999999998,4.6950000000000003,4.8175000000000008,{"$f":"'Altherma 3 R'!H11","v":4.9400000000000004},4.9083333333333332,4.8766666666666669,4.8450000000000006,4.8133333333333335,4.7816666666666663,{"$f":"'Altherma 3 R'!H10","v":4.75},4.8224999999999998,4.8949999999999996,4.9675000000000002,5.04,5.1124999999999998,5.1850000000000005,5.2575000000000003,{"$f":"'Altherma 3 R'!H12","v":5.33},5.37,5.41,5.45,5.49,5.53,5.57,5.61,5.65,5.69,{"$f":"'Altherma 3 R'!H13","v":5.73},5.6560000000000006,5.5820000000000007,5.508,5.4340000000000002,5.36,5.2860000000000005,5.2120000000000006,5.1379999999999999,5.0640000000000001,{"$f":"'Altherma 3 R'!H14","v":4.99},4.8533333333333335,4.7166666666666668,4.58,4.4433333333333334,4.3066666666666666,{"$f":"'Altherma 3 R'!H15","v":4.17},4.0329999999999995,3.8959999999999999,3.7589999999999999,3.6219999999999999,3.4849999999999999,3.3479999999999999,3.2109999999999999,3.0739999999999998,2.9369999999999998,{"$f":"'Altherma 3 R'!H16","v":2.8},{"$f":"Eingabemaske!G$19","v":4},"Altherma 3 R W 4 kW","Altherma 3 R W 4 kW",9,3.8,null,4.3]
[null,"Altherma 3 R W",4,{"$f":"'Altherma 3 R'!$L$8","v":3.1},{"$f":"'Altherma 3 R'!$L$9","v":4.0999999999999996},{"$f":"'Altherma 3 R'!$L$10","v":5.0999999999999996},56,null,null,null,null,null,null,null,null,null,null,null,null,null,null,null,null,null,null,null,null,null,null,null,null,null,null,null,null,null,null,{"$f":"$AL$29-(($AL$29-$AL$34)/5*A4)","v":4.8180000000000005},4.783666666666667,4.7493333333333334,4.7149999999999999,4.6806666666666672,4.6463333333333336,{"$f":"$AR$29-(($AR$29-$AR$34)/5*A4)","v":4.6120000000000001},4.6900000000000004,4.7679999999999998,4.8460000000000001,4.9239999999999995,5.0019999999999998,5.08,5.1579999999999995,{"$f":"$AZ$29-(($AZ$29-$AZ$34)/5*A4)","v":5.2359999999999998},5.2824,5.3288000000000002,5.3751999999999995,5.4215999999999998,5.468,5.5144000000000002,5.5608000000000004,5.6071999999999997,5.6536,{"$f":"$BJ$29-(($BJ$29-$BJ$34)/5*A4)","v":5.7},5.6276000000000002,5.5552000000000001,5.4828000000000001,5.4104000000000001,5.3380000000000001,5.2656000000000001,5.1932,5.1208,5.0484,{"$f":"$BT$29-(($BT$29-$BT$34)/5*A4)","v":4.976},4.8243333333333336,4.6726666666666663,4.5209999999999999,4.3693333333333335,4.2176666666666662,{"$f":"$BZ$29-(($BZ$29-$BZ$34)/5*A4)","v":4.0659999999999998},3.9198,3.7736000000000001,3.6273999999999997,3.4811999999999999,3.335,3.1888000000000001,3.0426000000000002,2.8963999999999999,2.7502000000000004,{"$f":"$CJ$29-(($CJ$29-$CJ$34)/5*A4)","v":2.6040000000000001},{"$f":"Eingabemaske!G$19","v":4},"Altherma 3 R W 4 kW","Altherma 3 R W 4 kW",9,3.8,null,4.3]
[null,"Altherma 3 R W",4,{"$f":"'Altherma 3 R'!$L$8","v":3.1},{"$f":"'Altherma 3 R'!$L$9","v":4.0999999999999996},{"$f":"'Altherma 3 R'!$L$10","v":5.0999999999999996},57,null,null,null,null,null,null,null,null,null,null,null,null,null,null,null,null,null,null,null,null,null,null,null,null,null,null,null,null,null,null,{"$f":"$AL$29-(($AL$29-$AL$34)/5*A5)","v":4.6960000000000006},4.6590000000000007,4.6220000000000008,4.5850000000000009,4.548,4.5110000000000001,{"$f":"$AR$29-(($AR$29-$AR$34)/5*A5)","v":4.4740000000000002},4.5575000000000001,4.641,4.7244999999999999,4.8079999999999998,4.8915000000000006,4.9750000000000005,5.0585000000000004,{"$f":"$AZ$29-(($AZ$29-$AZ$34)/5*A5)","v":5.1420000000000003},5.1948000000000008,5.2476000000000003,5.3003999999999998,5.3532000000000002,5.4060000000000006,5.4588000000000001,5.5115999999999996,5.5644,5.6172000000000004,{"$f":"$BJ$29-(($BJ$29-$BJ$34)/5*A5)","v":5.67},5.5991999999999997,5.5283999999999995,5.4576000000000002,5.3868,5.3159999999999998,5.2451999999999996,5.1743999999999994,5.1036000000000001,5.0327999999999999,{"$f":"$BT$29-(($BT$29-$BT$34)/5*A5)","v":4.9619999999999997},4.7953333333333328,4.6286666666666667,4.4619999999999997,4.2953333333333328,4.1286666666666667,{"$f":"$BZ$29-(($BZ$29-$BZ$34)/5*A5)","v":3.9619999999999997},3.8065999999999995,3.6511999999999998,3.4958,3.3403999999999998,3.1849999999999996,3.0295999999999998,2.8742000000000001,2.7187999999999999,2.5633999999999997,{"$f":"$CJ$29-(($CJ$29-$CJ$34)/5*A5)","v":2.4079999999999999},{"$f":"Eingabemaske!G$19","v":4},"Altherma 3 R W 4 kW","Altherma 3 R W 4 kW",9,3.8,null,4.3]
[null,"Altherma 3 R W",4,{"$f":"'Altherma 3 R'!$L$8","v":3.1},{"$f":"'Altherma 3 R'!$L$9","v":4.0999999999999996},{"$f":"'Altherma 3 R'!$L$10","v":5.0999999999999996},58,null,null,null,null,null,null,null,null,null,null,null,null,null,null,null,null,null,null,null,null,null,null,null,null,null,null,null,null,null,null,{"$f":"$AL$29-(($AL$29-$AL$34)/5*A6)","v":4.5739999999999998},4.5343333333333327,4.4946666666666664,4.4550000000000001,4.4153333333333329,4.3756666666666657,{"$f":"$AR$29-(($AR$29-$AR$34)/5*A6)","v":4.3359999999999994},4.4249999999999998,4.5139999999999993,4.6029999999999998,4.6920000000000002,4.7809999999999997,4.87,4.9589999999999996,{"$f":"$AZ$29-(($AZ$29-$AZ$34)/5*A6)","v":5.048},5.1071999999999997,5.1664000000000003,5.2256,5.2848000000000006,5.3440000000000003,5.4032,5.4624000000000006,5.5216000000000003,5.5808000000000009,{"$f":"$BJ$29-(($BJ$29-$BJ$34)/5*A6)","v":5.6400000000000006},5.5708000000000002,5.5016000000000007,5.4324000000000003,5.3632000000000009,5.2940000000000005,5.2248000000000001,5.1556000000000006,5.0864000000000003,5.0172000000000008,{"$f":"$BT$29-(($BT$29-$BT$34)/5*A6)","v":4.9480000000000004},4.7663333333333338,4.5846666666666671,4.4030000000000005,4.2213333333333329,4.0396666666666663,{"$f":"$BZ$29-(($BZ$29-$BZ$34)/5*A6)","v":3.8579999999999997},3.6933999999999996,3.5287999999999995,3.3641999999999994,3.1995999999999998,3.0349999999999997,2.8703999999999996,2.7058,2.5411999999999999,2.3765999999999998,{"$f":"$CJ$29-(($CJ$29-$CJ$34)/5*A6)","v":2.2119999999999997},{"$f":"Eingabemaske!G$19","v":4},"Altherma 3 R W 4 kW","Altherma 3 R W 4 kW",9,3.8,null,4.3]
[null,"Altherma 3 R W",4,{"$f":"'Altherma 3 R'!$L$8","v":3.1},{"$f":"'Altherma 3 R'!$L$9","v":4.0999999999999996},{"$f":"'Altherma 3 R'!$L$10","v":5.0999999999999996},59,null,null,null,null,null,null,null,null,null,null,null,null,null,null,null,null,null,null,null,null,null,null,null,null,null,null,null,null,null,null,{"$f":"$AL$29-(($AL$29-$AL$34)/5*A7)","v":4.452},4.4096666666666664,4.3673333333333328,4.3249999999999993,4.2826666666666666,4.2403333333333331,{"$f":"$AR$29-(($AR$29-$AR$34)/5*A7)","v":4.1979999999999995},4.2924999999999995,4.3869999999999996,4.4814999999999996,4.5760000000000005,4.6705000000000005,4.7650000000000006,4.8595000000000006,{"$f":"$AZ$29-(($AZ$29-$AZ$34)/5*A7)","v":4.9540000000000006},5.0196000000000005,5.0852000000000004,5.1508000000000003,5.2164000000000001,5.282,5.3476000000000008,5.4132000000000007,5.4788000000000006,5.5444000000000004,{"$f":"$BJ$29-(($BJ$29-$BJ$34)/5*A7)","v":5.61},5.5424000000000007,5.4748000000000001,5.4072000000000005,5.3395999999999999,5.2720000000000002,5.2044000000000006,5.1368,5.0692000000000004,5.0015999999999998,{"$f":"$BT$29-(($BT$29-$BT$34)/5*A7)","v":4.9340000000000002},4.7373333333333338,4.5406666666666666,4.3440000000000003,4.1473333333333331,3.9506666666666668,{"$f":"$BZ$29-(($BZ$29-$BZ$34)/5*A7)","v":3.754},3.5802,3.4064000000000001,3.2325999999999997,3.0587999999999997,2.8849999999999998,2.7111999999999998,2.5373999999999999,2.3635999999999999,2.1898,{"$f":"$CJ$29-(($CJ$29-$CJ$34)/5*A7)","v":2.016},{"$f":"Eingabemaske!G$19","v":4},"Altherma 3 R W 4 kW","Altherma 3 R W 4 kW",9,3.8,null,4.3]
[null,"Altherma 3 R W",4,{"$f":"'Altherma 3 R'!$L$8","v":3.1},{"$f":"'Altherma 3 R'!$L$9","v":4.0999999999999996},{"$f":"'Altherma 3 R'!$L$10","v":5.0999999999999996},60,null,null,null,null,null,null,null,null,null,null,null,null,null,null,null,null,null,null,null,null,null,null,null,null,null,null,null,null,null,null,{"$f":"'Altherma 3 R'!I11","v":4.33},4.2850000000000001,4.24,4.1950000000000003,4.1499999999999995,4.1049999999999995,{"$f":"'Altherma 3 R'!I10","v":4.0599999999999996},4.16,4.26,4.3599999999999994,4.46,4.5600000000000005,4.66,4.76,{"$f":"'Altherma 3 R'!I12","v":4.8600000000000003},4.9320000000000004,5.0040000000000004,5.0760000000000005,5.1480000000000006,5.2200000000000006,5.2919999999999998,5.3639999999999999,5.4359999999999999,5.508,{"$f":"'Altherma 3 R'!I13","v":5.58},5.5140000000000002,5.4480000000000004,5.3819999999999997,5.3159999999999998,5.25,5.1840000000000002,5.1180000000000003,5.0519999999999996,4.9859999999999998,{"$f":"'Altherma 3 R'!I14","v":4.92},4.708333333333333,4.4966666666666661,4.2850000000000001,4.0733333333333333,3.8616666666666664,{"$f":"'Altherma 3 R'!I15","v":3.65},3.4670000000000001,3.2839999999999998,3.101,2.9180000000000001,2.7349999999999999,2.552,2.3689999999999998,2.1859999999999999,2.0030000000000001,{"$f":"'Altherma 3 R'!I16","v":1.82},{"$f":"Eingabemaske!G$19","v":4},"Altherma 3 R W 4 kW","Altherma 3 R W 4 kW",9,3.8,null,4.3]
[null,"Altherma 3 R W",4,{"$f":"'Altherma 3 R'!$L$8","v":3.1},{"$f":"'Altherma 3 R'!$L$9","v":4.0999999999999996},{"$f":"'Altherma 3 R'!$L$10","v":5.0999999999999996},61,null,null,null,null,null,null,null,null,null,null,null,null,null,null,null,null,null,null,null,null,null,null,null,null,null,null,null,null,null,null,null,null,null,null,null,null,null,null,null,null,null,null,null,null,null,null,null,null,null,null,null,null,null,null,null,null,null,null,null,null,null,null,null,null,null,null,null,null,null,null,null,null,null,null,null,null,null,null,null,null,null,{"$f":"Eingabemaske!G$19","v":4},"Altherma 3 R W 4 kW","Altherma 3 R W 4 kW",9,3.8,null,4.3]
[null,"Altherma 3 R W",4,{"$f":"'Altherma 3 R'!$L$8","v":3.1},{"$f":"'Altherma 3 R'!$L$9","v":4.0999999999999996},{"$f":"'Altherma 3 R'!$L$10","v":5.0999999999999996},62,null,null,null,null,null,null,null,null,null,null,null,null,null,null,null,null,null,null,null,null,null,null,null,null,null,null,null,null,null,null,null,null,null,null,null,null,null,null,null,null,null,null,null,null,null,null,null,null,null,null,null,null,null,null,null,null,null,null,null,null,null,null,null,null,null,null,null,null,null,null,null,null,null,null,null,null,null,null,null,null,null,{"$f":"Eingabemaske!G$19","v":4},"Altherma 3 R W 4 kW","Altherma 3 R W 4 kW",9,3.8,null,4.3]
[null,"Altherma 3 R W",4,{"$f":"'Altherma 3 R'!$L$8","v":3.1},{"$f":"'Altherma 3 R'!$L$9","v":4.0999999999999996},{"$f":"'Altherma 3 R'!$L$10","v":5.0999999999999996},63,null,null,null,null,null,null,null,null,null,null,null,null,null,null,null,null,null,null,null,null,null,null,null,null,null,null,null,null,null,null,null,null,null,null,null,null,null,null,null,null,null,null,null,null,null,null,null,null,null,null,null,null,null,null,null,null,null,null,null,null,null,null,null,null,null,null,null,null,null,null,null,null,null,null,null,null,null,null,null,null,null,{"$f":"Eingabemaske!G$19","v":4},"Altherma 3 R W 4 kW","Altherma 3 R W 4 kW",9,3.8,null,4.3]
[null,"Altherma 3 R W",4,{"$f":"'Altherma 3 R'!$L$8","v":3.1},{"$f":"'Altherma 3 R'!$L$9","v":4.0999999999999996},{"$f":"'Altherma 3 R'!$L$10","v":5.0999999999999996},64,null,null,null,null,null,null,null,null,null,null,null,null,null,null,null,null,null,null,null,null,null,null,null,null,null,null,null,null,null,null,null,null,null,null,null,null,null,null,null,null,null,null,null,null,null,null,null,null,null,null,null,null,null,null,null,null,null,null,null,null,null,null,null,null,null,null,null,null,null,null,null,null,null,null,null,null,null,null,null,null,null,{"$f":"Eingabemaske!G$19","v":4},"Altherma 3 R W 4 kW","Altherma 3 R W 4 kW",9,3.8,null,4.3]
[null,"Altherma 3 R W",4,{"$f":"'Altherma 3 R'!$L$8","v":3.1},{"$f":"'Altherma 3 R'!$L$9","v":4.0999999999999996},{"$f":"'Altherma 3 R'!$L$10","v":5.0999999999999996},65,null,null,null,null,null,null,null,null,null,null,null,null,null,null,null,null,null,null,null,null,null,null,null,null,null,null,null,null,null,null,null,null,null,null,null,null,null,null,null,null,null,null,null,null,null,null,null,null,null,null,null,null,null,null,null,null,null,null,null,null,null,null,null,null,null,null,null,null,null,null,null,null,null,null,null,null,null,null,null,null,null,{"$f":"Eingabemaske!G$19","v":4},"Altherma 3 R W 4 kW","Altherma 3 R W 4 kW",9,3.8,null,4.3]
[null,"Altherma 3 R W",4,{"$f":"'Altherma 3 R'!$L$8","v":3.1},{"$f":"'Altherma 3 R'!$L$9","v":4.0999999999999996},{"$f":"'Altherma 3 R'!$L$10","v":5.0999999999999996},66,null,null,null,null,null,null,null,null,null,null,null,null,null,null,null,null,null,null,null,null,null,null,null,null,null,null,null,null,null,null,null,null,null,null,null,null,null,null,null,null,null,null,null,null,null,null,null,null,null,null,null,null,null,null,null,null,null,null,null,null,null,null,null,null,null,null,null,null,null,null,null,null,null,null,null,null,null,null,null,null,null,{"$f":"Eingabemaske!G$19","v":4},"Altherma 3 R W 4 kW","Altherma 3 R W 4 kW",9,3.8,null,4.3]
[null,"Altherma 3 R W",4,{"$f":"'Altherma 3 R'!$L$8","v":3.1},{"$f":"'Altherma 3 R'!$L$9","v":4.0999999999999996},{"$f":"'Altherma 3 R'!$L$10","v":5.0999999999999996},67,null,null,null,null,null,null,null,null,null,null,null,null,null,null,null,null,null,null,null,null,null,null,null,null,null,null,null,null,null,null,null,null,null,null,null,null,null,null,null,null,null,null,null,null,null,null,null,null,null,null,null,null,null,null,null,null,null,null,null,null,null,null,null,null,null,null,null,null,null,null,null,null,null,null,null,null,null,null,null,null,null,{"$f":"Eingabemaske!G$19","v":4},"Altherma 3 R W 4 kW","Altherma 3 R W 4 kW",9,3.8,null,4.3]
[null,"Altherma 3 R W",4,{"$f":"'Altherma 3 R'!$L$8","v":3.1},{"$f":"'Altherma 3 R'!$L$9","v":4.0999999999999996},{"$f":"'Altherma 3 R'!$L$10","v":5.0999999999999996},68,null,null,null,null,null,null,null,null,null,null,null,null,null,null,null,null,null,null,null,null,null,null,null,null,null,null,null,null,null,null,null,null,null,null,null,null,null,null,null,null,null,null,null,null,null,null,null,null,null,null,null,null,null,null,null,null,null,null,null,null,null,null,null,null,null,null,null,null,null,null,null,null,null,null,null,null,null,null,null,null,null,{"$f":"Eingabemaske!G$19","v":4},"Altherma 3 R W 4 kW","Altherma 3 R W 4 kW",9,3.8,null,4.3]
[null,"Altherma 3 R W",4,{"$f":"'Altherma 3 R'!$L$8","v":3.1},{"$f":"'Altherma 3 R'!$L$9","v":4.0999999999999996},{"$f":"'Altherma 3 R'!$L$10","v":5.0999999999999996},69,null,null,null,null,null,null,null,null,null,null,null,null,null,null,null,null,null,null,null,null,null,null,null,null,null,null,null,null,null,null,null,null,null,null,null,null,null,null,null,null,null,null,null,null,null,null,null,null,null,null,null,null,null,null,null,null,null,null,null,null,null,null,null,null,null,null,null,null,null,null,null,null,null,null,null,null,null,null,null,null,null,{"$f":"Eingabemaske!G$19","v":4},"Altherma 3 R W 4 kW","Altherma 3 R W 4 kW",9,3.8,null,4.3]
[null,"Altherma 3 R W",4,{"$f":"'Altherma 3 R'!$L$8","v":3.1},{"$f":"'Altherma 3 R'!$L$9","v":4.0999999999999996},{"$f":"'Altherma 3 R'!$L$10","v":5.0999999999999996},70,null,null,null,null,null,null,null,null,null,null,null,null,null,null,null,null,null,null,null,null,null,null,null,null,null,null,null,null,null,null,null,null,null,null,null,null,null,null,null,null,null,null,null,null,null,null,null,null,null,null,null,null,null,null,null,null,null,null,null,null,null,null,null,null,null,null,null,null,null,null,null,null,null,null,null,null,null,null,null,null,null,{"$f":"Eingabemaske!G$19","v":4},"Altherma 3 R W 4 kW","Altherma 3 R W 4 kW",9,3.8,null,4.3]
[null,"Altherma 3 R W",7,3.1,4.29,5.23,30,{"$f":"H4","v":4.71},{"$f":"I4","v":4.758},4.806,4.8540000000000001,4.9020000000000001,4.95,4.9980000000000002,5.0460000000000003,5.0940000000000003,5.1420000000000003,{"$f":"R4","v":5.19},{"$f":"S4","v":5.2375000000000007},5.2850000000000001,5.3325000000000005,5.3800000000000008,5.4275000000000002,5.4750000000000005,5.5225,5.57,5.6175000000000006,5.665,5.7125000000000004,5.76,5.8075000000000001,5.8550000000000004,5.9024999999999999,{"$f":"AH4","v":5.95},6.0350000000000001,6.12,6.2050000000000001,6.29,6.2683333333333335,6.246666666666667,6.2249999999999996,6.2033333333333331,6.1816666666666666,{"$f":"AR4","v":6.16},6.2112499999999997,6.2625000000000002,6.3137500000000006,6.3650000000000002,6.4162499999999998,6.4675000000000002,6.5187500000000007,6.57,6.5780000000000003,6.5860000000000003,6.5940000000000003,6.6020000000000003,6.61,6.6180000000000003,6.6260000000000003,6.6340000000000003,6.6420000000000003,{"$f":"BJ4","v":6.65},6.617,6.5840000000000005,6.5510000000000002,6.5180000000000007,6.4850000000000003,6.452,6.4190000000000005,6.3860000000000001,6.3530000000000006,{"$f":"BT4","v":6.32},6.2733333333333334,6.2266666666666666,6.18,6.1333333333333337,6.0866666666666669,6.04,5.9850000000000003,5.93,5.875,5.82,5.7650000000000006,5.71,5.6550000000000002,5.6000000000000005,5.5449999999999999,{"$f":"CJ4","v":5.49},4,"Altherma 3 R W 07","Altherma 3 R W 07",9,3.85,null,4.3600000000000003]
[null,"Altherma 3 R W",7,3.1,4.29,5.23,31,{"$f":"H5","v":4.702},{"$f":"I5","v":4.7492000000000001},4.7964000000000002,4.8436000000000003,4.8908000000000005,4.9380000000000006,4.9851999999999999,5.0324,5.0796000000000001,5.1268000000000002,5.1740000000000004,{"$f":"S5","v":5.2206250000000001},5.2672500000000007,5.3138750000000003,5.3605,5.4071250000000006,5.4537500000000003,5.500375,5.5470000000000006,5.5936250000000003,5.64025,5.6868750000000006,5.7335000000000003,5.780125,5.8267499999999997,5.8733750000000002,{"$f":"AH5","v":5.92},6.0045000000000002,6.0890000000000004,6.1734999999999998,6.258,6.2363333333333335,6.214666666666667,6.1929999999999996,6.1713333333333331,6.1496666666666666,{"$f":"AR5","v":6.1280000000000001},6.17875,6.2294999999999998,6.2802499999999997,6.3309999999999995,6.3817500000000003,6.4325000000000001,6.48325,6.5339999999999998,6.5407999999999999,6.5476000000000001,6.5544000000000002,6.5612000000000004,6.5679999999999996,6.5747999999999998,6.5815999999999999,6.5884,6.5952000000000002,{"$f":"BJ5","v":6.6020000000000003},6.5688000000000004,6.5356000000000005,6.5024000000000006,6.4692000000000007,6.4359999999999999,6.4028,6.3696000000000002,6.3364000000000003,6.3032000000000004,{"$f":"BT5","v":6.2700000000000005},6.2210000000000001,6.1720000000000006,6.1230000000000002,6.0739999999999998,6.0250000000000004,5.976,5.9206000000000003,5.8651999999999997,5.8098000000000001,5.7544000000000004,5.6989999999999998,5.6436000000000002,5.5882000000000005,5.5328000000000008,5.4774000000000003,{"$f":"CJ5","v":5.4220000000000006},4,"Altherma 3 R W 07","Altherma 3 R W 07",9,3.85,null,4.3600000000000003]
[null,"Altherma 3 R W",7,3.1,4.29,5.23,32,4.694,4.7404000000000002,4.7868000000000004,4.8331999999999997,4.8795999999999999,4.9260000000000002,4.9724000000000004,5.0188000000000006,5.0651999999999999,5.1116000000000001,5.1580000000000004,{"$f":"S6","v":5.2037500000000003},5.2495000000000003,5.2952500000000002,5.3410000000000002,5.3867500000000001,5.4325000000000001,5.4782500000000001,5.524,5.56975,5.6154999999999999,5.6612499999999999,5.7069999999999999,5.7527499999999998,5.7984999999999998,5.8442499999999997,{"$f":"AH6","v":5.89},5.9740000000000002,6.0579999999999998,6.1419999999999995,6.226,6.2043333333333335,6.182666666666667,6.1609999999999996,6.1393333333333331,6.1176666666666666,{"$f":"AR6","v":6.0960000000000001},6.1462500000000002,6.1965000000000003,6.2467500000000005,6.2970000000000006,6.3472499999999998,6.3975,6.4477500000000001,6.4980000000000002,6.5036000000000005,6.5091999999999999,6.5148000000000001,6.5204000000000004,6.5259999999999998,6.5316000000000001,6.5372000000000003,6.5428000000000006,6.5484,{"$f":"BJ6","v":6.5540000000000003},6.5206,6.4872000000000005,6.4538000000000002,6.4204000000000008,6.3870000000000005,6.3536000000000001,6.3202000000000007,6.2868000000000004,6.253400000000001,{"$f":"BT6","v":6.2200000000000006},6.1686666666666667,6.1173333333333337,6.0660000000000007,6.0146666666666668,5.9633333333333329,5.9119999999999999,5.8562000000000003,5.8003999999999998,5.7446000000000002,5.6887999999999996,5.633,5.5772000000000004,5.5213999999999999,5.4656000000000002,5.4097999999999997,{"$f":"CJ6","v":5.3540000000000001},4,"Altherma 3 R W 07","Altherma 3 R W 07",9,3.85,null,4.3600000000000003]
[null,"Altherma 3 R W",7,3.1,4.29,5.23,33,4.6859999999999999,4.7316000000000003,4.7771999999999997,4.8228,4.8684000000000003,4.9139999999999997,4.9596,5.0052000000000003,5.0508000000000006,5.0964,5.1420000000000003,{"$f":"S7","v":5.1868750000000006},5.2317499999999999,5.2766250000000001,5.3215000000000003,5.3663750000000006,5.4112500000000008,5.4561250000000001,5.5010000000000003,5.5458750000000006,5.5907499999999999,5.6356250000000001,5.6805000000000003,5.7253750000000005,5.7702500000000008,5.8151250000000001,{"$f":"AH7","v":5.86},5.9435000000000002,6.0270000000000001,6.1105,6.194,6.1723333333333334,6.1506666666666669,6.1289999999999996,6.1073333333333331,6.0856666666666666,{"$f":"AR7","v":6.0640000000000001},6.1137499999999996,6.1635,6.2132500000000004,6.2629999999999999,6.3127499999999994,6.3624999999999998,6.4122500000000002,6.4619999999999997,6.4664000000000001,6.4707999999999997,6.4752000000000001,6.4795999999999996,6.484,6.4884000000000004,6.4927999999999999,6.4972000000000003,6.5015999999999998,{"$f":"BJ7","v":6.5060000000000002},6.4724000000000004,6.4388000000000005,6.4051999999999998,6.3715999999999999,6.3380000000000001,6.3044000000000002,6.2708000000000004,6.2371999999999996,6.2035999999999998,{"$f":"BT7","v":6.17},6.1163333333333334,6.0626666666666669,6.0090000000000003,5.9553333333333329,5.9016666666666664,5.8479999999999999,5.7918000000000003,5.7355999999999998,5.6794000000000002,5.6231999999999998,5.5670000000000002,5.5108000000000006,5.4546000000000001,5.3984000000000005,5.3422000000000001,{"$f":"CJ7","v":5.2860000000000005},4,"Altherma 3 R W 07","Altherma 3 R W 07",9,3.85,null,4.3600000000000003]
[null,"Altherma 3 R W",7,3.1,4.29,5.23,34,4.6779999999999999,4.7228000000000003,4.7675999999999998,4.8124000000000002,4.8571999999999997,4.9020000000000001,4.9468000000000005,4.9916,5.0364000000000004,5.0811999999999999,5.1260000000000003,{"$f":"S8","v":5.17},5.2140000000000004,5.258,5.3020000000000005,5.3460000000000001,5.3900000000000006,5.4340000000000002,5.4779999999999998,5.5220000000000002,5.5659999999999998,5.61,5.6539999999999999,5.6980000000000004,5.742,5.7859999999999996,{"$f":"AH8","v":5.83},5.9130000000000003,5.9960000000000004,6.0789999999999997,6.1619999999999999,6.1403333333333334,6.1186666666666669,6.0969999999999995,6.075333333333333,6.0536666666666665,{"$f":"AR8","v":6.032},6.0812499999999998,6.1304999999999996,6.1797500000000003,6.2290000000000001,6.2782499999999999,6.3275000000000006,6.3767500000000004,6.4260000000000002,6.4291999999999998,6.4324000000000003,6.4356,6.4388000000000005,6.4420000000000002,6.4451999999999998,6.4484000000000004,6.4516,6.4548000000000005,{"$f":"BJ8","v":6.4580000000000002},6.4241999999999999,6.3904000000000005,6.3566000000000003,6.3228,6.2889999999999997,6.2552000000000003,6.2214,6.1875999999999998,6.1538000000000004,{"$f":"BT8","v":6.12},6.0640000000000001,6.008,5.952,5.8959999999999999,5.84,5.7839999999999998,5.7273999999999994,5.6707999999999998,5.6142000000000003,5.5575999999999999,5.5009999999999994,5.4443999999999999,5.3878000000000004,5.3311999999999999,5.2745999999999995,{"$f":"CJ8","v":5.218},4,"Altherma 3 R W 07","Altherma 3 R W 07",9,3.85,null,4.3600000000000003]
[null,"Altherma 3 R W",7,3.1,4.29,5.23,35,4.67,4.7140000000000004,4.758,4.8019999999999996,4.8460000000000001,4.8900000000000006,4.9340000000000002,4.9779999999999998,5.0220000000000002,5.0660000000000007,5.1100000000000003,{"$f":"S9","v":5.1531250000000002},5.19625,5.2393749999999999,5.2825000000000006,5.3256250000000005,5.3687500000000004,5.4118750000000002,5.4550000000000001,5.4981249999999999,5.5412499999999998,5.5843749999999996,5.6274999999999995,5.6706250000000002,5.7137500000000001,5.756875,{"$f":"AH9","v":5.8},5.8825000000000003,5.9649999999999999,6.0474999999999994,6.13,6.1083333333333334,6.0866666666666669,6.0649999999999995,6.043333333333333,6.0216666666666665,{"$f":"AR9","v":6},6.0487500000000001,6.0975000000000001,6.1462500000000002,6.1950000000000003,6.2437499999999995,6.2924999999999995,6.3412499999999996,6.39,6.3919999999999995,6.3940000000000001,6.3959999999999999,6.3979999999999997,6.4,6.4020000000000001,6.4039999999999999,6.4059999999999997,6.4080000000000004,{"$f":"BJ9","v":6.41},6.3760000000000003,6.3420000000000005,6.3079999999999998,6.274,6.24,6.2060000000000004,6.1720000000000006,6.1379999999999999,6.1040000000000001,{"$f":"BT9","v":6.07},6.0116666666666667,5.9533333333333331,5.8949999999999996,5.8366666666666669,5.7783333333333333,5.72,5.6630000000000003,5.6059999999999999,5.5489999999999995,5.492,5.4350000000000005,5.3780000000000001,5.3209999999999997,5.2640000000000002,5.2070000000000007,{"$f":"CJ9","v":5.15},4,"Altherma 3 R W 07","Altherma 3 R W 07",9,3.85,null,4.3600000000000003]
[null,"Altherma 3 R W",7,3.1,4.29,5.23,36,4.6639999999999997,{"$f":"I10","v":4.7069999999999999},4.75,4.7930000000000001,4.8360000000000003,4.8789999999999996,4.9219999999999997,4.9649999999999999,5.008,5.0510000000000002,5.0940000000000003,{"$f":"S10","v":5.1362500000000004},5.1785000000000005,5.2207499999999998,5.2629999999999999,5.30525,5.3475000000000001,5.3897500000000003,5.4320000000000004,5.4742499999999996,5.5164999999999997,5.5587499999999999,5.601,5.6432500000000001,5.6854999999999993,5.7277499999999995,{"$f":"AH10","v":5.77},5.8514999999999997,5.9329999999999998,6.0145,6.0960000000000001,6.0746666666666664,6.0533333333333337,6.032,6.0106666666666664,5.9893333333333336,{"$f":"AR10","v":5.968},6.0162500000000003,6.0644999999999998,6.1127500000000001,6.1609999999999996,6.2092499999999999,6.2575000000000003,6.3057499999999997,6.3540000000000001,6.3563999999999998,6.3588000000000005,6.3612000000000002,6.3635999999999999,6.3659999999999997,6.3684000000000003,6.3708,6.3731999999999998,6.3756000000000004,{"$f":"BJ10","v":6.3780000000000001},6.3410000000000002,6.3040000000000003,6.2670000000000003,6.23,6.1929999999999996,6.1559999999999997,6.1189999999999998,6.0819999999999999,6.0449999999999999,{"$f":"BT10","v":6.008},5.9493333333333336,5.8906666666666663,5.8319999999999999,5.7733333333333334,5.7146666666666661,5.6559999999999997,5.5983999999999998,5.5407999999999999,5.4832000000000001,5.4256000000000002,5.3680000000000003,5.3103999999999996,5.2527999999999997,5.1951999999999998,5.1375999999999999,{"$f":"CJ10","v":5.08},4,"Altherma 3 R W 07","Altherma 3 R W 07",9,3.85,null,4.3600000000000003]
[null,"Altherma 3 R W",7,3.1,4.29,5.23,37,4.6579999999999995,4.6999999999999993,4.742,4.7839999999999998,4.8259999999999996,4.8680000000000003,4.91,4.952,4.9939999999999998,5.0360000000000005,5.0780000000000003,{"$f":"S11","v":5.1193750000000007},5.1607500000000002,5.2021250000000006,5.2435,5.2848750000000004,5.3262499999999999,5.3676250000000003,5.4090000000000007,5.4503750000000002,5.4917500000000006,5.5331250000000001,5.5745000000000005,5.615875,5.6572500000000003,5.6986249999999998,{"$f":"AH11","v":5.74},5.8205,5.9009999999999998,5.9815000000000005,6.0620000000000003,6.0410000000000004,6.0200000000000005,5.9990000000000006,5.9779999999999998,5.9569999999999999,{"$f":"AR11","v":5.9359999999999999},5.9837499999999997,6.0314999999999994,6.07925,6.1269999999999998,6.1747499999999995,6.2225000000000001,6.2702499999999999,6.3179999999999996,6.3207999999999993,6.3235999999999999,6.3263999999999996,6.3292000000000002,6.3319999999999999,6.3347999999999995,6.3376000000000001,6.3403999999999998,6.3432000000000004,{"$f":"BJ11","v":6.3460000000000001},6.306,6.266,6.226,6.1859999999999999,6.1459999999999999,6.1059999999999999,6.0659999999999998,6.0259999999999998,5.9859999999999998,{"$f":"BT11","v":5.9459999999999997},5.8869999999999996,5.8279999999999994,5.7690000000000001,5.71,5.6509999999999998,5.5919999999999996,5.5337999999999994,5.4756,5.4173999999999998,5.3591999999999995,5.3010000000000002,5.2427999999999999,5.1845999999999997,5.1263999999999994,5.0682,{"$f":"CJ11","v":5.01},4,"Altherma 3 R W 07","Altherma 3 R W 07",9,3.85,null,4.3600000000000003]
[null,"Altherma 3 R W",7,3.1,4.29,5.23,38,4.6520000000000001,4.6930000000000005,4.734,4.7750000000000004,4.8159999999999998,4.8570000000000002,4.8980000000000006,4.9390000000000001,4.9800000000000004,5.0209999999999999,5.0620000000000003,{"$f":"S12","v":5.1025},5.1430000000000007,5.1835000000000004,5.2240000000000002,5.2645,5.3049999999999997,5.3455000000000004,5.3860000000000001,5.4264999999999999,5.4670000000000005,5.5075000000000003,5.548,5.5884999999999998,5.6289999999999996,5.6695000000000002,{"$f":"AH12","v":5.71},5.7895000000000003,5.8689999999999998,5.9484999999999992,6.0279999999999996,6.0073333333333334,5.9866666666666664,5.9659999999999993,5.9453333333333331,5.924666666666667,{"$f":"AR12","v":5.9039999999999999},5.9512499999999999,5.9984999999999999,6.04575,6.093,6.14025,6.1875,6.23475,6.282,6.2851999999999997,6.2884000000000002,6.2915999999999999,6.2948000000000004,6.298,6.3011999999999997,6.3044000000000002,6.3075999999999999,6.3108000000000004,{"$f":"BJ12","v":6.3140000000000001},6.2709999999999999,6.2279999999999998,6.1850000000000005,6.1420000000000003,6.0990000000000002,6.056,6.0129999999999999,5.9700000000000006,5.9270000000000005,{"$f":"BT12","v":5.8840000000000003},5.8246666666666673,5.7653333333333334,5.7060000000000004,5.6466666666666674,5.5873333333333335,5.5280000000000005,5.4692000000000007,5.4104000000000001,5.3516000000000004,5.2928000000000006,5.234,5.1752000000000002,5.1164000000000005,5.0576000000000008,4.9988000000000001,{"$f":"CJ12","v":4.9400000000000004},4,"Altherma 3 R W 07","Altherma 3 R W 07",9,3.85,null,4.3600000000000003]
[null,"Altherma 3 R W",7,3.1,4.29,5.23,39,4.6459999999999999,4.6859999999999999,4.726,4.766,4.806,4.8460000000000001,4.8860000000000001,4.9260000000000002,4.9660000000000002,5.0060000000000002,5.0460000000000003,{"$f":"S13","v":5.0856250000000003},5.1252500000000003,5.1648750000000003,5.2045000000000003,5.2441250000000004,5.2837500000000004,5.3233750000000004,5.3630000000000004,5.4026250000000005,5.4422500000000005,5.4818750000000005,5.5215000000000005,5.5611250000000005,5.6007500000000006,5.6403750000000006,{"$f":"AH13","v":5.6800000000000006},5.7585000000000006,5.8369999999999997,5.9154999999999998,5.9939999999999998,5.9736666666666665,5.9533333333333331,5.9329999999999998,5.9126666666666665,5.8923333333333332,{"$f":"AR13","v":5.8719999999999999},5.9187500000000002,5.9654999999999996,6.0122499999999999,6.0589999999999993,6.1057499999999996,6.1524999999999999,6.1992499999999993,6.2459999999999996,6.2495999999999992,6.2531999999999996,6.2568000000000001,6.2603999999999997,6.2639999999999993,6.2675999999999998,6.2712000000000003,6.2747999999999999,6.2783999999999995,{"$f":"BJ13","v":6.282},6.2359999999999998,6.19,6.1440000000000001,6.0979999999999999,6.0519999999999996,6.0060000000000002,5.96,5.9139999999999997,5.8680000000000003,{"$f":"BT13","v":5.8220000000000001},5.7623333333333333,5.7026666666666666,5.6430000000000007,5.5833333333333339,5.5236666666666672,5.4640000000000004,5.4046000000000003,5.3452000000000002,5.2858000000000001,5.2263999999999999,5.1669999999999998,5.1076000000000006,5.0482000000000005,4.9888000000000003,4.9294000000000002,{"$f":"CJ13","v":4.87},4,"Altherma 3 R W 07","Altherma 3 R W 07",9,3.85,null,4.3600000000000003]
[null,"Altherma 3 R W",7,3.1,4.29,5.23,40,4.6399999999999997,4.6789999999999994,4.718,4.7569999999999997,4.7960000000000003,4.835,4.8739999999999997,4.9130000000000003,4.952,4.9910000000000005,5.03,{"$f":"S14","v":5.0687500000000005},5.1074999999999999,5.1462500000000002,5.1850000000000005,5.2237499999999999,5.2625000000000002,5.3012500000000005,5.34,5.3787500000000001,5.4175000000000004,5.4562500000000007,5.4950000000000001,5.5337500000000004,5.5725000000000007,5.6112500000000001,{"$f":"AH14","v":5.65},5.7275,5.8049999999999997,5.8825000000000003,5.96,5.9399999999999995,5.92,5.9,5.88,5.8599999999999994,{"$f":"AR14","v":5.84},5.8862499999999995,5.9325000000000001,5.9787499999999998,6.0250000000000004,6.07125,6.1174999999999997,6.1637500000000003,6.21,6.2140000000000004,6.218,6.2219999999999995,6.226,6.23,6.234,6.2379999999999995,6.242,6.2460000000000004,{"$f":"BJ14","v":6.25},6.2009999999999996,6.1520000000000001,6.1029999999999998,6.0540000000000003,6.0049999999999999,5.9559999999999995,5.907,5.8579999999999997,5.8090000000000002,{"$f":"BT14","v":5.76},5.7,5.64,5.58,5.5200000000000005,5.46,5.4,5.34,5.28,5.2200000000000006,5.16,5.0999999999999996,5.04,4.9800000000000004,4.92,4.8599999999999994,{"$f":"CJ14","v":4.8},4,"Altherma 3 R W 07","Altherma 3 R W 07",9,3.85,null,4.3600000000000003]
[null,"Altherma 3 R W",7,3.1,4.29,5.23,41,4.6339999999999995,{"$f":"I15","v":4.6719999999999997},4.71,4.7479999999999993,4.7859999999999996,4.8239999999999998,4.8620000000000001,4.9000000000000004,4.9379999999999997,4.976,5.0140000000000002,{"$f":"S15","v":5.0518749999999999},5.0897500000000004,5.1276250000000001,5.1654999999999998,5.2033750000000003,5.24125,5.2791250000000005,5.3170000000000002,5.3548749999999998,5.3927500000000004,5.430625,5.4685000000000006,5.5063750000000002,5.5442499999999999,5.5821250000000004,{"$f":"AH15","v":5.62},5.6965000000000003,5.7729999999999997,5.8494999999999999,5.9260000000000002,5.9063333333333334,5.8866666666666667,5.867,5.8473333333333333,5.8276666666666666,{"$f":"AR15","v":5.8079999999999998},5.8537499999999998,5.8994999999999997,5.9452499999999997,5.9909999999999997,6.0367500000000005,6.0825000000000005,6.1282500000000004,6.1740000000000004,6.1782000000000004,6.1824000000000003,6.1866000000000003,6.1908000000000003,6.1950000000000003,6.1992000000000003,6.2034000000000002,6.2076000000000002,6.2118000000000002,{"$f":"BJ15","v":6.2160000000000002},6.1644000000000005,6.1128,6.0612000000000004,6.0095999999999998,5.9580000000000002,5.9064000000000005,5.8548,5.8032000000000004,5.7515999999999998,{"$f":"BT15","v":5.7},5.6393333333333331,5.5786666666666669,5.5180000000000007,5.4573333333333336,5.3966666666666665,5.3360000000000003,5.2754000000000003,5.2148000000000003,5.1542000000000003,5.0936000000000003,5.0329999999999995,4.9723999999999995,4.9117999999999995,4.8511999999999995,4.7905999999999995,{"$f":"CJ15","v":4.7299999999999995},4,"Altherma 3 R W 07","Altherma 3 R W 07",9,3.85,null,4.3600000000000003]
[null,"Altherma 3 R W",7,3.1,4.29,5.23,42,4.6280000000000001,4.665,4.702,4.7389999999999999,4.7759999999999998,4.8130000000000006,4.8500000000000005,4.8870000000000005,4.9240000000000004,4.9610000000000003,4.9980000000000002,{"$f":"S16","v":5.0350000000000001},5.0720000000000001,5.109,5.1459999999999999,5.1829999999999998,5.22,5.2569999999999997,5.2940000000000005,5.3310000000000004,5.3680000000000003,5.4050000000000002,5.4420000000000002,5.4790000000000001,5.516,5.5529999999999999,{"$f":"AH16","v":5.59},5.6654999999999998,5.7409999999999997,5.8165000000000004,5.8920000000000003,5.8726666666666674,5.8533333333333335,5.8339999999999996,5.8146666666666667,5.7953333333333337,{"$f":"AR16","v":5.7759999999999998},5.82125,5.8665000000000003,5.9117499999999996,5.9569999999999999,6.0022500000000001,6.0474999999999994,6.0927499999999997,6.1379999999999999,6.1424000000000003,6.1467999999999998,6.1512000000000002,6.1555999999999997,6.16,6.1644000000000005,6.1688000000000001,6.1732000000000005,6.1776,{"$f":"BJ16","v":6.1820000000000004},6.1278000000000006,6.0735999999999999,6.0194000000000001,5.9652000000000003,5.9109999999999996,5.8567999999999998,5.8026,5.7484000000000002,5.6941999999999995,{"$f":"BT16","v":5.64},5.5786666666666669,5.5173333333333332,5.4559999999999995,5.3946666666666667,5.3333333333333339,5.2720000000000002,5.2107999999999999,5.1496000000000004,5.0884,5.0272000000000006,4.9660000000000002,4.9047999999999998,4.8436000000000003,4.7824,4.7212000000000005,{"$f":"CJ16","v":4.66},4,"Altherma 3 R W 07","Altherma 3 R W 07",9,3.85,null,4.3600000000000003]
[null,"Altherma 3 R W",7,3.1,4.29,5.23,43,4.6219999999999999,4.6579999999999995,4.694,4.7300000000000004,4.766,4.8019999999999996,4.8380000000000001,4.8740000000000006,4.91,4.9459999999999997,4.9820000000000002,{"$f":"S17","v":5.0181250000000004},5.0542500000000006,5.0903749999999999,5.1265000000000001,5.1626250000000002,5.1987500000000004,5.2348750000000006,5.2710000000000008,5.3071250000000001,5.3432500000000003,5.3793750000000005,5.4155000000000006,5.4516250000000008,5.4877500000000001,5.5238750000000003,{"$f":"AH17","v":5.5600000000000005},5.6345000000000001,5.7089999999999996,5.7835000000000001,5.8579999999999997,5.8389999999999995,5.8199999999999994,5.8010000000000002,5.782,5.7629999999999999,{"$f":"AR17","v":5.7439999999999998},5.7887500000000003,5.8334999999999999,5.8782499999999995,5.923,5.9677500000000006,6.0125000000000002,6.0572499999999998,6.1020000000000003,6.1066000000000003,6.1112000000000002,6.1158000000000001,6.1204000000000001,6.125,6.1295999999999999,6.1341999999999999,6.1387999999999998,6.1433999999999997,{"$f":"BJ17","v":6.1479999999999997},6.0911999999999997,6.0343999999999998,5.9775999999999998,5.9207999999999998,5.8639999999999999,5.8071999999999999,5.7504,5.6936,5.6368,{"$f":"BT17","v":5.58},5.5179999999999998,5.4560000000000004,5.3940000000000001,5.3319999999999999,5.2700000000000005,5.2080000000000002,5.1462000000000003,5.0844000000000005,5.0225999999999997,4.9607999999999999,4.899,4.8372000000000002,4.7754000000000003,4.7135999999999996,4.6517999999999997,{"$f":"CJ17","v":4.59},4,"Altherma 3 R W 07","Altherma 3 R W 07",9,3.85,null,4.3600000000000003]
[null,"Altherma 3 R W",7,3.1,4.29,5.23,44,4.6160000000000005,4.6510000000000007,4.6860000000000008,4.7210000000000001,4.7560000000000002,4.7910000000000004,4.8260000000000005,4.8610000000000007,4.8959999999999999,4.931,4.9660000000000002,{"$f":"S18","v":5.0012500000000006},5.0365000000000002,5.0717499999999998,5.1070000000000002,5.1422500000000007,5.1775000000000002,5.2127499999999998,5.2480000000000002,5.2832500000000007,5.3185000000000002,5.3537499999999998,5.3890000000000002,5.4242500000000007,5.4595000000000002,5.4947499999999998,{"$f":"AH18","v":5.53},5.6035000000000004,5.6769999999999996,5.7504999999999997,5.8239999999999998,5.8053333333333335,5.7866666666666662,5.7679999999999998,5.7493333333333334,5.7306666666666661,{"$f":"AR18","v":5.7119999999999997},5.7562499999999996,5.8004999999999995,5.8447499999999994,5.8889999999999993,5.9332500000000001,5.9775,6.0217499999999999,6.0659999999999998,6.0708000000000002,6.0755999999999997,6.0804,6.0851999999999995,6.09,6.0948000000000002,6.0995999999999997,6.1044,6.1091999999999995,{"$f":"BJ18","v":6.1139999999999999},6.0545999999999998,5.9951999999999996,5.9357999999999995,5.8763999999999994,5.8170000000000002,5.7576000000000001,5.6981999999999999,5.6387999999999998,5.5793999999999997,{"$f":"BT18","v":5.52},5.4573333333333327,5.3946666666666667,5.3319999999999999,5.269333333333333,5.206666666666667,5.1440000000000001,5.0815999999999999,5.0192000000000005,4.9568000000000003,4.8944000000000001,4.8320000000000007,4.7696000000000005,4.7072000000000003,4.6448,4.5824000000000007,{"$f":"CJ18","v":4.5200000000000005},4,"Altherma 3 R W 07","Altherma 3 R W 07",9,3.85,null,4.3600000000000003]
[null,"Altherma 3 R W",7,3.1,4.29,5.23,45,4.6100000000000003,4.6440000000000001,4.6779999999999999,4.7120000000000006,4.7460000000000004,4.78,4.8140000000000001,4.8479999999999999,4.8820000000000006,4.9160000000000004,4.95,{"$f":"S19","v":4.984375},5.0187499999999998,5.0531250000000005,5.0875000000000004,5.1218750000000002,5.15625,5.1906249999999998,5.2249999999999996,5.2593750000000004,5.2937500000000002,5.328125,5.3624999999999998,5.3968749999999996,5.4312500000000004,5.4656250000000002,{"$f":"AH19","v":5.5},5.5724999999999998,5.6449999999999996,5.7175000000000002,5.79,5.7716666666666665,5.753333333333333,5.7349999999999994,5.7166666666666668,5.6983333333333333,{"$f":"AR19","v":5.68},5.7237499999999999,5.7675000000000001,5.8112500000000002,5.8550000000000004,5.8987499999999997,5.9424999999999999,5.9862500000000001,6.03,6.0350000000000001,6.04,6.0449999999999999,6.05,6.0549999999999997,6.0600000000000005,6.0650000000000004,6.07,6.0750000000000002,{"$f":"BJ19","v":6.08},6.0179999999999998,5.9560000000000004,5.8940000000000001,5.8319999999999999,5.77,5.7080000000000002,5.6459999999999999,5.5839999999999996,5.5220000000000002,{"$f":"BT19","v":5.46},5.3966666666666665,5.333333333333333,5.27,5.206666666666667,5.1433333333333335,5.08,5.0170000000000003,4.9539999999999997,4.891,4.8280000000000003,4.7650000000000006,4.702,4.6390000000000002,4.5760000000000005,4.5129999999999999,{"$f":"CJ19","v":4.45},4,"Altherma 3 R W 07","Altherma 3 R W 07",9,3.85,null,4.3600000000000003]
[null,"Altherma 3 R W",7,3.1,4.29,5.23,46,4.5340000000000007,{"$f":"I20","v":4.5672000000000006},4.6004000000000005,4.6336000000000004,4.6668000000000003,4.7000000000000011,4.733200000000001,4.7664000000000009,4.7996000000000008,4.8328000000000007,4.8660000000000005,{"$f":"S20","v":4.8991250000000006},4.9322500000000007,4.9653750000000008,4.9984999999999999,5.031625,5.0647500000000001,5.0978750000000002,5.1310000000000002,5.1641250000000003,5.1972500000000004,5.2303750000000004,5.2635000000000005,5.2966249999999997,5.3297499999999998,5.3628749999999998,{"$f":"AH20","v":5.3959999999999999},5.4734999999999996,5.5510000000000002,5.6285000000000007,5.7060000000000004,5.6859999999999999,5.6660000000000004,5.6459999999999999,5.6259999999999994,5.6059999999999999,{"$f":"AR20","v":5.5859999999999994},5.6327499999999997,5.6794999999999991,5.7262499999999994,5.7729999999999997,5.81975,5.8665000000000003,5.9132499999999997,5.96,5.9686000000000003,5.9771999999999998,5.9858000000000002,5.9943999999999997,6.0030000000000001,6.0116000000000005,6.0202,6.0288000000000004,6.0373999999999999,{"$f":"BJ20","v":6.0460000000000003},5.9828000000000001,5.9196,5.8563999999999998,5.7931999999999997,5.73,5.6668000000000003,5.6036000000000001,5.5404,5.4771999999999998,{"$f":"BT20","v":5.4139999999999997},5.343,5.2720000000000002,5.2010000000000005,5.13,5.0590000000000002,4.9880000000000004,4.9176000000000002,4.8472,4.7768000000000006,4.7064000000000004,4.6360000000000001,4.5655999999999999,4.4951999999999996,4.4248000000000003,4.3544,{"$f":"CJ20","v":4.2839999999999998},4,"Altherma 3 R W 07","Altherma 3 R W 07",9,3.85,null,4.3600000000000003]
[null,"Altherma 3 R W",7,3.1,4.29,5.23,47,4.4580000000000002,4.4904000000000002,4.5228000000000002,4.5552000000000001,4.5876000000000001,4.62,4.6524000000000001,4.6848000000000001,4.7172000000000001,4.7496,4.782,{"$f":"S21","v":4.8138750000000003},4.8457499999999998,4.8776250000000001,4.9094999999999995,4.9413749999999999,4.9732500000000002,5.0051249999999996,5.0369999999999999,5.0688750000000002,5.1007499999999997,5.132625,5.1645000000000003,5.1963749999999997,5.2282500000000001,5.2601249999999995,{"$f":"AH21","v":5.2919999999999998},5.3744999999999994,5.4569999999999999,5.5395000000000003,5.6219999999999999,5.6003333333333334,5.5786666666666669,5.5570000000000004,5.535333333333333,5.5136666666666665,{"$f":"AR21","v":5.492},5.5417500000000004,5.5914999999999999,5.6412499999999994,5.6909999999999998,5.7407500000000002,5.7904999999999998,5.8402499999999993,5.89,5.9021999999999997,5.9143999999999997,5.9265999999999996,5.9387999999999996,5.9510000000000005,5.9632000000000005,5.9754000000000005,5.9876000000000005,5.9998000000000005,{"$f":"BJ21","v":6.0120000000000005},5.9476000000000004,5.8832000000000004,5.8188000000000004,5.7544000000000004,5.69,5.6256000000000004,5.5612000000000004,5.4968000000000004,5.4324000000000003,{"$f":"BT21","v":5.3680000000000003},5.2893333333333334,5.2106666666666666,5.1319999999999997,5.0533333333333337,4.9746666666666668,4.8959999999999999,4.8182,4.7404000000000002,4.6626000000000003,4.5848000000000004,4.5069999999999997,4.4291999999999998,4.3513999999999999,4.2736000000000001,4.1958000000000002,{"$f":"CJ21","v":4.1180000000000003},4,"Altherma 3 R W 07","Altherma 3 R W 07",9,3.85,null,4.3600000000000003]
[null,"Altherma 3 R W",7,3.1,4.29,5.23,48,4.3820000000000006,4.4136000000000006,4.4452000000000007,4.4768000000000008,4.5084000000000009,4.5400000000000009,4.5716000000000001,4.6032000000000002,4.6348000000000003,4.6664000000000003,4.6980000000000004,{"$f":"S22","v":4.7286250000000001},4.7592500000000006,4.7898750000000003,4.8205000000000009,4.8511250000000006,4.8817500000000003,4.9123750000000008,4.9430000000000005,4.9736250000000002,5.0042500000000008,5.0348750000000004,5.0655000000000001,5.0961250000000007,5.1267500000000004,5.1573750000000009,{"$f":"AH22","v":5.1880000000000006},5.275500000000001,5.3630000000000004,5.4504999999999999,5.5380000000000003,5.5146666666666668,5.4913333333333334,5.468,5.4446666666666665,5.4213333333333331,{"$f":"AR22","v":5.3979999999999997},5.4507499999999993,5.5034999999999998,5.5562500000000004,5.609,5.6617499999999996,5.7145000000000001,5.7672500000000007,5.82,5.8357999999999999,5.8516000000000004,5.8673999999999999,5.8832000000000004,5.899,5.9147999999999996,5.9306000000000001,5.9463999999999997,5.9622000000000002,{"$f":"BJ22","v":5.9779999999999998},5.9123999999999999,5.8468,5.7812000000000001,5.7156000000000002,5.65,5.5843999999999996,5.5187999999999997,5.4531999999999998,5.3875999999999999,{"$f":"BT22","v":5.3220000000000001},5.2356666666666669,5.1493333333333338,5.0630000000000006,4.9766666666666666,4.8903333333333334,4.8040000000000003,4.7187999999999999,4.6336000000000004,4.5484,4.4632000000000005,4.3780000000000001,4.2927999999999997,4.2076000000000002,4.1223999999999998,4.0372000000000003,{"$f":"CJ22","v":3.952},4,"Altherma 3 R W 07","Altherma 3 R W 07",9,3.85,null,4.3600000000000003]
[null,"Altherma 3 R W",7,3.1,4.29,5.23,49,4.306,4.3368000000000002,4.3676000000000004,4.3983999999999996,4.4291999999999998,4.46,4.4908000000000001,4.5216000000000003,4.5523999999999996,4.5831999999999997,4.6139999999999999,{"$f":"S23","v":4.6433749999999998},4.6727499999999997,4.7021249999999997,4.7315000000000005,4.7608750000000004,4.7902500000000003,4.8196250000000003,4.8490000000000002,4.8783750000000001,4.9077500000000001,4.937125,4.9664999999999999,4.9958750000000007,5.0252500000000007,5.0546250000000006,{"$f":"AH23","v":5.0840000000000005},5.1765000000000008,5.2690000000000001,5.3614999999999995,5.4539999999999997,5.4290000000000003,5.4039999999999999,5.3789999999999996,5.3540000000000001,5.3290000000000006,{"$f":"AR23","v":5.3040000000000003},5.35975,5.4154999999999998,5.4712500000000004,5.5270000000000001,5.5827499999999999,5.6385000000000005,5.6942500000000003,5.75,5.7694000000000001,5.7888000000000002,5.8082000000000003,5.8276000000000003,5.8469999999999995,5.8663999999999996,5.8857999999999997,5.9051999999999998,5.9245999999999999,{"$f":"BJ23","v":5.944},5.8772000000000002,5.8104000000000005,5.7435999999999998,5.6768000000000001,5.61,5.5432000000000006,5.4764000000000008,5.4096000000000002,5.3428000000000004,{"$f":"BT23","v":5.2760000000000007},5.1820000000000004,5.0880000000000001,4.9939999999999998,4.9000000000000004,4.806,4.7119999999999997,4.6193999999999997,4.5267999999999997,4.4341999999999997,4.3415999999999997,4.2489999999999997,4.1563999999999997,4.0637999999999996,3.9712000000000001,3.8786,{"$f":"CJ23","v":3.786},4,"Altherma 3 R W 07","Altherma 3 R W 07",9,3.85,null,4.3600000000000003]
[null,"Altherma 3 R W",7,3.1,4.29,5.23,50,4.2300000000000004,4.2600000000000007,4.29,4.32,4.3500000000000005,4.3800000000000008,4.41,4.4400000000000004,4.4700000000000006,4.5,4.53,{"$f":"S24","v":4.5581250000000004},4.5862500000000006,4.6143749999999999,4.6425000000000001,4.6706250000000002,4.6987500000000004,4.7268750000000006,4.7550000000000008,4.7831250000000001,4.8112500000000002,4.8393750000000004,4.8675000000000006,4.8956250000000008,4.9237500000000001,4.9518750000000002,{"$f":"AH24","v":4.9800000000000004},5.0775000000000006,5.1750000000000007,5.2725,5.37,5.3433333333333337,5.3166666666666664,5.29,5.2633333333333336,5.2366666666666664,{"$f":"AR24","v":5.21},5.2687499999999998,5.3274999999999997,5.3862499999999995,5.4450000000000003,5.5037500000000001,5.5625,5.6212499999999999,5.68,5.7029999999999994,5.726,5.7489999999999997,5.7720000000000002,5.7949999999999999,5.8179999999999996,5.8410000000000002,5.8639999999999999,5.8870000000000005,{"$f":"BJ24","v":5.91},5.8420000000000005,5.774,5.7060000000000004,5.6379999999999999,5.57,5.5020000000000007,5.4340000000000002,5.3660000000000005,5.298,{"$f":"BT24","v":5.23},5.1283333333333339,5.0266666666666673,4.9250000000000007,4.8233333333333333,4.7216666666666667,4.62,4.5200000000000005,4.42,4.32,4.22,4.12,4.0199999999999996,3.92,3.8200000000000003,3.72,{"$f":"CJ24","v":3.62},4,"Altherma 3 R W 07","Altherma 3 R W 07",9,3.85,null,4.3600000000000003]
[null,"Altherma 3 R W",7,3.1,4.29,5.23,51,null,null,null,null,null,null,null,null,null,null,4.4119999999999999,{"$f":"S25","v":4.4408750000000001},4.4697500000000003,4.4986249999999997,4.5274999999999999,4.5563750000000001,4.5852500000000003,4.6141250000000005,4.6430000000000007,4.671875,4.7007500000000002,4.7296250000000004,4.7585000000000006,4.7873750000000008,4.8162500000000001,4.8451250000000003,{"$f":"AH25","v":4.8740000000000006},4.9765000000000006,5.0790000000000006,5.1814999999999998,5.2839999999999998,5.2563333333333331,5.2286666666666664,5.2010000000000005,5.1733333333333338,5.1456666666666671,{"$f":"AR25","v":5.1180000000000003},5.1795,5.2409999999999997,5.3025000000000002,5.3639999999999999,5.4254999999999995,5.4870000000000001,5.5484999999999998,5.6099999999999994,5.6363999999999992,5.6627999999999998,5.6891999999999996,5.7156000000000002,5.742,5.7683999999999997,5.7948000000000004,5.8212000000000002,5.8476000000000008,{"$f":"BJ25","v":5.8740000000000006},5.8048000000000002,5.7356000000000007,5.6664000000000003,5.5972000000000008,5.5280000000000005,5.4588000000000001,5.3896000000000006,5.3204000000000002,5.2512000000000008,{"$f":"BT25","v":5.1820000000000004},5.0733333333333341,4.964666666666667,4.8559999999999999,4.7473333333333336,4.6386666666666674,4.53,4.4226000000000001,4.3151999999999999,4.2078000000000007,4.1004000000000005,3.9930000000000003,3.8856000000000002,3.7782,3.6707999999999998,3.5634000000000001,{"$f":"CJ25","v":3.456},4,"Altherma 3 R W 07","Altherma 3 R W 07",9,3.85,null,4.3600000000000003]
[null,"Altherma 3 R W",7,3.1,4.29,5.23,52,null,null,null,null,null,null,null,null,null,null,4.2940000000000005,{"$f":"S26","v":4.3236250000000007},4.353250000000001,4.3828750000000003,4.4125000000000005,4.4421250000000008,4.4717500000000001,4.5013750000000003,4.5310000000000006,4.5606250000000008,4.5902500000000011,4.6198750000000004,4.6495000000000006,4.6791250000000009,4.7087500000000002,4.7383750000000004,{"$f":"AH26","v":4.7680000000000007},4.8755000000000006,4.9830000000000005,5.0905000000000005,5.1980000000000004,5.1693333333333333,5.1406666666666672,5.1120000000000001,5.083333333333333,5.0546666666666669,{"$f":"AR26","v":5.0259999999999998},5.0902500000000002,5.1544999999999996,5.21875,5.2829999999999995,5.3472499999999998,5.4115000000000002,5.4757499999999997,5.54,5.5697999999999999,5.5995999999999997,5.6294000000000004,5.6592000000000002,5.6890000000000001,5.7187999999999999,5.7485999999999997,5.7784000000000004,5.8082000000000003,{"$f":"BJ26","v":5.8380000000000001},5.7675999999999998,5.6972000000000005,5.6268000000000002,5.5564,5.4860000000000007,5.4156000000000004,5.3452000000000002,5.2747999999999999,5.2044000000000006,{"$f":"BT26","v":5.1340000000000003},5.0183333333333335,4.9026666666666667,4.7870000000000008,4.671333333333334,4.5556666666666672,4.4400000000000004,4.3252000000000006,4.2103999999999999,4.0956000000000001,3.9808000000000003,3.8660000000000001,3.7511999999999999,3.6364000000000001,3.5215999999999998,3.4067999999999996,{"$f":"CJ26","v":3.2919999999999998},4,"Altherma 3 R W 07","Altherma 3 R W 07",9,3.85,null,4.3600000000000003]
[null,"Altherma 3 R W",7,3.1,4.29,5.23,53,null,null,null,null,null,null,null,null,null,null,4.1760000000000002,{"$f":"S27","v":4.2063750000000004},4.2367499999999998,4.2671250000000001,4.2975000000000003,4.3278749999999997,4.35825,4.3886250000000002,4.4190000000000005,4.4493749999999999,4.4797500000000001,4.5101250000000004,4.5404999999999998,4.570875,4.6012500000000003,4.6316249999999997,{"$f":"AH27","v":4.6619999999999999},4.7744999999999997,4.8870000000000005,4.9995000000000003,5.1120000000000001,5.0823333333333336,5.0526666666666671,5.0229999999999997,4.9933333333333332,4.9636666666666667,{"$f":"AR27","v":4.9340000000000002},5.0010000000000003,5.0679999999999996,5.1349999999999998,5.202,5.2690000000000001,5.3360000000000003,5.4029999999999996,5.47,5.5031999999999996,5.5363999999999995,5.5696000000000003,5.6028000000000002,5.6360000000000001,5.6692,5.7023999999999999,5.7356000000000007,5.7688000000000006,{"$f":"BJ27","v":5.8020000000000005},5.7304000000000004,5.6588000000000003,5.5872000000000002,5.5156000000000001,5.4440000000000008,5.3724000000000007,5.3008000000000006,5.2292000000000005,5.1576000000000004,{"$f":"BT27","v":5.0860000000000003},4.9633333333333338,4.8406666666666665,4.718,4.5953333333333335,4.4726666666666661,4.3499999999999996,4.2277999999999993,4.1055999999999999,3.9833999999999996,3.8611999999999997,3.7389999999999999,3.6168,3.4946000000000002,3.3723999999999998,3.2502000000000004,{"$f":"CJ27","v":3.1280000000000001},4,"Altherma 3 R W 07","Altherma 3 R W 07",9,3.85,null,4.3600000000000003]
[null,"Altherma 3 R W",7,3.1,4.29,5.23,54,null,null,null,null,null,null,null,null,null,null,4.0579999999999998,{"$f":"S28","v":4.0891250000000001},4.1202499999999995,4.1513749999999998,4.1825000000000001,4.2136249999999995,4.2447499999999998,4.2758750000000001,4.3070000000000004,4.3381249999999998,4.3692500000000001,4.4003750000000004,4.4314999999999998,4.4626250000000001,4.4937500000000004,4.5248749999999998,{"$f":"AH28","v":4.556},4.6735000000000007,4.7910000000000004,4.9085000000000001,5.0260000000000007,4.9953333333333338,4.964666666666667,4.9340000000000002,4.9033333333333333,4.8726666666666665,{"$f":"AR28","v":4.8419999999999996},4.9117499999999996,4.9814999999999996,5.0512499999999996,5.1210000000000004,5.1907500000000004,5.2605000000000004,5.3302500000000004,5.4,5.4366000000000003,5.4732000000000003,5.5098000000000003,5.5464000000000002,5.5830000000000002,5.6196000000000002,5.6562000000000001,5.6928000000000001,5.7294,{"$f":"BJ28","v":5.766},5.6932,5.6204000000000001,5.5476000000000001,5.4748000000000001,5.4020000000000001,5.3292000000000002,5.2564000000000002,5.1836000000000002,5.1108000000000002,{"$f":"BT28","v":5.0380000000000003},4.9083333333333332,4.7786666666666671,4.649,4.519333333333333,4.3896666666666668,4.26,4.1303999999999998,4.0007999999999999,3.8712,3.7416,3.6120000000000001,3.4823999999999997,3.3527999999999998,3.2231999999999998,3.0935999999999999,{"$f":"CJ28","v":2.964},4,"Altherma 3 R W 07","Altherma 3 R W 07",9,3.85,null,4.3600000000000003]
[null,"Altherma 3 R W",7,3.1,4.29,5.23,55,null,null,null,null,null,null,null,null,null,null,3.94,{"$f":"S29","v":3.9718749999999998},4.0037500000000001,4.0356249999999996,4.0674999999999999,4.0993750000000002,4.1312499999999996,4.163125,4.1950000000000003,4.2268749999999997,4.25875,4.2906250000000004,4.3224999999999998,4.3543750000000001,4.3862500000000004,4.4181249999999999,{"$f":"AH29","v":4.45},4.5724999999999998,4.6950000000000003,4.8175000000000008,{"$f":"AL29","v":4.9400000000000004},4.9083333333333332,4.8766666666666669,4.8450000000000006,4.8133333333333335,4.7816666666666663,{"$f":"AR29","v":4.75},4.8224999999999998,4.8949999999999996,4.9675000000000002,5.04,5.1124999999999998,5.1850000000000005,5.2575000000000003,5.33,5.37,5.41,5.45,5.49,5.53,5.57,5.61,5.65,5.69,{"$f":"BJ29","v":5.73},5.6560000000000006,5.5820000000000007,5.508,5.4340000000000002,5.36,5.2860000000000005,5.2120000000000006,5.1379999999999999,5.0640000000000001,{"$f":"BT29","v":4.99},4.8533333333333335,4.7166666666666668,4.58,4.4433333333333334,4.3066666666666666,4.17,4.0329999999999995,3.8959999999999999,3.7589999999999999,3.6219999999999999,3.4849999999999999,3.3479999999999999,3.2109999999999999,3.0739999999999998,2.9369999999999998,{"$f":"CJ29","v":2.8},4,"Altherma 3 R W 07","Altherma 3 R W 07",9,3.85,null,4.3600000000000003]
[null,"Altherma 3 R W",7,3.1,4.29,5.23,56,null,null,null,null,null,null,null,null,null,null,null,null,null,null,null,null,null,null,null,null,null,null,null,null,null,null,null,null,null,null,{"$f":"AL30","v":4.8180000000000005},4.783666666666667,4.7493333333333334,4.7149999999999999,4.6806666666666672,4.6463333333333336,4.6120000000000001,{"$f":"AS30","v":4.6900000000000004},4.7679999999999998,4.8460000000000001,4.9239999999999995,5.0019999999999998,5.08,5.1579999999999995,5.2359999999999998,{"$f":"BA30","v":5.2824},5.3288000000000002,5.3751999999999995,5.4215999999999998,5.468,5.5144000000000002,5.5608000000000004,5.6071999999999997,5.6536,5.7,{"$f":"BK30","v":5.6276000000000002},5.5552000000000001,5.4828000000000001,5.4104000000000001,5.3380000000000001,5.2656000000000001,5.1932,5.1208,5.0484,4.976,{"$f":"BU30","v":4.8243333333333336},4.6726666666666663,4.5209999999999999,4.3693333333333335,4.2176666666666662,4.0659999999999998,{"$f":"CA30","v":3.9198},3.7736000000000001,3.6273999999999997,3.4811999999999999,3.335,3.1888000000000001,3.0426000000000002,2.8963999999999999,2.7502000000000004,2.6040000000000001,4,"Altherma 3 R W 07","Altherma 3 R W 07",9,3.85,null,4.3600000000000003]
[null,"Altherma 3 R W",7,3.1,4.29,5.23,57,null,null,null,null,null,null,null,null,null,null,null,null,null,null,null,null,null,null,null,null,null,null,null,null,null,null,null,null,null,null,4.6960000000000006,{"$f":"AM31","v":4.6590000000000007},4.6220000000000008,4.5850000000000009,4.548,4.5110000000000001,4.4740000000000002,{"$f":"AS31","v":4.5575000000000001},4.641,4.7244999999999999,4.8079999999999998,4.8915000000000006,4.9750000000000005,5.0585000000000004,5.1420000000000003,{"$f":"BA31","v":5.1948000000000008},5.2476000000000003,5.3003999999999998,5.3532000000000002,5.4060000000000006,5.4588000000000001,5.5115999999999996,5.5644,5.6172000000000004,5.67,{"$f":"BK31","v":5.5991999999999997},5.5283999999999995,5.4576000000000002,5.3868,5.3159999999999998,5.2451999999999996,5.1743999999999994,5.1036000000000001,5.0327999999999999,4.9619999999999997,{"$f":"BU31","v":4.7953333333333328},4.6286666666666667,4.4619999999999997,4.2953333333333328,4.1286666666666667,3.9619999999999997,{"$f":"CA31","v":3.8065999999999995},3.6511999999999998,3.4958,3.3403999999999998,3.1849999999999996,3.0295999999999998,2.8742000000000001,2.7187999999999999,2.5633999999999997,2.4079999999999999,4,"Altherma 3 R W 07","Altherma 3 R W 07",9,3.85,null,4.3600000000000003]
[null,"Altherma 3 R W",7,3.1,4.29,5.23,58,null,null,null,null,null,null,null,null,null,null,null,null,null,null,null,null,null,null,null,null,null,null,null,null,null,null,null,null,null,null,4.5739999999999998,4.5343333333333327,4.4946666666666664,4.4550000000000001,4.4153333333333329,4.3756666666666657,4.3359999999999994,{"$f":"AS32","v":4.4249999999999998},4.5139999999999993,4.6029999999999998,4.6920000000000002,4.7809999999999997,4.87,4.9589999999999996,5.048,{"$f":"BA32","v":5.1071999999999997},5.1664000000000003,5.2256,5.2848000000000006,5.3440000000000003,5.4032,5.4624000000000006,5.5216000000000003,5.5808000000000009,5.6400000000000006,{"$f":"BK32","v":5.5708000000000002},5.5016000000000007,5.4324000000000003,5.3632000000000009,5.2940000000000005,5.2248000000000001,5.1556000000000006,5.0864000000000003,5.0172000000000008,4.9480000000000004,{"$f":"BU32","v":4.7663333333333338},4.5846666666666671,4.4030000000000005,4.2213333333333329,4.0396666666666663,3.8579999999999997,{"$f":"CA32","v":3.6933999999999996},3.5287999999999995,3.3641999999999994,3.1995999999999998,3.0349999999999997,2.8703999999999996,2.7058,2.5411999999999999,2.3765999999999998,2.2119999999999997,4,"Altherma 3 R W 07","Altherma 3 R W 07",9,3.85,null,4.3600000000000003]
[null,"Altherma 3 R W",7,3.1,4.29,5.23,59,null,null,null,null,null,null,null,null,null,null,null,null,null,null,null,null,null,null,null,null,null,null,null,null,null,null,null,null,null,null,4.452,4.4096666666666664,4.3673333333333328,4.3249999999999993,4.2826666666666666,4.2403333333333331,4.1979999999999995,{"$f":"AS33","v":4.2924999999999995},4.3869999999999996,4.4814999999999996,4.5760000000000005,4.6705000000000005,4.7650000000000006,4.8595000000000006,4.9540000000000006,{"$f":"BA33","v":5.0196000000000005},5.0852000000000004,5.1508000000000003,5.2164000000000001,5.282,5.3476000000000008,5.4132000000000007,5.4788000000000006,5.5444000000000004,5.61,{"$f":"BK33","v":5.5424000000000007},5.4748000000000001,5.4072000000000005,5.3395999999999999,5.2720000000000002,5.2044000000000006,5.1368,5.0692000000000004,5.0015999999999998,4.9340000000000002,{"$f":"BU33","v":4.7373333333333338},4.5406666666666666,4.3440000000000003,4.1473333333333331,3.9506666666666668,3.754,{"$f":"CA33","v":3.5802},3.4064000000000001,3.2325999999999997,3.0587999999999997,2.8849999999999998,2.7111999999999998,2.5373999999999999,2.3635999999999999,2.1898,2.016,4,"Altherma 3 R W 07","Altherma 3 R W 07",9,3.85,null,4.3600000000000003]
[null,"Altherma 3 R W",7,3.1,4.29,5.23,60,null,null,null,null,null,null,null,null,null,null,null,null,null,null,null,null,null,null,null,null,null,null,null,null,null,null,null,null,null,null,4.33,4.2850000000000001,4.24,4.1950000000000003,4.1499999999999995,4.1049999999999995,4.0599999999999996,{"$f":"AS34","v":4.16},4.26,4.3599999999999994,4.46,4.5600000000000005,4.66,4.76,4.8600000000000003,{"$f":"BA34","v":4.9320000000000004},5.0040000000000004,5.0760000000000005,5.1480000000000006,5.2200000000000006,5.2919999999999998,5.3639999999999999,5.4359999999999999,5.508,5.58,{"$f":"BK34","v":5.5140000000000002},5.4480000000000004,5.3819999999999997,5.3159999999999998,5.25,5.1840000000000002,5.1180000000000003,5.0519999999999996,4.9859999999999998,4.92,{"$f":"BU34","v":4.708333333333333},4.4966666666666661,4.2850000000000001,4.0733333333333333,3.8616666666666664,3.65,{"$f":"CA34","v":3.4670000000000001},3.2839999999999998,3.101,2.9180000000000001,2.7349999999999999,2.552,2.3689999999999998,2.1859999999999999,2.0030000000000001,1.82,4,"Altherma 3 R W 07","Altherma 3 R W 07",9,3.85,null,4.3600000000000003]
[null,"Altherma 3 R W",7,3.1,4.29,5.23,61,null,null,null,null,null,null,null,null,null,null,null,null,null,null,null,null,null,null,null,null,null,null,null,null,null,null,null,null,null,null,null,null,null,null,null,null,null,null,null,null,null,null,null,null,null,null,null,null,null,null,null,null,null,null,null,null,null,null,null,null,null,null,null,null,null,null,null,null,null,null,null,null,null,null,null,null,null,null,null,null,null,4,"Altherma 3 R W 07","Altherma 3 R W 07",9,3.85,null,4.3600000000000003]
[null,"Altherma 3 R W",7,3.1,4.29,5.23,62,null,null,null,null,null,null,null,null,null,null,null,null,null,null,null,null,null,null,null,null,null,null,null,null,null,null,null,null,null,null,null,null,null,null,null,null,null,null,null,null,null,null,null,null,null,null,null,null,null,null,null,null,null,null,null,null,null,null,null,null,null,null,null,null,null,null,null,null,null,null,null,null,null,null,null,null,null,null,null,null,null,4,"Altherma 3 R W 07","Altherma 3 R W 07",9,3.85,null,4.3600000000000003]
[null,"Altherma 3 R W",7,3.1,4.29,5.23,63,null,null,null,null,null,null,null,null,null,null,null,null,null,null,null,null,null,null,null,null,null,null,null,null,null,null,null,null,null,null,null,null,null,null,null,null,null,null,null,null,null,null,null,null,null,null,null,null,null,null,null,null,null,null,null,null,null,null,null,null,null,null,null,null,null,null,null,null,null,null,null,null,null,null,null,null,null,null,null,null,null,4,"Altherma 3 R W 07","Altherma 3 R W 07",9,3.85,null,4.3600000000000003]
[null,"Altherma 3 R W",7,3.1,4.29,5.23,64,null,null,null,null,null,null,null,null,null,null,null,null,null,null,null,null,null,null,null,null,null,null,null,null,null,null,null,null,null,null,null,null,null,null,null,null,null,null,null,null,null,null,null,null,null,null,null,null,null,null,null,null,null,null,null,null,null,null,null,null,null,null,null,null,null,null,null,null,null,null,null,null,null,null,null,null,null,null,null,null,null,4,"Altherma 3 R W 07","Altherma 3 R W 07",9,3.85,null,4.3600000000000003]
[null,"Altherma 3 R W",7,3.1,4.29,5.23,65,null,null,null,null,null,null,null,null,null,null,null,null,null,null,null,null,null,null,null,null,null,null,null,null,null,null,null,null,null,null,null,null,null,null,null,null,null,null,null,null,null,null,null,null,null,null,null,null,null,null,null,null,null,null,null,null,null,null,null,null,null,null,null,null,null,null,null,null,null,null,null,null,null,null,null,null,null,null,null,null,null,4,"Altherma 3 R W 07","Altherma 3 R W 07",9,3.85,null,4.3600000000000003]
[null,"Altherma 3 R W",7,3.1,4.29,5.23,66,null,null,null,null,null,null,null,null,null,null,null,null,null,null,null,null,null,null,null,null,null,null,null,null,null,null,null,null,null,null,null,null,null,null,null,null,null,null,null,null,null,null,null,null,null,null,null,null,null,null,null,null,null,null,null,null,null,null,null,null,null,null,null,null,null,null,null,null,null,null,null,null,null,null,null,null,null,null,null,null,null,4,"Altherma 3 R W 07","Altherma 3 R W 07",9,3.85,null,4.3600000000000003]
[null,"Altherma 3 R W",7,3.1,4.29,5.23,67,null,null,null,null,null,null,null,null,null,null,null,null,null,null,null,null,null,null,null,null,null,null,null,null,null,null,null,null,null,null,null,null,null,null,null,null,null,null,null,null,null,null,null,null,null,null,null,null,null,null,null,null,null,null,null,null,null,null,null,null,null,null,null,null,null,null,null,null,null,null,null,null,null,null,null,null,null,null,null,null,null,4,"Altherma 3 R W 07","Altherma 3 R W 07",9,3.85,null,4.3600000000000003]
[null,"Altherma 3 R W",7,3.1,4.29,5.23,68,null,null,null,null,null,null,null,null,null,null,null,null,null,null,null,null,null,null,null,null,null,null,null,null,null,null,null,null,null,null,null,null,null,null,null,null,null,null,null,null,null,null,null,null,null,null,null,null,null,null,null,null,null,null,null,null,null,null,null,null,null,null,null,null,null,null,null,null,null,null,null,null,null,null,null,null,null,null,null,null,null,4,"Altherma 3 R W 07","Altherma 3 R W 07",9,3.85,null,4.3600000000000003]
[null,"Altherma 3 R W",7,3.1,4.29,5.23,69,null,null,null,null,null,null,null,null,null,null,null,null,null,null,null,null,null,null,null,null,null,null,null,null,null,null,null,null,null,null,null,null,null,null,null,null,null,null,null,null,null,null,null,null,null,null,null,null,null,null,null,null,null,null,null,null,null,null,null,null,null,null,null,null,null,null,null,null,null,null,null,null,null,null,null,null,null,null,null,null,null,4,"Altherma 3 R W 07","Altherma 3 R W 07",9,3.85,null,4.3600000000000003]
[null,"Altherma 3 R W",7,3.1,4.29,5.23,70,null,null,null,null,null,null,null,null,null,null,null,null,null,null,null,null,null,null,null,null,null,null,null,null,null,null,null,null,null,null,null,null,null,null,null,null,null,null,null,null,null,null,null,null,null,null,null,null,null,null,null,null,null,null,null,null,null,null,null,null,null,null,null,null,null,null,null,null,null,null,null,null,null,null,null,null,null,null,null,null,null,4,"Altherma 3 R W 07","Altherma 3 R W 07",9,3.85,null,4.3600000000000003]
[null,"Altherma 3 R W",6,{"$f":"'Altherma 3 R'!$L$20","v":2.9},{"$f":"'Altherma 3 R'!$L$21","v":3.75},{"$f":"'Altherma 3 R'!$L$22","v":4.8499999999999996},30,{"$f":"'Altherma 3 R'!C19","v":5.93},{"$f":"$H86-(($H86-$R86)/$R$3*I$3)","v":5.9909999999999997},6.0519999999999996,6.1129999999999995,6.1739999999999995,6.2349999999999994,6.2960000000000003,6.3570000000000002,6.4180000000000001,6.4790000000000001,{"$f":"'Altherma 3 R'!C20","v":6.54},{"$f":"$R86-(($R86-$AH86)/$AH$3*S$3)","v":6.6},6.66,6.72,6.78,6.84,6.9,6.96,7.02,7.08,7.14,7.2,7.26,7.32,7.38,7.4399999999999995,{"$f":"'Altherma 3 R'!C21","v":7.5},{"$f":"$AH86-(($AH86-$AL86)/$AL$3*AI$3)","v":7.5350000000000001},7.57,7.6049999999999995,{"$f":"'Altherma 3 R'!C23","v":7.64},{"$f":"$AL86-(($AL86-$AR86)/$AR$1*AM$1)","v":7.63},7.62,7.6099999999999994,7.6,7.59,{"$f":"'Altherma 3 R'!C22","v":7.58},{"$f":"$AR86-(($AR86-$AZ86)/$AZ$3*AS$3)","v":7.6012500000000003},7.6225000000000005,7.6437499999999998,7.665,7.6862500000000002,7.7074999999999996,7.7287499999999998,{"$f":"'Altherma 3 R'!C24","v":7.75},{"$f":"$AZ86-(($AZ86-$BJ86)/$BJ$3*BA$3)","v":7.7670000000000003},7.7839999999999998,7.8010000000000002,7.8179999999999996,7.835,7.8520000000000003,7.8689999999999998,7.8860000000000001,7.9029999999999996,{"$f":"'Altherma 3 R'!C25","v":7.92},{"$f":"$BJ86-(($BJ86-$BT86)/$BT$3*BK$3)","v":7.9029999999999996},7.8860000000000001,7.8689999999999998,7.8520000000000003,7.835,7.8179999999999996,7.8010000000000002,7.7839999999999998,7.7670000000000003,{"$f":"'Altherma 3 R'!C26","v":7.75},{"$f":"$BT86-(($BT86-$BZ86)/$BZ$3*BU$3)","v":7.7216666666666667},7.6933333333333334,7.665,7.6366666666666667,7.6083333333333334,{"$f":"'Altherma 3 R'!C27","v":7.58},{"$f":"$BZ86-(($BZ86-$CJ86)/$CJ$3*CA$3)","v":7.5510000000000002},7.5220000000000002,7.4930000000000003,7.4640000000000004,7.4350000000000005,7.4059999999999997,7.3769999999999998,7.3479999999999999,7.319,{"$f":"'Altherma 3 R'!C28","v":7.29},{"$f":"Eingabemaske!G$19","v":4},"Altherma 3 R W 6 kW","Altherma 3 R W 6 kW",9,3.7,null,6]
[null,"Altherma 3 R W",6,{"$f":"'Altherma 3 R'!$L$20","v":2.9},{"$f":"'Altherma 3 R'!$L$21","v":3.75},{"$f":"'Altherma 3 R'!$L$22","v":4.8499999999999996},31,{"$f":"$H$86-(($H$86-$H$91)/5*A4)","v":5.91},5.9695999999999998,6.0292000000000003,6.0888,6.1484000000000005,6.2080000000000002,6.2675999999999998,6.3272000000000004,6.3868,6.4464000000000006,{"$f":"$R$86-(($R$86-$R$91)/5*A4)","v":6.5060000000000002},6.5647500000000001,6.6234999999999999,6.6822499999999998,6.7409999999999997,6.7997500000000004,6.8585000000000003,6.9172500000000001,6.976,7.0347499999999998,7.0934999999999997,7.1522499999999996,7.2110000000000003,7.2697500000000002,7.3285,7.3872499999999999,{"$f":"$AH$86-(($AH$86-$AH$91)/5*A4)","v":7.4459999999999997},7.4824999999999999,7.5190000000000001,7.5554999999999994,{"$f":"$AL$86-(($AL$86-$AL$91)/5*A4)","v":7.5919999999999996},7.5816666666666661,7.5713333333333335,7.5609999999999999,7.5506666666666664,7.5403333333333338,{"$f":"$AR$86-(($AR$86-$AR$91)/5*A4)","v":7.53},7.5522499999999999,7.5745000000000005,7.5967500000000001,7.6189999999999998,7.6412500000000003,7.6635,7.6857500000000005,{"$f":"$AZ$86-(($AZ$86-$AZ$91)/5*A4)","v":7.7080000000000002},7.7256,7.7431999999999999,7.7608000000000006,7.7784000000000004,7.7960000000000003,7.8136000000000001,7.8311999999999999,7.8488000000000007,7.8664000000000005,{"$f":"$BJ$86-(($BJ$86-$BJ$91)/5*A4)","v":7.8840000000000003},7.8654000000000002,7.8468,7.8282000000000007,7.8096000000000005,7.7910000000000004,7.7724000000000002,7.7538,7.7352000000000007,7.7166000000000006,{"$f":"$BT$86-(($BT$86-$BT$91)/5*A4)","v":7.6980000000000004},7.666666666666667,7.6353333333333335,7.6040000000000001,7.5726666666666667,7.5413333333333332,{"$f":"$BZ$86-(($BZ$86-$BZ$91)/5*A4)","v":7.51},7.4779999999999998,7.4459999999999997,7.4139999999999997,7.3819999999999997,7.35,7.3180000000000005,7.2860000000000005,7.2540000000000004,7.2220000000000004,{"$f":"$CJ$86-(($CJ$86-$CJ$91)/5*A4)","v":7.19},{"$f":"Eingabemaske!G$19","v":4},"Altherma 3 R W 6 kW","Altherma 3 R W 6 kW",9,3.7,null,6]
[null,"Altherma 3 R W",6,{"$f":"'Altherma 3 R'!$L$20","v":2.9},{"$f":"'Altherma 3 R'!$L$21","v":3.75},{"$f":"'Altherma 3 R'!$L$22","v":4.8499999999999996},32,{"$f":"$H$86-(($H$86-$H$91)/5*A5)","v":5.89},5.9481999999999999,6.0064000000000002,6.0645999999999995,6.1227999999999998,6.181,6.2392000000000003,6.2974000000000006,6.3555999999999999,6.4138000000000002,{"$f":"$R$86-(($R$86-$R$91)/5*A5)","v":6.4720000000000004},6.5295000000000005,6.5870000000000006,6.6445000000000007,6.702,6.7595000000000001,6.8170000000000002,6.8745000000000003,6.9320000000000004,6.9895000000000005,7.0470000000000006,7.1045000000000007,7.1620000000000008,7.2195,7.2770000000000001,7.3345000000000002,{"$f":"$AH$86-(($AH$86-$AH$91)/5*A5)","v":7.3920000000000003},7.43,7.468,7.5060000000000002,{"$f":"$AL$86-(($AL$86-$AL$91)/5*A5)","v":7.5439999999999996},7.5333333333333332,7.5226666666666668,7.5120000000000005,7.5013333333333332,7.4906666666666668,{"$f":"$AR$86-(($AR$86-$AR$91)/5*A5)","v":7.48},7.5032500000000004,7.5265000000000004,7.5497500000000004,7.5730000000000004,7.5962500000000004,7.6195000000000004,7.6427500000000004,{"$f":"$AZ$86-(($AZ$86-$AZ$91)/5*A5)","v":7.6660000000000004},7.6842000000000006,7.7023999999999999,7.7206000000000001,7.7388000000000003,7.7569999999999997,7.7751999999999999,7.7934000000000001,7.8116000000000003,7.8297999999999996,{"$f":"$BJ$86-(($BJ$86-$BJ$91)/5*A5)","v":7.8479999999999999},7.8277999999999999,7.8075999999999999,7.7873999999999999,7.7671999999999999,7.7469999999999999,7.7267999999999999,7.7065999999999999,7.6863999999999999,7.6661999999999999,{"$f":"$BT$86-(($BT$86-$BT$91)/5*A5)","v":7.6459999999999999},7.6116666666666664,7.5773333333333337,7.5430000000000001,7.5086666666666666,7.4743333333333339,{"$f":"$BZ$86-(($BZ$86-$BZ$91)/5*A5)","v":7.44},7.4050000000000002,7.37,7.335,7.3,7.2650000000000006,7.23,7.1950000000000003,7.16,7.125,{"$f":"$CJ$86-(($CJ$86-$CJ$91)/5*A5)","v":7.09},{"$f":"Eingabemaske!G$19","v":4},"Altherma 3 R W 6 kW","Altherma 3 R W 6 kW",9,3.7,null,6]
[null,"Altherma 3 R W",6,{"$f":"'Altherma 3 R'!$L$20","v":2.9},{"$f":"'Altherma 3 R'!$L$21","v":3.75},{"$f":"'Altherma 3 R'!$L$22","v":4.8499999999999996},33,{"$f":"$H$86-(($H$86-$H$91)/5*A6)","v":5.87},5.9268000000000001,5.9836,6.0404,6.0972,6.1539999999999999,6.2107999999999999,6.2675999999999998,6.3243999999999998,6.3811999999999998,{"$f":"$R$86-(($R$86-$R$91)/5*A6)","v":6.4379999999999997},6.4942500000000001,6.5504999999999995,6.6067499999999999,6.6630000000000003,6.7192499999999997,6.7755000000000001,6.8317499999999995,6.8879999999999999,6.9442500000000003,7.0004999999999997,7.0567500000000001,7.1129999999999995,7.1692499999999999,7.2255000000000003,7.2817499999999997,{"$f":"$AH$86-(($AH$86-$AH$91)/5*A6)","v":7.3380000000000001},7.3775000000000004,7.4169999999999998,7.4565000000000001,{"$f":"$AL$86-(($AL$86-$AL$91)/5*A6)","v":7.4960000000000004},7.4850000000000003,7.4740000000000002,7.4630000000000001,7.452,7.4409999999999998,{"$f":"$AR$86-(($AR$86-$AR$91)/5*A6)","v":7.43},7.45425,7.4784999999999995,7.5027499999999998,7.5269999999999992,7.5512499999999996,7.5754999999999999,7.5997499999999993,{"$f":"$AZ$86-(($AZ$86-$AZ$91)/5*A6)","v":7.6239999999999997},7.6427999999999994,7.6616,7.6803999999999997,7.6992000000000003,7.718,7.7367999999999997,7.7556000000000003,7.7744,7.7932000000000006,{"$f":"$BJ$86-(($BJ$86-$BJ$91)/5*A6)","v":7.8120000000000003},7.7902000000000005,7.7684000000000006,7.7465999999999999,7.7248000000000001,7.7030000000000003,7.6812000000000005,7.6594000000000007,7.6375999999999999,7.6158000000000001,{"$f":"$BT$86-(($BT$86-$BT$91)/5*A6)","v":7.5940000000000003},7.5566666666666666,7.5193333333333339,7.4820000000000002,7.4446666666666665,7.4073333333333338,{"$f":"$BZ$86-(($BZ$86-$BZ$91)/5*A6)","v":7.37},7.3319999999999999,7.2940000000000005,7.2560000000000002,7.218,7.18,7.1420000000000003,7.1040000000000001,7.0659999999999998,7.0280000000000005,{"$f":"$CJ$86-(($CJ$86-$CJ$91)/5*A6)","v":6.99},{"$f":"Eingabemaske!G$19","v":4},"Altherma 3 R W 6 kW","Altherma 3 R W 6 kW",9,3.7,null,6]
[null,"Altherma 3 R W",6,{"$f":"'Altherma 3 R'!$L$20","v":2.9},{"$f":"'Altherma 3 R'!$L$21","v":3.75},{"$f":"'Altherma 3 R'!$L$22","v":4.8499999999999996},34,{"$f":"$H$86-(($H$86-$H$91)/5*A7)","v":5.85},5.9053999999999993,5.9607999999999999,6.0161999999999995,6.0716000000000001,6.1269999999999998,6.1823999999999995,6.2378,6.2931999999999997,6.3486000000000002,{"$f":"$R$86-(($R$86-$R$91)/5*A7)","v":6.4039999999999999},6.4589999999999996,6.5140000000000002,6.569,6.6240000000000006,6.6790000000000003,6.734,6.7890000000000006,6.8440000000000003,6.899,6.9540000000000006,7.0090000000000003,7.0640000000000001,7.1190000000000007,7.1740000000000004,7.229000000000001,{"$f":"$AH$86-(($AH$86-$AH$91)/5*A7)","v":7.2840000000000007},7.3250000000000011,7.3660000000000005,7.407,{"$f":"$AL$86-(($AL$86-$AL$91)/5*A7)","v":7.4480000000000004},7.4366666666666674,7.4253333333333336,7.4139999999999997,7.4026666666666667,7.3913333333333338,{"$f":"$AR$86-(($AR$86-$AR$91)/5*A7)","v":7.38},7.4052499999999997,7.4305000000000003,7.4557500000000001,7.4809999999999999,7.5062499999999996,7.5314999999999994,7.5567500000000001,{"$f":"$AZ$86-(($AZ$86-$AZ$91)/5*A7)","v":7.5819999999999999},7.6013999999999999,7.6208,7.6402000000000001,7.6596000000000002,7.6790000000000003,7.6983999999999995,7.7177999999999995,7.7371999999999996,7.7565999999999997,{"$f":"$BJ$86-(($BJ$86-$BJ$91)/5*A7)","v":7.7759999999999998},7.7526000000000002,7.7291999999999996,7.7058,7.6823999999999995,7.6589999999999998,7.6356000000000002,7.6121999999999996,7.5888,7.5653999999999995,{"$f":"$BT$86-(($BT$86-$BT$91)/5*A7)","v":7.5419999999999998},7.5016666666666669,7.4613333333333332,7.4210000000000003,7.3806666666666674,7.3403333333333336,{"$f":"$BZ$86-(($BZ$86-$BZ$91)/5*A7)","v":7.3000000000000007},7.2590000000000003,7.2180000000000009,7.1770000000000005,7.1360000000000001,7.0950000000000006,7.0540000000000003,7.0129999999999999,6.9719999999999995,6.931,{"$f":"$CJ$86-(($CJ$86-$CJ$91)/5*A7)","v":6.89},{"$f":"Eingabemaske!G$19","v":4},"Altherma 3 R W 6 kW","Altherma 3 R W 6 kW",9,3.7,null,6]
[null,"Altherma 3 R W",6,{"$f":"'Altherma 3 R'!$L$20","v":2.9},{"$f":"'Altherma 3 R'!$L$21","v":3.75},{"$f":"'Altherma 3 R'!$L$22","v":4.8499999999999996},35,{"$f":"'Altherma 3 R'!D19","v":5.83},5.8840000000000003,5.9379999999999997,5.992,6.0460000000000003,6.1,6.1539999999999999,6.2080000000000002,6.2620000000000005,6.3159999999999998,{"$f":"'Altherma 3 R'!D20","v":6.37},6.4237500000000001,6.4775,6.53125,6.585,6.6387499999999999,6.6924999999999999,6.7462499999999999,6.8000000000000007,6.8537500000000007,6.9075000000000006,6.9612500000000006,7.0150000000000006,7.0687500000000005,7.1225000000000005,7.1762500000000005,{"$f":"'Altherma 3 R'!D21","v":7.23},7.2725000000000009,7.3150000000000004,7.3574999999999999,{"$f":"'Altherma 3 R'!D23","v":7.4},7.3883333333333336,7.3766666666666669,7.3650000000000002,7.3533333333333335,7.3416666666666668,{"$f":"'Altherma 3 R'!D22","v":7.33},7.3562500000000002,7.3825000000000003,7.4087500000000004,7.4350000000000005,7.4612499999999997,7.4874999999999998,7.5137499999999999,{"$f":"'Altherma 3 R'!D24","v":7.54},7.5600000000000005,7.58,7.6,7.62,7.6400000000000006,7.66,7.68,7.7,7.7200000000000006,{"$f":"'Altherma 3 R'!D25","v":7.74},7.7149999999999999,7.69,7.665,7.6400000000000006,7.6150000000000002,7.59,7.5650000000000004,7.54,7.5150000000000006,{"$f":"'Altherma 3 R'!D26","v":7.49},7.4466666666666672,7.4033333333333333,7.36,7.3166666666666673,7.2733333333333334,{"$f":"'Altherma 3 R'!D27","v":7.23},7.1859999999999999,7.1420000000000003,7.0980000000000008,7.0540000000000003,7.01,6.9660000000000002,6.9220000000000006,6.8780000000000001,6.8339999999999996,{"$f":"'Altherma 3 R'!D28","v":6.79},{"$f":"Eingabemaske!G$19","v":4},"Altherma 3 R W 6 kW","Altherma 3 R W 6 kW",9,3.7,null,6]
[null,"Altherma 3 R W",6,{"$f":"'Altherma 3 R'!$L$20","v":2.9},{"$f":"'Altherma 3 R'!$L$21","v":3.75},{"$f":"'Altherma 3 R'!$L$22","v":4.8499999999999996},36,{"$f":"$H$91-(($H$91-$H$96)/5*A4)","v":5.8079999999999998},5.8608000000000002,5.9135999999999997,5.9664000000000001,6.0191999999999997,6.0720000000000001,6.1248000000000005,6.1776,6.2304000000000004,6.2831999999999999,{"$f":"$R$91-(($R$91-$R$96)/5*A4)","v":6.3360000000000003},6.3885000000000005,6.4410000000000007,6.4935,6.5460000000000003,6.5985000000000005,6.6509999999999998,6.7035,6.7560000000000002,6.8085000000000004,6.8610000000000007,6.9135,6.9660000000000002,7.0185000000000004,7.0709999999999997,7.1234999999999999,{"$f":"$AH$91-(($AH$91-$AH$96)/5*A4)","v":7.1760000000000002},7.2205000000000004,7.2650000000000006,7.3094999999999999,{"$f":"$AL$91-(($AL$91-$AL$96)/5*A4)","v":7.3540000000000001},7.3416666666666668,7.3293333333333335,7.3170000000000002,7.3046666666666669,7.2923333333333336,{"$f":"$AR$91-(($AR$91-$AR$96)/5*A4)","v":7.28},7.3072499999999998,7.3345000000000002,7.3617500000000007,7.3890000000000002,7.4162499999999998,7.4435000000000002,7.4707500000000007,{"$f":"$AZ$91-(($AZ$91-$AZ$96)/5*A4)","v":7.4980000000000002},7.5188000000000006,7.5396000000000001,7.5604000000000005,7.5811999999999999,7.6020000000000003,7.6228000000000007,7.6436000000000002,7.6644000000000005,7.6852,{"$f":"$BJ$91-(($BJ$91-$BJ$96)/5*A4)","v":7.7060000000000004},7.6794000000000002,7.6528,7.6262000000000008,7.5996000000000006,7.5730000000000004,7.5464000000000002,7.5198,7.4932000000000007,7.4666000000000006,{"$f":"$BT$91-(($BT$91-$BT$96)/5*A4)","v":7.44},7.3933333333333335,7.3466666666666667,7.3000000000000007,7.2533333333333339,7.206666666666667,{"$f":"$BZ$91-(($BZ$91-$BZ$96)/5*A4)","v":7.16},7.1130000000000004,7.0659999999999998,7.0190000000000001,6.9720000000000004,6.9250000000000007,6.8780000000000001,6.8310000000000004,6.7840000000000007,6.7370000000000001,{"$f":"$CJ$91-(($CJ$91-$CJ$96)/5*A4)","v":6.69},{"$f":"Eingabemaske!G$19","v":4},"Altherma 3 R W 6 kW","Altherma 3 R W 6 kW",9,3.7,null,6]
[null,"Altherma 3 R W",6,{"$f":"'Altherma 3 R'!$L$20","v":2.9},{"$f":"'Altherma 3 R'!$L$21","v":3.75},{"$f":"'Altherma 3 R'!$L$22","v":4.8499999999999996},37,{"$f":"$H$91-(($H$91-$H$96)/5*A5)","v":5.7859999999999996},5.8376000000000001,5.8891999999999998,5.9407999999999994,5.9923999999999999,6.0440000000000005,6.0956000000000001,6.1471999999999998,6.1988000000000003,6.2504000000000008,{"$f":"$R$91-(($R$91-$R$96)/5*A5)","v":6.3020000000000005},6.3532500000000001,6.4045000000000005,6.4557500000000001,6.5070000000000006,6.5582500000000001,6.6095000000000006,6.6607500000000002,6.7119999999999997,6.7632500000000002,6.8144999999999998,6.8657500000000002,6.9169999999999998,6.9682500000000003,7.0194999999999999,7.0707500000000003,{"$f":"$AH$91-(($AH$91-$AH$96)/5*A5)","v":7.1219999999999999},7.1684999999999999,7.2149999999999999,7.2614999999999998,{"$f":"$AL$91-(($AL$91-$AL$96)/5*A5)","v":7.3079999999999998},7.2949999999999999,7.282,7.2690000000000001,7.2560000000000002,7.2430000000000003,{"$f":"$AR$91-(($AR$91-$AR$96)/5*A5)","v":7.23},7.2582500000000003,7.2865000000000002,7.3147500000000001,7.343,7.3712500000000007,7.3995000000000006,7.4277500000000005,{"$f":"$AZ$91-(($AZ$91-$AZ$96)/5*A5)","v":7.4560000000000004},7.4776000000000007,7.4992000000000001,7.5208000000000004,7.5424000000000007,7.5640000000000001,7.5856000000000003,7.6072000000000006,7.6288000000000009,7.6504000000000003,{"$f":"$BJ$91-(($BJ$91-$BJ$96)/5*A5)","v":7.6720000000000006},7.6438000000000006,7.6156000000000006,7.5874000000000006,7.5592000000000006,7.5310000000000006,7.5028000000000006,7.4746000000000006,7.4464000000000006,7.4182000000000006,{"$f":"$BT$91-(($BT$91-$BT$96)/5*A5)","v":7.3900000000000006},7.3400000000000007,7.29,7.24,7.19,7.14,{"$f":"$BZ$91-(($BZ$91-$BZ$96)/5*A5)","v":7.09},7.04,6.99,6.9399999999999995,6.89,6.84,6.79,6.74,6.6899999999999995,6.64,{"$f":"$CJ$91-(($CJ$91-$CJ$96)/5*A5)","v":6.59},{"$f":"Eingabemaske!G$19","v":4},"Altherma 3 R W 6 kW","Altherma 3 R W 6 kW",9,3.7,null,6]
[null,"Altherma 3 R W",6,{"$f":"'Altherma 3 R'!$L$20","v":2.9},{"$f":"'Altherma 3 R'!$L$21","v":3.75},{"$f":"'Altherma 3 R'!$L$22","v":4.8499999999999996},38,{"$f":"$H$91-(($H$91-$H$96)/5*A6)","v":5.7640000000000002},5.8144,5.8647999999999998,5.9152000000000005,5.9656000000000002,6.016,6.0663999999999998,6.1167999999999996,6.1672000000000002,6.2176,{"$f":"$R$91-(($R$91-$R$96)/5*A6)","v":6.2679999999999998},6.3179999999999996,6.3680000000000003,6.4180000000000001,6.468,6.5179999999999998,6.5679999999999996,6.6180000000000003,6.6680000000000001,6.718,6.7680000000000007,6.8180000000000005,6.8680000000000003,6.9180000000000001,6.968,7.0180000000000007,{"$f":"$AH$91-(($AH$91-$AH$96)/5*A6)","v":7.0680000000000005},7.1165000000000003,7.1650000000000009,7.2135000000000007,{"$f":"$AL$91-(($AL$91-$AL$96)/5*A6)","v":7.2620000000000005},7.248333333333334,7.2346666666666666,7.2210000000000001,7.2073333333333336,7.1936666666666662,{"$f":"$AR$91-(($AR$91-$AR$96)/5*A6)","v":7.18},7.2092499999999999,7.2385000000000002,7.2677499999999995,7.2969999999999997,7.3262499999999999,7.3554999999999993,7.3847499999999995,{"$f":"$AZ$91-(($AZ$91-$AZ$96)/5*A6)","v":7.4139999999999997},7.4363999999999999,7.4588000000000001,7.4811999999999994,7.5035999999999996,7.5259999999999998,7.5484,7.5708000000000002,7.5931999999999995,7.6155999999999997,{"$f":"$BJ$91-(($BJ$91-$BJ$96)/5*A6)","v":7.6379999999999999},7.6082000000000001,7.5784000000000002,7.5485999999999995,7.5187999999999997,7.4889999999999999,7.4592000000000001,7.4294000000000002,7.3995999999999995,7.3697999999999997,{"$f":"$BT$91-(($BT$91-$BT$96)/5*A6)","v":7.34},7.2866666666666671,7.2333333333333334,7.18,7.1266666666666669,7.0733333333333341,{"$f":"$BZ$91-(($BZ$91-$BZ$96)/5*A6)","v":7.0200000000000005},6.9670000000000005,6.9140000000000006,6.8610000000000007,6.8080000000000007,6.7550000000000008,6.702,6.649,6.5960000000000001,6.5430000000000001,{"$f":"$CJ$91-(($CJ$91-$CJ$96)/5*A6)","v":6.49},{"$f":"Eingabemaske!G$19","v":4},"Altherma 3 R W 6 kW","Altherma 3 R W 6 kW",9,3.7,null,6]
[null,"Altherma 3 R W",6,{"$f":"'Altherma 3 R'!$L$20","v":2.9},{"$f":"'Altherma 3 R'!$L$21","v":3.75},{"$f":"'Altherma 3 R'!$L$22","v":4.8499999999999996},39,{"$f":"$H$91-(($H$91-$H$96)/5*A7)","v":5.742},5.7911999999999999,5.8403999999999998,5.8895999999999997,5.9387999999999996,5.9879999999999995,6.0372000000000003,6.0864000000000003,6.1356000000000002,6.1848000000000001,{"$f":"$R$91-(($R$91-$R$96)/5*A7)","v":6.234},6.2827500000000001,6.3315000000000001,6.3802500000000002,6.4290000000000003,6.4777500000000003,6.5265000000000004,6.5752500000000005,6.6240000000000006,6.6727499999999997,6.7214999999999998,6.7702499999999999,6.819,6.86775,6.9165000000000001,6.9652500000000002,{"$f":"$AH$91-(($AH$91-$AH$96)/5*A7)","v":7.0140000000000002},7.0645000000000007,7.1150000000000002,7.1654999999999998,{"$f":"$AL$91-(($AL$91-$AL$96)/5*A7)","v":7.2160000000000002},7.2016666666666671,7.1873333333333331,7.173,7.158666666666667,7.144333333333333,{"$f":"$AR$91-(($AR$91-$AR$96)/5*A7)","v":7.13},7.1602499999999996,7.1905000000000001,7.2207499999999998,7.2509999999999994,7.28125,7.3114999999999997,7.3417500000000002,{"$f":"$AZ$91-(($AZ$91-$AZ$96)/5*A7)","v":7.3719999999999999},7.3952,7.4184000000000001,7.4416000000000002,7.4648000000000003,7.4879999999999995,7.5111999999999997,7.5343999999999998,7.5575999999999999,7.5808,{"$f":"$BJ$91-(($BJ$91-$BJ$96)/5*A7)","v":7.6040000000000001},7.5726000000000004,7.5411999999999999,7.5098000000000003,7.4783999999999997,7.4470000000000001,7.4156000000000004,7.3841999999999999,7.3528000000000002,7.3213999999999997,{"$f":"$BT$91-(($BT$91-$BT$96)/5*A7)","v":7.29},7.2333333333333334,7.1766666666666667,7.12,7.0633333333333335,7.0066666666666668,{"$f":"$BZ$91-(($BZ$91-$BZ$96)/5*A7)","v":6.95},6.8940000000000001,6.8380000000000001,6.782,6.726,6.67,6.6139999999999999,6.5579999999999998,6.5019999999999998,6.4459999999999997,{"$f":"$CJ$91-(($CJ$91-$CJ$96)/5*A7)","v":6.39},{"$f":"Eingabemaske!G$19","v":4},"Altherma 3 R W 6 kW","Altherma 3 R W 6 kW",9,3.7,null,6]
[null,"Altherma 3 R W",6,{"$f":"'Altherma 3 R'!$L$20","v":2.9},{"$f":"'Altherma 3 R'!$L$21","v":3.75},{"$f":"'Altherma 3 R'!$L$22","v":4.8499999999999996},40,{"$f":"'Altherma 3 R'!E19","v":5.72},{"$f":"$H96-(($H96-$R96)/$R$3*I$3)","v":5.7679999999999998},5.8159999999999998,5.8639999999999999,5.9119999999999999,5.96,6.008,6.056,6.1040000000000001,6.1520000000000001,{"$f":"'Altherma 3 R'!E20","v":6.2},{"$f":"$R96-(($R96-$AH96)/$AH$3*S$3)","v":6.2475000000000005},6.2949999999999999,6.3425000000000002,6.3900000000000006,6.4375,6.4850000000000003,6.5324999999999998,6.58,6.6275000000000004,6.6749999999999998,6.7225000000000001,6.77,6.8174999999999999,6.8650000000000002,6.9124999999999996,{"$f":"'Altherma 3 R'!E21","v":6.96},7.0125000000000002,7.0649999999999995,7.1174999999999997,{"$f":"'Altherma 3 R'!E23","v":7.17},{"$f":"$AL96-(($AL96-$AR96)/$AR$1*AM$1)","v":7.1550000000000002},7.14,7.125,7.11,7.0949999999999998,{"$f":"'Altherma 3 R'!E22","v":7.08},{"$f":"$AR96-(($AR96-$AZ96)/$AZ$3*AS$3)","v":7.1112500000000001},7.1425000000000001,7.1737500000000001,7.2050000000000001,7.2362500000000001,7.2675000000000001,7.2987500000000001,{"$f":"'Altherma 3 R'!E24","v":7.33},{"$f":"$AZ96-(($AZ96-$BJ96)/$BJ$3*BA$3)","v":7.3540000000000001},7.3780000000000001,7.4020000000000001,7.4260000000000002,7.45,7.4740000000000002,7.4980000000000002,7.5220000000000002,7.5460000000000003,{"$f":"'Altherma 3 R'!E25","v":7.57},{"$f":"$BJ96-(($BJ96-$BT96)/$BT$3*BK$3)","v":7.5369999999999999},7.5040000000000004,7.4710000000000001,7.4380000000000006,7.4050000000000002,7.3719999999999999,7.3390000000000004,7.306,7.2730000000000006,{"$f":"'Altherma 3 R'!E26","v":7.24},{"$f":"$BT96-(($BT96-$BZ96)/$BZ$3*BU$3)","v":7.18},7.12,7.0600000000000005,7,6.9399999999999995,{"$f":"'Altherma 3 R'!E27","v":6.88},{"$f":"$BZ96-(($BZ96-$CJ96)/$CJ$3*CA$3)","v":6.8209999999999997},6.7619999999999996,6.7030000000000003,6.6440000000000001,6.585,6.5259999999999998,6.4669999999999996,6.4080000000000004,6.3490000000000002,{"$f":"'Altherma 3 R'!E28","v":6.29},{"$f":"Eingabemaske!G$19","v":4},"Altherma 3 R W 6 kW","Altherma 3 R W 6 kW",9,3.7,null,6]
[null,"Altherma 3 R W",6,{"$f":"'Altherma 3 R'!$L$20","v":2.9},{"$f":"'Altherma 3 R'!$L$21","v":3.75},{"$f":"'Altherma 3 R'!$L$22","v":4.8499999999999996},41,{"$f":"$H$96-(($H$96-$H$101)/5*A4)","v":5.7},5.7465999999999999,5.7932000000000006,5.8398000000000003,5.8864000000000001,5.9329999999999998,5.9796000000000005,6.0262000000000002,6.0728,6.1194000000000006,{"$f":"$R$96-(($R$96-$R$101)/5*A4)","v":6.1660000000000004},6.21225,6.2585000000000006,6.3047500000000003,6.351,6.3972500000000005,6.4435000000000002,6.4897499999999999,6.5359999999999996,6.5822500000000002,6.6284999999999998,6.6747499999999995,6.7210000000000001,6.7672499999999998,6.8134999999999994,6.85975,{"$f":"$AH$96-(($AH$96-$AH$101)/5*A4)","v":6.9059999999999997},6.96,7.0139999999999993,7.0679999999999996,{"$f":"$AL$96-(($AL$96-$AL$101)/5*A4)","v":7.1219999999999999},7.1066666666666665,7.091333333333333,7.0760000000000005,7.0606666666666671,7.0453333333333337,{"$f":"$AR$96-(($AR$96-$AR$101)/5*A4)","v":7.03},7.0622500000000006,7.0945,7.1267500000000004,7.1590000000000007,7.1912500000000001,7.2235000000000005,7.2557499999999999,{"$f":"$AZ$96-(($AZ$96-$AZ$101)/5*A4)","v":7.2880000000000003},7.3128000000000002,7.3376000000000001,7.3624000000000001,7.3872,7.4120000000000008,7.4368000000000007,7.4616000000000007,7.4864000000000006,7.5112000000000005,{"$f":"$BJ$96-(($BJ$96-$BJ$101)/5*A4)","v":7.5360000000000005},7.5014000000000003,7.4668000000000001,7.4322000000000008,7.3976000000000006,7.3630000000000004,7.3284000000000002,7.2938000000000001,7.2592000000000008,7.2246000000000006,{"$f":"$BT$96-(($BT$96-$BT$101)/5*A4)","v":7.19},7.1270000000000007,7.0640000000000001,7.0010000000000003,6.9380000000000006,6.875,{"$f":"$BZ$96-(($BZ$96-$BZ$101)/5*A4)","v":6.8120000000000003},6.7496,6.6871999999999998,6.6248000000000005,6.5624000000000002,6.5,6.4375999999999998,6.3751999999999995,6.3128000000000002,6.2504,{"$f":"$CJ$96-(($CJ$96-$CJ$101)/5*A4)","v":6.1879999999999997},{"$f":"Eingabemaske!G$19","v":4},"Altherma 3 R W 6 kW","Altherma 3 R W 6 kW",9,3.7,null,6]
[null,"Altherma 3 R W",6,{"$f":"'Altherma 3 R'!$L$20","v":2.9},{"$f":"'Altherma 3 R'!$L$21","v":3.75},{"$f":"'Altherma 3 R'!$L$22","v":4.8499999999999996},42,{"$f":"$H$96-(($H$96-$H$101)/5*A5)","v":5.68},5.7252000000000001,5.7703999999999995,5.8155999999999999,5.8608000000000002,5.9060000000000006,5.9512,5.9964000000000004,6.0416000000000007,6.0868000000000002,{"$f":"$R$96-(($R$96-$R$101)/5*A5)","v":6.1320000000000006},6.1770000000000005,6.2220000000000004,6.2670000000000003,6.3120000000000003,6.3570000000000002,6.4020000000000001,6.4470000000000001,6.4920000000000009,6.5370000000000008,6.5820000000000007,6.6270000000000007,6.6720000000000006,6.7170000000000005,6.7620000000000005,6.8070000000000004,{"$f":"$AH$96-(($AH$96-$AH$101)/5*A5)","v":6.8520000000000003},6.9075000000000006,6.9630000000000001,7.0184999999999995,{"$f":"$AL$96-(($AL$96-$AL$101)/5*A5)","v":7.0739999999999998},7.0583333333333336,7.0426666666666664,7.0270000000000001,7.0113333333333339,6.9956666666666667,{"$f":"$AR$96-(($AR$96-$AR$101)/5*A5)","v":6.98},7.0132500000000002,7.0465,7.0797500000000007,7.1130000000000004,7.1462500000000002,7.1795000000000009,7.2127500000000007,{"$f":"$AZ$96-(($AZ$96-$AZ$101)/5*A5)","v":7.2460000000000004},7.2716000000000003,7.2972000000000001,7.3228000000000009,7.3484000000000007,7.3740000000000006,7.3996000000000004,7.4252000000000002,7.450800000000001,7.4764000000000008,{"$f":"$BJ$96-(($BJ$96-$BJ$101)/5*A5)","v":7.5020000000000007},7.4658000000000007,7.4296000000000006,7.3934000000000006,7.3572000000000006,7.3210000000000006,7.2848000000000006,7.2486000000000006,7.2124000000000006,7.1762000000000006,{"$f":"$BT$96-(($BT$96-$BT$101)/5*A5)","v":7.1400000000000006},7.0740000000000007,7.008,6.9420000000000002,6.8760000000000003,6.81,{"$f":"$BZ$96-(($BZ$96-$BZ$101)/5*A5)","v":6.7439999999999998},6.6781999999999995,6.6124000000000001,6.5465999999999998,6.4808000000000003,6.415,6.3491999999999997,6.2834000000000003,6.2176,6.1518000000000006,{"$f":"$CJ$96-(($CJ$96-$CJ$101)/5*A5)","v":6.0860000000000003},{"$f":"Eingabemaske!G$19","v":4},"Altherma 3 R W 6 kW","Altherma 3 R W 6 kW",9,3.7,null,6]
[null,"Altherma 3 R W",6,{"$f":"'Altherma 3 R'!$L$20","v":2.9},{"$f":"'Altherma 3 R'!$L$21","v":3.75},{"$f":"'Altherma 3 R'!$L$22","v":4.8499999999999996},43,{"$f":"$H$96-(($H$96-$H$101)/5*A6)","v":5.66},5.7038000000000002,5.7476000000000003,5.7914000000000003,5.8352000000000004,5.8789999999999996,5.9227999999999996,5.9665999999999997,6.0103999999999997,6.0541999999999998,{"$f":"$R$96-(($R$96-$R$101)/5*A6)","v":6.0979999999999999},6.14175,6.1855000000000002,6.2292499999999995,6.2729999999999997,6.3167499999999999,6.3605,6.4042500000000002,6.4480000000000004,6.4917499999999997,6.5354999999999999,6.57925,6.6230000000000002,6.6667500000000004,6.7104999999999997,6.7542499999999999,{"$f":"$AH$96-(($AH$96-$AH$101)/5*A6)","v":6.798},6.8550000000000004,6.9119999999999999,6.9689999999999994,{"$f":"$AL$96-(($AL$96-$AL$101)/5*A6)","v":7.0259999999999998},7.01,6.9939999999999998,6.9779999999999998,6.9619999999999997,6.9459999999999997,{"$f":"$AR$96-(($AR$96-$AR$101)/5*A6)","v":6.93},6.9642499999999998,6.9984999999999999,7.0327500000000001,7.0670000000000002,7.1012499999999994,7.1354999999999995,7.1697499999999996,{"$f":"$AZ$96-(($AZ$96-$AZ$101)/5*A6)","v":7.2039999999999997},7.2303999999999995,7.2568000000000001,7.2831999999999999,7.3095999999999997,7.3360000000000003,7.3624000000000001,7.3887999999999998,7.4151999999999996,7.4416000000000002,{"$f":"$BJ$96-(($BJ$96-$BJ$101)/5*A6)","v":7.468},7.4302000000000001,7.3924000000000003,7.3545999999999996,7.3167999999999997,7.2789999999999999,7.2412000000000001,7.2034000000000002,7.1655999999999995,7.1277999999999997,{"$f":"$BT$96-(($BT$96-$BT$101)/5*A6)","v":7.09},7.0209999999999999,6.952,6.883,6.8140000000000001,6.7450000000000001,{"$f":"$BZ$96-(($BZ$96-$BZ$101)/5*A6)","v":6.6760000000000002},6.6067999999999998,6.5376000000000003,6.4683999999999999,6.3992000000000004,6.33,6.2607999999999997,6.1916000000000002,6.1223999999999998,6.0532000000000004,{"$f":"$CJ$96-(($CJ$96-$CJ$101)/5*A6)","v":5.984},{"$f":"Eingabemaske!G$19","v":4},"Altherma 3 R W 6 kW","Altherma 3 R W 6 kW",9,3.7,null,6]
[null,"Altherma 3 R W",6,{"$f":"'Altherma 3 R'!$L$20","v":2.9},{"$f":"'Altherma 3 R'!$L$21","v":3.75},{"$f":"'Altherma 3 R'!$L$22","v":4.8499999999999996},44,{"$f":"$H$96-(($H$96-$H$101)/5*A7)","v":5.64},5.6823999999999995,5.7248000000000001,5.7671999999999999,5.8095999999999997,5.8520000000000003,5.8944000000000001,5.9367999999999999,5.9791999999999996,6.0216000000000003,{"$f":"$R$96-(($R$96-$R$101)/5*A7)","v":6.0640000000000001},6.1065000000000005,6.149,6.1915000000000004,6.234,6.2765000000000004,6.319,6.3615000000000004,6.4039999999999999,6.4465000000000003,6.4890000000000008,6.5315000000000003,6.5740000000000007,6.6165000000000003,6.6590000000000007,6.7015000000000011,{"$f":"$AH$96-(($AH$96-$AH$101)/5*A7)","v":6.7440000000000007},6.8025000000000002,6.8610000000000007,6.9195000000000002,{"$f":"$AL$96-(($AL$96-$AL$101)/5*A7)","v":6.9779999999999998},6.961666666666666,6.9453333333333331,6.9290000000000003,6.9126666666666665,6.8963333333333328,{"$f":"$AR$96-(($AR$96-$AR$101)/5*A7)","v":6.88},6.9152500000000003,6.9504999999999999,6.9857499999999995,7.0209999999999999,7.0562500000000004,7.0914999999999999,7.1267499999999995,{"$f":"$AZ$96-(($AZ$96-$AZ$101)/5*A7)","v":7.1619999999999999},7.1891999999999996,7.2164000000000001,7.2435999999999998,7.2708000000000004,7.298,7.3251999999999997,7.3524000000000003,7.3795999999999999,7.4068000000000005,{"$f":"$BJ$96-(($BJ$96-$BJ$101)/5*A7)","v":7.4340000000000002},7.3946000000000005,7.3552,7.3158000000000003,7.2763999999999998,7.2370000000000001,7.1976000000000004,7.1581999999999999,7.1188000000000002,7.0793999999999997,{"$f":"$BT$96-(($BT$96-$BT$101)/5*A7)","v":7.04},6.968,6.8959999999999999,6.8239999999999998,6.7519999999999998,6.68,{"$f":"$BZ$96-(($BZ$96-$BZ$101)/5*A7)","v":6.6079999999999997},6.5354000000000001,6.4627999999999997,6.3902000000000001,6.3175999999999997,6.2450000000000001,6.1724000000000006,6.0998000000000001,6.0272000000000006,5.9546000000000001,{"$f":"$CJ$96-(($CJ$96-$CJ$101)/5*A7)","v":5.8820000000000006},{"$f":"Eingabemaske!G$19","v":4},"Altherma 3 R W 6 kW","Altherma 3 R W 6 kW",9,3.7,null,6]
[null,"Altherma 3 R W",6,{"$f":"'Altherma 3 R'!$L$20","v":2.9},{"$f":"'Altherma 3 R'!$L$21","v":3.75},{"$f":"'Altherma 3 R'!$L$22","v":4.8499999999999996},45,{"$f":"'Altherma 3 R'!F19","v":5.62},5.6610000000000005,5.702,5.7430000000000003,5.7839999999999998,5.8250000000000002,5.8660000000000005,5.907,5.9480000000000004,5.9889999999999999,{"$f":"'Altherma 3 R'!F20","v":6.03},6.07125,6.1125000000000007,6.1537500000000005,6.1950000000000003,6.2362500000000001,6.2774999999999999,6.3187500000000005,6.36,6.4012500000000001,6.4425000000000008,6.4837500000000006,6.5250000000000004,6.5662500000000001,6.6074999999999999,6.6487500000000006,{"$f":"'Altherma 3 R'!F21","v":6.69},6.75,6.8100000000000005,6.87,{"$f":"'Altherma 3 R'!F23","v":6.93},6.9133333333333331,6.8966666666666665,6.88,6.8633333333333333,6.8466666666666667,{"$f":"'Altherma 3 R'!F22","v":6.83},6.86625,6.9024999999999999,6.9387499999999998,6.9749999999999996,7.0112500000000004,7.0475000000000003,7.0837500000000002,{"$f":"'Altherma 3 R'!F24","v":7.12},7.1479999999999997,7.1760000000000002,7.2040000000000006,7.2320000000000002,7.26,7.2880000000000003,7.3160000000000007,7.3440000000000003,7.3719999999999999,{"$f":"'Altherma 3 R'!F25","v":7.4},7.359,7.3180000000000005,7.2770000000000001,7.2360000000000007,7.1950000000000003,7.1539999999999999,7.1130000000000004,7.0720000000000001,7.0310000000000006,{"$f":"'Altherma 3 R'!F26","v":6.99},6.915,6.84,6.7650000000000006,6.69,6.6150000000000002,{"$f":"'Altherma 3 R'!F27","v":6.54},6.4640000000000004,6.3879999999999999,6.3120000000000003,6.2359999999999998,6.16,6.0840000000000005,6.008,5.9320000000000004,5.8559999999999999,{"$f":"'Altherma 3 R'!F28","v":5.78},{"$f":"Eingabemaske!G$19","v":4},"Altherma 3 R W 6 kW","Altherma 3 R W 6 kW",9,3.7,null,6]
[null,"Altherma 3 R W",6,{"$f":"'Altherma 3 R'!$L$20","v":2.9},{"$f":"'Altherma 3 R'!$L$21","v":3.75},{"$f":"'Altherma 3 R'!$L$22","v":4.8499999999999996},46,{"$f":"$H$101-(($H$101-$H$106)/5*A4)","v":5.5760000000000005},5.6144000000000007,5.6528,5.6912000000000003,5.7296000000000005,5.7680000000000007,5.8064,5.8448000000000002,5.8832000000000004,5.9215999999999998,{"$f":"$R$101-(($R$101-$R$106)/5*A4)","v":5.96},5.9984999999999999,6.0369999999999999,6.0754999999999999,6.1139999999999999,6.1524999999999999,6.1909999999999998,6.2294999999999998,6.2680000000000007,6.3065000000000007,6.3450000000000006,6.3835000000000006,6.4220000000000006,6.4605000000000006,6.4990000000000006,6.5375000000000005,{"$f":"$AH$101-(($AH$101-$AH$106)/5*A4)","v":6.5760000000000005},6.6425000000000001,6.7089999999999996,6.7755000000000001,{"$f":"$AL$101-(($AL$101-$AL$106)/5*A4)","v":6.8419999999999996},6.8236666666666661,6.8053333333333335,6.7869999999999999,6.7686666666666664,6.7503333333333337,{"$f":"$AR$101-(($AR$101-$AR$106)/5*A4)","v":6.7320000000000002},6.7722500000000005,6.8125,6.8527500000000003,6.8930000000000007,6.9332500000000001,6.9735000000000005,7.0137499999999999,{"$f":"$AZ$101-(($AZ$101-$AZ$106)/5*A4)","v":7.0540000000000003},7.085,7.1160000000000005,7.1470000000000002,7.1779999999999999,7.2089999999999996,7.24,7.2709999999999999,7.3019999999999996,7.3330000000000002,{"$f":"$BJ$101-(($BJ$101-$BJ$106)/5*A4)","v":7.3639999999999999},7.3220000000000001,7.28,7.2379999999999995,7.1959999999999997,7.1539999999999999,7.1120000000000001,7.07,7.0279999999999996,6.9859999999999998,{"$f":"$BT$101-(($BT$101-$BT$106)/5*A4)","v":6.944},6.8643333333333336,6.7846666666666664,6.7050000000000001,6.6253333333333337,6.5456666666666665,{"$f":"$BZ$101-(($BZ$101-$BZ$106)/5*A4)","v":6.4660000000000002},6.3856000000000002,6.3052000000000001,6.2248000000000001,6.1444000000000001,6.0640000000000001,5.9836,5.9032,5.8228,5.7423999999999999,{"$f":"$CJ$101-(($CJ$101-$CJ$106)/5*A4)","v":5.6619999999999999},{"$f":"Eingabemaske!G$19","v":4},"Altherma 3 R W 6 kW","Altherma 3 R W 6 kW",9,3.7,null,6]
[null,"Altherma 3 R W",6,{"$f":"'Altherma 3 R'!$L$20","v":2.9},{"$f":"'Altherma 3 R'!$L$21","v":3.75},{"$f":"'Altherma 3 R'!$L$22","v":4.8499999999999996},47,{"$f":"$H$101-(($H$101-$H$106)/5*A5)","v":5.532},5.5678000000000001,5.6036000000000001,5.6394000000000002,5.6752000000000002,5.7110000000000003,5.7467999999999995,5.7825999999999995,5.8183999999999996,5.8541999999999996,{"$f":"$R$101-(($R$101-$R$106)/5*A5)","v":5.89},5.9257499999999999,5.9615,5.9972500000000002,6.0329999999999995,6.0687499999999996,6.1044999999999998,6.14025,6.1760000000000002,6.2117500000000003,6.2475000000000005,6.2832500000000007,6.3190000000000008,6.3547500000000001,6.3905000000000003,6.4262500000000005,{"$f":"$AH$101-(($AH$101-$AH$106)/5*A5)","v":6.4620000000000006},6.5350000000000001,6.6080000000000005,6.681,{"$f":"$AL$101-(($AL$101-$AL$106)/5*A5)","v":6.7539999999999996},6.734,6.7139999999999995,6.694,6.6740000000000004,6.6539999999999999,{"$f":"$AR$101-(($AR$101-$AR$106)/5*A5)","v":6.6340000000000003},6.6782500000000002,6.7225000000000001,6.76675,6.8109999999999999,6.8552500000000007,6.8995000000000006,6.9437500000000005,{"$f":"$AZ$101-(($AZ$101-$AZ$106)/5*A5)","v":6.9880000000000004},7.0220000000000002,7.056,7.0900000000000007,7.1240000000000006,7.1580000000000004,7.1920000000000002,7.226,7.2600000000000007,7.2940000000000005,{"$f":"$BJ$101-(($BJ$101-$BJ$106)/5*A5)","v":7.3280000000000003},7.2850000000000001,7.242,7.1989999999999998,7.1559999999999997,7.1129999999999995,7.07,7.0270000000000001,6.984,6.9409999999999998,{"$f":"$BT$101-(($BT$101-$BT$106)/5*A5)","v":6.8979999999999997},6.8136666666666663,6.7293333333333329,6.6449999999999996,6.5606666666666671,6.4763333333333337,{"$f":"$BZ$101-(($BZ$101-$BZ$106)/5*A5)","v":6.3920000000000003},6.3071999999999999,6.2224000000000004,6.1376000000000008,6.0528000000000004,5.968,5.8832000000000004,5.7984000000000009,5.7136000000000005,5.6288,{"$f":"$CJ$101-(($CJ$101-$CJ$106)/5*A5)","v":5.5440000000000005},{"$f":"Eingabemaske!G$19","v":4},"Altherma 3 R W 6 kW","Altherma 3 R W 6 kW",9,3.7,null,6]
[null,"Altherma 3 R W",6,{"$f":"'Altherma 3 R'!$L$20","v":2.9},{"$f":"'Altherma 3 R'!$L$21","v":3.75},{"$f":"'Altherma 3 R'!$L$22","v":4.8499999999999996},48,{"$f":"$H$101-(($H$101-$H$106)/5*A6)","v":5.4880000000000004},5.5212000000000003,5.5544000000000002,5.5876000000000001,5.6208,5.6539999999999999,5.6872000000000007,5.7204000000000006,5.7536000000000005,5.7868000000000004,{"$f":"$R$101-(($R$101-$R$106)/5*A6)","v":5.82},5.8530000000000006,5.8860000000000001,5.9190000000000005,5.952,5.9850000000000003,6.0179999999999998,6.0510000000000002,6.0839999999999996,6.117,6.15,6.1829999999999998,6.2160000000000002,6.2489999999999997,6.282,6.3149999999999995,{"$f":"$AH$101-(($AH$101-$AH$106)/5*A6)","v":6.3479999999999999},6.4275000000000002,6.5069999999999997,6.5865,{"$f":"$AL$101-(($AL$101-$AL$106)/5*A6)","v":6.6660000000000004},6.6443333333333339,6.6226666666666665,6.601,6.5793333333333335,6.5576666666666661,{"$f":"$AR$101-(($AR$101-$AR$106)/5*A6)","v":6.5359999999999996},6.5842499999999999,6.6324999999999994,6.6807499999999997,6.7289999999999992,6.7772499999999996,6.8254999999999999,6.8737499999999994,{"$f":"$AZ$101-(($AZ$101-$AZ$106)/5*A6)","v":6.9219999999999997},6.9589999999999996,6.9959999999999996,7.0329999999999995,7.0699999999999994,7.1069999999999993,7.1440000000000001,7.181,7.218,7.2549999999999999,{"$f":"$BJ$101-(($BJ$101-$BJ$106)/5*A6)","v":7.2919999999999998},7.2480000000000002,7.2039999999999997,7.16,7.1159999999999997,7.0720000000000001,7.0280000000000005,6.984,6.94,6.8959999999999999,{"$f":"$BT$101-(($BT$101-$BT$106)/5*A6)","v":6.8520000000000003},6.7629999999999999,6.6740000000000004,6.585,6.4959999999999996,6.407,{"$f":"$BZ$101-(($BZ$101-$BZ$106)/5*A6)","v":6.3179999999999996},6.2287999999999997,6.1395999999999997,6.0503999999999998,5.9611999999999998,5.8719999999999999,5.7827999999999999,5.6936,5.6044,5.5152000000000001,{"$f":"$CJ$101-(($CJ$101-$CJ$106)/5*A6)","v":5.4260000000000002},{"$f":"Eingabemaske!G$19","v":4},"Altherma 3 R W 6 kW","Altherma 3 R W 6 kW",9,3.7,null,6]
[null,"Altherma 3 R W",6,{"$f":"'Altherma 3 R'!$L$20","v":2.9},{"$f":"'Altherma 3 R'!$L$21","v":3.75},{"$f":"'Altherma 3 R'!$L$22","v":4.8499999999999996},49,{"$f":"$H$101-(($H$101-$H$106)/5*A7)","v":5.444},5.4745999999999997,5.5052000000000003,5.5358000000000001,5.5663999999999998,5.5969999999999995,5.6276000000000002,5.6581999999999999,5.6887999999999996,5.7194000000000003,{"$f":"$R$101-(($R$101-$R$106)/5*A7)","v":5.75},5.7802499999999997,5.8105000000000002,5.8407499999999999,5.8710000000000004,5.9012500000000001,5.9314999999999998,5.9617500000000003,5.992,6.0222499999999997,6.0525000000000002,6.0827499999999999,6.1129999999999995,6.1432500000000001,6.1734999999999998,6.2037500000000003,{"$f":"$AH$101-(($AH$101-$AH$106)/5*A7)","v":6.234},6.32,6.4060000000000006,6.492,{"$f":"$AL$101-(($AL$101-$AL$106)/5*A7)","v":6.5780000000000003},6.5546666666666669,6.5313333333333334,6.508,6.4846666666666666,6.4613333333333332,{"$f":"$AR$101-(($AR$101-$AR$106)/5*A7)","v":6.4379999999999997},6.4902499999999996,6.5424999999999995,6.5947499999999994,6.6470000000000002,6.6992500000000001,6.7515000000000001,6.80375,{"$f":"$AZ$101-(($AZ$101-$AZ$106)/5*A7)","v":6.8559999999999999},6.8959999999999999,6.9359999999999999,6.976,7.016,7.056,7.0960000000000001,7.1360000000000001,7.1760000000000002,7.2160000000000002,{"$f":"$BJ$101-(($BJ$101-$BJ$106)/5*A7)","v":7.2560000000000002},7.2110000000000003,7.1660000000000004,7.1210000000000004,7.0760000000000005,7.0310000000000006,6.9859999999999998,6.9409999999999998,6.8959999999999999,6.851,{"$f":"$BT$101-(($BT$101-$BT$106)/5*A7)","v":6.806},6.7123333333333335,6.6186666666666669,6.5250000000000004,6.4313333333333329,6.3376666666666663,{"$f":"$BZ$101-(($BZ$101-$BZ$106)/5*A7)","v":6.2439999999999998},6.1503999999999994,6.0568,5.9632000000000005,5.8696000000000002,5.7759999999999998,5.6824000000000003,5.5888000000000009,5.4952000000000005,5.4016000000000002,{"$f":"$CJ$101-(($CJ$101-$CJ$106)/5*A7)","v":5.3080000000000007},{"$f":"Eingabemaske!G$19","v":4},"Altherma 3 R W 6 kW","Altherma 3 R W 6 kW",9,3.7,null,6]
[null,"Altherma 3 R W",6,{"$f":"'Altherma 3 R'!$L$20","v":2.9},{"$f":"'Altherma 3 R'!$L$21","v":3.75},{"$f":"'Altherma 3 R'!$L$22","v":4.8499999999999996},50,{"$f":"'Altherma 3 R'!G19","v":5.4},5.4279999999999999,5.4560000000000004,5.484,5.5120000000000005,5.54,5.5679999999999996,5.5960000000000001,5.6239999999999997,5.6520000000000001,{"$f":"'Altherma 3 R'!G20","v":5.68},{"$f":"$R106-(($R106-$AH106)/$AH$3*S$3)","v":5.7074999999999996},5.7349999999999994,5.7625000000000002,5.79,5.8174999999999999,5.8449999999999998,5.8724999999999996,5.9,5.9275000000000002,5.9550000000000001,5.9824999999999999,6.01,6.0374999999999996,6.0650000000000004,6.0925000000000002,{"$f":"'Altherma 3 R'!G21","v":6.12},6.2125000000000004,6.3049999999999997,6.3975,{"$f":"'Altherma 3 R'!G23","v":6.49},{"$f":"$AL106-(($AL106-$AR106)/$AR$1*AM$1)","v":6.4649999999999999},6.44,6.415,6.39,6.3650000000000002,{"$f":"'Altherma 3 R'!G22","v":6.34},{"$f":"$AR106-(($AR106-$AZ106)/$AZ$3*AS$3)","v":6.3962500000000002},6.4524999999999997,6.50875,6.5649999999999995,6.6212499999999999,6.6775000000000002,6.7337499999999997,{"$f":"'Altherma 3 R'!G24","v":6.79},{"$f":"$AZ106-(($AZ106-$BJ106)/$BJ$3*BA$3)","v":6.8330000000000002},6.8760000000000003,6.9189999999999996,6.9619999999999997,7.0049999999999999,7.048,7.0910000000000002,7.1339999999999995,7.1769999999999996,{"$f":"'Altherma 3 R'!G25","v":7.22},{"$f":"$BJ106-(($BJ106-$BT106)/$BT$3*BK$3)","v":7.1739999999999995},7.1280000000000001,7.0819999999999999,7.0359999999999996,6.99,6.944,6.8979999999999997,6.8519999999999994,6.806,{"$f":"'Altherma 3 R'!G26","v":6.76},{"$f":"$BT106-(($BT106-$BZ106)/$BZ$3*BU$3)","v":6.6616666666666662},6.5633333333333335,6.4649999999999999,6.3666666666666663,6.2683333333333335,{"$f":"'Altherma 3 R'!G27","v":6.17},{"$f":"$BZ106-(($BZ106-$CJ106)/$CJ$3*CA$3)","v":6.0720000000000001},5.9740000000000002,5.8760000000000003,5.7780000000000005,5.68,5.5820000000000007,5.484,5.3860000000000001,5.2880000000000003,{"$f":"'Altherma 3 R'!G28","v":5.19},{"$f":"Eingabemaske!G$19","v":4},"Altherma 3 R W 6 kW","Altherma 3 R W 6 kW",9,3.7,null,6]
[null,"Altherma 3 R W",6,{"$f":"'Altherma 3 R'!$L$20","v":2.9},{"$f":"'Altherma 3 R'!$L$21","v":3.75},{"$f":"'Altherma 3 R'!$L$22","v":4.8499999999999996},51,null,null,null,null,null,null,null,null,null,null,{"$f":"$R$106-(($R$106-$R$111)/5*A4)","v":5.5259999999999998},5.556,5.5860000000000003,5.6159999999999997,5.6459999999999999,5.6760000000000002,5.7059999999999995,5.7359999999999998,5.766,5.7960000000000003,5.8260000000000005,5.8559999999999999,5.8860000000000001,5.9160000000000004,5.9459999999999997,5.976,{"$f":"$AH$106-(($AH$106-$AH$111)/5*A4)","v":6.0060000000000002},6.1055000000000001,6.2050000000000001,6.3045,{"$f":"$AL$106-(($AL$106-$AL$111)/5*A4)","v":6.4039999999999999},6.3769999999999998,6.35,6.3230000000000004,6.2960000000000003,6.2690000000000001,{"$f":"$AR$106-(($AR$106-$AR$111)/5*A4)","v":6.242},6.3022499999999999,6.3624999999999998,6.4227499999999997,6.4830000000000005,6.5432500000000005,6.6035000000000004,6.6637500000000003,{"$f":"$AZ$106-(($AZ$106-$AZ$111)/5*A4)","v":6.7240000000000002},6.7698,6.8155999999999999,6.8613999999999997,6.9071999999999996,6.9529999999999994,6.9988000000000001,7.0446,7.0903999999999998,7.1361999999999997,{"$f":"$BJ$106-(($BJ$106-$BJ$111)/5*A4)","v":7.1819999999999995},7.1353999999999997,7.0888,7.0421999999999993,6.9955999999999996,6.9489999999999998,6.9024000000000001,6.8558000000000003,6.8091999999999997,6.7625999999999999,{"$f":"$BT$106-(($BT$106-$BT$111)/5*A4)","v":6.7160000000000002},6.6130000000000004,6.51,6.407,6.3040000000000003,6.2009999999999996,{"$f":"$BZ$106-(($BZ$106-$BZ$111)/5*A4)","v":6.0979999999999999},5.9954000000000001,5.8928000000000003,5.7901999999999996,5.6875999999999998,5.585,5.4824000000000002,5.3798000000000004,5.2771999999999997,5.1745999999999999,{"$f":"$CJ$106-(($CJ$106-$CJ$111)/5*A4)","v":5.0720000000000001},{"$f":"Eingabemaske!G$19","v":4},"Altherma 3 R W 6 kW","Altherma 3 R W 6 kW",9,3.7,null,6]
[null,"Altherma 3 R W",6,{"$f":"'Altherma 3 R'!$L$20","v":2.9},{"$f":"'Altherma 3 R'!$L$21","v":3.75},{"$f":"'Altherma 3 R'!$L$22","v":4.8499999999999996},52,null,null,null,null,null,null,null,null,null,null,{"$f":"$R$106-(($R$106-$R$111)/5*A5)","v":5.3719999999999999},5.4044999999999996,5.4370000000000003,5.4695,5.5019999999999998,5.5345000000000004,5.5670000000000002,5.5994999999999999,5.6319999999999997,5.6645000000000003,5.6970000000000001,5.7294999999999998,5.7620000000000005,5.7945000000000002,5.827,5.8595000000000006,{"$f":"$AH$106-(($AH$106-$AH$111)/5*A5)","v":5.8920000000000003},5.9984999999999999,6.1050000000000004,6.2115,{"$f":"$AL$106-(($AL$106-$AL$111)/5*A5)","v":6.3179999999999996},6.2889999999999997,6.26,6.2309999999999999,6.202,6.173,{"$f":"$AR$106-(($AR$106-$AR$111)/5*A5)","v":6.1440000000000001},6.2082500000000005,6.2725,6.3367500000000003,6.4009999999999998,6.4652500000000002,6.5295000000000005,6.59375,{"$f":"$AZ$106-(($AZ$106-$AZ$111)/5*A5)","v":6.6580000000000004},6.7065999999999999,6.7552000000000003,6.8038000000000007,6.8524000000000003,6.9009999999999998,6.9496000000000002,6.9982000000000006,7.0468000000000002,7.0953999999999997,{"$f":"$BJ$106-(($BJ$106-$BJ$111)/5*A5)","v":7.1440000000000001},7.0968,7.0495999999999999,7.0023999999999997,6.9551999999999996,6.9079999999999995,6.8608000000000002,6.8136000000000001,6.7664,6.7191999999999998,{"$f":"$BT$106-(($BT$106-$BT$111)/5*A5)","v":6.6719999999999997},6.5643333333333329,6.4566666666666661,6.3490000000000002,6.2413333333333334,6.1336666666666666,{"$f":"$BZ$106-(($BZ$106-$BZ$111)/5*A5)","v":6.0259999999999998},5.9188000000000001,5.8115999999999994,5.7043999999999997,5.5972,5.49,5.3827999999999996,5.2755999999999998,5.1684000000000001,5.0611999999999995,{"$f":"$CJ$106-(($CJ$106-$CJ$111)/5*A5)","v":4.9539999999999997},{"$f":"Eingabemaske!G$19","v":4},"Altherma 3 R W 6 kW","Altherma 3 R W 6 kW",9,3.7,null,6]
[null,"Altherma 3 R W",6,{"$f":"'Altherma 3 R'!$L$20","v":2.9},{"$f":"'Altherma 3 R'!$L$21","v":3.75},{"$f":"'Altherma 3 R'!$L$22","v":4.8499999999999996},53,null,null,null,null,null,null,null,null,null,null,{"$f":"$R$106-(($R$106-$R$111)/5*A6)","v":5.218},5.2530000000000001,5.2880000000000003,5.3229999999999995,5.3579999999999997,5.3929999999999998,5.4279999999999999,5.4630000000000001,5.4979999999999993,5.5329999999999995,5.5679999999999996,5.6029999999999998,5.6379999999999999,5.673,5.7079999999999993,5.7429999999999994,{"$f":"$AH$106-(($AH$106-$AH$111)/5*A6)","v":5.7779999999999996},5.8914999999999997,6.0049999999999999,6.1185,{"$f":"$AL$106-(($AL$106-$AL$111)/5*A6)","v":6.2320000000000002},6.2010000000000005,6.17,6.1389999999999993,6.1079999999999997,6.077,{"$f":"$AR$106-(($AR$106-$AR$111)/5*A6)","v":6.0459999999999994},6.1142499999999993,6.1824999999999992,6.2507499999999991,6.3189999999999991,6.3872499999999999,6.4554999999999998,6.5237499999999997,{"$f":"$AZ$106-(($AZ$106-$AZ$111)/5*A6)","v":6.5919999999999996},6.6433999999999997,6.6947999999999999,6.7462,6.7976000000000001,6.8490000000000002,6.9003999999999994,6.9517999999999995,7.0031999999999996,7.0545999999999998,{"$f":"$BJ$106-(($BJ$106-$BJ$111)/5*A6)","v":7.1059999999999999},7.0582000000000003,7.0103999999999997,6.9626000000000001,6.9147999999999996,6.867,6.8192000000000004,6.7713999999999999,6.7236000000000002,6.6757999999999997,{"$f":"$BT$106-(($BT$106-$BT$111)/5*A6)","v":6.6280000000000001},6.5156666666666663,6.4033333333333333,6.2910000000000004,6.1786666666666665,6.0663333333333327,{"$f":"$BZ$106-(($BZ$106-$BZ$111)/5*A6)","v":5.9539999999999997},5.8422000000000001,5.7303999999999995,5.6185999999999998,5.5068000000000001,5.3949999999999996,5.2831999999999999,5.1714000000000002,5.0596000000000005,4.9478,{"$f":"$CJ$106-(($CJ$106-$CJ$111)/5*A6)","v":4.8360000000000003},{"$f":"Eingabemaske!G$19","v":4},"Altherma 3 R W 6 kW","Altherma 3 R W 6 kW",9,3.7,null,6]
[null,"Altherma 3 R W",6,{"$f":"'Altherma 3 R'!$L$20","v":2.9},{"$f":"'Altherma 3 R'!$L$21","v":3.75},{"$f":"'Altherma 3 R'!$L$22","v":4.8499999999999996},54,null,null,null,null,null,null,null,null,null,null,{"$f":"$R$106-(($R$106-$R$111)/5*A7)","v":5.0640000000000001},5.1014999999999997,5.1390000000000002,5.1764999999999999,5.2140000000000004,5.2515000000000001,5.2889999999999997,5.3265000000000002,5.3639999999999999,5.4014999999999995,5.4390000000000001,5.4764999999999997,5.5139999999999993,5.5514999999999999,5.5889999999999995,5.6265000000000001,{"$f":"$AH$106-(($AH$106-$AH$111)/5*A7)","v":5.6639999999999997},5.7844999999999995,5.9049999999999994,6.0255000000000001,{"$f":"$AL$106-(($AL$106-$AL$111)/5*A7)","v":6.1459999999999999},6.1129999999999995,6.08,6.0469999999999997,6.0139999999999993,5.9809999999999999,{"$f":"$AR$106-(($AR$106-$AR$111)/5*A7)","v":5.9479999999999995},6.0202499999999999,6.0924999999999994,6.1647499999999997,6.2370000000000001,6.3092499999999996,6.3815,6.4537499999999994,{"$f":"$AZ$106-(($AZ$106-$AZ$111)/5*A7)","v":6.5259999999999998},6.5801999999999996,6.6344000000000003,6.6886000000000001,6.7427999999999999,6.7970000000000006,6.8512000000000004,6.9054000000000002,6.9596,7.0138000000000007,{"$f":"$BJ$106-(($BJ$106-$BJ$111)/5*A7)","v":7.0680000000000005},7.0196000000000005,6.9712000000000005,6.9228000000000005,6.8744000000000005,6.8260000000000005,6.7775999999999996,6.7291999999999996,6.6807999999999996,6.6323999999999996,{"$f":"$BT$106-(($BT$106-$BT$111)/5*A7)","v":6.5839999999999996},6.4669999999999996,6.35,6.2329999999999997,6.1159999999999997,5.9989999999999997,{"$f":"$BZ$106-(($BZ$106-$BZ$111)/5*A7)","v":5.8819999999999997},5.7656000000000001,5.6491999999999996,5.5327999999999999,5.4163999999999994,5.3,5.1836000000000002,5.0671999999999997,4.9508000000000001,4.8343999999999996,{"$f":"$CJ$106-(($CJ$106-$CJ$111)/5*A7)","v":4.718},{"$f":"Eingabemaske!G$19","v":4},"Altherma 3 R W 6 kW","Altherma 3 R W 6 kW",9,3.7,null,6]
[null,"Altherma 3 R W",6,{"$f":"'Altherma 3 R'!$L$20","v":2.9},{"$f":"'Altherma 3 R'!$L$21","v":3.75},{"$f":"'Altherma 3 R'!$L$22","v":4.8499999999999996},55,null,null,null,null,null,null,null,null,null,null,4.91,4.95,4.99,5.03,5.07,5.1100000000000003,5.15,5.19,5.23,5.27,5.31,5.35,5.39,5.43,5.47,5.51,{"$f":"'Altherma 3 R'!H21","v":5.55},5.6775000000000002,5.8049999999999997,5.9324999999999992,{"$f":"'Altherma 3 R'!H23","v":6.06},6.0249999999999995,5.9899999999999993,5.9550000000000001,5.92,5.8849999999999998,{"$f":"'Altherma 3 R'!H22","v":5.85},5.9262499999999996,6.0024999999999995,6.0787499999999994,6.1549999999999994,6.2312500000000002,6.3075000000000001,6.38375,{"$f":"'Altherma 3 R'!H24","v":6.46},6.5170000000000003,6.5739999999999998,6.6310000000000002,6.6879999999999997,6.7450000000000001,6.8020000000000005,6.859,6.9160000000000004,6.9729999999999999,{"$f":"'Altherma 3 R'!H25","v":7.03},6.9809999999999999,6.9320000000000004,6.883,6.8340000000000005,6.7850000000000001,6.7359999999999998,6.6870000000000003,6.6379999999999999,6.5890000000000004,{"$f":"'Altherma 3 R'!H26","v":6.54},6.418333333333333,6.2966666666666669,6.1749999999999998,6.0533333333333328,5.9316666666666666,{"$f":"'Altherma 3 R'!H27","v":5.81},5.6890000000000001,5.5679999999999996,5.4469999999999992,5.3259999999999996,5.2050000000000001,5.0839999999999996,4.9629999999999992,4.8419999999999996,4.7210000000000001,{"$f":"'Altherma 3 R'!H28","v":4.5999999999999996},{"$f":"Eingabemaske!G$19","v":4},"Altherma 3 R W 6 kW","Altherma 3 R W 6 kW",9,3.7,null,6]
[null,"Altherma 3 R W",6,{"$f":"'Altherma 3 R'!$L$20","v":2.9},{"$f":"'Altherma 3 R'!$L$21","v":3.75},{"$f":"'Altherma 3 R'!$L$22","v":4.8499999999999996},56,null,null,null,null,null,null,null,null,null,null,null,null,null,null,null,null,null,null,null,null,null,null,null,null,null,null,null,null,null,null,{"$f":"$AL$111-(($AL$111-$AL$116)/5*A4)","v":5.9399999999999995},5.9099999999999993,5.88,5.85,5.8199999999999994,5.79,{"$f":"$AR$111-(($AR$111-$AR$116)/5*A4)","v":5.76},5.8342499999999999,5.9085000000000001,5.9827500000000002,6.0570000000000004,6.1312499999999996,6.2054999999999998,6.2797499999999999,{"$f":"$AZ$111-(($AZ$111-$AZ$116)/5*A4)","v":6.3540000000000001},6.4177999999999997,6.4816000000000003,6.5453999999999999,6.6092000000000004,6.673,6.7367999999999997,6.8006000000000002,6.8643999999999998,6.9282000000000004,{"$f":"$BJ$111-(($BJ$111-$BJ$116)/5*A4)","v":6.992},6.9454000000000002,6.8987999999999996,6.8521999999999998,6.8056000000000001,6.7590000000000003,6.7123999999999997,6.6657999999999999,6.6192000000000002,6.5725999999999996,{"$f":"$BT$111-(($BT$111-$BT$116)/5*A4)","v":6.5259999999999998},6.3966666666666665,6.2673333333333332,6.1379999999999999,6.0086666666666666,5.8793333333333333,{"$f":"$BZ$111-(($BZ$111-$BZ$116)/5*A4)","v":5.75},5.6213999999999995,5.4927999999999999,5.3642000000000003,5.2355999999999998,5.1069999999999993,4.9783999999999997,4.8498000000000001,4.7211999999999996,4.5925999999999991,{"$f":"$CJ$111-(($CJ$111-$CJ$116)/5*A4)","v":4.4639999999999995},{"$f":"Eingabemaske!G$19","v":4},"Altherma 3 R W 6 kW","Altherma 3 R W 6 kW",9,3.7,null,6]
[null,"Altherma 3 R W",6,{"$f":"'Altherma 3 R'!$L$20","v":2.9},{"$f":"'Altherma 3 R'!$L$21","v":3.75},{"$f":"'Altherma 3 R'!$L$22","v":4.8499999999999996},57,null,null,null,null,null,null,null,null,null,null,null,null,null,null,null,null,null,null,null,null,null,null,null,null,null,null,null,null,null,null,{"$f":"$AL$111-(($AL$111-$AL$116)/5*A5)","v":5.8199999999999994},5.7949999999999999,5.77,5.7449999999999992,5.72,5.6950000000000003,{"$f":"$AR$111-(($AR$111-$AR$116)/5*A5)","v":5.67},5.7422500000000003,5.8144999999999998,5.8867500000000001,5.9589999999999996,6.03125,6.1035000000000004,6.1757499999999999,{"$f":"$AZ$111-(($AZ$111-$AZ$116)/5*A5)","v":6.2480000000000002},6.3186,6.3891999999999998,6.4598000000000004,6.5304000000000002,6.601,6.6715999999999998,6.7421999999999995,6.8128000000000002,6.8834,{"$f":"$BJ$111-(($BJ$111-$BJ$116)/5*A5)","v":6.9539999999999997},6.9097999999999997,6.8655999999999997,6.8213999999999997,6.7771999999999997,6.7329999999999997,6.6887999999999996,6.6445999999999996,6.6003999999999996,6.5561999999999996,{"$f":"$BT$111-(($BT$111-$BT$116)/5*A5)","v":6.5119999999999996},6.375,6.2379999999999995,6.1009999999999991,5.9639999999999995,5.827,{"$f":"$BZ$111-(($BZ$111-$BZ$116)/5*A5)","v":5.6899999999999995},5.5537999999999998,5.4175999999999993,5.2813999999999997,5.1451999999999991,5.0089999999999995,4.8727999999999998,4.7365999999999993,4.6003999999999996,4.4641999999999991,{"$f":"$CJ$111-(($CJ$111-$CJ$116)/5*A5)","v":4.3279999999999994},{"$f":"Eingabemaske!G$19","v":4},"Altherma 3 R W 6 kW","Altherma 3 R W 6 kW",9,3.7,null,6]
[null,"Altherma 3 R W",6,{"$f":"'Altherma 3 R'!$L$20","v":2.9},{"$f":"'Altherma 3 R'!$L$21","v":3.75},{"$f":"'Altherma 3 R'!$L$22","v":4.8499999999999996},58,null,null,null,null,null,null,null,null,null,null,null,null,null,null,null,null,null,null,null,null,null,null,null,null,null,null,null,null,null,null,{"$f":"$AL$111-(($AL$111-$AL$116)/5*A6)","v":5.7},5.68,5.66,5.6400000000000006,5.62,5.6,{"$f":"$AR$111-(($AR$111-$AR$116)/5*A6)","v":5.58},5.6502499999999998,5.7204999999999995,5.7907500000000001,5.8609999999999998,5.9312499999999995,6.0015000000000001,6.0717499999999998,{"$f":"$AZ$111-(($AZ$111-$AZ$116)/5*A6)","v":6.1419999999999995},6.2193999999999994,6.2967999999999993,6.3742000000000001,6.4516,6.5289999999999999,6.6063999999999998,6.6837999999999997,6.7612000000000005,6.8386000000000005,{"$f":"$BJ$111-(($BJ$111-$BJ$116)/5*A6)","v":6.9160000000000004},6.8742000000000001,6.8324000000000007,6.7906000000000004,6.7488000000000001,6.7070000000000007,6.6652000000000005,6.6234000000000002,6.5815999999999999,6.5398000000000005,{"$f":"$BT$111-(($BT$111-$BT$116)/5*A6)","v":6.4980000000000002},6.3533333333333335,6.2086666666666668,6.0640000000000001,5.9193333333333333,5.7746666666666666,{"$f":"$BZ$111-(($BZ$111-$BZ$116)/5*A6)","v":5.63},5.4862000000000002,5.3423999999999996,5.1985999999999999,5.0548000000000002,4.9109999999999996,4.7671999999999999,4.6234000000000002,4.4795999999999996,4.3357999999999999,{"$f":"$CJ$111-(($CJ$111-$CJ$116)/5*A6)","v":4.1920000000000002},{"$f":"Eingabemaske!G$19","v":4},"Altherma 3 R W 6 kW","Altherma 3 R W 6 kW",9,3.7,null,6]
[null,"Altherma 3 R W",6,{"$f":"'Altherma 3 R'!$L$20","v":2.9},{"$f":"'Altherma 3 R'!$L$21","v":3.75},{"$f":"'Altherma 3 R'!$L$22","v":4.8499999999999996},59,null,null,null,null,null,null,null,null,null,null,null,null,null,null,null,null,null,null,null,null,null,null,null,null,null,null,null,null,null,null,{"$f":"$AL$111-(($AL$111-$AL$116)/5*A7)","v":5.58},5.5650000000000004,5.55,5.5350000000000001,5.5200000000000005,5.5049999999999999,{"$f":"$AR$111-(($AR$111-$AR$116)/5*A7)","v":5.49},5.5582500000000001,5.6265000000000001,5.69475,5.7629999999999999,5.8312499999999998,5.8994999999999997,5.9677499999999997,{"$f":"$AZ$111-(($AZ$111-$AZ$116)/5*A7)","v":6.0359999999999996},6.1201999999999996,6.2043999999999997,6.2885999999999997,6.3727999999999998,6.4569999999999999,6.5411999999999999,6.6254,6.7096,6.7938000000000001,{"$f":"$BJ$111-(($BJ$111-$BJ$116)/5*A7)","v":6.8780000000000001},6.8386000000000005,6.7991999999999999,6.7598000000000003,6.7203999999999997,6.681,6.6416000000000004,6.6021999999999998,6.5628000000000002,6.5233999999999996,{"$f":"$BT$111-(($BT$111-$BT$116)/5*A7)","v":6.484},6.331666666666667,6.1793333333333331,6.0269999999999992,5.8746666666666663,5.7223333333333333,{"$f":"$BZ$111-(($BZ$111-$BZ$116)/5*A7)","v":5.5699999999999994},5.4185999999999996,5.2671999999999999,5.1157999999999992,4.9643999999999995,4.8129999999999997,4.6616,4.5102000000000002,4.3588000000000005,4.2073999999999998,{"$f":"$CJ$111-(($CJ$111-$CJ$116)/5*A7)","v":4.056},{"$f":"Eingabemaske!G$19","v":4},"Altherma 3 R W 6 kW","Altherma 3 R W 6 kW",9,3.7,null,6]
[null,"Altherma 3 R W",6,{"$f":"'Altherma 3 R'!$L$20","v":2.9},{"$f":"'Altherma 3 R'!$L$21","v":3.75},{"$f":"'Altherma 3 R'!$L$22","v":4.8499999999999996},60,null,null,null,null,null,null,null,null,null,null,null,null,null,null,null,null,null,null,null,null,null,null,null,null,null,null,null,null,null,null,{"$f":"'Altherma 3 R'!I23","v":5.46},5.45,5.44,5.43,5.42,5.41,{"$f":"'Altherma 3 R'!I22","v":5.4},5.4662500000000005,5.5325000000000006,5.5987499999999999,5.665,5.7312500000000002,5.7974999999999994,5.8637499999999996,{"$f":"'Altherma 3 R'!I24","v":5.93},6.0209999999999999,6.1120000000000001,6.2029999999999994,6.2939999999999996,6.3849999999999998,6.476,6.5670000000000002,6.6579999999999995,6.7489999999999997,{"$f":"'Altherma 3 R'!I25","v":6.84},6.8029999999999999,6.766,6.7290000000000001,6.6920000000000002,6.6549999999999994,6.6179999999999994,6.5809999999999995,6.5439999999999996,6.5069999999999997,{"$f":"'Altherma 3 R'!I26","v":6.47},6.31,6.1499999999999995,5.99,5.83,5.67,{"$f":"'Altherma 3 R'!I27","v":5.51},5.351,5.1920000000000002,5.0329999999999995,4.8739999999999997,4.7149999999999999,4.556,4.3970000000000002,4.2379999999999995,4.0789999999999997,{"$f":"'Altherma 3 R'!I28","v":3.92},{"$f":"Eingabemaske!G$19","v":4},"Altherma 3 R W 6 kW","Altherma 3 R W 6 kW",9,3.7,null,6]
[null,"Altherma 3 R W",6,{"$f":"'Altherma 3 R'!$L$20","v":2.9},{"$f":"'Altherma 3 R'!$L$21","v":3.75},{"$f":"'Altherma 3 R'!$L$22","v":4.8499999999999996},61,null,null,null,null,null,null,null,null,null,null,null,null,null,null,null,null,null,null,null,null,null,null,null,null,null,null,null,null,null,null,null,null,null,null,null,null,null,null,null,null,null,null,null,null,null,null,null,null,null,null,null,null,null,null,null,null,null,null,null,null,null,null,null,null,null,null,null,null,null,null,null,null,null,null,null,null,null,null,null,null,null,{"$f":"Eingabemaske!G$19","v":4},"Altherma 3 R W 6 kW","Altherma 3 R W 6 kW",9,3.7,null,6]
[null,"Altherma 3 R W",6,{"$f":"'Altherma 3 R'!$L$20","v":2.9},{"$f":"'Altherma 3 R'!$L$21","v":3.75},{"$f":"'Altherma 3 R'!$L$22","v":4.8499999999999996},62,null,null,null,null,null,null,null,null,null,null,null,null,null,null,null,null,null,null,null,null,null,null,null,null,null,null,null,null,null,null,null,null,null,null,null,null,null,null,null,null,null,null,null,null,null,null,null,null,null,null,null,null,null,null,null,null,null,null,null,null,null,null,null,null,null,null,null,null,null,null,null,null,null,null,null,null,null,null,null,null,null,{"$f":"Eingabemaske!G$19","v":4},"Altherma 3 R W 6 kW","Altherma 3 R W 6 kW",9,3.7,null,6]
[null,"Altherma 3 R W",6,{"$f":"'Altherma 3 R'!$L$20","v":2.9},{"$f":"'Altherma 3 R'!$L$21","v":3.75},{"$f":"'Altherma 3 R'!$L$22","v":4.8499999999999996},63,null,null,null,null,null,null,null,null,null,null,null,null,null,null,null,null,null,null,null,null,null,null,null,null,null,null,null,null,null,null,null,null,null,null,null,null,null,null,null,null,null,null,null,null,null,null,null,null,null,null,null,null,null,null,null,null,null,null,null,null,null,null,null,null,null,null,null,null,null,null,null,null,null,null,null,null,null,null,null,null,null,{"$f":"Eingabemaske!G$19","v":4},"Altherma 3 R W 6 kW","Altherma 3 R W 6 kW",9,3.7,null,6]
[null,"Altherma 3 R W",6,{"$f":"'Altherma 3 R'!$L$20","v":2.9},{"$f":"'Altherma 3 R'!$L$21","v":3.75},{"$f":"'Altherma 3 R'!$L$22","v":4.8499999999999996},64,null,null,null,null,null,null,null,null,null,null,null,null,null,null,null,null,null,null,null,null,null,null,null,null,null,null,null,null,null,null,null,null,null,null,null,null,null,null,null,null,null,null,null,null,null,null,null,null,null,null,null,null,null,null,null,null,null,null,null,null,null,null,null,null,null,null,null,null,null,null,null,null,null,null,null,null,null,null,null,null,null,{"$f":"Eingabemaske!G$19","v":4},"Altherma 3 R W 6 kW","Altherma 3 R W 6 kW",9,3.7,null,6]
[null,"Altherma 3 R W",6,{"$f":"'Altherma 3 R'!$L$20","v":2.9},{"$f":"'Altherma 3 R'!$L$21","v":3.75},{"$f":"'Altherma 3 R'!$L$22","v":4.8499999999999996},65,null,null,null,null,null,null,null,null,null,null,null,null,null,null,null,null,null,null,null,null,null,null,null,null,null,null,null,null,null,null,null,null,null,null,null,null,null,null,null,null,null,null,null,null,null,null,null,null,null,null,null,null,null,null,null,null,null,null,null,null,null,null,null,null,null,null,null,null,null,null,null,null,null,null,null,null,null,null,null,null,null,{"$f":"Eingabemaske!G$19","v":4},"Altherma 3 R W 6 kW","Altherma 3 R W 6 kW",9,3.7,null,6]
[null,"Altherma 3 R W",6,{"$f":"'Altherma 3 R'!$L$20","v":2.9},{"$f":"'Altherma 3 R'!$L$21","v":3.75},{"$f":"'Altherma 3 R'!$L$22","v":4.8499999999999996},66,null,null,null,null,null,null,null,null,null,null,null,null,null,null,null,null,null,null,null,null,null,null,null,null,null,null,null,null,null,null,null,null,null,null,null,null,null,null,null,null,null,null,null,null,null,null,null,null,null,null,null,null,null,null,null,null,null,null,null,null,null,null,null,null,null,null,null,null,null,null,null,null,null,null,null,null,null,null,null,null,null,{"$f":"Eingabemaske!G$19","v":4},"Altherma 3 R W 6 kW","Altherma 3 R W 6 kW",9,3.7,null,6]
[null,"Altherma 3 R W",6,{"$f":"'Altherma 3 R'!$L$20","v":2.9},{"$f":"'Altherma 3 R'!$L$21","v":3.75},{"$f":"'Altherma 3 R'!$L$22","v":4.8499999999999996},67,null,null,null,null,null,null,null,null,null,null,null,null,null,null,null,null,null,null,null,null,null,null,null,null,null,null,null,null,null,null,null,null,null,null,null,null,null,null,null,null,null,null,null,null,null,null,null,null,null,null,null,null,null,null,null,null,null,null,null,null,null,null,null,null,null,null,null,null,null,null,null,null,null,null,null,null,null,null,null,null,null,{"$f":"Eingabemaske!G$19","v":4},"Altherma 3 R W 6 kW","Altherma 3 R W 6 kW",9,3.7,null,6]
[null,"Altherma 3 R W",6,{"$f":"'Altherma 3 R'!$L$20","v":2.9},{"$f":"'Altherma 3 R'!$L$21","v":3.75},{"$f":"'Altherma 3 R'!$L$22","v":4.8499999999999996},68,null,null,null,null,null,null,null,null,null,null,null,null,null,null,null,null,null,null,null,null,null,null,null,null,null,null,null,null,null,null,null,null,null,null,null,null,null,null,null,null,null,null,null,null,null,null,null,null,null,null,null,null,null,null,null,null,null,null,null,null,null,null,null,null,null,null,null,null,null,null,null,null,null,null,null,null,null,null,null,null,null,{"$f":"Eingabemaske!G$19","v":4},"Altherma 3 R W 6 kW","Altherma 3 R W 6 kW",9,3.7,null,6]
[null,"Altherma 3 R W",6,{"$f":"'Altherma 3 R'!$L$20","v":2.9},{"$f":"'Altherma 3 R'!$L$21","v":3.75},{"$f":"'Altherma 3 R'!$L$22","v":4.8499999999999996},69,null,null,null,null,null,null,null,null,null,null,null,null,null,null,null,null,null,null,null,null,null,null,null,null,null,null,null,null,null,null,null,null,null,null,null,null,null,null,null,null,null,null,null,null,null,null,null,null,null,null,null,null,null,null,null,null,null,null,null,null,null,null,null,null,null,null,null,null,null,null,null,null,null,null,null,null,null,null,null,null,null,{"$f":"Eingabemaske!G$19","v":4},"Altherma 3 R W 6 kW","Altherma 3 R W 6 kW",9,3.7,null,6]
[null,"Altherma 3 R W",6,{"$f":"'Altherma 3 R'!$L$20","v":2.9},{"$f":"'Altherma 3 R'!$L$21","v":3.75},{"$f":"'Altherma 3 R'!$L$22","v":4.8499999999999996},70,null,null,null,null,null,null,null,null,null,null,null,null,null,null,null,null,null,null,null,null,null,null,null,null,null,null,null,null,null,null,null,null,null,null,null,null,null,null,null,null,null,null,null,null,null,null,null,null,null,null,null,null,null,null,null,null,null,null,null,null,null,null,null,null,null,null,null,null,null,null,null,null,null,null,null,null,null,null,null,null,null,{"$f":"Eingabemaske!G$19","v":4},"Altherma 3 R W 6 kW","Altherma 3 R W 6 kW",9,3.7,null,6]
[null,"Altherma 3 R W",8,{"$f":"'Altherma 3 R'!$L$32","v":2.7},{"$f":"'Altherma 3 R'!$L$33","v":3.64},{"$f":"'Altherma 3 R'!$L$34","v":4.5999999999999996},30,{"$f":"'Altherma 3 R'!C31","v":6.87},{"$f":"$H127-(($H127-$R127)/$R$3*I$3)","v":6.9350000000000005},7,7.0649999999999995,7.13,7.1950000000000003,7.26,7.3249999999999993,7.39,7.4550000000000001,{"$f":"'Altherma 3 R'!C32","v":7.52},{"$f":"$R127-(($R127-$AH127)/$AH$3*S$3)","v":7.5843749999999996},7.6487499999999997,7.7131249999999998,7.7774999999999999,7.8418749999999999,7.90625,7.9706250000000001,8.0350000000000001,8.0993750000000002,8.1637500000000003,8.2281250000000004,8.2925000000000004,8.3568750000000005,8.4212500000000006,8.4856250000000006,{"$f":"'Altherma 3 R'!C33","v":8.5500000000000007},{"$f":"$AH127-(($AH127-$AL127)/$AL$3*AI$3)","v":8.6775000000000002},8.8049999999999997,8.932500000000001,{"$f":"'Altherma 3 R'!C35","v":9.06},{"$f":"$AL127-(($AL127-$AR127)/$AR$1*AM$1)","v":9.0250000000000004},8.99,8.9550000000000001,8.92,8.8849999999999998,{"$f":"'Altherma 3 R'!C34","v":8.85},{"$f":"$AR127-(($AR127-$AZ127)/$AZ$3*AS$3)","v":8.9262499999999996},9.0024999999999995,9.0787499999999994,9.1550000000000011,9.2312500000000011,9.307500000000001,9.3837500000000009,{"$f":"'Altherma 3 R'!C36","v":9.4600000000000009},{"$f":"$AZ127-(($AZ127-$BJ127)/$BJ$3*BA$3)","v":9.4770000000000003},9.4940000000000015,9.511000000000001,9.5280000000000005,9.5450000000000017,9.5620000000000012,9.5790000000000006,9.5960000000000001,9.6130000000000013,{"$f":"'Altherma 3 R'!C37","v":9.6300000000000008},{"$f":"$BJ127-(($BJ127-$BT127)/$BT$3*BK$3)","v":9.6189999999999998},9.6080000000000005,9.5970000000000013,9.5860000000000003,9.5749999999999993,9.5640000000000001,9.5530000000000008,9.5419999999999998,9.5309999999999988,{"$f":"'Altherma 3 R'!C38","v":9.52},{"$f":"$BT127-(($BT127-$BZ127)/$BZ$3*BU$3)","v":9.4699999999999989},9.42,9.370000000000001,9.32,9.27,{"$f":"'Altherma 3 R'!C39","v":9.2200000000000006},{"$f":"$BZ127-(($BZ127-$CJ127)/$CJ$3*CA$3)","v":9.1690000000000005},9.1180000000000003,9.0670000000000002,9.016,8.9649999999999999,8.9140000000000015,8.8630000000000013,8.8120000000000012,8.761000000000001,{"$f":"'Altherma 3 R'!C40","v":8.7100000000000009},{"$f":"Eingabemaske!G$19","v":4},"Altherma 3 R W 8 kW","Altherma 3 R W 8 kW",9,3.6,null,7.5]
[null,"Altherma 3 R W",8,{"$f":"'Altherma 3 R'!$L$32","v":2.7},{"$f":"'Altherma 3 R'!$L$33","v":3.64},{"$f":"'Altherma 3 R'!$L$34","v":4.5999999999999996},31,{"$f":"$H$127-(($H$127-$H$132)/5*A4)","v":6.8460000000000001},6.9101999999999997,6.9744000000000002,7.0385999999999997,7.1028000000000002,7.1669999999999998,7.2311999999999994,7.2953999999999999,7.3595999999999995,7.4238,{"$f":"$R$127-(($R$127-$R$132)/5*A4)","v":7.4879999999999995},7.5516249999999996,7.6152499999999996,7.6788749999999997,7.7424999999999997,7.8061249999999998,7.8697499999999998,7.9333749999999998,7.9969999999999999,8.0606249999999999,8.12425,8.187875,8.2515000000000001,8.3151250000000001,8.3787500000000001,8.4423750000000002,{"$f":"$AH$127-(($AH$127-$AH$132)/5*A4)","v":8.5060000000000002},8.6325000000000003,8.7590000000000003,8.8855000000000004,{"$f":"$AL$127-(($AL$127-$AL$132)/5*A4)","v":9.0120000000000005},8.9773333333333341,8.9426666666666677,8.9080000000000013,8.8733333333333331,8.8386666666666667,{"$f":"$AR$127-(($AR$127-$AR$132)/5*A4)","v":8.8040000000000003},8.8795000000000002,8.9550000000000001,9.0305,9.1060000000000016,9.1815000000000015,9.2570000000000014,9.3325000000000014,{"$f":"$AZ$127-(($AZ$127-$AZ$132)/5*A4)","v":9.4080000000000013},9.4250000000000007,9.4420000000000019,9.4590000000000014,9.4760000000000009,9.4930000000000021,9.5100000000000016,9.527000000000001,9.5440000000000005,9.5610000000000017,{"$f":"$BJ$127-(($BJ$127-$BJ$132)/5*A4)","v":9.5780000000000012},9.5660000000000007,9.5540000000000003,9.5420000000000016,9.5300000000000011,9.5180000000000007,9.5060000000000002,9.4939999999999998,9.4820000000000011,9.4700000000000006,{"$f":"$BT$127-(($BT$127-$BT$132)/5*A4)","v":9.4580000000000002},9.4050000000000011,9.3520000000000003,9.2989999999999995,9.2460000000000004,9.1930000000000014,{"$f":"$BZ$127-(($BZ$127-$BZ$132)/5*A4)","v":9.14},9.0860000000000003,9.032,8.9780000000000015,8.9240000000000013,8.870000000000001,8.8160000000000007,8.7620000000000005,8.708000000000002,8.6540000000000017,{"$f":"$CJ$127-(($CJ$127-$CJ$132)/5*A4)","v":8.6000000000000014},{"$f":"Eingabemaske!G$19","v":4},"Altherma 3 R W 8 kW","Altherma 3 R W 8 kW",9,3.6,null,7.5]
[null,"Altherma 3 R W",8,{"$f":"'Altherma 3 R'!$L$32","v":2.7},{"$f":"'Altherma 3 R'!$L$33","v":3.64},{"$f":"'Altherma 3 R'!$L$34","v":4.5999999999999996},32,{"$f":"$H$127-(($H$127-$H$132)/5*A5)","v":6.8220000000000001},6.8853999999999997,6.9488000000000003,7.0122,7.0755999999999997,7.1389999999999993,7.2023999999999999,7.2657999999999996,7.3291999999999993,7.3925999999999998,{"$f":"$R$127-(($R$127-$R$132)/5*A5)","v":7.4559999999999995},7.5188749999999995,7.5817499999999995,7.6446249999999996,7.7074999999999996,7.7703749999999996,7.8332499999999996,7.8961249999999996,7.9589999999999996,8.0218749999999996,8.0847499999999997,8.1476249999999997,8.2104999999999997,8.2733749999999997,8.3362499999999997,8.3991249999999997,{"$f":"$AH$127-(($AH$127-$AH$132)/5*A5)","v":8.4619999999999997},8.5875000000000004,8.713000000000001,8.8384999999999998,{"$f":"$AL$127-(($AL$127-$AL$132)/5*A5)","v":8.9640000000000004},8.929666666666666,8.8953333333333333,8.8610000000000007,8.8266666666666662,8.7923333333333318,{"$f":"$AR$127-(($AR$127-$AR$132)/5*A5)","v":8.7579999999999991},8.832749999999999,8.9074999999999989,8.9822499999999987,9.0569999999999986,9.1317500000000003,9.2065000000000001,9.28125,{"$f":"$AZ$127-(($AZ$127-$AZ$132)/5*A5)","v":9.3559999999999999},9.3729999999999993,9.39,9.407,9.4239999999999995,9.4409999999999989,9.4580000000000002,9.4749999999999996,9.4919999999999991,9.5090000000000003,{"$f":"$BJ$127-(($BJ$127-$BJ$132)/5*A5)","v":9.5259999999999998},9.5129999999999999,9.5,9.4870000000000001,9.4740000000000002,9.4610000000000003,9.4480000000000004,9.4350000000000005,9.4220000000000006,9.4090000000000007,{"$f":"$BT$127-(($BT$127-$BT$132)/5*A5)","v":9.3960000000000008},9.34,9.2840000000000007,9.2280000000000015,9.1720000000000006,9.1159999999999997,{"$f":"$BZ$127-(($BZ$127-$BZ$132)/5*A5)","v":9.06},9.0030000000000001,8.9459999999999997,8.8890000000000011,8.8320000000000007,8.7750000000000004,8.718,8.6609999999999996,8.604000000000001,8.5470000000000006,{"$f":"$CJ$127-(($CJ$127-$CJ$132)/5*A5)","v":8.49},{"$f":"Eingabemaske!G$19","v":4},"Altherma 3 R W 8 kW","Altherma 3 R W 8 kW",9,3.6,null,7.5]
[null,"Altherma 3 R W",8,{"$f":"'Altherma 3 R'!$L$32","v":2.7},{"$f":"'Altherma 3 R'!$L$33","v":3.64},{"$f":"'Altherma 3 R'!$L$34","v":4.5999999999999996},33,{"$f":"$H$127-(($H$127-$H$132)/5*A6)","v":6.798},6.8605999999999998,6.9232000000000005,6.9858000000000002,7.0484,7.1110000000000007,7.1736000000000004,7.2362000000000002,7.2988,7.3614000000000006,{"$f":"$R$127-(($R$127-$R$132)/5*A6)","v":7.4240000000000004},7.4861250000000004,7.5482500000000003,7.6103750000000003,7.6725000000000003,7.7346250000000003,7.7967500000000003,7.8588750000000003,7.9210000000000012,7.9831250000000011,8.0452500000000011,8.1073750000000011,8.1695000000000011,8.2316250000000011,8.2937500000000011,8.3558750000000011,{"$f":"$AH$127-(($AH$127-$AH$132)/5*A6)","v":8.418000000000001},8.5425000000000004,8.6670000000000016,8.791500000000001,{"$f":"$AL$127-(($AL$127-$AL$132)/5*A6)","v":8.9160000000000004},8.8819999999999997,8.8480000000000008,8.8140000000000001,8.7799999999999994,8.7460000000000004,{"$f":"$AR$127-(($AR$127-$AR$132)/5*A6)","v":8.7119999999999997},8.7859999999999996,8.86,8.9339999999999993,9.0079999999999991,9.0820000000000007,9.1560000000000006,9.23,{"$f":"$AZ$127-(($AZ$127-$AZ$132)/5*A6)","v":9.3040000000000003},9.3209999999999997,9.338000000000001,9.3550000000000004,9.3719999999999999,9.3889999999999993,9.4060000000000006,9.423,9.44,9.4570000000000007,{"$f":"$BJ$127-(($BJ$127-$BJ$132)/5*A6)","v":9.4740000000000002},9.4600000000000009,9.4459999999999997,9.4320000000000004,9.4179999999999993,9.4039999999999999,9.39,9.3759999999999994,9.3620000000000001,9.347999999999999,{"$f":"$BT$127-(($BT$127-$BT$132)/5*A6)","v":9.3339999999999996},9.2750000000000004,9.2159999999999993,9.157,9.0980000000000008,9.0389999999999997,{"$f":"$BZ$127-(($BZ$127-$BZ$132)/5*A6)","v":8.98},8.92,8.8600000000000012,8.8000000000000007,8.74,8.68,8.620000000000001,8.56,8.5,8.4400000000000013,{"$f":"$CJ$127-(($CJ$127-$CJ$132)/5*A6)","v":8.3800000000000008},{"$f":"Eingabemaske!G$19","v":4},"Altherma 3 R W 8 kW","Altherma 3 R W 8 kW",9,3.6,null,7.5]
[null,"Altherma 3 R W",8,{"$f":"'Altherma 3 R'!$L$32","v":2.7},{"$f":"'Altherma 3 R'!$L$33","v":3.64},{"$f":"'Altherma 3 R'!$L$34","v":4.5999999999999996},34,{"$f":"$H$127-(($H$127-$H$132)/5*A7)","v":6.774},6.8357999999999999,6.8975999999999997,6.9594000000000005,7.0212000000000003,7.0830000000000002,7.1448,7.2065999999999999,7.2684000000000006,7.3302000000000005,{"$f":"$R$127-(($R$127-$R$132)/5*A7)","v":7.3920000000000003},7.4533750000000003,7.5147500000000003,7.5761250000000002,7.6375000000000002,7.6988750000000001,7.7602500000000001,7.821625,7.8830000000000009,7.9443750000000009,8.0057500000000008,8.0671250000000008,8.1285000000000007,8.1898750000000007,8.2512500000000006,8.3126250000000006,{"$f":"$AH$127-(($AH$127-$AH$132)/5*A7)","v":8.3740000000000006},8.4975000000000005,8.6210000000000004,8.7445000000000004,{"$f":"$AL$127-(($AL$127-$AL$132)/5*A7)","v":8.8680000000000003},8.8343333333333334,8.8006666666666664,8.7669999999999995,8.7333333333333325,8.6996666666666655,{"$f":"$AR$127-(($AR$127-$AR$132)/5*A7)","v":8.6659999999999986},8.7392499999999984,8.8124999999999982,8.885749999999998,8.9589999999999996,9.0322499999999994,9.1054999999999993,9.1787499999999991,{"$f":"$AZ$127-(($AZ$127-$AZ$132)/5*A7)","v":9.2519999999999989},9.2689999999999984,9.2859999999999996,9.302999999999999,9.3199999999999985,9.3369999999999997,9.3539999999999992,9.3709999999999987,9.3879999999999981,9.4049999999999994,{"$f":"$BJ$127-(($BJ$127-$BJ$132)/5*A7)","v":9.4219999999999988},9.4069999999999983,9.3919999999999995,9.3769999999999989,9.3620000000000001,9.3469999999999995,9.331999999999999,9.3170000000000002,9.3019999999999996,9.2870000000000008,{"$f":"$BT$127-(($BT$127-$BT$132)/5*A7)","v":9.2720000000000002},9.2100000000000009,9.1479999999999997,9.0860000000000003,9.0240000000000009,8.9619999999999997,{"$f":"$BZ$127-(($BZ$127-$BZ$132)/5*A7)","v":8.9},8.8369999999999997,8.7740000000000009,8.7110000000000003,8.6479999999999997,8.5850000000000009,8.5220000000000002,8.4589999999999996,8.395999999999999,8.3330000000000002,{"$f":"$CJ$127-(($CJ$127-$CJ$132)/5*A7)","v":8.27},{"$f":"Eingabemaske!G$19","v":4},"Altherma 3 R W 8 kW","Altherma 3 R W 8 kW",9,3.6,null,7.5]
[null,"Altherma 3 R W",8,{"$f":"'Altherma 3 R'!$L$32","v":2.7},{"$f":"'Altherma 3 R'!$L$33","v":3.64},{"$f":"'Altherma 3 R'!$L$34","v":4.5999999999999996},35,{"$f":"'Altherma 3 R'!D31","v":6.75},6.8109999999999999,6.8719999999999999,6.9329999999999998,6.9939999999999998,7.0549999999999997,7.1160000000000005,7.1770000000000005,7.2380000000000004,7.2990000000000004,{"$f":"'Altherma 3 R'!D32","v":7.36},7.4206250000000002,7.4812500000000002,7.5418750000000001,7.6025,7.663125,7.7237499999999999,7.7843749999999998,7.8450000000000006,7.9056250000000006,7.9662500000000005,8.0268750000000004,8.0875000000000004,8.1481250000000003,8.2087500000000002,8.2693750000000001,{"$f":"'Altherma 3 R'!D33","v":8.33},8.4525000000000006,8.5749999999999993,8.6974999999999998,{"$f":"'Altherma 3 R'!D35","v":8.82},8.7866666666666671,8.7533333333333339,8.7199999999999989,8.6866666666666656,8.6533333333333324,{"$f":"'Altherma 3 R'!D34","v":8.6199999999999992},8.692499999999999,8.7649999999999988,8.8374999999999986,8.91,8.9824999999999999,9.0549999999999997,9.1274999999999995,{"$f":"'Altherma 3 R'!D36","v":9.1999999999999993},9.2169999999999987,9.234,9.2509999999999994,9.2679999999999989,9.2850000000000001,9.3019999999999996,9.3189999999999991,9.3359999999999985,9.3529999999999998,{"$f":"'Altherma 3 R'!D37","v":9.3699999999999992},9.3539999999999992,9.3379999999999992,9.3219999999999992,9.3059999999999992,9.2899999999999991,9.2740000000000009,9.2580000000000009,9.2420000000000009,9.2260000000000009,{"$f":"'Altherma 3 R'!D38","v":9.2100000000000009},9.1450000000000014,9.08,9.0150000000000006,8.9500000000000011,8.8849999999999998,{"$f":"'Altherma 3 R'!D39","v":8.82},8.7539999999999996,8.6880000000000006,8.6219999999999999,8.5560000000000009,8.49,8.4239999999999995,8.3580000000000005,8.2919999999999998,8.2260000000000009,{"$f":"'Altherma 3 R'!D40","v":8.16},{"$f":"Eingabemaske!G$19","v":4},"Altherma 3 R W 8 kW","Altherma 3 R W 8 kW",9,3.6,null,7.5]
[null,"Altherma 3 R W",8,{"$f":"'Altherma 3 R'!$L$32","v":2.7},{"$f":"'Altherma 3 R'!$L$33","v":3.64},{"$f":"'Altherma 3 R'!$L$34","v":4.5999999999999996},36,{"$f":"$H$132-(($H$132-$H$137)/5*A4)","v":6.7240000000000002},6.7843999999999998,6.8448000000000002,6.9052000000000007,6.9656000000000002,7.0259999999999998,7.0864000000000003,7.1468000000000007,7.2072000000000003,7.2675999999999998,{"$f":"$R$132-(($R$132-$R$137)/5*A4)","v":7.3280000000000003},7.3879999999999999,7.4480000000000004,7.508,7.5680000000000005,7.6280000000000001,7.6880000000000006,7.7480000000000002,7.8079999999999998,7.8680000000000003,7.9279999999999999,7.9880000000000004,8.048,8.1080000000000005,8.168000000000001,8.2279999999999998,{"$f":"$AH$132-(($AH$132-$AH$137)/5*A4)","v":8.2880000000000003},8.4090000000000007,8.5300000000000011,8.6509999999999998,{"$f":"$AL$132-(($AL$132-$AL$137)/5*A4)","v":8.7720000000000002},8.7390000000000008,8.7059999999999995,8.673,8.64,8.6069999999999993,{"$f":"$AR$132-(($AR$132-$AR$137)/5*A4)","v":8.5739999999999998},8.6457499999999996,8.7174999999999994,8.7892499999999991,8.8610000000000007,8.9327500000000004,9.0045000000000002,9.0762499999999999,{"$f":"$AZ$132-(($AZ$132-$AZ$137)/5*A4)","v":9.1479999999999997},9.1651999999999987,9.1823999999999995,9.1996000000000002,9.2167999999999992,9.2339999999999982,9.251199999999999,9.2683999999999997,9.2855999999999987,9.3027999999999977,{"$f":"$BJ$132-(($BJ$132-$BJ$137)/5*A4)","v":9.3199999999999985},9.302999999999999,9.2859999999999996,9.2689999999999984,9.2519999999999989,9.2349999999999994,9.218,9.2010000000000005,9.1839999999999993,9.1669999999999998,{"$f":"$BT$132-(($BT$132-$BT$137)/5*A4)","v":9.15},9.081666666666667,9.0133333333333336,8.9450000000000003,8.8766666666666669,8.8083333333333336,{"$f":"$BZ$132-(($BZ$132-$BZ$137)/5*A4)","v":8.74},8.6707999999999998,8.6015999999999995,8.5324000000000009,8.4632000000000005,8.3940000000000001,8.3247999999999998,8.2555999999999994,8.1864000000000008,8.1172000000000004,{"$f":"$CJ$132-(($CJ$132-$CJ$137)/5*A4)","v":8.048},{"$f":"Eingabemaske!G$19","v":4},"Altherma 3 R W 8 kW","Altherma 3 R W 8 kW",9,3.6,null,7.5]
[null,"Altherma 3 R W",8,{"$f":"'Altherma 3 R'!$L$32","v":2.7},{"$f":"'Altherma 3 R'!$L$33","v":3.64},{"$f":"'Altherma 3 R'!$L$34","v":4.5999999999999996},37,{"$f":"$H$132-(($H$132-$H$137)/5*A5)","v":6.6980000000000004},6.7578000000000005,6.8176000000000005,6.8774000000000006,6.9372000000000007,6.9969999999999999,7.0568,7.1166,7.1764000000000001,7.2362000000000002,{"$f":"$R$132-(($R$132-$R$137)/5*A5)","v":7.2960000000000003},7.3553750000000004,7.4147500000000006,7.4741249999999999,7.5335000000000001,7.5928750000000003,7.6522500000000004,7.7116250000000006,7.7710000000000008,7.8303750000000001,7.8897500000000003,7.9491250000000004,8.0084999999999997,8.0678750000000008,8.1272500000000001,8.1866250000000012,{"$f":"$AH$132-(($AH$132-$AH$137)/5*A5)","v":8.2460000000000004},8.3655000000000008,8.4849999999999994,8.6044999999999998,{"$f":"$AL$132-(($AL$132-$AL$137)/5*A5)","v":8.7240000000000002},8.6913333333333327,8.658666666666667,8.6260000000000012,8.5933333333333337,8.5606666666666662,{"$f":"$AR$132-(($AR$132-$AR$137)/5*A5)","v":8.5280000000000005},8.5990000000000002,8.67,8.7409999999999997,8.8120000000000012,8.8830000000000009,8.9540000000000006,9.0250000000000004,{"$f":"$AZ$132-(($AZ$132-$AZ$137)/5*A5)","v":9.0960000000000001},9.1134000000000004,9.1308000000000007,9.1481999999999992,9.1655999999999995,9.1829999999999998,9.2004000000000001,9.2178000000000004,9.235199999999999,9.2525999999999993,{"$f":"$BJ$132-(($BJ$132-$BJ$137)/5*A5)","v":9.27},9.2519999999999989,9.234,9.2159999999999993,9.1980000000000004,9.18,9.161999999999999,9.1440000000000001,9.1259999999999994,9.1080000000000005,{"$f":"$BT$132-(($BT$132-$BT$137)/5*A5)","v":9.09},9.0183333333333326,8.9466666666666672,8.875,8.8033333333333328,8.7316666666666674,{"$f":"$BZ$132-(($BZ$132-$BZ$137)/5*A5)","v":8.66},8.5876000000000001,8.5152000000000001,8.4428000000000001,8.3704000000000001,8.298,8.2256,8.1532,8.0808,8.0084,{"$f":"$CJ$132-(($CJ$132-$CJ$137)/5*A5)","v":7.9359999999999999},{"$f":"Eingabemaske!G$19","v":4},"Altherma 3 R W 8 kW","Altherma 3 R W 8 kW",9,3.6,null,7.5]
[null,"Altherma 3 R W",8,{"$f":"'Altherma 3 R'!$L$32","v":2.7},{"$f":"'Altherma 3 R'!$L$33","v":3.64},{"$f":"'Altherma 3 R'!$L$34","v":4.5999999999999996},38,{"$f":"$H$132-(($H$132-$H$137)/5*A6)","v":6.6719999999999997},6.7311999999999994,6.7904,6.8495999999999997,6.9088000000000003,6.968,7.0271999999999997,7.0864000000000003,7.1456,7.2048000000000005,{"$f":"$R$132-(($R$132-$R$137)/5*A6)","v":7.2640000000000002},7.3227500000000001,7.3815,7.4402499999999998,7.4989999999999997,7.5577499999999995,7.6164999999999994,7.6752499999999992,7.734,7.7927499999999998,7.8514999999999997,7.9102499999999996,7.9689999999999994,8.0277499999999993,8.0864999999999991,8.145249999999999,{"$f":"$AH$132-(($AH$132-$AH$137)/5*A6)","v":8.2039999999999988},8.3219999999999992,8.44,8.5579999999999998,{"$f":"$AL$132-(($AL$132-$AL$137)/5*A6)","v":8.6760000000000002},8.6436666666666664,8.6113333333333326,8.5790000000000006,8.5466666666666669,8.5143333333333331,{"$f":"$AR$132-(($AR$132-$AR$137)/5*A6)","v":8.4819999999999993},8.552249999999999,8.6224999999999987,8.6927499999999984,8.7629999999999981,8.8332499999999996,8.9034999999999993,8.973749999999999,{"$f":"$AZ$132-(($AZ$132-$AZ$137)/5*A6)","v":9.0439999999999987},9.0615999999999985,9.0791999999999984,9.0967999999999982,9.1143999999999981,9.1319999999999979,9.1495999999999995,9.1671999999999993,9.1847999999999992,9.202399999999999,{"$f":"$BJ$132-(($BJ$132-$BJ$137)/5*A6)","v":9.2199999999999989},9.2009999999999987,9.1819999999999986,9.1630000000000003,9.1440000000000001,9.125,9.1059999999999999,9.0869999999999997,9.0680000000000014,9.0490000000000013,{"$f":"$BT$132-(($BT$132-$BT$137)/5*A6)","v":9.0300000000000011},8.9550000000000018,8.8800000000000008,8.8049999999999997,8.73,8.6550000000000011,{"$f":"$BZ$132-(($BZ$132-$BZ$137)/5*A6)","v":8.58},8.5044000000000004,8.4288000000000007,8.3531999999999993,8.2775999999999996,8.202,8.1264000000000003,8.0508000000000006,7.9752000000000001,7.8995999999999995,{"$f":"$CJ$132-(($CJ$132-$CJ$137)/5*A6)","v":7.8239999999999998},{"$f":"Eingabemaske!G$19","v":4},"Altherma 3 R W 8 kW","Altherma 3 R W 8 kW",9,3.6,null,7.5]
[null,"Altherma 3 R W",8,{"$f":"'Altherma 3 R'!$L$32","v":2.7},{"$f":"'Altherma 3 R'!$L$33","v":3.64},{"$f":"'Altherma 3 R'!$L$34","v":4.5999999999999996},39,{"$f":"$H$132-(($H$132-$H$137)/5*A7)","v":6.6459999999999999},6.7046000000000001,6.7632000000000003,6.8217999999999996,6.8803999999999998,6.9390000000000001,6.9976000000000003,7.0562000000000005,7.1147999999999998,7.1734,{"$f":"$R$132-(($R$132-$R$137)/5*A7)","v":7.2320000000000002},7.2901249999999997,7.3482500000000002,7.4063749999999997,7.4645000000000001,7.5226249999999997,7.5807500000000001,7.6388749999999996,7.6969999999999992,7.7551249999999996,7.8132499999999991,7.8713749999999996,7.9294999999999991,7.9876249999999995,8.04575,8.1038749999999986,{"$f":"$AH$132-(($AH$132-$AH$137)/5*A7)","v":8.161999999999999},8.2784999999999993,8.3949999999999996,8.5114999999999998,{"$f":"$AL$132-(($AL$132-$AL$137)/5*A7)","v":8.6280000000000001},8.5960000000000001,8.5640000000000001,8.532,8.5,8.468,{"$f":"$AR$132-(($AR$132-$AR$137)/5*A7)","v":8.4359999999999999},8.5054999999999996,8.5749999999999993,8.644499999999999,8.7139999999999986,8.7835000000000001,8.8529999999999998,8.9224999999999994,{"$f":"$AZ$132-(($AZ$132-$AZ$137)/5*A7)","v":8.9919999999999991},9.0097999999999985,9.0275999999999996,9.045399999999999,9.0632000000000001,9.0809999999999995,9.0987999999999989,9.1166,9.1343999999999994,9.1522000000000006,{"$f":"$BJ$132-(($BJ$132-$BJ$137)/5*A7)","v":9.17},9.15,9.1300000000000008,9.11,9.09,9.07,9.0500000000000007,9.0300000000000011,9.01,8.99,{"$f":"$BT$132-(($BT$132-$BT$137)/5*A7)","v":8.9700000000000006},8.8916666666666675,8.8133333333333344,8.7349999999999994,8.6566666666666663,8.5783333333333331,{"$f":"$BZ$132-(($BZ$132-$BZ$137)/5*A7)","v":8.5},8.4212000000000007,8.3423999999999996,8.2636000000000003,8.1847999999999992,8.1059999999999999,8.0272000000000006,7.9483999999999995,7.8696000000000002,7.7907999999999999,{"$f":"$CJ$132-(($CJ$132-$CJ$137)/5*A7)","v":7.7119999999999997},{"$f":"Eingabemaske!G$19","v":4},"Altherma 3 R W 8 kW","Altherma 3 R W 8 kW",9,3.6,null,7.5]
[null,"Altherma 3 R W",8,{"$f":"'Altherma 3 R'!$L$32","v":2.7},{"$f":"'Altherma 3 R'!$L$33","v":3.64},{"$f":"'Altherma 3 R'!$L$34","v":4.5999999999999996},40,{"$f":"'Altherma 3 R'!E31","v":6.62},{"$f":"$H137-(($H137-$R137)/$R$3*I$3)","v":6.6779999999999999},6.7359999999999998,6.7940000000000005,6.8520000000000003,6.91,6.968,7.0259999999999998,7.0840000000000005,7.1420000000000003,{"$f":"'Altherma 3 R'!E32","v":7.2},{"$f":"$R137-(($R137-$AH137)/$AH$3*S$3)","v":7.2575000000000003},7.3150000000000004,7.3724999999999996,7.43,7.4874999999999998,7.5449999999999999,7.6025,7.66,7.7174999999999994,7.7749999999999995,7.8324999999999996,7.89,7.9474999999999998,8.004999999999999,8.0625,{"$f":"'Altherma 3 R'!E33","v":8.1199999999999992},8.2349999999999994,8.35,8.4649999999999999,{"$f":"'Altherma 3 R'!E35","v":8.58},{"$f":"$AL137-(($AL137-$AR137)/$AR$1*AM$1)","v":8.5483333333333338},8.5166666666666675,8.4849999999999994,8.4533333333333331,8.4216666666666669,{"$f":"'Altherma 3 R'!E34","v":8.39},{"$f":"$AR137-(($AR137-$AZ137)/$AZ$3*AS$3)","v":8.4587500000000002},8.5274999999999999,8.5962499999999995,8.6649999999999991,8.7337500000000006,8.8025000000000002,8.8712499999999999,{"$f":"'Altherma 3 R'!E36","v":8.94},{"$f":"$AZ137-(($AZ137-$BJ137)/$BJ$3*BA$3)","v":8.9580000000000002},8.9759999999999991,8.9939999999999998,9.0119999999999987,9.0299999999999994,9.048,9.0659999999999989,9.0839999999999996,9.1019999999999985,{"$f":"'Altherma 3 R'!E37","v":9.1199999999999992},{"$f":"$BJ137-(($BJ137-$BT137)/$BT$3*BK$3)","v":9.0990000000000002},9.0779999999999994,9.0569999999999986,9.0359999999999996,9.0150000000000006,8.9939999999999998,8.972999999999999,8.952,8.9310000000000009,{"$f":"'Altherma 3 R'!E38","v":8.91},{"$f":"$BT137-(($BT137-$BZ137)/$BZ$3*BU$3)","v":8.8283333333333331},8.7466666666666661,8.6649999999999991,8.5833333333333339,8.5016666666666669,{"$f":"'Altherma 3 R'!E39","v":8.42},{"$f":"$BZ137-(($BZ137-$CJ137)/$CJ$3*CA$3)","v":8.3379999999999992},8.2560000000000002,8.1739999999999995,8.0920000000000005,8.01,7.9279999999999999,7.8460000000000001,7.7639999999999993,7.6819999999999995,{"$f":"'Altherma 3 R'!E40","v":7.6},{"$f":"Eingabemaske!G$19","v":4},"Altherma 3 R W 8 kW","Altherma 3 R W 8 kW",9,3.6,null,7.5]
[null,"Altherma 3 R W",8,{"$f":"'Altherma 3 R'!$L$32","v":2.7},{"$f":"'Altherma 3 R'!$L$33","v":3.64},{"$f":"'Altherma 3 R'!$L$34","v":4.5999999999999996},41,{"$f":"$H$137-(($H$137-$H$142)/5*A4)","v":6.5960000000000001},6.6532,6.7103999999999999,6.7675999999999998,6.8247999999999998,6.8819999999999997,6.9392000000000005,6.9964000000000004,7.0536000000000003,7.1108000000000002,{"$f":"$R$137-(($R$137-$R$142)/5*A4)","v":7.1680000000000001},7.2247500000000002,7.2815000000000003,7.3382499999999995,7.3949999999999996,7.4517499999999997,7.5084999999999997,7.5652499999999998,7.6219999999999999,7.6787499999999991,7.7354999999999992,7.7922499999999992,7.8489999999999993,7.9057499999999994,7.9624999999999986,8.0192499999999995,{"$f":"$AH$137-(($AH$137-$AH$142)/5*A4)","v":8.0759999999999987},8.19,8.3039999999999985,8.4179999999999993,{"$f":"$AL$137-(($AL$137-$AL$142)/5*A4)","v":8.532},8.5006666666666675,8.4693333333333332,8.4380000000000006,8.4066666666666681,8.3753333333333337,{"$f":"$AR$137-(($AR$137-$AR$142)/5*A4)","v":8.3440000000000012},8.4122500000000002,8.480500000000001,8.5487500000000001,8.6170000000000009,8.6852499999999999,8.7534999999999989,8.8217499999999998,{"$f":"$AZ$137-(($AZ$137-$AZ$142)/5*A4)","v":8.8899999999999988},8.9077999999999982,8.9255999999999993,8.9433999999999987,8.9611999999999998,8.9789999999999992,8.9967999999999986,9.0145999999999997,9.0323999999999991,9.0502000000000002,{"$f":"$BJ$137-(($BJ$137-$BJ$142)/5*A4)","v":9.0679999999999996},9.0459999999999994,9.0239999999999991,9.0020000000000007,8.98,8.9580000000000002,8.9359999999999999,8.9139999999999997,8.8920000000000012,8.870000000000001,{"$f":"$BT$137-(($BT$137-$BT$142)/5*A4)","v":8.8480000000000008},8.7633333333333336,8.6786666666666665,8.5940000000000012,8.5093333333333341,8.424666666666667,{"$f":"$BZ$137-(($BZ$137-$BZ$142)/5*A4)","v":8.34},8.2547999999999995,8.1695999999999991,8.0844000000000005,7.9992000000000001,7.9139999999999997,7.8287999999999993,7.7435999999999998,7.6583999999999994,7.5731999999999999,{"$f":"$CJ$137-(($CJ$137-$CJ$142)/5*A4)","v":7.4879999999999995},{"$f":"Eingabemaske!G$19","v":4},"Altherma 3 R W 8 kW","Altherma 3 R W 8 kW",9,3.6,null,7.5]
[null,"Altherma 3 R W",8,{"$f":"'Altherma 3 R'!$L$32","v":2.7},{"$f":"'Altherma 3 R'!$L$33","v":3.64},{"$f":"'Altherma 3 R'!$L$34","v":4.5999999999999996},42,{"$f":"$H$137-(($H$137-$H$142)/5*A5)","v":6.5720000000000001},6.6284000000000001,6.6848000000000001,6.7412000000000001,6.7976000000000001,6.8540000000000001,6.9104000000000001,6.9668000000000001,7.0232000000000001,7.0796000000000001,{"$f":"$R$137-(($R$137-$R$142)/5*A5)","v":7.1360000000000001},7.1920000000000002,7.2480000000000002,7.3040000000000003,7.36,7.4160000000000004,7.4720000000000004,7.5280000000000005,7.5839999999999996,7.6400000000000006,7.6959999999999997,7.7519999999999998,7.8079999999999998,7.8639999999999999,7.92,7.976,{"$f":"$AH$137-(($AH$137-$AH$142)/5*A5)","v":8.032},8.1449999999999996,8.2579999999999991,8.3710000000000004,{"$f":"$AL$137-(($AL$137-$AL$142)/5*A5)","v":8.484},8.4529999999999994,8.4220000000000006,8.391,8.36,8.3290000000000006,{"$f":"$AR$137-(($AR$137-$AR$142)/5*A5)","v":8.298},8.3657500000000002,8.4335000000000004,8.5012500000000006,8.5689999999999991,8.6367499999999993,8.7044999999999995,8.7722499999999997,{"$f":"$AZ$137-(($AZ$137-$AZ$142)/5*A5)","v":8.84},8.8575999999999997,8.8751999999999995,8.8927999999999994,8.9103999999999992,8.9280000000000008,8.9456000000000007,8.9632000000000005,8.9808000000000003,8.9984000000000002,{"$f":"$BJ$137-(($BJ$137-$BJ$142)/5*A5)","v":9.016},8.9930000000000003,8.9700000000000006,8.9469999999999992,8.9239999999999995,8.9009999999999998,8.8780000000000001,8.8550000000000004,8.831999999999999,8.8089999999999993,{"$f":"$BT$137-(($BT$137-$BT$142)/5*A5)","v":8.7859999999999996},8.6983333333333324,8.6106666666666669,8.5229999999999997,8.4353333333333325,8.347666666666667,{"$f":"$BZ$137-(($BZ$137-$BZ$142)/5*A5)","v":8.26},8.1715999999999998,8.0831999999999997,7.9947999999999997,7.9063999999999997,7.8179999999999996,7.7295999999999996,7.6411999999999995,7.5527999999999995,7.4643999999999995,{"$f":"$CJ$137-(($CJ$137-$CJ$142)/5*A5)","v":7.3759999999999994},{"$f":"Eingabemaske!G$19","v":4},"Altherma 3 R W 8 kW","Altherma 3 R W 8 kW",9,3.6,null,7.5]
[null,"Altherma 3 R W",8,{"$f":"'Altherma 3 R'!$L$32","v":2.7},{"$f":"'Altherma 3 R'!$L$33","v":3.64},{"$f":"'Altherma 3 R'!$L$34","v":4.5999999999999996},43,{"$f":"$H$137-(($H$137-$H$142)/5*A6)","v":6.548},6.6036000000000001,6.6592000000000002,6.7148000000000003,6.7704000000000004,6.8260000000000005,6.8815999999999997,6.9371999999999998,6.9927999999999999,7.0484,{"$f":"$R$137-(($R$137-$R$142)/5*A6)","v":7.1040000000000001},7.1592500000000001,7.2145000000000001,7.2697500000000002,7.3250000000000002,7.3802500000000002,7.4355000000000002,7.4907500000000002,7.5459999999999994,7.6012499999999994,7.6564999999999994,7.7117499999999994,7.7669999999999995,7.8222499999999995,7.8774999999999995,7.9327499999999995,{"$f":"$AH$137-(($AH$137-$AH$142)/5*A6)","v":7.9879999999999995},8.1,8.2119999999999997,8.3239999999999998,{"$f":"$AL$137-(($AL$137-$AL$142)/5*A6)","v":8.4359999999999999},8.4053333333333331,8.3746666666666663,8.3440000000000012,8.3133333333333344,8.2826666666666675,{"$f":"$AR$137-(($AR$137-$AR$142)/5*A6)","v":8.2520000000000007},8.3192500000000003,8.3864999999999998,8.4537499999999994,8.5210000000000008,8.5882500000000004,8.6555,8.7227499999999996,{"$f":"$AZ$137-(($AZ$137-$AZ$142)/5*A6)","v":8.7899999999999991},8.8073999999999995,8.8247999999999998,8.8421999999999983,8.8595999999999986,8.8769999999999989,8.8943999999999992,8.9117999999999995,8.929199999999998,8.9465999999999983,{"$f":"$BJ$137-(($BJ$137-$BJ$142)/5*A6)","v":8.9639999999999986},8.94,8.9159999999999986,8.8919999999999995,8.8679999999999986,8.8439999999999994,8.82,8.7959999999999994,8.7720000000000002,8.7479999999999993,{"$f":"$BT$137-(($BT$137-$BT$142)/5*A6)","v":8.7240000000000002},8.6333333333333329,8.5426666666666673,8.452,8.3613333333333326,8.2706666666666671,{"$f":"$BZ$137-(($BZ$137-$BZ$142)/5*A6)","v":8.18},8.0884,7.9967999999999995,7.9051999999999998,7.8136000000000001,7.7219999999999995,7.6303999999999998,7.5388000000000002,7.4472000000000005,7.3555999999999999,{"$f":"$CJ$137-(($CJ$137-$CJ$142)/5*A6)","v":7.2640000000000002},{"$f":"Eingabemaske!G$19","v":4},"Altherma 3 R W 8 kW","Altherma 3 R W 8 kW",9,3.6,null,7.5]
[null,"Altherma 3 R W",8,{"$f":"'Altherma 3 R'!$L$32","v":2.7},{"$f":"'Altherma 3 R'!$L$33","v":3.64},{"$f":"'Altherma 3 R'!$L$34","v":4.5999999999999996},44,{"$f":"$H$137-(($H$137-$H$142)/5*A7)","v":6.524},6.5788000000000002,6.6336000000000004,6.6883999999999997,6.7431999999999999,6.798,6.8528000000000002,6.9076000000000004,6.9623999999999997,7.0171999999999999,{"$f":"$R$137-(($R$137-$R$142)/5*A7)","v":7.0720000000000001},7.1265000000000001,7.181,7.2355,7.29,7.3445,7.399,7.4535,7.508,7.5625,7.617,7.6715,7.726,7.7805,7.835,7.8895,{"$f":"$AH$137-(($AH$137-$AH$142)/5*A7)","v":7.944},8.0549999999999997,8.1660000000000004,8.2769999999999992,{"$f":"$AL$137-(($AL$137-$AL$142)/5*A7)","v":8.3879999999999999},8.3576666666666668,8.3273333333333337,8.2970000000000006,8.2666666666666657,8.2363333333333326,{"$f":"$AR$137-(($AR$137-$AR$142)/5*A7)","v":8.2059999999999995},8.2727500000000003,8.3394999999999992,8.40625,8.472999999999999,8.5397499999999997,8.6065000000000005,8.6732499999999995,{"$f":"$AZ$137-(($AZ$137-$AZ$142)/5*A7)","v":8.74},8.757200000000001,8.7744,8.791599999999999,8.8087999999999997,8.8260000000000005,8.8431999999999995,8.8603999999999985,8.8775999999999993,8.8948,{"$f":"$BJ$137-(($BJ$137-$BJ$142)/5*A7)","v":8.911999999999999},8.8869999999999987,8.8619999999999983,8.8369999999999997,8.8119999999999994,8.786999999999999,8.7619999999999987,8.7369999999999983,8.7119999999999997,8.6869999999999994,{"$f":"$BT$137-(($BT$137-$BT$142)/5*A7)","v":8.661999999999999},8.5683333333333316,8.4746666666666659,8.3810000000000002,8.2873333333333328,8.1936666666666653,{"$f":"$BZ$137-(($BZ$137-$BZ$142)/5*A7)","v":8.1},8.0052000000000003,7.9104000000000001,7.8155999999999999,7.7207999999999997,7.6259999999999994,7.5312000000000001,7.4363999999999999,7.3415999999999997,7.2468000000000004,{"$f":"$CJ$137-(($CJ$137-$CJ$142)/5*A7)","v":7.1520000000000001},{"$f":"Eingabemaske!G$19","v":4},"Altherma 3 R W 8 kW","Altherma 3 R W 8 kW",9,3.6,null,7.5]
[null,"Altherma 3 R W",8,{"$f":"'Altherma 3 R'!$L$32","v":2.7},{"$f":"'Altherma 3 R'!$L$33","v":3.64},{"$f":"'Altherma 3 R'!$L$34","v":4.5999999999999996},45,{"$f":"'Altherma 3 R'!F31","v":6.5},6.5540000000000003,6.6079999999999997,6.6619999999999999,6.7160000000000002,6.77,6.8239999999999998,6.8780000000000001,6.9320000000000004,6.9859999999999998,{"$f":"'Altherma 3 R'!F32","v":7.04},7.09375,7.1475,7.2012499999999999,7.2549999999999999,7.3087499999999999,7.3624999999999998,7.4162499999999998,7.4700000000000006,7.5237500000000006,7.5775000000000006,7.6312500000000005,7.6850000000000005,7.7387500000000005,7.7925000000000004,7.8462500000000004,{"$f":"'Altherma 3 R'!F33","v":7.9},8.01,8.120000000000001,8.23,{"$f":"'Altherma 3 R'!F35","v":8.34},8.31,8.2799999999999994,8.25,8.2200000000000006,8.19,{"$f":"'Altherma 3 R'!F34","v":8.16},8.2262500000000003,8.2925000000000004,8.3587500000000006,8.4250000000000007,8.4912499999999991,8.5574999999999992,8.6237499999999994,{"$f":"'Altherma 3 R'!F36","v":8.69},8.706999999999999,8.7240000000000002,8.7409999999999997,8.7579999999999991,8.7749999999999986,8.7919999999999998,8.8089999999999993,8.8259999999999987,8.843,{"$f":"'Altherma 3 R'!F37","v":8.86},8.8339999999999996,8.8079999999999998,8.782,8.7560000000000002,8.73,8.7039999999999988,8.677999999999999,8.6519999999999992,8.6259999999999994,{"$f":"'Altherma 3 R'!F38","v":8.6},8.5033333333333339,8.4066666666666663,8.3099999999999987,8.2133333333333329,8.1166666666666671,{"$f":"'Altherma 3 R'!F39","v":8.02},7.9219999999999997,7.8239999999999998,7.726,7.6280000000000001,7.5299999999999994,7.4320000000000004,7.3339999999999996,7.2359999999999998,7.1379999999999999,{"$f":"'Altherma 3 R'!F40","v":7.04},{"$f":"Eingabemaske!G$19","v":4},"Altherma 3 R W 8 kW","Altherma 3 R W 8 kW",9,3.6,null,7.5]
[null,"Altherma 3 R W",8,{"$f":"'Altherma 3 R'!$L$32","v":2.7},{"$f":"'Altherma 3 R'!$L$33","v":3.64},{"$f":"'Altherma 3 R'!$L$34","v":4.5999999999999996},46,{"$f":"$H$142-(($H$142-$H$147)/5*A4)","v":6.4740000000000002},6.5254000000000003,6.5768000000000004,6.6282000000000005,6.6796000000000006,6.7309999999999999,6.7824,6.8338000000000001,6.8852000000000002,6.9366000000000003,{"$f":"$R$142-(($R$142-$R$147)/5*A4)","v":6.9880000000000004},7.0392500000000009,7.0905000000000005,7.14175,7.1930000000000005,7.244250000000001,7.2955000000000005,7.3467500000000001,7.3980000000000006,7.449250000000001,7.5005000000000006,7.5517500000000002,7.6030000000000006,7.6542500000000011,7.7055000000000007,7.7567500000000003,{"$f":"$AH$142-(($AH$142-$AH$147)/5*A4)","v":7.8080000000000007},7.9235000000000007,8.0389999999999997,8.1545000000000005,{"$f":"$AL$142-(($AL$142-$AL$147)/5*A4)","v":8.27},8.238666666666667,8.2073333333333327,8.1760000000000002,8.1446666666666676,8.1133333333333333,{"$f":"$AR$142-(($AR$142-$AR$147)/5*A4)","v":8.0820000000000007},8.1515000000000004,8.2210000000000001,8.2904999999999998,8.36,8.4295000000000009,8.4990000000000006,8.5685000000000002,{"$f":"$AZ$142-(($AZ$142-$AZ$147)/5*A4)","v":8.6379999999999999},8.6577999999999999,8.6776,8.6974,8.7172000000000001,8.7370000000000001,8.7568000000000001,8.7766000000000002,8.7964000000000002,8.8162000000000003,{"$f":"$BJ$142-(($BJ$142-$BJ$147)/5*A4)","v":8.8360000000000003},8.8087999999999997,8.781600000000001,8.7544000000000004,8.7271999999999998,8.6999999999999993,8.6728000000000005,8.6456,8.6183999999999994,8.5912000000000006,{"$f":"$BT$142-(($BT$142-$BT$147)/5*A4)","v":8.5640000000000001},8.4656666666666673,8.3673333333333328,8.2690000000000001,8.1706666666666656,8.0723333333333329,{"$f":"$BZ$142-(($BZ$142-$BZ$147)/5*A4)","v":7.9739999999999993},7.8741999999999992,7.7743999999999991,7.6745999999999999,7.5747999999999998,7.4749999999999996,7.3751999999999995,7.2753999999999994,7.1756000000000002,7.0758000000000001,{"$f":"$CJ$142-(($CJ$142-$CJ$147)/5*A4)","v":6.976},{"$f":"Eingabemaske!G$19","v":4},"Altherma 3 R W 8 kW","Altherma 3 R W 8 kW",9,3.6,null,7.5]
[null,"Altherma 3 R W",8,{"$f":"'Altherma 3 R'!$L$32","v":2.7},{"$f":"'Altherma 3 R'!$L$33","v":3.64},{"$f":"'Altherma 3 R'!$L$34","v":4.5999999999999996},47,{"$f":"$H$142-(($H$142-$H$147)/5*A5)","v":6.4480000000000004},6.4968000000000004,6.5456000000000003,6.5944000000000003,6.6432000000000002,6.6920000000000002,6.7408000000000001,6.7896000000000001,6.8384,6.8872,{"$f":"$R$142-(($R$142-$R$147)/5*A5)","v":6.9359999999999999},6.98475,7.0335000000000001,7.0822500000000002,7.1310000000000002,7.1797500000000003,7.2285000000000004,7.2772500000000004,7.3260000000000005,7.3747499999999997,7.4234999999999998,7.4722499999999998,7.5209999999999999,7.56975,7.6185,7.6672500000000001,{"$f":"$AH$142-(($AH$142-$AH$147)/5*A5)","v":7.7160000000000002},7.8369999999999997,7.9580000000000002,8.0789999999999988,{"$f":"$AL$142-(($AL$142-$AL$147)/5*A5)","v":8.1999999999999993},8.1673333333333318,8.134666666666666,8.1020000000000003,8.0693333333333328,8.0366666666666653,{"$f":"$AR$142-(($AR$142-$AR$147)/5*A5)","v":8.0039999999999996},8.0767500000000005,8.1494999999999997,8.2222499999999989,8.2949999999999999,8.3677500000000009,8.4405000000000001,8.5132499999999993,{"$f":"$AZ$142-(($AZ$142-$AZ$147)/5*A5)","v":8.5860000000000003},8.6086000000000009,8.6311999999999998,8.6538000000000004,8.6763999999999992,8.6989999999999998,8.7216000000000005,8.7441999999999993,8.7667999999999999,8.7893999999999988,{"$f":"$BJ$142-(($BJ$142-$BJ$147)/5*A5)","v":8.8119999999999994},8.7835999999999999,8.7552000000000003,8.726799999999999,8.6983999999999995,8.67,8.6416000000000004,8.6132000000000009,8.5847999999999995,8.5564,{"$f":"$BT$142-(($BT$142-$BT$147)/5*A5)","v":8.5280000000000005},8.4280000000000008,8.3279999999999994,8.2279999999999998,8.1280000000000001,8.0280000000000005,{"$f":"$BZ$142-(($BZ$142-$BZ$147)/5*A5)","v":7.9279999999999999},7.8263999999999996,7.7248000000000001,7.6231999999999998,7.5216000000000003,7.42,7.3184000000000005,7.2168000000000001,7.1151999999999997,7.0136000000000003,{"$f":"$CJ$142-(($CJ$142-$CJ$147)/5*A5)","v":6.9119999999999999},{"$f":"Eingabemaske!G$19","v":4},"Altherma 3 R W 8 kW","Altherma 3 R W 8 kW",9,3.6,null,7.5]
[null,"Altherma 3 R W",8,{"$f":"'Altherma 3 R'!$L$32","v":2.7},{"$f":"'Altherma 3 R'!$L$33","v":3.64},{"$f":"'Altherma 3 R'!$L$34","v":4.5999999999999996},48,{"$f":"$H$142-(($H$142-$H$147)/5*A6)","v":6.4219999999999997},6.4681999999999995,6.5144000000000002,6.5606,6.6067999999999998,6.6530000000000005,6.6992000000000003,6.7454000000000001,6.7915999999999999,6.8378000000000005,{"$f":"$R$142-(($R$142-$R$147)/5*A6)","v":6.8840000000000003},6.93025,6.9765000000000006,7.0227500000000003,7.0690000000000008,7.1152500000000005,7.1615000000000002,7.2077500000000008,7.2540000000000004,7.3002500000000001,7.3465000000000007,7.3927500000000004,7.4390000000000001,7.4852500000000006,7.5315000000000003,7.5777500000000009,{"$f":"$AH$142-(($AH$142-$AH$147)/5*A6)","v":7.6240000000000006},7.7505000000000006,7.8770000000000007,8.0035000000000007,{"$f":"$AL$142-(($AL$142-$AL$147)/5*A6)","v":8.1300000000000008},8.0960000000000001,8.0620000000000012,8.0280000000000005,7.9940000000000007,7.96,{"$f":"$AR$142-(($AR$142-$AR$147)/5*A6)","v":7.9260000000000002},8.0020000000000007,8.0779999999999994,8.1539999999999999,8.23,8.3059999999999992,8.3819999999999997,8.4579999999999984,{"$f":"$AZ$142-(($AZ$142-$AZ$147)/5*A6)","v":8.5339999999999989},8.5593999999999983,8.5847999999999995,8.610199999999999,8.6356000000000002,8.6609999999999996,8.686399999999999,8.7118000000000002,8.7371999999999996,8.7626000000000008,{"$f":"$BJ$142-(($BJ$142-$BJ$147)/5*A6)","v":8.7880000000000003},8.7584,8.7287999999999997,8.6991999999999994,8.6695999999999991,8.64,8.6104000000000003,8.5808,8.5511999999999997,8.5215999999999994,{"$f":"$BT$142-(($BT$142-$BT$147)/5*A6)","v":8.4919999999999991},8.3903333333333325,8.288666666666666,8.1869999999999994,8.0853333333333328,7.9836666666666662,{"$f":"$BZ$142-(($BZ$142-$BZ$147)/5*A6)","v":7.8819999999999997},7.7786,7.6751999999999994,7.5717999999999996,7.4683999999999999,7.3650000000000002,7.2615999999999996,7.1581999999999999,7.0548000000000002,6.9513999999999996,{"$f":"$CJ$142-(($CJ$142-$CJ$147)/5*A6)","v":6.8479999999999999},{"$f":"Eingabemaske!G$19","v":4},"Altherma 3 R W 8 kW","Altherma 3 R W 8 kW",9,3.6,null,7.5]
[null,"Altherma 3 R W",8,{"$f":"'Altherma 3 R'!$L$32","v":2.7},{"$f":"'Altherma 3 R'!$L$33","v":3.64},{"$f":"'Altherma 3 R'!$L$34","v":4.5999999999999996},49,{"$f":"$H$142-(($H$142-$H$147)/5*A7)","v":6.3959999999999999},6.4395999999999995,6.4832000000000001,6.5267999999999997,6.5704000000000002,6.6139999999999999,6.6575999999999995,6.7012,6.7447999999999997,6.7884000000000002,{"$f":"$R$142-(($R$142-$R$147)/5*A7)","v":6.8319999999999999},6.87575,6.9195000000000002,6.9632499999999995,7.0069999999999997,7.0507499999999999,7.0945,7.1382500000000002,7.1820000000000004,7.2257499999999997,7.2694999999999999,7.31325,7.3570000000000002,7.4007500000000004,7.4444999999999997,7.4882499999999999,{"$f":"$AH$142-(($AH$142-$AH$147)/5*A7)","v":7.532},7.6639999999999997,7.7960000000000003,7.9280000000000008,{"$f":"$AL$142-(($AL$142-$AL$147)/5*A7)","v":8.06},8.0246666666666666,7.9893333333333336,7.9540000000000006,7.9186666666666667,7.8833333333333329,{"$f":"$AR$142-(($AR$142-$AR$147)/5*A7)","v":7.8479999999999999},7.9272499999999999,8.0064999999999991,8.0857499999999991,8.1649999999999991,8.2442499999999992,8.3234999999999992,8.4027499999999993,{"$f":"$AZ$142-(($AZ$142-$AZ$147)/5*A7)","v":8.4819999999999993},8.5101999999999993,8.5383999999999993,8.5665999999999993,8.5947999999999993,8.6229999999999993,8.6511999999999993,8.6793999999999993,8.7075999999999993,8.7357999999999993,{"$f":"$BJ$142-(($BJ$142-$BJ$147)/5*A7)","v":8.7639999999999993},8.7332000000000001,8.702399999999999,8.6715999999999998,8.6407999999999987,8.61,8.5792000000000002,8.5483999999999991,8.5175999999999998,8.4867999999999988,{"$f":"$BT$142-(($BT$142-$BT$147)/5*A7)","v":8.4559999999999995},8.352666666666666,8.2493333333333325,8.1460000000000008,8.0426666666666673,7.9393333333333338,{"$f":"$BZ$142-(($BZ$142-$BZ$147)/5*A7)","v":7.8360000000000003},7.7308000000000003,7.6256000000000004,7.5204000000000004,7.4152000000000005,7.3100000000000005,7.2048000000000005,7.0995999999999997,6.9943999999999997,6.8891999999999998,{"$f":"$CJ$142-(($CJ$142-$CJ$147)/5*A7)","v":6.7839999999999998},{"$f":"Eingabemaske!G$19","v":4},"Altherma 3 R W 8 kW","Altherma 3 R W 8 kW",9,3.6,null,7.5]
[null,"Altherma 3 R W",8,{"$f":"'Altherma 3 R'!$L$32","v":2.7},{"$f":"'Altherma 3 R'!$L$33","v":3.64},{"$f":"'Altherma 3 R'!$L$34","v":4.5999999999999996},50,{"$f":"'Altherma 3 R'!G31","v":6.37},6.4110000000000005,6.452,6.4930000000000003,6.5339999999999998,6.5750000000000002,6.6160000000000005,6.657,6.6980000000000004,6.7389999999999999,{"$f":"'Altherma 3 R'!G32","v":6.78},{"$f":"$R147-(($R147-$AH147)/$AH$3*S$3)","v":6.82125},6.8625000000000007,6.9037500000000005,6.9450000000000003,6.9862500000000001,7.0274999999999999,7.0687500000000005,7.11,7.1512500000000001,7.1925000000000008,7.2337500000000006,7.2750000000000004,7.3162500000000001,7.3574999999999999,7.3987500000000006,{"$f":"'Altherma 3 R'!G33","v":7.44},7.5775000000000006,7.7149999999999999,7.8525,{"$f":"'Altherma 3 R'!G35","v":7.99},{"$f":"$AL147-(($AL147-$AR147)/$AR$1*AM$1)","v":7.9533333333333331},7.916666666666667,7.88,7.8433333333333328,7.8066666666666666,{"$f":"'Altherma 3 R'!G34","v":7.77},{"$f":"$AR147-(($AR147-$AZ147)/$AZ$3*AS$3)","v":7.8524999999999991},7.9349999999999996,8.0175000000000001,8.1,8.1824999999999992,8.2650000000000006,8.3475000000000001,{"$f":"'Altherma 3 R'!G36","v":8.43},{"$f":"$AZ147-(($AZ147-$BJ147)/$BJ$3*BA$3)","v":8.4610000000000003},8.4919999999999991,8.5229999999999997,8.5540000000000003,8.5850000000000009,8.6159999999999997,8.6470000000000002,8.6780000000000008,8.7089999999999996,{"$f":"'Altherma 3 R'!G37","v":8.74},{"$f":"$BJ147-(($BJ147-$BT147)/$BT$3*BK$3)","v":8.7080000000000002},8.6760000000000002,8.6440000000000001,8.6120000000000001,8.58,8.548,8.516,8.484,8.452,{"$f":"'Altherma 3 R'!G38","v":8.42},{"$f":"$BT147-(($BT147-$BZ147)/$BZ$3*BU$3)","v":8.3149999999999995},8.2100000000000009,8.1050000000000004,8,7.8949999999999996,{"$f":"'Altherma 3 R'!G39","v":7.79},{"$f":"$BZ147-(($BZ147-$CJ147)/$CJ$3*CA$3)","v":7.6829999999999998},7.5759999999999996,7.4690000000000003,7.3620000000000001,7.2549999999999999,7.1479999999999997,7.0409999999999995,6.9340000000000002,6.827,{"$f":"'Altherma 3 R'!G40","v":6.72},{"$f":"Eingabemaske!G$19","v":4},"Altherma 3 R W 8 kW","Altherma 3 R W 8 kW",9,3.6,null,7.5]
[null,"Altherma 3 R W",8,{"$f":"'Altherma 3 R'!$L$32","v":2.7},{"$f":"'Altherma 3 R'!$L$33","v":3.64},{"$f":"'Altherma 3 R'!$L$34","v":4.5999999999999996},51,null,null,null,null,null,null,null,null,null,null,{"$f":"$R$147-(($R$147-$R$152)/5*A4)","v":6.69},6.7311250000000005,6.7722500000000005,6.8133750000000006,6.8545000000000007,6.8956250000000008,6.9367500000000009,6.9778750000000009,7.0190000000000001,7.0601250000000002,7.1012500000000003,7.1423750000000004,7.1835000000000004,7.2246250000000005,7.2657500000000006,7.3068750000000007,{"$f":"$AH$147-(($AH$147-$AH$152)/5*A4)","v":7.3480000000000008},7.4910000000000005,7.6340000000000003,7.7770000000000001,{"$f":"$AL$147-(($AL$147-$AL$152)/5*A4)","v":7.92},7.8816666666666668,7.8433333333333328,7.8049999999999997,7.7666666666666666,7.7283333333333326,{"$f":"$AR$147-(($AR$147-$AR$152)/5*A4)","v":7.6899999999999995},7.7759999999999998,7.8620000000000001,7.9479999999999995,8.0339999999999989,8.1199999999999992,8.2059999999999995,8.2919999999999998,{"$f":"$AZ$147-(($AZ$147-$AZ$152)/5*A4)","v":8.3780000000000001},8.4116,8.4451999999999998,8.4787999999999997,8.5123999999999995,8.5459999999999994,8.579600000000001,8.6132000000000009,8.6468000000000007,8.6804000000000006,{"$f":"$BJ$147-(($BJ$147-$BJ$152)/5*A4)","v":8.7140000000000004},8.6812000000000005,8.6484000000000005,8.6156000000000006,8.5828000000000007,8.5500000000000007,8.517199999999999,8.4843999999999991,8.4515999999999991,8.4187999999999992,{"$f":"$BT$147-(($BT$147-$BT$152)/5*A4)","v":8.3859999999999992},8.2786666666666662,8.1713333333333331,8.0640000000000001,7.9566666666666661,7.8493333333333331,{"$f":"$BZ$147-(($BZ$147-$BZ$152)/5*A4)","v":7.742},7.6334,7.5247999999999999,7.4161999999999999,7.3075999999999999,7.1989999999999998,7.0903999999999998,6.9817999999999998,6.8731999999999998,6.7645999999999997,{"$f":"$CJ$147-(($CJ$147-$CJ$152)/5*A4)","v":6.6559999999999997},{"$f":"Eingabemaske!G$19","v":4},"Altherma 3 R W 8 kW","Altherma 3 R W 8 kW",9,3.6,null,7.5]
[null,"Altherma 3 R W",8,{"$f":"'Altherma 3 R'!$L$32","v":2.7},{"$f":"'Altherma 3 R'!$L$33","v":3.64},{"$f":"'Altherma 3 R'!$L$34","v":4.5999999999999996},52,null,null,null,null,null,null,null,null,null,null,{"$f":"$R$147-(($R$147-$R$152)/5*A5)","v":6.6000000000000005},6.6410000000000009,6.6820000000000004,6.7230000000000008,6.7640000000000002,6.8050000000000006,6.8460000000000001,6.8870000000000005,6.9280000000000008,6.9690000000000003,7.0100000000000007,7.0510000000000002,7.0920000000000005,7.133,7.1740000000000004,7.2149999999999999,{"$f":"$AH$147-(($AH$147-$AH$152)/5*A5)","v":7.2560000000000002},7.4045000000000005,7.5529999999999999,7.7014999999999993,{"$f":"$AL$147-(($AL$147-$AL$152)/5*A5)","v":7.85},7.81,7.77,7.7299999999999995,7.6899999999999995,7.6499999999999995,{"$f":"$AR$147-(($AR$147-$AR$152)/5*A5)","v":7.6099999999999994},7.6994999999999996,7.7889999999999997,7.8784999999999998,7.968,8.057500000000001,8.1470000000000002,8.2364999999999995,{"$f":"$AZ$147-(($AZ$147-$AZ$152)/5*A5)","v":8.3260000000000005},8.3622000000000014,8.3984000000000005,8.4345999999999997,8.4708000000000006,8.5070000000000014,8.5432000000000006,8.5793999999999997,8.6156000000000006,8.6518000000000015,{"$f":"$BJ$147-(($BJ$147-$BJ$152)/5*A5)","v":8.6880000000000006},8.6544000000000008,8.6208000000000009,8.5872000000000011,8.5536000000000012,8.52,8.4863999999999997,8.4527999999999999,8.4192,8.3856000000000002,{"$f":"$BT$147-(($BT$147-$BT$152)/5*A5)","v":8.3520000000000003},8.2423333333333328,8.1326666666666672,8.0229999999999997,7.9133333333333331,7.8036666666666665,{"$f":"$BZ$147-(($BZ$147-$BZ$152)/5*A5)","v":7.694},7.5838000000000001,7.4736000000000002,7.3633999999999995,7.2531999999999996,7.1429999999999998,7.0327999999999999,6.9226000000000001,6.8123999999999993,6.7021999999999995,{"$f":"$CJ$147-(($CJ$147-$CJ$152)/5*A5)","v":6.5919999999999996},{"$f":"Eingabemaske!G$19","v":4},"Altherma 3 R W 8 kW","Altherma 3 R W 8 kW",9,3.6,null,7.5]
[null,"Altherma 3 R W",8,{"$f":"'Altherma 3 R'!$L$32","v":2.7},{"$f":"'Altherma 3 R'!$L$33","v":3.64},{"$f":"'Altherma 3 R'!$L$34","v":4.5999999999999996},53,null,null,null,null,null,null,null,null,null,null,{"$f":"$R$147-(($R$147-$R$152)/5*A6)","v":6.51},6.5508749999999996,6.5917500000000002,6.632625,6.6734999999999998,6.7143750000000004,6.7552500000000002,6.796125,6.8369999999999997,6.8778750000000004,6.9187500000000002,6.959625,7.0005000000000006,7.0413750000000004,7.0822500000000002,7.1231250000000008,{"$f":"$AH$147-(($AH$147-$AH$152)/5*A6)","v":7.1640000000000006},7.3180000000000005,7.4720000000000004,7.6260000000000003,{"$f":"$AL$147-(($AL$147-$AL$152)/5*A6)","v":7.78},7.7383333333333333,7.6966666666666672,7.6550000000000002,7.6133333333333333,7.5716666666666672,{"$f":"$AR$147-(($AR$147-$AR$152)/5*A6)","v":7.53},7.6230000000000002,7.7160000000000002,7.8090000000000002,7.9019999999999992,7.9949999999999992,8.0879999999999992,8.1809999999999992,{"$f":"$AZ$147-(($AZ$147-$AZ$152)/5*A6)","v":8.2739999999999991},8.3127999999999993,8.3515999999999995,8.3903999999999996,8.4291999999999998,8.468,8.5067999999999984,8.5455999999999985,8.5843999999999987,8.6231999999999989,{"$f":"$BJ$147-(($BJ$147-$BJ$152)/5*A6)","v":8.661999999999999},8.6275999999999993,8.5931999999999995,8.5587999999999997,8.5244,8.4899999999999984,8.4555999999999987,8.4211999999999989,8.3867999999999991,8.3523999999999994,{"$f":"$BT$147-(($BT$147-$BT$152)/5*A6)","v":8.3179999999999996},8.2059999999999995,8.0939999999999994,7.9819999999999993,7.87,7.758,{"$f":"$BZ$147-(($BZ$147-$BZ$152)/5*A6)","v":7.6459999999999999},7.5342000000000002,7.4223999999999997,7.3106,7.1988000000000003,7.0869999999999997,6.9752000000000001,6.8634000000000004,6.7516000000000007,6.6398000000000001,{"$f":"$CJ$147-(($CJ$147-$CJ$152)/5*A6)","v":6.5280000000000005},{"$f":"Eingabemaske!G$19","v":4},"Altherma 3 R W 8 kW","Altherma 3 R W 8 kW",9,3.6,null,7.5]
[null,"Altherma 3 R W",8,{"$f":"'Altherma 3 R'!$L$32","v":2.7},{"$f":"'Altherma 3 R'!$L$33","v":3.64},{"$f":"'Altherma 3 R'!$L$34","v":4.5999999999999996},54,null,null,null,null,null,null,null,null,null,null,{"$f":"$R$147-(($R$147-$R$152)/5*A7)","v":6.42},6.46075,6.5015000000000001,6.5422500000000001,6.5830000000000002,6.6237500000000002,6.6645000000000003,6.7052500000000004,6.7460000000000004,6.7867499999999996,6.8274999999999997,6.8682499999999997,6.9089999999999998,6.9497499999999999,6.9904999999999999,7.03125,{"$f":"$AH$147-(($AH$147-$AH$152)/5*A7)","v":7.0720000000000001},7.2315000000000005,7.391,7.5504999999999995,{"$f":"$AL$147-(($AL$147-$AL$152)/5*A7)","v":7.71},7.666666666666667,7.6233333333333331,7.58,7.5366666666666671,7.4933333333333332,{"$f":"$AR$147-(($AR$147-$AR$152)/5*A7)","v":7.45},7.5465,7.6429999999999998,7.7394999999999996,7.8360000000000003,7.9325000000000001,8.0289999999999999,8.1254999999999988,{"$f":"$AZ$147-(($AZ$147-$AZ$152)/5*A7)","v":8.2219999999999995},8.263399999999999,8.3048000000000002,8.3461999999999996,8.3875999999999991,8.4289999999999985,8.4703999999999997,8.5117999999999991,8.5531999999999986,8.5945999999999998,{"$f":"$BJ$147-(($BJ$147-$BJ$152)/5*A7)","v":8.6359999999999992},8.6007999999999996,8.5655999999999999,8.5304000000000002,8.4952000000000005,8.4600000000000009,8.4247999999999994,8.3895999999999997,8.3544,8.3192000000000004,{"$f":"$BT$147-(($BT$147-$BT$152)/5*A7)","v":8.2840000000000007},8.169666666666668,8.0553333333333335,7.9410000000000007,7.8266666666666671,7.7123333333333335,{"$f":"$BZ$147-(($BZ$147-$BZ$152)/5*A7)","v":7.5979999999999999},7.4846000000000004,7.3712,7.2577999999999996,7.1444000000000001,7.0310000000000006,6.9176000000000002,6.8041999999999998,6.6908000000000003,6.5774000000000008,{"$f":"$CJ$147-(($CJ$147-$CJ$152)/5*A7)","v":6.4640000000000004},{"$f":"Eingabemaske!G$19","v":4},"Altherma 3 R W 8 kW","Altherma 3 R W 8 kW",9,3.6,null,7.5]
[null,"Altherma 3 R W",8,{"$f":"'Altherma 3 R'!$L$32","v":2.7},{"$f":"'Altherma 3 R'!$L$33","v":3.64},{"$f":"'Altherma 3 R'!$L$34","v":4.5999999999999996},55,null,null,null,null,null,null,null,null,null,null,6.33,6.3706250000000004,6.4112499999999999,6.4518750000000002,6.4924999999999997,6.5331250000000001,6.5737500000000004,6.6143749999999999,6.6550000000000002,6.6956250000000006,6.7362500000000001,6.7768750000000004,6.8175000000000008,6.8581250000000002,6.8987500000000006,6.9393750000000001,{"$f":"'Altherma 3 R'!H33","v":6.98},7.1450000000000005,7.3100000000000005,7.4749999999999996,{"$f":"'Altherma 3 R'!H35","v":7.64},7.5949999999999998,7.55,7.5049999999999999,7.46,7.415,{"$f":"'Altherma 3 R'!H34","v":7.37},7.47,7.57,7.67,7.77,7.87,7.97,8.07,{"$f":"'Altherma 3 R'!H36","v":8.17},8.2140000000000004,8.2579999999999991,8.3019999999999996,8.3460000000000001,8.39,8.4339999999999993,8.4779999999999998,8.5220000000000002,8.5659999999999989,{"$f":"'Altherma 3 R'!H37","v":8.61},8.5739999999999998,8.5380000000000003,8.5019999999999989,8.4659999999999993,8.43,8.3940000000000001,8.3580000000000005,8.3219999999999992,8.2859999999999996,{"$f":"'Altherma 3 R'!H38","v":8.25},8.1333333333333329,8.0166666666666657,7.9,7.7833333333333332,7.6666666666666661,{"$f":"'Altherma 3 R'!H39","v":7.55},7.4349999999999996,7.32,7.2050000000000001,7.09,6.9749999999999996,6.86,6.7450000000000001,6.63,6.5150000000000006,{"$f":"'Altherma 3 R'!H40","v":6.4},{"$f":"Eingabemaske!G$19","v":4},"Altherma 3 R W 8 kW","Altherma 3 R W 8 kW",9,3.6,null,7.5]
[null,"Altherma 3 R W",8,{"$f":"'Altherma 3 R'!$L$32","v":2.7},{"$f":"'Altherma 3 R'!$L$33","v":3.64},{"$f":"'Altherma 3 R'!$L$34","v":4.5999999999999996},56,null,null,null,null,null,null,null,null,null,null,null,null,null,null,null,null,null,null,null,null,null,null,null,null,null,null,null,null,null,null,{"$f":"$AL$152-(($AL$152-$AL$157)/5*A4)","v":7.5659999999999998},7.5129999999999999,7.46,7.407,7.3540000000000001,7.3010000000000002,{"$f":"$AR$152-(($AR$152-$AR$157)/5*A4)","v":7.2480000000000002},7.3567499999999999,7.4655000000000005,7.5742500000000001,7.6829999999999998,7.7917500000000004,7.9005000000000001,8.0092499999999998,{"$f":"$AZ$152-(($AZ$152-$AZ$157)/5*A4)","v":8.1180000000000003},8.1626000000000012,8.2072000000000003,8.2517999999999994,8.2964000000000002,8.3410000000000011,8.3856000000000002,8.4301999999999992,8.4748000000000001,8.519400000000001,{"$f":"$BJ$152-(($BJ$152-$BJ$157)/5*A4)","v":8.5640000000000001},8.5288000000000004,8.4936000000000007,8.4583999999999993,8.4231999999999996,8.3879999999999999,8.3528000000000002,8.3176000000000005,8.2823999999999991,8.2471999999999994,{"$f":"$BT$152-(($BT$152-$BT$157)/5*A4)","v":8.2119999999999997},8.0966666666666658,7.9813333333333327,7.8659999999999997,7.7506666666666666,7.6353333333333326,{"$f":"$BZ$152-(($BZ$152-$BZ$157)/5*A4)","v":7.52},7.4057999999999993,7.2915999999999999,7.1773999999999996,7.0632000000000001,6.9489999999999998,6.8347999999999995,6.7206000000000001,6.6063999999999998,6.4922000000000004,{"$f":"$CJ$152-(($CJ$152-$CJ$157)/5*A4)","v":6.3780000000000001},{"$f":"Eingabemaske!G$19","v":4},"Altherma 3 R W 8 kW","Altherma 3 R W 8 kW",9,3.6,null,7.5]
[null,"Altherma 3 R W",8,{"$f":"'Altherma 3 R'!$L$32","v":2.7},{"$f":"'Altherma 3 R'!$L$33","v":3.64},{"$f":"'Altherma 3 R'!$L$34","v":4.5999999999999996},57,null,null,null,null,null,null,null,null,null,null,null,null,null,null,null,null,null,null,null,null,null,null,null,null,null,null,null,null,null,null,{"$f":"$AL$152-(($AL$152-$AL$157)/5*A5)","v":7.492},7.431,7.37,7.3090000000000002,7.2480000000000002,7.1870000000000003,{"$f":"$AR$152-(($AR$152-$AR$157)/5*A5)","v":7.1260000000000003},7.2435,7.3610000000000007,7.4785000000000004,7.5960000000000001,7.7135000000000007,7.8310000000000004,7.948500000000001,{"$f":"$AZ$152-(($AZ$152-$AZ$157)/5*A5)","v":8.0660000000000007},8.1112000000000002,8.1564000000000014,8.2016000000000009,8.2468000000000004,8.2920000000000016,8.3372000000000011,8.3824000000000005,8.4276,8.4728000000000012,{"$f":"$BJ$152-(($BJ$152-$BJ$157)/5*A5)","v":8.5180000000000007},8.4836000000000009,8.4492000000000012,8.4147999999999996,8.3803999999999998,8.3460000000000001,8.3116000000000003,8.2772000000000006,8.242799999999999,8.2083999999999993,{"$f":"$BT$152-(($BT$152-$BT$157)/5*A5)","v":8.1739999999999995},8.0599999999999987,7.9459999999999997,7.8319999999999999,7.718,7.6040000000000001,{"$f":"$BZ$152-(($BZ$152-$BZ$157)/5*A5)","v":7.49},7.3765999999999998,7.2632000000000003,7.1497999999999999,7.0364000000000004,6.923,6.8095999999999997,6.6962000000000002,6.5827999999999998,6.4694000000000003,{"$f":"$CJ$152-(($CJ$152-$CJ$157)/5*A5)","v":6.3559999999999999},{"$f":"Eingabemaske!G$19","v":4},"Altherma 3 R W 8 kW","Altherma 3 R W 8 kW",9,3.6,null,7.5]
[null,"Altherma 3 R W",8,{"$f":"'Altherma 3 R'!$L$32","v":2.7},{"$f":"'Altherma 3 R'!$L$33","v":3.64},{"$f":"'Altherma 3 R'!$L$34","v":4.5999999999999996},58,null,null,null,null,null,null,null,null,null,null,null,null,null,null,null,null,null,null,null,null,null,null,null,null,null,null,null,null,null,null,{"$f":"$AL$152-(($AL$152-$AL$157)/5*A6)","v":7.4179999999999993},7.3489999999999993,7.2799999999999994,7.2109999999999994,7.1419999999999995,7.0729999999999995,{"$f":"$AR$152-(($AR$152-$AR$157)/5*A6)","v":7.0039999999999996},7.1302499999999993,7.2564999999999991,7.3827499999999997,7.5089999999999995,7.6352499999999992,7.7614999999999998,7.8877499999999996,{"$f":"$AZ$152-(($AZ$152-$AZ$157)/5*A6)","v":8.0139999999999993},8.0597999999999992,8.105599999999999,8.1513999999999989,8.1971999999999987,8.2429999999999986,8.2888000000000002,8.3346,8.3803999999999998,8.4261999999999997,{"$f":"$BJ$152-(($BJ$152-$BJ$157)/5*A6)","v":8.4719999999999995},8.4383999999999997,8.4047999999999998,8.3712,8.3376000000000001,8.3040000000000003,8.2704000000000004,8.2368000000000006,8.2032000000000007,8.1696000000000009,{"$f":"$BT$152-(($BT$152-$BT$157)/5*A6)","v":8.136000000000001},8.0233333333333334,7.9106666666666676,7.798,7.6853333333333333,7.5726666666666667,{"$f":"$BZ$152-(($BZ$152-$BZ$157)/5*A6)","v":7.46},7.3474000000000004,7.2347999999999999,7.1222000000000003,7.0095999999999998,6.8970000000000002,6.7843999999999998,6.6718000000000002,6.5592000000000006,6.4466000000000001,{"$f":"$CJ$152-(($CJ$152-$CJ$157)/5*A6)","v":6.3340000000000005},{"$f":"Eingabemaske!G$19","v":4},"Altherma 3 R W 8 kW","Altherma 3 R W 8 kW",9,3.6,null,7.5]
[null,"Altherma 3 R W",8,{"$f":"'Altherma 3 R'!$L$32","v":2.7},{"$f":"'Altherma 3 R'!$L$33","v":3.64},{"$f":"'Altherma 3 R'!$L$34","v":4.5999999999999996},59,null,null,null,null,null,null,null,null,null,null,null,null,null,null,null,null,null,null,null,null,null,null,null,null,null,null,null,null,null,null,{"$f":"$AL$152-(($AL$152-$AL$157)/5*A7)","v":7.3439999999999994},7.2669999999999995,7.1899999999999995,7.1129999999999995,7.0359999999999996,6.9589999999999996,{"$f":"$AR$152-(($AR$152-$AR$157)/5*A7)","v":6.8819999999999997},7.0169999999999995,7.1519999999999992,7.2869999999999999,7.4219999999999997,7.5569999999999995,7.6920000000000002,7.827,{"$f":"$AZ$152-(($AZ$152-$AZ$157)/5*A7)","v":7.9619999999999997},8.0084,8.0548000000000002,8.1012000000000004,8.1476000000000006,8.1939999999999991,8.2403999999999993,8.2867999999999995,8.3331999999999997,8.3795999999999999,{"$f":"$BJ$152-(($BJ$152-$BJ$157)/5*A7)","v":8.4260000000000002},8.3932000000000002,8.3604000000000003,8.3276000000000003,8.2948000000000004,8.2620000000000005,8.2292000000000005,8.1964000000000006,8.1636000000000006,8.1308000000000007,{"$f":"$BT$152-(($BT$152-$BT$157)/5*A7)","v":8.0980000000000008},7.9866666666666672,7.8753333333333337,7.7640000000000011,7.6526666666666676,7.5413333333333341,{"$f":"$BZ$152-(($BZ$152-$BZ$157)/5*A7)","v":7.4300000000000006},7.3182000000000009,7.2064000000000004,7.0946000000000007,6.9828000000000001,6.8710000000000004,6.7591999999999999,6.6474000000000002,6.5356000000000005,6.4238,{"$f":"$CJ$152-(($CJ$152-$CJ$157)/5*A7)","v":6.3120000000000003},{"$f":"Eingabemaske!G$19","v":4},"Altherma 3 R W 8 kW","Altherma 3 R W 8 kW",9,3.6,null,7.5]
[null,"Altherma 3 R W",8,{"$f":"'Altherma 3 R'!$L$32","v":2.7},{"$f":"'Altherma 3 R'!$L$33","v":3.64},{"$f":"'Altherma 3 R'!$L$34","v":4.5999999999999996},60,null,null,null,null,null,null,null,null,null,null,null,null,null,null,null,null,null,null,null,null,null,null,null,null,null,null,null,null,null,null,{"$f":"'Altherma 3 R'!I35","v":7.27},7.1849999999999996,7.1,7.0149999999999997,6.93,6.8449999999999998,{"$f":"'Altherma 3 R'!I34","v":6.76},6.9037499999999996,7.0474999999999994,7.1912500000000001,7.335,7.4787499999999998,7.6225000000000005,7.7662500000000003,{"$f":"'Altherma 3 R'!I36","v":7.91},7.9569999999999999,8.0039999999999996,8.0510000000000002,8.0980000000000008,8.1449999999999996,8.1920000000000002,8.2390000000000008,8.2860000000000014,8.3330000000000002,{"$f":"'Altherma 3 R'!I37","v":8.3800000000000008},8.3480000000000008,8.3160000000000007,8.2840000000000007,8.2520000000000007,8.2200000000000006,8.1880000000000006,8.1560000000000006,8.1240000000000006,8.0920000000000005,{"$f":"'Altherma 3 R'!I38","v":8.06},7.95,7.8400000000000007,7.73,7.62,7.5100000000000007,{"$f":"'Altherma 3 R'!I39","v":7.4},7.2890000000000006,7.1779999999999999,7.0670000000000002,6.9560000000000004,6.8450000000000006,6.734,6.6230000000000002,6.5120000000000005,6.4009999999999998,{"$f":"'Altherma 3 R'!I40","v":6.29},{"$f":"Eingabemaske!G$19","v":4},"Altherma 3 R W 8 kW","Altherma 3 R W 8 kW",9,3.6,null,7.5]
[null,"Altherma 3 R W",8,{"$f":"'Altherma 3 R'!$L$32","v":2.7},{"$f":"'Altherma 3 R'!$L$33","v":3.64},{"$f":"'Altherma 3 R'!$L$34","v":4.5999999999999996},61,null,null,null,null,null,null,null,null,null,null,null,null,null,null,null,null,null,null,null,null,null,null,null,null,null,null,null,null,null,null,null,null,null,null,null,null,null,null,null,null,null,null,null,null,null,null,null,null,null,null,null,null,null,null,null,null,null,null,null,null,null,null,null,null,null,null,null,null,null,null,null,null,null,null,null,null,null,null,null,null,null,{"$f":"Eingabemaske!G$19","v":4},"Altherma 3 R W 8 kW","Altherma 3 R W 8 kW",9,3.6,null,7.5]
[null,"Altherma 3 R W",8,{"$f":"'Altherma 3 R'!$L$32","v":2.7},{"$f":"'Altherma 3 R'!$L$33","v":3.64},{"$f":"'Altherma 3 R'!$L$34","v":4.5999999999999996},62,null,null,null,null,null,null,null,null,null,null,null,null,null,null,null,null,null,null,null,null,null,null,null,null,null,null,null,null,null,null,null,null,null,null,null,null,null,null,null,null,null,null,null,null,null,null,null,null,null,null,null,null,null,null,null,null,null,null,null,null,null,null,null,null,null,null,null,null,null,null,null,null,null,null,null,null,null,null,null,null,null,{"$f":"Eingabemaske!G$19","v":4},"Altherma 3 R W 8 kW","Altherma 3 R W 8 kW",9,3.6,null,7.5]
[null,"Altherma 3 R W",8,{"$f":"'Altherma 3 R'!$L$32","v":2.7},{"$f":"'Altherma 3 R'!$L$33","v":3.64},{"$f":"'Altherma 3 R'!$L$34","v":4.5999999999999996},63,null,null,null,null,null,null,null,null,null,null,null,null,null,null,null,null,null,null,null,null,null,null,null,null,null,null,null,null,null,null,null,null,null,null,null,null,null,null,null,null,null,null,null,null,null,null,null,null,null,null,null,null,null,null,null,null,null,null,null,null,null,null,null,null,null,null,null,null,null,null,null,null,null,null,null,null,null,null,null,null,null,{"$f":"Eingabemaske!G$19","v":4},"Altherma 3 R W 8 kW","Altherma 3 R W 8 kW",9,3.6,null,7.5]
[null,"Altherma 3 R W",8,{"$f":"'Altherma 3 R'!$L$32","v":2.7},{"$f":"'Altherma 3 R'!$L$33","v":3.64},{"$f":"'Altherma 3 R'!$L$34","v":4.5999999999999996},64,null,null,null,null,null,null,null,null,null,null,null,null,null,null,null,null,null,null,null,null,null,null,null,null,null,null,null,null,null,null,null,null,null,null,null,null,null,null,null,null,null,null,null,null,null,null,null,null,null,null,null,null,null,null,null,null,null,null,null,null,null,null,null,null,null,null,null,null,null,null,null,null,null,null,null,null,null,null,null,null,null,{"$f":"Eingabemaske!G$19","v":4},"Altherma 3 R W 8 kW","Altherma 3 R W 8 kW",9,3.6,null,7.5]
[null,"Altherma 3 R W",8,{"$f":"'Altherma 3 R'!$L$32","v":2.7},{"$f":"'Altherma 3 R'!$L$33","v":3.64},{"$f":"'Altherma 3 R'!$L$34","v":4.5999999999999996},65,null,null,null,null,null,null,null,null,null,null,null,null,null,null,null,null,null,null,null,null,null,null,null,null,null,null,null,null,null,null,null,null,null,null,null,null,null,null,null,null,null,null,null,null,null,null,null,null,null,null,null,null,null,null,null,null,null,null,null,null,null,null,null,null,null,null,null,null,null,null,null,null,null,null,null,null,null,null,null,null,null,{"$f":"Eingabemaske!G$19","v":4},"Altherma 3 R W 8 kW","Altherma 3 R W 8 kW",9,3.6,null,7.5]
[null,"Altherma 3 R W",8,{"$f":"'Altherma 3 R'!$L$32","v":2.7},{"$f":"'Altherma 3 R'!$L$33","v":3.64},{"$f":"'Altherma 3 R'!$L$34","v":4.5999999999999996},66,null,null,null,null,null,null,null,null,null,null,null,null,null,null,null,null,null,null,null,null,null,null,null,null,null,null,null,null,null,null,null,null,null,null,null,null,null,null,null,null,null,null,null,null,null,null,null,null,null,null,null,null,null,null,null,null,null,null,null,null,null,null,null,null,null,null,null,null,null,null,null,null,null,null,null,null,null,null,null,null,null,{"$f":"Eingabemaske!G$19","v":4},"Altherma 3 R W 8 kW","Altherma 3 R W 8 kW",9,3.6,null,7.5]
[null,"Altherma 3 R W",8,{"$f":"'Altherma 3 R'!$L$32","v":2.7},{"$f":"'Altherma 3 R'!$L$33","v":3.64},{"$f":"'Altherma 3 R'!$L$34","v":4.5999999999999996},67,null,null,null,null,null,null,null,null,null,null,null,null,null,null,null,null,null,null,null,null,null,null,null,null,null,null,null,null,null,null,null,null,null,null,null,null,null,null,null,null,null,null,null,null,null,null,null,null,null,null,null,null,null,null,null,null,null,null,null,null,null,null,null,null,null,null,null,null,null,null,null,null,null,null,null,null,null,null,null,null,null,{"$f":"Eingabemaske!G$19","v":4},"Altherma 3 R W 8 kW","Altherma 3 R W 8 kW",9,3.6,null,7.5]
[null,"Altherma 3 R W",8,{"$f":"'Altherma 3 R'!$L$32","v":2.7},{"$f":"'Altherma 3 R'!$L$33","v":3.64},{"$f":"'Altherma 3 R'!$L$34","v":4.5999999999999996},68,null,null,null,null,null,null,null,null,null,null,null,null,null,null,null,null,null,null,null,null,null,null,null,null,null,null,null,null,null,null,null,null,null,null,null,null,null,null,null,null,null,null,null,null,null,null,null,null,null,null,null,null,null,null,null,null,null,null,null,null,null,null,null,null,null,null,null,null,null,null,null,null,null,null,null,null,null,null,null,null,null,{"$f":"Eingabemaske!G$19","v":4},"Altherma 3 R W 8 kW","Altherma 3 R W 8 kW",9,3.6,null,7.5]
[null,"Altherma 3 R W",8,{"$f":"'Altherma 3 R'!$L$32","v":2.7},{"$f":"'Altherma 3 R'!$L$33","v":3.64},{"$f":"'Altherma 3 R'!$L$34","v":4.5999999999999996},69,null,null,null,null,null,null,null,null,null,null,null,null,null,null,null,null,null,null,null,null,null,null,null,null,null,null,null,null,null,null,null,null,null,null,null,null,null,null,null,null,null,null,null,null,null,null,null,null,null,null,null,null,null,null,null,null,null,null,null,null,null,null,null,null,null,null,null,null,null,null,null,null,null,null,null,null,null,null,null,null,null,{"$f":"Eingabemaske!G$19","v":4},"Altherma 3 R W 8 kW","Altherma 3 R W 8 kW",9,3.6,null,7.5]
[null,"Altherma 3 R W",8,{"$f":"'Altherma 3 R'!$L$32","v":2.7},{"$f":"'Altherma 3 R'!$L$33","v":3.64},{"$f":"'Altherma 3 R'!$L$34","v":4.5999999999999996},70,null,null,null,null,null,null,null,null,null,null,null,null,null,null,null,null,null,null,null,null,null,null,null,null,null,null,null,null,null,null,null,null,null,null,null,null,null,null,null,null,null,null,null,null,null,null,null,null,null,null,null,null,null,null,null,null,null,null,null,null,null,null,null,null,null,null,null,null,null,null,null,null,null,null,null,null,null,null,null,null,null,{"$f":"Eingabemaske!G$19","v":4},"Altherma 3 R W 8 kW","Altherma 3 R W 8 kW",9,3.6,null,7.5]
[null,"Altherma 3 R ECH2O",4,{"$f":"'Altherma 3 R'!$L$8","v":3.1},{"$f":"'Altherma 3 R'!$L$9","v":4.0999999999999996},{"$f":"'Altherma 3 R'!$L$10","v":5.0999999999999996},30,{"$f":"H4","v":4.71},{"$f":"I4","v":4.758},4.806,4.8540000000000001,4.9020000000000001,4.95,4.9980000000000002,5.0460000000000003,5.0940000000000003,5.1420000000000003,5.19,5.2375000000000007,5.2850000000000001,5.3325000000000005,5.3800000000000008,5.4275000000000002,5.4750000000000005,5.5225,5.57,5.6175000000000006,5.665,5.7125000000000004,5.76,5.8075000000000001,5.8550000000000004,{"$f":"AG4","v":5.9024999999999999},{"$f":"AH4","v":5.95},6.0350000000000001,6.12,6.2050000000000001,6.29,6.2683333333333335,6.246666666666667,6.2249999999999996,6.2033333333333331,6.1816666666666666,6.16,6.2112499999999997,6.2625000000000002,6.3137500000000006,6.3650000000000002,6.4162499999999998,6.4675000000000002,6.5187500000000007,{"$f":"AZ4","v":6.57},6.5780000000000003,6.5860000000000003,6.5940000000000003,6.6020000000000003,6.61,6.6180000000000003,6.6260000000000003,6.6340000000000003,6.6420000000000003,{"$f":"BJ4","v":6.65},6.617,6.5840000000000005,6.5510000000000002,6.5180000000000007,6.4850000000000003,6.452,6.4190000000000005,6.3860000000000001,6.3530000000000006,6.32,{"$f":"BU4","v":6.2733333333333334},6.2266666666666666,6.18,6.1333333333333337,6.0866666666666669,6.04,5.9850000000000003,5.93,5.875,5.82,5.7650000000000006,5.71,5.6550000000000002,5.6000000000000005,5.5449999999999999,{"$f":"CJ4","v":5.49},{"$f":"Eingabemaske!G$19","v":4},"Altherma 3 R ECH2O 304 4 kW","Altherma 3 R ECH2O 504 4 kW",9,3.2,null,4.3]
[null,"Altherma 3 R ECH2O",4,{"$f":"'Altherma 3 R'!$L$8","v":3.1},{"$f":"'Altherma 3 R'!$L$9","v":4.0999999999999996},{"$f":"'Altherma 3 R'!$L$10","v":5.0999999999999996},31,{"$f":"H5","v":4.702},4.7492000000000001,4.7964000000000002,4.8436000000000003,4.8908000000000005,4.9380000000000006,4.9851999999999999,5.0324,5.0796000000000001,5.1268000000000002,5.1740000000000004,5.2206250000000001,5.2672500000000007,5.3138750000000003,5.3605,5.4071250000000006,5.4537500000000003,5.500375,5.5470000000000006,5.5936250000000003,5.64025,5.6868750000000006,5.7335000000000003,5.780125,5.8267499999999997,5.8733750000000002,5.92,6.0045000000000002,6.0890000000000004,6.1734999999999998,6.258,6.2363333333333335,6.214666666666667,6.1929999999999996,6.1713333333333331,6.1496666666666666,6.1280000000000001,6.17875,6.2294999999999998,6.2802499999999997,6.3309999999999995,6.3817500000000003,6.4325000000000001,6.48325,6.5339999999999998,6.5407999999999999,6.5476000000000001,6.5544000000000002,6.5612000000000004,6.5679999999999996,6.5747999999999998,6.5815999999999999,6.5884,6.5952000000000002,6.6020000000000003,6.5688000000000004,6.5356000000000005,6.5024000000000006,6.4692000000000007,6.4359999999999999,6.4028,6.3696000000000002,6.3364000000000003,6.3032000000000004,6.2700000000000005,6.2210000000000001,6.1720000000000006,6.1230000000000002,6.0739999999999998,6.0250000000000004,5.976,5.9206000000000003,5.8651999999999997,5.8098000000000001,5.7544000000000004,5.6989999999999998,5.6436000000000002,5.5882000000000005,5.5328000000000008,5.4774000000000003,5.4220000000000006,{"$f":"Eingabemaske!G$19","v":4},"Altherma 3 R ECH2O 304 4 kW","Altherma 3 R ECH2O 504 4 kW",9,3.2,null,4.3]
[null,"Altherma 3 R ECH2O",4,{"$f":"'Altherma 3 R'!$L$8","v":3.1},{"$f":"'Altherma 3 R'!$L$9","v":4.0999999999999996},{"$f":"'Altherma 3 R'!$L$10","v":5.0999999999999996},32,4.694,{"$f":"I6","v":4.7404000000000002},4.7868000000000004,4.8331999999999997,4.8795999999999999,4.9260000000000002,4.9724000000000004,5.0188000000000006,5.0651999999999999,5.1116000000000001,5.1580000000000004,5.2037500000000003,5.2495000000000003,5.2952500000000002,5.3410000000000002,5.3867500000000001,5.4325000000000001,5.4782500000000001,5.524,5.56975,5.6154999999999999,5.6612499999999999,5.7069999999999999,5.7527499999999998,5.7984999999999998,5.8442499999999997,5.89,5.9740000000000002,6.0579999999999998,6.1419999999999995,6.226,6.2043333333333335,6.182666666666667,6.1609999999999996,6.1393333333333331,6.1176666666666666,6.0960000000000001,6.1462500000000002,6.1965000000000003,6.2467500000000005,6.2970000000000006,6.3472499999999998,6.3975,6.4477500000000001,6.4980000000000002,6.5036000000000005,6.5091999999999999,6.5148000000000001,6.5204000000000004,6.5259999999999998,6.5316000000000001,6.5372000000000003,6.5428000000000006,6.5484,6.5540000000000003,6.5206,6.4872000000000005,6.4538000000000002,6.4204000000000008,6.3870000000000005,6.3536000000000001,6.3202000000000007,6.2868000000000004,6.253400000000001,6.2200000000000006,6.1686666666666667,6.1173333333333337,6.0660000000000007,6.0146666666666668,5.9633333333333329,5.9119999999999999,5.8562000000000003,5.8003999999999998,5.7446000000000002,5.6887999999999996,5.633,5.5772000000000004,5.5213999999999999,5.4656000000000002,5.4097999999999997,5.3540000000000001,{"$f":"Eingabemaske!G$19","v":4},"Altherma 3 R ECH2O 304 4 kW","Altherma 3 R ECH2O 504 4 kW",9,3.2,null,4.3]
[null,"Altherma 3 R ECH2O",4,{"$f":"'Altherma 3 R'!$L$8","v":3.1},{"$f":"'Altherma 3 R'!$L$9","v":4.0999999999999996},{"$f":"'Altherma 3 R'!$L$10","v":5.0999999999999996},33,4.6859999999999999,4.7316000000000003,4.7771999999999997,4.8228,4.8684000000000003,4.9139999999999997,4.9596,5.0052000000000003,5.0508000000000006,5.0964,5.1420000000000003,5.1868750000000006,5.2317499999999999,5.2766250000000001,5.3215000000000003,5.3663750000000006,5.4112500000000008,5.4561250000000001,5.5010000000000003,5.5458750000000006,5.5907499999999999,5.6356250000000001,5.6805000000000003,5.7253750000000005,5.7702500000000008,5.8151250000000001,{"$f":"AH7","v":5.86},5.9435000000000002,6.0270000000000001,6.1105,6.194,6.1723333333333334,6.1506666666666669,6.1289999999999996,6.1073333333333331,6.0856666666666666,6.0640000000000001,6.1137499999999996,6.1635,6.2132500000000004,6.2629999999999999,6.3127499999999994,6.3624999999999998,6.4122500000000002,6.4619999999999997,6.4664000000000001,6.4707999999999997,6.4752000000000001,6.4795999999999996,6.484,6.4884000000000004,6.4927999999999999,6.4972000000000003,6.5015999999999998,{"$f":"BJ7","v":6.5060000000000002},6.4724000000000004,6.4388000000000005,6.4051999999999998,6.3715999999999999,6.3380000000000001,6.3044000000000002,6.2708000000000004,6.2371999999999996,6.2035999999999998,6.17,6.1163333333333334,6.0626666666666669,6.0090000000000003,5.9553333333333329,5.9016666666666664,5.8479999999999999,5.7918000000000003,5.7355999999999998,5.6794000000000002,5.6231999999999998,5.5670000000000002,5.5108000000000006,5.4546000000000001,5.3984000000000005,5.3422000000000001,{"$f":"CJ7","v":5.2860000000000005},{"$f":"Eingabemaske!G$19","v":4},"Altherma 3 R ECH2O 304 4 kW","Altherma 3 R ECH2O 504 4 kW",9,3.2,null,4.3]
[null,"Altherma 3 R ECH2O",4,{"$f":"'Altherma 3 R'!$L$8","v":3.1},{"$f":"'Altherma 3 R'!$L$9","v":4.0999999999999996},{"$f":"'Altherma 3 R'!$L$10","v":5.0999999999999996},34,4.6779999999999999,4.7228000000000003,4.7675999999999998,4.8124000000000002,4.8571999999999997,4.9020000000000001,4.9468000000000005,4.9916,5.0364000000000004,5.0811999999999999,5.1260000000000003,5.17,5.2140000000000004,5.258,5.3020000000000005,5.3460000000000001,5.3900000000000006,5.4340000000000002,5.4779999999999998,5.5220000000000002,5.5659999999999998,5.61,5.6539999999999999,5.6980000000000004,5.742,{"$f":"AG8","v":5.7859999999999996},5.83,5.9130000000000003,5.9960000000000004,6.0789999999999997,6.1619999999999999,6.1403333333333334,6.1186666666666669,6.0969999999999995,6.075333333333333,6.0536666666666665,6.032,6.0812499999999998,6.1304999999999996,6.1797500000000003,6.2290000000000001,6.2782499999999999,6.3275000000000006,6.3767500000000004,{"$f":"AZ8","v":6.4260000000000002},6.4291999999999998,6.4324000000000003,6.4356,6.4388000000000005,6.4420000000000002,6.4451999999999998,6.4484000000000004,6.4516,6.4548000000000005,6.4580000000000002,6.4241999999999999,6.3904000000000005,6.3566000000000003,6.3228,6.2889999999999997,6.2552000000000003,6.2214,6.1875999999999998,6.1538000000000004,6.12,{"$f":"BU8","v":6.0640000000000001},6.008,5.952,5.8959999999999999,5.84,5.7839999999999998,5.7273999999999994,5.6707999999999998,5.6142000000000003,5.5575999999999999,5.5009999999999994,5.4443999999999999,5.3878000000000004,5.3311999999999999,5.2745999999999995,5.218,{"$f":"Eingabemaske!G$19","v":4},"Altherma 3 R ECH2O 304 4 kW","Altherma 3 R ECH2O 504 4 kW",9,3.2,null,4.3]
[null,"Altherma 3 R ECH2O",4,{"$f":"'Altherma 3 R'!$L$8","v":3.1},{"$f":"'Altherma 3 R'!$L$9","v":4.0999999999999996},{"$f":"'Altherma 3 R'!$L$10","v":5.0999999999999996},35,4.67,4.7140000000000004,4.758,4.8019999999999996,4.8460000000000001,4.8900000000000006,4.9340000000000002,4.9779999999999998,5.0220000000000002,5.0660000000000007,5.1100000000000003,5.1531250000000002,5.19625,5.2393749999999999,5.2825000000000006,5.3256250000000005,5.3687500000000004,5.4118750000000002,5.4550000000000001,5.4981249999999999,5.5412499999999998,5.5843749999999996,5.6274999999999995,5.6706250000000002,{"$f":"AF9","v":5.7137500000000001},5.756875,5.8,5.8825000000000003,5.9649999999999999,6.0474999999999994,6.13,6.1083333333333334,6.0866666666666669,6.0649999999999995,6.043333333333333,6.0216666666666665,6,6.0487500000000001,6.0975000000000001,6.1462500000000002,6.1950000000000003,6.2437499999999995,6.2924999999999995,6.3412499999999996,6.39,6.3919999999999995,6.3940000000000001,6.3959999999999999,6.3979999999999997,6.4,6.4020000000000001,6.4039999999999999,6.4059999999999997,6.4080000000000004,6.41,6.3760000000000003,6.3420000000000005,6.3079999999999998,6.274,6.24,6.2060000000000004,6.1720000000000006,6.1379999999999999,6.1040000000000001,6.07,6.0116666666666667,5.9533333333333331,5.8949999999999996,5.8366666666666669,5.7783333333333333,5.72,5.6630000000000003,5.6059999999999999,5.5489999999999995,5.492,5.4350000000000005,5.3780000000000001,5.3209999999999997,5.2640000000000002,5.2070000000000007,5.15,{"$f":"Eingabemaske!G$19","v":4},"Altherma 3 R ECH2O 304 4 kW","Altherma 3 R ECH2O 504 4 kW",9,3.2,null,4.3]
[null,"Altherma 3 R ECH2O",4,{"$f":"'Altherma 3 R'!$L$8","v":3.1},{"$f":"'Altherma 3 R'!$L$9","v":4.0999999999999996},{"$f":"'Altherma 3 R'!$L$10","v":5.0999999999999996},36,4.6639999999999997,{"$f":"I10","v":4.7069999999999999},4.75,4.7930000000000001,4.8360000000000003,4.8789999999999996,4.9219999999999997,4.9649999999999999,5.008,5.0510000000000002,5.0940000000000003,5.1362500000000004,5.1785000000000005,5.2207499999999998,5.2629999999999999,5.30525,5.3475000000000001,5.3897500000000003,5.4320000000000004,5.4742499999999996,5.5164999999999997,5.5587499999999999,5.601,5.6432500000000001,5.6854999999999993,5.7277499999999995,5.77,5.8514999999999997,5.9329999999999998,6.0145,6.0960000000000001,6.0746666666666664,6.0533333333333337,6.032,6.0106666666666664,5.9893333333333336,5.968,6.0162500000000003,6.0644999999999998,6.1127500000000001,6.1609999999999996,6.2092499999999999,6.2575000000000003,6.3057499999999997,6.3540000000000001,6.3563999999999998,6.3588000000000005,6.3612000000000002,6.3635999999999999,6.3659999999999997,6.3684000000000003,6.3708,6.3731999999999998,6.3756000000000004,6.3780000000000001,6.3410000000000002,6.3040000000000003,6.2670000000000003,6.23,6.1929999999999996,6.1559999999999997,6.1189999999999998,6.0819999999999999,6.0449999999999999,6.008,5.9493333333333336,5.8906666666666663,5.8319999999999999,5.7733333333333334,5.7146666666666661,5.6559999999999997,5.5983999999999998,5.5407999999999999,5.4832000000000001,5.4256000000000002,5.3680000000000003,5.3103999999999996,5.2527999999999997,5.1951999999999998,5.1375999999999999,5.08,{"$f":"Eingabemaske!G$19","v":4},"Altherma 3 R ECH2O 304 4 kW","Altherma 3 R ECH2O 504 4 kW",9,3.2,null,4.3]
[null,"Altherma 3 R ECH2O",4,{"$f":"'Altherma 3 R'!$L$8","v":3.1},{"$f":"'Altherma 3 R'!$L$9","v":4.0999999999999996},{"$f":"'Altherma 3 R'!$L$10","v":5.0999999999999996},37,4.6579999999999995,4.6999999999999993,4.742,4.7839999999999998,4.8259999999999996,4.8680000000000003,4.91,4.952,4.9939999999999998,5.0360000000000005,5.0780000000000003,5.1193750000000007,5.1607500000000002,5.2021250000000006,5.2435,5.2848750000000004,5.3262499999999999,5.3676250000000003,5.4090000000000007,5.4503750000000002,5.4917500000000006,5.5331250000000001,5.5745000000000005,5.615875,5.6572500000000003,5.6986249999999998,5.74,{"$f":"AI11","v":5.8205},5.9009999999999998,5.9815000000000005,6.0620000000000003,6.0410000000000004,6.0200000000000005,5.9990000000000006,5.9779999999999998,5.9569999999999999,5.9359999999999999,5.9837499999999997,6.0314999999999994,6.07925,6.1269999999999998,6.1747499999999995,6.2225000000000001,6.2702499999999999,6.3179999999999996,6.3207999999999993,6.3235999999999999,6.3263999999999996,6.3292000000000002,6.3319999999999999,6.3347999999999995,6.3376000000000001,6.3403999999999998,6.3432000000000004,{"$f":"BJ11","v":6.3460000000000001},6.306,6.266,6.226,6.1859999999999999,6.1459999999999999,6.1059999999999999,6.0659999999999998,6.0259999999999998,5.9859999999999998,5.9459999999999997,5.8869999999999996,5.8279999999999994,5.7690000000000001,5.71,5.6509999999999998,5.5919999999999996,5.5337999999999994,5.4756,5.4173999999999998,5.3591999999999995,5.3010000000000002,5.2427999999999999,5.1845999999999997,5.1263999999999994,5.0682,5.01,{"$f":"Eingabemaske!G$19","v":4},"Altherma 3 R ECH2O 304 4 kW","Altherma 3 R ECH2O 504 4 kW",9,3.2,null,4.3]
[null,"Altherma 3 R ECH2O",4,{"$f":"'Altherma 3 R'!$L$8","v":3.1},{"$f":"'Altherma 3 R'!$L$9","v":4.0999999999999996},{"$f":"'Altherma 3 R'!$L$10","v":5.0999999999999996},38,4.6520000000000001,4.6930000000000005,4.734,4.7750000000000004,4.8159999999999998,4.8570000000000002,4.8980000000000006,4.9390000000000001,4.9800000000000004,5.0209999999999999,5.0620000000000003,5.1025,5.1430000000000007,5.1835000000000004,5.2240000000000002,5.2645,5.3049999999999997,5.3455000000000004,5.3860000000000001,5.4264999999999999,5.4670000000000005,5.5075000000000003,5.548,5.5884999999999998,5.6289999999999996,5.6695000000000002,{"$f":"AH12","v":5.71},5.7895000000000003,5.8689999999999998,5.9484999999999992,6.0279999999999996,6.0073333333333334,5.9866666666666664,5.9659999999999993,5.9453333333333331,5.924666666666667,5.9039999999999999,5.9512499999999999,5.9984999999999999,6.04575,6.093,6.14025,6.1875,6.23475,{"$f":"AZ12","v":6.282},6.2851999999999997,6.2884000000000002,6.2915999999999999,6.2948000000000004,6.298,6.3011999999999997,6.3044000000000002,6.3075999999999999,6.3108000000000004,6.3140000000000001,6.2709999999999999,6.2279999999999998,6.1850000000000005,6.1420000000000003,6.0990000000000002,6.056,6.0129999999999999,5.9700000000000006,5.9270000000000005,5.8840000000000003,5.8246666666666673,5.7653333333333334,5.7060000000000004,{"$f":"BX12","v":5.6466666666666674},5.5873333333333335,5.5280000000000005,5.4692000000000007,5.4104000000000001,5.3516000000000004,5.2928000000000006,5.234,5.1752000000000002,5.1164000000000005,5.0576000000000008,4.9988000000000001,4.9400000000000004,{"$f":"Eingabemaske!G$19","v":4},"Altherma 3 R ECH2O 304 4 kW","Altherma 3 R ECH2O 504 4 kW",9,3.2,null,4.3]
[null,"Altherma 3 R ECH2O",4,{"$f":"'Altherma 3 R'!$L$8","v":3.1},{"$f":"'Altherma 3 R'!$L$9","v":4.0999999999999996},{"$f":"'Altherma 3 R'!$L$10","v":5.0999999999999996},39,4.6459999999999999,4.6859999999999999,4.726,4.766,4.806,4.8460000000000001,4.8860000000000001,4.9260000000000002,4.9660000000000002,5.0060000000000002,5.0460000000000003,5.0856250000000003,5.1252500000000003,5.1648750000000003,5.2045000000000003,5.2441250000000004,5.2837500000000004,5.3233750000000004,5.3630000000000004,5.4026250000000005,5.4422500000000005,5.4818750000000005,5.5215000000000005,5.5611250000000005,{"$f":"AF13","v":5.6007500000000006},5.6403750000000006,5.6800000000000006,5.7585000000000006,5.8369999999999997,5.9154999999999998,5.9939999999999998,5.9736666666666665,5.9533333333333331,5.9329999999999998,5.9126666666666665,5.8923333333333332,5.8719999999999999,5.9187500000000002,5.9654999999999996,6.0122499999999999,6.0589999999999993,6.1057499999999996,6.1524999999999999,6.1992499999999993,{"$f":"AZ13","v":6.2459999999999996},6.2495999999999992,6.2531999999999996,6.2568000000000001,6.2603999999999997,6.2639999999999993,6.2675999999999998,6.2712000000000003,6.2747999999999999,6.2783999999999995,6.282,6.2359999999999998,6.19,6.1440000000000001,6.0979999999999999,6.0519999999999996,6.0060000000000002,5.96,5.9139999999999997,5.8680000000000003,5.8220000000000001,5.7623333333333333,5.7026666666666666,{"$f":"BW13","v":5.6430000000000007},5.5833333333333339,5.5236666666666672,5.4640000000000004,5.4046000000000003,5.3452000000000002,5.2858000000000001,5.2263999999999999,5.1669999999999998,5.1076000000000006,5.0482000000000005,4.9888000000000003,4.9294000000000002,4.87,{"$f":"Eingabemaske!G$19","v":4},"Altherma 3 R ECH2O 304 4 kW","Altherma 3 R ECH2O 504 4 kW",9,3.2,null,4.3]
[null,"Altherma 3 R ECH2O",4,{"$f":"'Altherma 3 R'!$L$8","v":3.1},{"$f":"'Altherma 3 R'!$L$9","v":4.0999999999999996},{"$f":"'Altherma 3 R'!$L$10","v":5.0999999999999996},40,4.6399999999999997,{"$f":"I14","v":4.6789999999999994},4.718,4.7569999999999997,4.7960000000000003,4.835,4.8739999999999997,4.9130000000000003,4.952,4.9910000000000005,5.03,5.0687500000000005,5.1074999999999999,5.1462500000000002,5.1850000000000005,5.2237499999999999,5.2625000000000002,5.3012500000000005,5.34,5.3787500000000001,5.4175000000000004,5.4562500000000007,5.4950000000000001,5.5337500000000004,5.5725000000000007,5.6112500000000001,5.65,5.7275,5.8049999999999997,5.8825000000000003,5.96,5.9399999999999995,5.92,5.9,5.88,5.8599999999999994,5.84,5.8862499999999995,5.9325000000000001,5.9787499999999998,6.0250000000000004,6.07125,6.1174999999999997,6.1637500000000003,6.21,6.2140000000000004,6.218,6.2219999999999995,6.226,6.23,6.234,6.2379999999999995,6.242,6.2460000000000004,6.25,6.2009999999999996,6.1520000000000001,6.1029999999999998,6.0540000000000003,6.0049999999999999,5.9559999999999995,5.907,5.8579999999999997,5.8090000000000002,5.76,5.7,5.64,5.58,5.5200000000000005,5.46,5.4,5.34,5.28,5.2200000000000006,5.16,5.0999999999999996,5.04,4.9800000000000004,4.92,4.8599999999999994,4.8,{"$f":"Eingabemaske!G$19","v":4},"Altherma 3 R ECH2O 304 4 kW","Altherma 3 R ECH2O 504 4 kW",9,3.2,null,4.3]
[null,"Altherma 3 R ECH2O",4,{"$f":"'Altherma 3 R'!$L$8","v":3.1},{"$f":"'Altherma 3 R'!$L$9","v":4.0999999999999996},{"$f":"'Altherma 3 R'!$L$10","v":5.0999999999999996},41,4.6339999999999995,4.6719999999999997,4.71,4.7479999999999993,4.7859999999999996,4.8239999999999998,4.8620000000000001,4.9000000000000004,4.9379999999999997,4.976,5.0140000000000002,5.0518749999999999,5.0897500000000004,5.1276250000000001,5.1654999999999998,5.2033750000000003,5.24125,5.2791250000000005,5.3170000000000002,5.3548749999999998,5.3927500000000004,5.430625,5.4685000000000006,5.5063750000000002,5.5442499999999999,5.5821250000000004,5.62,5.6965000000000003,5.7729999999999997,5.8494999999999999,5.9260000000000002,5.9063333333333334,5.8866666666666667,5.867,5.8473333333333333,5.8276666666666666,5.8079999999999998,5.8537499999999998,5.8994999999999997,5.9452499999999997,5.9909999999999997,6.0367500000000005,6.0825000000000005,6.1282500000000004,{"$f":"AZ15","v":6.1740000000000004},6.1782000000000004,6.1824000000000003,6.1866000000000003,6.1908000000000003,6.1950000000000003,6.1992000000000003,6.2034000000000002,6.2076000000000002,6.2118000000000002,{"$f":"BJ15","v":6.2160000000000002},6.1644000000000005,6.1128,6.0612000000000004,6.0095999999999998,5.9580000000000002,5.9064000000000005,5.8548,5.8032000000000004,5.7515999999999998,5.7,5.6393333333333331,5.5786666666666669,5.5180000000000007,5.4573333333333336,5.3966666666666665,5.3360000000000003,5.2754000000000003,5.2148000000000003,5.1542000000000003,5.0936000000000003,5.0329999999999995,4.9723999999999995,4.9117999999999995,4.8511999999999995,4.7905999999999995,4.7299999999999995,{"$f":"Eingabemaske!G$19","v":4},"Altherma 3 R ECH2O 304 4 kW","Altherma 3 R ECH2O 504 4 kW",9,3.2,null,4.3]
[null,"Altherma 3 R ECH2O",4,{"$f":"'Altherma 3 R'!$L$8","v":3.1},{"$f":"'Altherma 3 R'!$L$9","v":4.0999999999999996},{"$f":"'Altherma 3 R'!$L$10","v":5.0999999999999996},42,4.6280000000000001,4.665,4.702,4.7389999999999999,4.7759999999999998,4.8130000000000006,4.8500000000000005,4.8870000000000005,4.9240000000000004,4.9610000000000003,4.9980000000000002,5.0350000000000001,5.0720000000000001,5.109,5.1459999999999999,5.1829999999999998,5.22,5.2569999999999997,5.2940000000000005,5.3310000000000004,5.3680000000000003,5.4050000000000002,5.4420000000000002,5.4790000000000001,5.516,5.5529999999999999,{"$f":"AH16","v":5.59},5.6654999999999998,5.7409999999999997,5.8165000000000004,5.8920000000000003,5.8726666666666674,5.8533333333333335,5.8339999999999996,5.8146666666666667,5.7953333333333337,5.7759999999999998,5.82125,5.8665000000000003,5.9117499999999996,5.9569999999999999,6.0022500000000001,6.0474999999999994,6.0927499999999997,6.1379999999999999,6.1424000000000003,6.1467999999999998,6.1512000000000002,6.1555999999999997,6.16,6.1644000000000005,6.1688000000000001,6.1732000000000005,6.1776,{"$f":"BJ16","v":6.1820000000000004},6.1278000000000006,6.0735999999999999,6.0194000000000001,5.9652000000000003,5.9109999999999996,5.8567999999999998,5.8026,5.7484000000000002,5.6941999999999995,5.64,5.5786666666666669,5.5173333333333332,5.4559999999999995,5.3946666666666667,5.3333333333333339,5.2720000000000002,5.2107999999999999,5.1496000000000004,5.0884,5.0272000000000006,4.9660000000000002,4.9047999999999998,4.8436000000000003,4.7824,4.7212000000000005,4.66,{"$f":"Eingabemaske!G$19","v":4},"Altherma 3 R ECH2O 304 4 kW","Altherma 3 R ECH2O 504 4 kW",9,3.2,null,4.3]
[null,"Altherma 3 R ECH2O",4,{"$f":"'Altherma 3 R'!$L$8","v":3.1},{"$f":"'Altherma 3 R'!$L$9","v":4.0999999999999996},{"$f":"'Altherma 3 R'!$L$10","v":5.0999999999999996},43,4.6219999999999999,4.6579999999999995,4.694,4.7300000000000004,4.766,4.8019999999999996,4.8380000000000001,4.8740000000000006,4.91,4.9459999999999997,4.9820000000000002,5.0181250000000004,5.0542500000000006,5.0903749999999999,5.1265000000000001,5.1626250000000002,5.1987500000000004,5.2348750000000006,5.2710000000000008,5.3071250000000001,5.3432500000000003,5.3793750000000005,5.4155000000000006,5.4516250000000008,{"$f":"AF17","v":5.4877500000000001},5.5238750000000003,5.5600000000000005,5.6345000000000001,5.7089999999999996,5.7835000000000001,5.8579999999999997,5.8389999999999995,5.8199999999999994,5.8010000000000002,5.782,5.7629999999999999,5.7439999999999998,5.7887500000000003,5.8334999999999999,5.8782499999999995,5.923,5.9677500000000006,6.0125000000000002,6.0572499999999998,6.1020000000000003,6.1066000000000003,6.1112000000000002,6.1158000000000001,6.1204000000000001,6.125,6.1295999999999999,6.1341999999999999,6.1387999999999998,6.1433999999999997,6.1479999999999997,6.0911999999999997,6.0343999999999998,5.9775999999999998,5.9207999999999998,5.8639999999999999,5.8071999999999999,5.7504,5.6936,5.6368,5.58,5.5179999999999998,5.4560000000000004,5.3940000000000001,5.3319999999999999,5.2700000000000005,{"$f":"BZ17","v":5.2080000000000002},5.1462000000000003,5.0844000000000005,5.0225999999999997,4.9607999999999999,4.899,4.8372000000000002,4.7754000000000003,4.7135999999999996,4.6517999999999997,4.59,{"$f":"Eingabemaske!G$19","v":4},"Altherma 3 R ECH2O 304 4 kW","Altherma 3 R ECH2O 504 4 kW",9,3.2,null,4.3]
[null,"Altherma 3 R ECH2O",4,{"$f":"'Altherma 3 R'!$L$8","v":3.1},{"$f":"'Altherma 3 R'!$L$9","v":4.0999999999999996},{"$f":"'Altherma 3 R'!$L$10","v":5.0999999999999996},44,4.6160000000000005,{"$f":"I18","v":4.6510000000000007},4.6860000000000008,4.7210000000000001,4.7560000000000002,4.7910000000000004,4.8260000000000005,4.8610000000000007,4.8959999999999999,4.931,4.9660000000000002,5.0012500000000006,5.0365000000000002,5.0717499999999998,5.1070000000000002,5.1422500000000007,5.1775000000000002,5.2127499999999998,5.2480000000000002,5.2832500000000007,5.3185000000000002,5.3537499999999998,5.3890000000000002,5.4242500000000007,5.4595000000000002,5.4947499999999998,5.53,5.6035000000000004,5.6769999999999996,5.7504999999999997,5.8239999999999998,5.8053333333333335,5.7866666666666662,5.7679999999999998,5.7493333333333334,5.7306666666666661,5.7119999999999997,5.7562499999999996,5.8004999999999995,5.8447499999999994,5.8889999999999993,5.9332500000000001,5.9775,6.0217499999999999,6.0659999999999998,6.0708000000000002,6.0755999999999997,6.0804,6.0851999999999995,6.09,6.0948000000000002,6.0995999999999997,6.1044,6.1091999999999995,6.1139999999999999,6.0545999999999998,5.9951999999999996,5.9357999999999995,5.8763999999999994,5.8170000000000002,5.7576000000000001,5.6981999999999999,5.6387999999999998,5.5793999999999997,5.52,5.4573333333333327,5.3946666666666667,5.3319999999999999,5.269333333333333,5.206666666666667,{"$f":"BZ18","v":5.1440000000000001},5.0815999999999999,5.0192000000000005,4.9568000000000003,4.8944000000000001,4.8320000000000007,4.7696000000000005,4.7072000000000003,4.6448,4.5824000000000007,4.5200000000000005,{"$f":"Eingabemaske!G$19","v":4},"Altherma 3 R ECH2O 304 4 kW","Altherma 3 R ECH2O 504 4 kW",9,3.2,null,4.3]
[null,"Altherma 3 R ECH2O",4,{"$f":"'Altherma 3 R'!$L$8","v":3.1},{"$f":"'Altherma 3 R'!$L$9","v":4.0999999999999996},{"$f":"'Altherma 3 R'!$L$10","v":5.0999999999999996},45,4.6100000000000003,4.6440000000000001,4.6779999999999999,4.7120000000000006,4.7460000000000004,4.78,4.8140000000000001,4.8479999999999999,4.8820000000000006,4.9160000000000004,4.95,4.984375,5.0187499999999998,5.0531250000000005,5.0875000000000004,5.1218750000000002,5.15625,5.1906249999999998,5.2249999999999996,5.2593750000000004,5.2937500000000002,5.328125,5.3624999999999998,5.3968749999999996,5.4312500000000004,5.4656250000000002,5.5,5.5724999999999998,5.6449999999999996,5.7175000000000002,5.79,5.7716666666666665,5.753333333333333,5.7349999999999994,5.7166666666666668,5.6983333333333333,5.68,5.7237499999999999,5.7675000000000001,5.8112500000000002,5.8550000000000004,5.8987499999999997,5.9424999999999999,5.9862500000000001,{"$f":"AZ19","v":6.03},6.0350000000000001,6.04,6.0449999999999999,6.05,6.0549999999999997,6.0600000000000005,6.0650000000000004,6.07,6.0750000000000002,6.08,6.0179999999999998,5.9560000000000004,5.8940000000000001,5.8319999999999999,5.77,5.7080000000000002,5.6459999999999999,5.5839999999999996,5.5220000000000002,5.46,5.3966666666666665,5.333333333333333,{"$f":"BW19","v":5.27},5.206666666666667,5.1433333333333335,5.08,5.0170000000000003,4.9539999999999997,4.891,4.8280000000000003,4.7650000000000006,4.702,4.6390000000000002,4.5760000000000005,4.5129999999999999,4.45,{"$f":"Eingabemaske!G$19","v":4},"Altherma 3 R ECH2O 304 4 kW","Altherma 3 R ECH2O 504 4 kW",9,3.2,null,4.3]
[null,"Altherma 3 R ECH2O",4,{"$f":"'Altherma 3 R'!$L$8","v":3.1},{"$f":"'Altherma 3 R'!$L$9","v":4.0999999999999996},{"$f":"'Altherma 3 R'!$L$10","v":5.0999999999999996},46,4.5340000000000007,4.5672000000000006,4.6004000000000005,4.6336000000000004,4.6668000000000003,4.7000000000000011,4.733200000000001,4.7664000000000009,4.7996000000000008,4.8328000000000007,4.8660000000000005,4.8991250000000006,4.9322500000000007,4.9653750000000008,4.9984999999999999,5.031625,5.0647500000000001,5.0978750000000002,5.1310000000000002,5.1641250000000003,5.1972500000000004,5.2303750000000004,5.2635000000000005,5.2966249999999997,5.3297499999999998,5.3628749999999998,{"$f":"AH20","v":5.3959999999999999},5.4734999999999996,5.5510000000000002,5.6285000000000007,5.7060000000000004,5.6859999999999999,5.6660000000000004,5.6459999999999999,5.6259999999999994,5.6059999999999999,5.5859999999999994,5.6327499999999997,5.6794999999999991,5.7262499999999994,5.7729999999999997,5.81975,5.8665000000000003,5.9132499999999997,5.96,5.9686000000000003,5.9771999999999998,5.9858000000000002,5.9943999999999997,6.0030000000000001,6.0116000000000005,6.0202,6.0288000000000004,6.0373999999999999,{"$f":"BJ20","v":6.0460000000000003},5.9828000000000001,5.9196,5.8563999999999998,5.7931999999999997,5.73,5.6668000000000003,5.6036000000000001,5.5404,5.4771999999999998,5.4139999999999997,5.343,5.2720000000000002,5.2010000000000005,5.13,5.0590000000000002,4.9880000000000004,4.9176000000000002,4.8472,4.7768000000000006,4.7064000000000004,4.6360000000000001,4.5655999999999999,4.4951999999999996,4.4248000000000003,4.3544,4.2839999999999998,{"$f":"Eingabemaske!G$19","v":4},"Altherma 3 R ECH2O 304 4 kW","Altherma 3 R ECH2O 504 4 kW",9,3.2,null,4.3]
[null,"Altherma 3 R ECH2O",4,{"$f":"'Altherma 3 R'!$L$8","v":3.1},{"$f":"'Altherma 3 R'!$L$9","v":4.0999999999999996},{"$f":"'Altherma 3 R'!$L$10","v":5.0999999999999996},47,4.4580000000000002,4.4904000000000002,4.5228000000000002,4.5552000000000001,4.5876000000000001,4.62,4.6524000000000001,4.6848000000000001,4.7172000000000001,4.7496,4.782,4.8138750000000003,4.8457499999999998,4.8776250000000001,4.9094999999999995,4.9413749999999999,4.9732500000000002,5.0051249999999996,5.0369999999999999,5.0688750000000002,5.1007499999999997,5.132625,5.1645000000000003,5.1963749999999997,{"$f":"AF21","v":5.2282500000000001},5.2601249999999995,5.2919999999999998,5.3744999999999994,5.4569999999999999,5.5395000000000003,5.6219999999999999,5.6003333333333334,5.5786666666666669,5.5570000000000004,5.535333333333333,5.5136666666666665,5.492,5.5417500000000004,5.5914999999999999,5.6412499999999994,5.6909999999999998,5.7407500000000002,5.7904999999999998,5.8402499999999993,5.89,5.9021999999999997,5.9143999999999997,5.9265999999999996,5.9387999999999996,5.9510000000000005,5.9632000000000005,5.9754000000000005,5.9876000000000005,5.9998000000000005,6.0120000000000005,5.9476000000000004,5.8832000000000004,5.8188000000000004,5.7544000000000004,5.69,5.6256000000000004,5.5612000000000004,5.4968000000000004,5.4324000000000003,5.3680000000000003,5.2893333333333334,5.2106666666666666,5.1319999999999997,5.0533333333333337,4.9746666666666668,4.8959999999999999,4.8182,4.7404000000000002,4.6626000000000003,4.5848000000000004,4.5069999999999997,4.4291999999999998,4.3513999999999999,4.2736000000000001,4.1958000000000002,4.1180000000000003,{"$f":"Eingabemaske!G$19","v":4},"Altherma 3 R ECH2O 304 4 kW","Altherma 3 R ECH2O 504 4 kW",9,3.2,null,4.3]
[null,"Altherma 3 R ECH2O",4,{"$f":"'Altherma 3 R'!$L$8","v":3.1},{"$f":"'Altherma 3 R'!$L$9","v":4.0999999999999996},{"$f":"'Altherma 3 R'!$L$10","v":5.0999999999999996},48,4.3820000000000006,{"$f":"I22","v":4.4136000000000006},4.4452000000000007,4.4768000000000008,4.5084000000000009,4.5400000000000009,4.5716000000000001,4.6032000000000002,4.6348000000000003,4.6664000000000003,4.6980000000000004,4.7286250000000001,4.7592500000000006,4.7898750000000003,4.8205000000000009,4.8511250000000006,4.8817500000000003,4.9123750000000008,4.9430000000000005,4.9736250000000002,5.0042500000000008,5.0348750000000004,5.0655000000000001,5.0961250000000007,5.1267500000000004,5.1573750000000009,5.1880000000000006,5.275500000000001,5.3630000000000004,5.4504999999999999,5.5380000000000003,5.5146666666666668,5.4913333333333334,5.468,5.4446666666666665,5.4213333333333331,5.3979999999999997,5.4507499999999993,5.5034999999999998,5.5562500000000004,5.609,5.6617499999999996,5.7145000000000001,5.7672500000000007,5.82,5.8357999999999999,5.8516000000000004,5.8673999999999999,5.8832000000000004,5.899,5.9147999999999996,5.9306000000000001,5.9463999999999997,5.9622000000000002,5.9779999999999998,5.9123999999999999,5.8468,5.7812000000000001,5.7156000000000002,5.65,5.5843999999999996,5.5187999999999997,5.4531999999999998,5.3875999999999999,5.3220000000000001,5.2356666666666669,5.1493333333333338,5.0630000000000006,4.9766666666666666,4.8903333333333334,4.8040000000000003,4.7187999999999999,4.6336000000000004,4.5484,4.4632000000000005,4.3780000000000001,4.2927999999999997,4.2076000000000002,4.1223999999999998,4.0372000000000003,3.952,{"$f":"Eingabemaske!G$19","v":4},"Altherma 3 R ECH2O 304 4 kW","Altherma 3 R ECH2O 504 4 kW",9,3.2,null,4.3]
[null,"Altherma 3 R ECH2O",4,{"$f":"'Altherma 3 R'!$L$8","v":3.1},{"$f":"'Altherma 3 R'!$L$9","v":4.0999999999999996},{"$f":"'Altherma 3 R'!$L$10","v":5.0999999999999996},49,4.306,4.3368000000000002,4.3676000000000004,4.3983999999999996,4.4291999999999998,4.46,4.4908000000000001,4.5216000000000003,4.5523999999999996,4.5831999999999997,4.6139999999999999,4.6433749999999998,4.6727499999999997,4.7021249999999997,4.7315000000000005,4.7608750000000004,4.7902500000000003,4.8196250000000003,4.8490000000000002,4.8783750000000001,4.9077500000000001,4.937125,4.9664999999999999,4.9958750000000007,5.0252500000000007,5.0546250000000006,5.0840000000000005,5.1765000000000008,5.2690000000000001,5.3614999999999995,5.4539999999999997,5.4290000000000003,5.4039999999999999,5.3789999999999996,5.3540000000000001,5.3290000000000006,5.3040000000000003,5.35975,5.4154999999999998,5.4712500000000004,5.5270000000000001,5.5827499999999999,5.6385000000000005,5.6942500000000003,{"$f":"AZ23","v":5.75},5.7694000000000001,5.7888000000000002,5.8082000000000003,5.8276000000000003,5.8469999999999995,5.8663999999999996,5.8857999999999997,5.9051999999999998,5.9245999999999999,5.944,5.8772000000000002,5.8104000000000005,5.7435999999999998,5.6768000000000001,5.61,5.5432000000000006,5.4764000000000008,5.4096000000000002,5.3428000000000004,5.2760000000000007,5.1820000000000004,5.0880000000000001,{"$f":"BW23","v":4.9939999999999998},4.9000000000000004,4.806,4.7119999999999997,4.6193999999999997,4.5267999999999997,4.4341999999999997,4.3415999999999997,4.2489999999999997,4.1563999999999997,4.0637999999999996,3.9712000000000001,3.8786,{"$f":"CJ23","v":3.786},{"$f":"Eingabemaske!G$19","v":4},"Altherma 3 R ECH2O 304 4 kW","Altherma 3 R ECH2O 504 4 kW",9,3.2,null,4.3]
[null,"Altherma 3 R ECH2O",4,{"$f":"'Altherma 3 R'!$L$8","v":3.1},{"$f":"'Altherma 3 R'!$L$9","v":4.0999999999999996},{"$f":"'Altherma 3 R'!$L$10","v":5.0999999999999996},50,4.2300000000000004,4.2600000000000007,4.29,4.32,4.3500000000000005,4.3800000000000008,4.41,4.4400000000000004,4.4700000000000006,4.5,4.53,4.5581250000000004,4.5862500000000006,4.6143749999999999,4.6425000000000001,4.6706250000000002,4.6987500000000004,4.7268750000000006,4.7550000000000008,4.7831250000000001,4.8112500000000002,4.8393750000000004,4.8675000000000006,4.8956250000000008,4.9237500000000001,4.9518750000000002,{"$f":"AH24","v":4.9800000000000004},5.0775000000000006,5.1750000000000007,5.2725,5.37,5.3433333333333337,5.3166666666666664,5.29,5.2633333333333336,5.2366666666666664,5.21,5.2687499999999998,5.3274999999999997,5.3862499999999995,5.4450000000000003,5.5037500000000001,5.5625,5.6212499999999999,5.68,5.7029999999999994,5.726,5.7489999999999997,5.7720000000000002,5.7949999999999999,5.8179999999999996,5.8410000000000002,5.8639999999999999,5.8870000000000005,{"$f":"BJ24","v":5.91},5.8420000000000005,5.774,5.7060000000000004,5.6379999999999999,5.57,5.5020000000000007,5.4340000000000002,5.3660000000000005,5.298,5.23,5.1283333333333339,5.0266666666666673,4.9250000000000007,4.8233333333333333,4.7216666666666667,4.62,4.5200000000000005,4.42,4.32,4.22,4.12,4.0199999999999996,3.92,3.8200000000000003,3.72,3.62,{"$f":"Eingabemaske!G$19","v":4},"Altherma 3 R ECH2O 304 4 kW","Altherma 3 R ECH2O 504 4 kW",9,3.2,null,4.3]
[null,"Altherma 3 R ECH2O",4,{"$f":"'Altherma 3 R'!$L$8","v":3.1},{"$f":"'Altherma 3 R'!$L$9","v":4.0999999999999996},{"$f":"'Altherma 3 R'!$L$10","v":5.0999999999999996},51,null,null,null,null,null,null,null,null,null,null,4.4119999999999999,4.4408750000000001,4.4697500000000003,4.4986249999999997,4.5274999999999999,4.5563750000000001,4.5852500000000003,4.6141250000000005,4.6430000000000007,4.671875,4.7007500000000002,4.7296250000000004,4.7585000000000006,4.7873750000000008,{"$f":"AF25","v":4.8162500000000001},4.8451250000000003,4.8740000000000006,4.9765000000000006,5.0790000000000006,5.1814999999999998,5.2839999999999998,5.2563333333333331,5.2286666666666664,5.2010000000000005,5.1733333333333338,5.1456666666666671,5.1180000000000003,5.1795,5.2409999999999997,5.3025000000000002,5.3639999999999999,5.4254999999999995,5.4870000000000001,5.5484999999999998,5.6099999999999994,5.6363999999999992,5.6627999999999998,5.6891999999999996,5.7156000000000002,5.742,5.7683999999999997,5.7948000000000004,5.8212000000000002,5.8476000000000008,5.8740000000000006,5.8048000000000002,5.7356000000000007,5.6664000000000003,5.5972000000000008,5.5280000000000005,5.4588000000000001,5.3896000000000006,5.3204000000000002,5.2512000000000008,5.1820000000000004,5.0733333333333341,4.964666666666667,4.8559999999999999,4.7473333333333336,4.6386666666666674,4.53,4.4226000000000001,4.3151999999999999,4.2078000000000007,4.1004000000000005,3.9930000000000003,3.8856000000000002,3.7782,3.6707999999999998,3.5634000000000001,3.456,{"$f":"Eingabemaske!G$19","v":4},"Altherma 3 R ECH2O 304 4 kW","Altherma 3 R ECH2O 504 4 kW",9,3.2,null,4.3]
[null,"Altherma 3 R ECH2O",4,{"$f":"'Altherma 3 R'!$L$8","v":3.1},{"$f":"'Altherma 3 R'!$L$9","v":4.0999999999999996},{"$f":"'Altherma 3 R'!$L$10","v":5.0999999999999996},52,null,null,null,null,null,null,null,null,null,null,{"$f":"R26","v":4.2940000000000005},4.3236250000000007,4.353250000000001,4.3828750000000003,4.4125000000000005,4.4421250000000008,4.4717500000000001,4.5013750000000003,4.5310000000000006,4.5606250000000008,4.5902500000000011,4.6198750000000004,4.6495000000000006,4.6791250000000009,4.7087500000000002,4.7383750000000004,4.7680000000000007,4.8755000000000006,4.9830000000000005,5.0905000000000005,5.1980000000000004,5.1693333333333333,5.1406666666666672,5.1120000000000001,5.083333333333333,5.0546666666666669,5.0259999999999998,5.0902500000000002,5.1544999999999996,5.21875,5.2829999999999995,5.3472499999999998,5.4115000000000002,5.4757499999999997,5.54,5.5697999999999999,5.5995999999999997,5.6294000000000004,5.6592000000000002,5.6890000000000001,5.7187999999999999,5.7485999999999997,5.7784000000000004,5.8082000000000003,{"$f":"BJ26","v":5.8380000000000001},5.7675999999999998,5.6972000000000005,5.6268000000000002,5.5564,5.4860000000000007,5.4156000000000004,5.3452000000000002,5.2747999999999999,5.2044000000000006,5.1340000000000003,5.0183333333333335,4.9026666666666667,4.7870000000000008,4.671333333333334,4.5556666666666672,4.4400000000000004,4.3252000000000006,4.2103999999999999,4.0956000000000001,3.9808000000000003,3.8660000000000001,3.7511999999999999,3.6364000000000001,3.5215999999999998,3.4067999999999996,3.2919999999999998,{"$f":"Eingabemaske!G$19","v":4},"Altherma 3 R ECH2O 304 4 kW","Altherma 3 R ECH2O 504 4 kW",9,3.2,null,4.3]
[null,"Altherma 3 R ECH2O",4,{"$f":"'Altherma 3 R'!$L$8","v":3.1},{"$f":"'Altherma 3 R'!$L$9","v":4.0999999999999996},{"$f":"'Altherma 3 R'!$L$10","v":5.0999999999999996},53,null,null,null,null,null,null,null,null,null,null,4.1760000000000002,4.2063750000000004,4.2367499999999998,4.2671250000000001,4.2975000000000003,4.3278749999999997,4.35825,4.3886250000000002,4.4190000000000005,4.4493749999999999,4.4797500000000001,4.5101250000000004,4.5404999999999998,4.570875,4.6012500000000003,4.6316249999999997,4.6619999999999999,4.7744999999999997,4.8870000000000005,4.9995000000000003,5.1120000000000001,5.0823333333333336,5.0526666666666671,5.0229999999999997,4.9933333333333332,4.9636666666666667,4.9340000000000002,5.0010000000000003,5.0679999999999996,5.1349999999999998,5.202,5.2690000000000001,5.3360000000000003,5.4029999999999996,{"$f":"AZ27","v":5.47},5.5031999999999996,5.5363999999999995,5.5696000000000003,5.6028000000000002,5.6360000000000001,5.6692,5.7023999999999999,5.7356000000000007,5.7688000000000006,5.8020000000000005,5.7304000000000004,5.6588000000000003,5.5872000000000002,5.5156000000000001,5.4440000000000008,5.3724000000000007,5.3008000000000006,5.2292000000000005,5.1576000000000004,5.0860000000000003,4.9633333333333338,4.8406666666666665,4.718,4.5953333333333335,4.4726666666666661,{"$f":"BZ27","v":4.3499999999999996},4.2277999999999993,4.1055999999999999,3.9833999999999996,3.8611999999999997,3.7389999999999999,3.6168,3.4946000000000002,3.3723999999999998,3.2502000000000004,3.1280000000000001,{"$f":"Eingabemaske!G$19","v":4},"Altherma 3 R ECH2O 304 4 kW","Altherma 3 R ECH2O 504 4 kW",9,3.2,null,4.3]
[null,"Altherma 3 R ECH2O",4,{"$f":"'Altherma 3 R'!$L$8","v":3.1},{"$f":"'Altherma 3 R'!$L$9","v":4.0999999999999996},{"$f":"'Altherma 3 R'!$L$10","v":5.0999999999999996},54,null,null,null,null,null,null,null,null,null,null,4.0579999999999998,4.0891250000000001,4.1202499999999995,4.1513749999999998,4.1825000000000001,4.2136249999999995,4.2447499999999998,4.2758750000000001,4.3070000000000004,4.3381249999999998,4.3692500000000001,4.4003750000000004,4.4314999999999998,4.4626250000000001,4.4937500000000004,4.5248749999999998,{"$f":"AH28","v":4.556},4.6735000000000007,4.7910000000000004,4.9085000000000001,5.0260000000000007,4.9953333333333338,4.964666666666667,4.9340000000000002,4.9033333333333333,4.8726666666666665,4.8419999999999996,4.9117499999999996,4.9814999999999996,5.0512499999999996,5.1210000000000004,5.1907500000000004,5.2605000000000004,5.3302500000000004,5.4,5.4366000000000003,5.4732000000000003,5.5098000000000003,5.5464000000000002,5.5830000000000002,5.6196000000000002,5.6562000000000001,5.6928000000000001,5.7294,5.766,5.6932,5.6204000000000001,5.5476000000000001,5.4748000000000001,5.4020000000000001,5.3292000000000002,5.2564000000000002,5.1836000000000002,5.1108000000000002,5.0380000000000003,4.9083333333333332,4.7786666666666671,4.649,{"$f":"BX28","v":4.519333333333333},4.3896666666666668,4.26,4.1303999999999998,4.0007999999999999,3.8712,3.7416,3.6120000000000001,3.4823999999999997,3.3527999999999998,3.2231999999999998,3.0935999999999999,2.964,{"$f":"Eingabemaske!G$19","v":4},"Altherma 3 R ECH2O 304 4 kW","Altherma 3 R ECH2O 504 4 kW",9,3.2,null,4.3]
[null,"Altherma 3 R ECH2O",4,{"$f":"'Altherma 3 R'!$L$8","v":3.1},{"$f":"'Altherma 3 R'!$L$9","v":4.0999999999999996},{"$f":"'Altherma 3 R'!$L$10","v":5.0999999999999996},55,null,null,null,null,null,null,null,null,null,null,3.94,3.9718749999999998,4.0037500000000001,4.0356249999999996,4.0674999999999999,4.0993750000000002,4.1312499999999996,4.163125,4.1950000000000003,4.2268749999999997,4.25875,4.2906250000000004,4.3224999999999998,4.3543750000000001,{"$f":"AF29","v":4.3862500000000004},4.4181249999999999,4.45,4.5724999999999998,4.6950000000000003,4.8175000000000008,4.9400000000000004,4.9083333333333332,4.8766666666666669,4.8450000000000006,4.8133333333333335,4.7816666666666663,4.75,4.8224999999999998,4.8949999999999996,4.9675000000000002,5.04,5.1124999999999998,5.1850000000000005,5.2575000000000003,5.33,5.37,5.41,5.45,5.49,5.53,5.57,5.61,5.65,5.69,5.73,5.6560000000000006,5.5820000000000007,5.508,5.4340000000000002,5.36,5.2860000000000005,5.2120000000000006,5.1379999999999999,5.0640000000000001,{"$f":"BT29","v":4.99},4.8533333333333335,4.7166666666666668,4.58,4.4433333333333334,4.3066666666666666,4.17,4.0329999999999995,3.8959999999999999,3.7589999999999999,3.6219999999999999,3.4849999999999999,3.3479999999999999,3.2109999999999999,3.0739999999999998,2.9369999999999998,2.8,{"$f":"Eingabemaske!G$19","v":4},"Altherma 3 R ECH2O 304 4 kW","Altherma 3 R ECH2O 504 4 kW",9,3.2,null,4.3]
[null,"Altherma 3 R ECH2O",4,{"$f":"'Altherma 3 R'!$L$8","v":3.1},{"$f":"'Altherma 3 R'!$L$9","v":4.0999999999999996},{"$f":"'Altherma 3 R'!$L$10","v":5.0999999999999996},56,null,null,null,null,null,null,null,null,null,null,null,null,null,null,null,null,null,null,null,null,null,null,null,null,null,null,null,null,null,null,4.8180000000000005,4.783666666666667,4.7493333333333334,4.7149999999999999,4.6806666666666672,4.6463333333333336,4.6120000000000001,4.6900000000000004,4.7679999999999998,4.8460000000000001,4.9239999999999995,5.0019999999999998,5.08,5.1579999999999995,5.2359999999999998,5.2824,5.3288000000000002,5.3751999999999995,5.4215999999999998,5.468,5.5144000000000002,5.5608000000000004,5.6071999999999997,5.6536,{"$f":"BJ30","v":5.7},5.6276000000000002,5.5552000000000001,5.4828000000000001,5.4104000000000001,5.3380000000000001,5.2656000000000001,5.1932,5.1208,5.0484,4.976,4.8243333333333336,4.6726666666666663,4.5209999999999999,4.3693333333333335,4.2176666666666662,4.0659999999999998,3.9198,3.7736000000000001,3.6273999999999997,3.4811999999999999,3.335,3.1888000000000001,3.0426000000000002,2.8963999999999999,2.7502000000000004,2.6040000000000001,{"$f":"Eingabemaske!G$19","v":4},"Altherma 3 R ECH2O 304 4 kW","Altherma 3 R ECH2O 504 4 kW",9,3.2,null,4.3]
[null,"Altherma 3 R ECH2O",4,{"$f":"'Altherma 3 R'!$L$8","v":3.1},{"$f":"'Altherma 3 R'!$L$9","v":4.0999999999999996},{"$f":"'Altherma 3 R'!$L$10","v":5.0999999999999996},57,null,null,null,null,null,null,null,null,null,null,null,null,null,null,null,null,null,null,null,null,null,null,null,null,null,null,null,null,null,null,4.6960000000000006,4.6590000000000007,4.6220000000000008,4.5850000000000009,4.548,4.5110000000000001,4.4740000000000002,4.5575000000000001,4.641,4.7244999999999999,4.8079999999999998,4.8915000000000006,4.9750000000000005,5.0585000000000004,{"$f":"AZ31","v":5.1420000000000003},5.1948000000000008,5.2476000000000003,5.3003999999999998,5.3532000000000002,5.4060000000000006,5.4588000000000001,5.5115999999999996,5.5644,5.6172000000000004,5.67,5.5991999999999997,5.5283999999999995,5.4576000000000002,5.3868,5.3159999999999998,5.2451999999999996,5.1743999999999994,5.1036000000000001,5.0327999999999999,4.9619999999999997,4.7953333333333328,4.6286666666666667,4.4619999999999997,4.2953333333333328,4.1286666666666667,3.9619999999999997,3.8065999999999995,3.6511999999999998,3.4958,3.3403999999999998,3.1849999999999996,3.0295999999999998,2.8742000000000001,2.7187999999999999,2.5633999999999997,2.4079999999999999,{"$f":"Eingabemaske!G$19","v":4},"Altherma 3 R ECH2O 304 4 kW","Altherma 3 R ECH2O 504 4 kW",9,3.2,null,4.3]
[null,"Altherma 3 R ECH2O",4,{"$f":"'Altherma 3 R'!$L$8","v":3.1},{"$f":"'Altherma 3 R'!$L$9","v":4.0999999999999996},{"$f":"'Altherma 3 R'!$L$10","v":5.0999999999999996},58,null,null,null,null,null,null,null,null,null,null,null,null,null,null,null,null,null,null,null,null,null,null,null,null,null,null,null,null,null,null,{"$f":"AL32","v":4.5739999999999998},4.5343333333333327,4.4946666666666664,4.4550000000000001,4.4153333333333329,4.3756666666666657,4.3359999999999994,4.4249999999999998,4.5139999999999993,4.6029999999999998,4.6920000000000002,4.7809999999999997,4.87,4.9589999999999996,5.048,5.1071999999999997,5.1664000000000003,5.2256,5.2848000000000006,5.3440000000000003,5.4032,5.4624000000000006,5.5216000000000003,5.5808000000000009,5.6400000000000006,5.5708000000000002,5.5016000000000007,5.4324000000000003,5.3632000000000009,5.2940000000000005,5.2248000000000001,5.1556000000000006,5.0864000000000003,5.0172000000000008,4.9480000000000004,4.7663333333333338,4.5846666666666671,4.4030000000000005,4.2213333333333329,4.0396666666666663,3.8579999999999997,3.6933999999999996,3.5287999999999995,3.3641999999999994,3.1995999999999998,3.0349999999999997,2.8703999999999996,2.7058,2.5411999999999999,2.3765999999999998,2.2119999999999997,{"$f":"Eingabemaske!G$19","v":4},"Altherma 3 R ECH2O 304 4 kW","Altherma 3 R ECH2O 504 4 kW",9,3.2,null,4.3]
[null,"Altherma 3 R ECH2O",4,{"$f":"'Altherma 3 R'!$L$8","v":3.1},{"$f":"'Altherma 3 R'!$L$9","v":4.0999999999999996},{"$f":"'Altherma 3 R'!$L$10","v":5.0999999999999996},59,null,null,null,null,null,null,null,null,null,null,null,null,null,null,null,null,null,null,null,null,null,null,null,null,null,null,null,null,null,null,4.452,4.4096666666666664,4.3673333333333328,4.3249999999999993,4.2826666666666666,4.2403333333333331,4.1979999999999995,4.2924999999999995,4.3869999999999996,4.4814999999999996,4.5760000000000005,4.6705000000000005,4.7650000000000006,4.8595000000000006,4.9540000000000006,5.0196000000000005,5.0852000000000004,5.1508000000000003,5.2164000000000001,5.282,5.3476000000000008,5.4132000000000007,5.4788000000000006,5.5444000000000004,5.61,5.5424000000000007,5.4748000000000001,5.4072000000000005,5.3395999999999999,5.2720000000000002,5.2044000000000006,5.1368,5.0692000000000004,5.0015999999999998,{"$f":"BT33","v":4.9340000000000002},4.7373333333333338,4.5406666666666666,4.3440000000000003,4.1473333333333331,3.9506666666666668,3.754,3.5802,3.4064000000000001,3.2325999999999997,3.0587999999999997,2.8849999999999998,2.7111999999999998,2.5373999999999999,2.3635999999999999,2.1898,{"$f":"CJ33","v":2.016},{"$f":"Eingabemaske!G$19","v":4},"Altherma 3 R ECH2O 304 4 kW","Altherma 3 R ECH2O 504 4 kW",9,3.2,null,4.3]
[null,"Altherma 3 R ECH2O",4,{"$f":"'Altherma 3 R'!$L$8","v":3.1},{"$f":"'Altherma 3 R'!$L$9","v":4.0999999999999996},{"$f":"'Altherma 3 R'!$L$10","v":5.0999999999999996},60,null,null,null,null,null,null,null,null,null,null,null,null,null,null,null,null,null,null,null,null,null,null,null,null,null,null,null,null,null,null,4.33,4.2850000000000001,4.24,4.1950000000000003,4.1499999999999995,4.1049999999999995,4.0599999999999996,4.16,4.26,4.3599999999999994,4.46,4.5600000000000005,4.66,4.76,4.8600000000000003,4.9320000000000004,5.0040000000000004,5.0760000000000005,5.1480000000000006,5.2200000000000006,5.2919999999999998,5.3639999999999999,5.4359999999999999,5.508,{"$f":"BJ34","v":5.58},5.5140000000000002,5.4480000000000004,5.3819999999999997,5.3159999999999998,5.25,5.1840000000000002,5.1180000000000003,5.0519999999999996,4.9859999999999998,4.92,4.708333333333333,4.4966666666666661,4.2850000000000001,4.0733333333333333,3.8616666666666664,3.65,3.4670000000000001,3.2839999999999998,3.101,2.9180000000000001,2.7349999999999999,2.552,2.3689999999999998,2.1859999999999999,2.0030000000000001,1.82,{"$f":"Eingabemaske!G$19","v":4},"Altherma 3 R ECH2O 304 4 kW","Altherma 3 R ECH2O 504 4 kW",9,3.2,null,4.3]
[null,"Altherma 3 R ECH2O",4,{"$f":"'Altherma 3 R'!$L$8","v":3.1},{"$f":"'Altherma 3 R'!$L$9","v":4.0999999999999996},{"$f":"'Altherma 3 R'!$L$10","v":5.0999999999999996},61,null,null,null,null,null,null,null,null,null,null,null,null,null,null,null,null,null,null,null,null,null,null,null,null,null,null,null,null,null,null,null,null,null,null,null,null,null,null,null,null,null,null,null,null,null,null,null,null,null,null,null,null,null,null,null,null,null,null,null,null,null,null,null,null,null,null,null,null,null,null,null,null,null,null,null,null,null,null,null,null,null,{"$f":"Eingabemaske!G$19","v":4},"Altherma 3 R ECH2O 304 4 kW","Altherma 3 R ECH2O 504 4 kW",9,3.2,null,4.3]
[null,"Altherma 3 R ECH2O",4,{"$f":"'Altherma 3 R'!$L$8","v":3.1},{"$f":"'Altherma 3 R'!$L$9","v":4.0999999999999996},{"$f":"'Altherma 3 R'!$L$10","v":5.0999999999999996},62,null,null,null,null,null,null,null,null,null,null,null,null,null,null,null,null,null,null,null,null,null,null,null,null,null,null,null,null,null,null,null,null,null,null,null,null,null,null,null,null,null,null,null,null,null,null,null,null,null,null,null,null,null,null,null,null,null,null,null,null,null,null,null,null,null,null,null,null,null,null,null,null,null,null,null,null,null,null,null,null,null,{"$f":"Eingabemaske!G$19","v":4},"Altherma 3 R ECH2O 304 4 kW","Altherma 3 R ECH2O 504 4 kW",9,3.2,null,4.3]
[null,"Altherma 3 R ECH2O",4,{"$f":"'Altherma 3 R'!$L$8","v":3.1},{"$f":"'Altherma 3 R'!$L$9","v":4.0999999999999996},{"$f":"'Altherma 3 R'!$L$10","v":5.0999999999999996},63,null,null,null,null,null,null,null,null,null,null,null,null,null,null,null,null,null,null,null,null,null,null,null,null,null,null,null,null,null,null,null,null,null,null,null,null,null,null,null,null,null,null,null,null,null,null,null,null,null,null,null,null,null,null,null,null,null,null,null,null,null,null,null,null,null,null,null,null,null,null,null,null,null,null,null,null,null,null,null,null,null,{"$f":"Eingabemaske!G$19","v":4},"Altherma 3 R ECH2O 304 4 kW","Altherma 3 R ECH2O 504 4 kW",9,3.2,null,4.3]
[null,"Altherma 3 R ECH2O",4,{"$f":"'Altherma 3 R'!$L$8","v":3.1},{"$f":"'Altherma 3 R'!$L$9","v":4.0999999999999996},{"$f":"'Altherma 3 R'!$L$10","v":5.0999999999999996},64,null,null,null,null,null,null,null,null,null,null,null,null,null,null,null,null,null,null,null,null,null,null,null,null,null,null,null,null,null,null,null,null,null,null,null,null,null,null,null,null,null,null,null,null,null,null,null,null,null,null,null,null,null,null,null,null,null,null,null,null,null,null,null,null,null,null,null,null,null,null,null,null,null,null,null,null,null,null,null,null,null,{"$f":"Eingabemaske!G$19","v":4},"Altherma 3 R ECH2O 304 4 kW","Altherma 3 R ECH2O 504 4 kW",9,3.2,null,4.3]
[null,"Altherma 3 R ECH2O",4,{"$f":"'Altherma 3 R'!$L$8","v":3.1},{"$f":"'Altherma 3 R'!$L$9","v":4.0999999999999996},{"$f":"'Altherma 3 R'!$L$10","v":5.0999999999999996},65,null,null,null,null,null,null,null,null,null,null,null,null,null,null,null,null,null,null,null,null,null,null,null,null,null,null,null,null,null,null,null,null,null,null,null,null,null,null,null,null,null,null,null,null,null,null,null,null,null,null,null,null,null,null,null,null,null,null,null,null,null,null,null,null,null,null,null,null,null,null,null,null,null,null,null,null,null,null,null,null,null,{"$f":"Eingabemaske!G$19","v":4},"Altherma 3 R ECH2O 304 4 kW","Altherma 3 R ECH2O 504 4 kW",9,3.2,null,4.3]
[null,"Altherma 3 R ECH2O",4,{"$f":"'Altherma 3 R'!$L$8","v":3.1},{"$f":"'Altherma 3 R'!$L$9","v":4.0999999999999996},{"$f":"'Altherma 3 R'!$L$10","v":5.0999999999999996},66,null,null,null,null,null,null,null,null,null,null,null,null,null,null,null,null,null,null,null,null,null,null,null,null,null,null,null,null,null,null,null,null,null,null,null,null,null,null,null,null,null,null,null,null,null,null,null,null,null,null,null,null,null,null,null,null,null,null,null,null,null,null,null,null,null,null,null,null,null,null,null,null,null,null,null,null,null,null,null,null,null,{"$f":"Eingabemaske!G$19","v":4},"Altherma 3 R ECH2O 304 4 kW","Altherma 3 R ECH2O 504 4 kW",9,3.2,null,4.3]
[null,"Altherma 3 R ECH2O",4,{"$f":"'Altherma 3 R'!$L$8","v":3.1},{"$f":"'Altherma 3 R'!$L$9","v":4.0999999999999996},{"$f":"'Altherma 3 R'!$L$10","v":5.0999999999999996},67,null,null,null,null,null,null,null,null,null,null,null,null,null,null,null,null,null,null,null,null,null,null,null,null,null,null,null,null,null,null,null,null,null,null,null,null,null,null,null,null,null,null,null,null,null,null,null,null,null,null,null,null,null,null,null,null,null,null,null,null,null,null,null,null,null,null,null,null,null,null,null,null,null,null,null,null,null,null,null,null,null,{"$f":"Eingabemaske!G$19","v":4},"Altherma 3 R ECH2O 304 4 kW","Altherma 3 R ECH2O 504 4 kW",9,3.2,null,4.3]
[null,"Altherma 3 R ECH2O",4,{"$f":"'Altherma 3 R'!$L$8","v":3.1},{"$f":"'Altherma 3 R'!$L$9","v":4.0999999999999996},{"$f":"'Altherma 3 R'!$L$10","v":5.0999999999999996},68,null,null,null,null,null,null,null,null,null,null,null,null,null,null,null,null,null,null,null,null,null,null,null,null,null,null,null,null,null,null,null,null,null,null,null,null,null,null,null,null,null,null,null,null,null,null,null,null,null,null,null,null,null,null,null,null,null,null,null,null,null,null,null,null,null,null,null,null,null,null,null,null,null,null,null,null,null,null,null,null,null,{"$f":"Eingabemaske!G$19","v":4},"Altherma 3 R ECH2O 304 4 kW","Altherma 3 R ECH2O 504 4 kW",9,3.2,null,4.3]
[null,"Altherma 3 R ECH2O",4,{"$f":"'Altherma 3 R'!$L$8","v":3.1},{"$f":"'Altherma 3 R'!$L$9","v":4.0999999999999996},{"$f":"'Altherma 3 R'!$L$10","v":5.0999999999999996},69,null,null,null,null,null,null,null,null,null,null,null,null,null,null,null,null,null,null,null,null,null,null,null,null,null,null,null,null,null,null,null,null,null,null,null,null,null,null,null,null,null,null,null,null,null,null,null,null,null,null,null,null,null,null,null,null,null,null,null,null,null,null,null,null,null,null,null,null,null,null,null,null,null,null,null,null,null,null,null,null,null,{"$f":"Eingabemaske!G$19","v":4},"Altherma 3 R ECH2O 304 4 kW","Altherma 3 R ECH2O 504 4 kW",9,3.2,null,4.3]
[null,"Altherma 3 R ECH2O",4,{"$f":"'Altherma 3 R'!$L$8","v":3.1},{"$f":"'Altherma 3 R'!$L$9","v":4.0999999999999996},{"$f":"'Altherma 3 R'!$L$10","v":5.0999999999999996},70,null,null,null,null,null,null,null,null,null,null,null,null,null,null,null,null,null,null,null,null,null,null,null,null,null,null,null,null,null,null,null,null,null,null,null,null,null,null,null,null,null,null,null,null,null,null,null,null,null,null,null,null,null,null,null,null,null,null,null,null,null,null,null,null,null,null,null,null,null,null,null,null,null,null,null,null,null,null,null,null,null,{"$f":"Eingabemaske!G$19","v":4},"Altherma 3 R ECH2O 304 4 kW","Altherma 3 R ECH2O 504 4 kW",9,3.2,null,4.3]
[null,"Altherma 3 R ECH2O",7,3.1,4.29,5.23,30,{"$f":"H4","v":4.71},{"$f":"I4","v":4.758},4.806,4.8540000000000001,4.9020000000000001,4.95,4.9980000000000002,5.0460000000000003,5.0940000000000003,5.1420000000000003,5.19,5.2375000000000007,5.2850000000000001,5.3325000000000005,5.3800000000000008,5.4275000000000002,5.4750000000000005,5.5225,5.57,5.6175000000000006,5.665,5.7125000000000004,5.76,5.8075000000000001,5.8550000000000004,{"$f":"AG4","v":5.9024999999999999},{"$f":"AH4","v":5.95},6.0350000000000001,6.12,6.2050000000000001,6.29,6.2683333333333335,6.246666666666667,6.2249999999999996,6.2033333333333331,6.1816666666666666,6.16,6.2112499999999997,6.2625000000000002,6.3137500000000006,6.3650000000000002,6.4162499999999998,6.4675000000000002,6.5187500000000007,{"$f":"AZ4","v":6.57},6.5780000000000003,6.5860000000000003,6.5940000000000003,6.6020000000000003,6.61,6.6180000000000003,6.6260000000000003,6.6340000000000003,6.6420000000000003,{"$f":"BJ4","v":6.65},6.617,6.5840000000000005,6.5510000000000002,6.5180000000000007,6.4850000000000003,6.452,6.4190000000000005,6.3860000000000001,6.3530000000000006,6.32,{"$f":"BU4","v":6.2733333333333334},6.2266666666666666,6.18,6.1333333333333337,6.0866666666666669,6.04,5.9850000000000003,5.93,5.875,5.82,5.7650000000000006,5.71,5.6550000000000002,5.6000000000000005,5.5449999999999999,{"$f":"CJ4","v":5.49},4,"Altherma 3 R ECH2O 304 07","Altherma 3 R ECH2O 504 07",9,3.25,null,4.3600000000000003]
[null,"Altherma 3 R ECH2O",7,3.1,4.29,5.23,31,{"$f":"H5","v":4.702},4.7492000000000001,4.7964000000000002,4.8436000000000003,4.8908000000000005,4.9380000000000006,4.9851999999999999,5.0324,5.0796000000000001,5.1268000000000002,5.1740000000000004,5.2206250000000001,5.2672500000000007,5.3138750000000003,5.3605,5.4071250000000006,5.4537500000000003,5.500375,5.5470000000000006,5.5936250000000003,5.64025,5.6868750000000006,5.7335000000000003,5.780125,5.8267499999999997,5.8733750000000002,5.92,6.0045000000000002,6.0890000000000004,6.1734999999999998,6.258,6.2363333333333335,6.214666666666667,6.1929999999999996,6.1713333333333331,6.1496666666666666,6.1280000000000001,6.17875,6.2294999999999998,6.2802499999999997,6.3309999999999995,6.3817500000000003,6.4325000000000001,6.48325,6.5339999999999998,6.5407999999999999,6.5476000000000001,6.5544000000000002,6.5612000000000004,6.5679999999999996,6.5747999999999998,6.5815999999999999,6.5884,6.5952000000000002,6.6020000000000003,6.5688000000000004,6.5356000000000005,6.5024000000000006,6.4692000000000007,6.4359999999999999,6.4028,6.3696000000000002,6.3364000000000003,6.3032000000000004,6.2700000000000005,6.2210000000000001,6.1720000000000006,6.1230000000000002,6.0739999999999998,6.0250000000000004,5.976,5.9206000000000003,5.8651999999999997,5.8098000000000001,5.7544000000000004,5.6989999999999998,5.6436000000000002,5.5882000000000005,5.5328000000000008,5.4774000000000003,5.4220000000000006,4,"Altherma 3 R ECH2O 304 07","Altherma 3 R ECH2O 504 07",9,3.25,null,4.3600000000000003]
[null,"Altherma 3 R ECH2O",7,3.1,4.29,5.23,32,4.694,{"$f":"I6","v":4.7404000000000002},4.7868000000000004,4.8331999999999997,4.8795999999999999,4.9260000000000002,4.9724000000000004,5.0188000000000006,5.0651999999999999,5.1116000000000001,5.1580000000000004,5.2037500000000003,5.2495000000000003,5.2952500000000002,5.3410000000000002,5.3867500000000001,5.4325000000000001,5.4782500000000001,5.524,5.56975,5.6154999999999999,5.6612499999999999,5.7069999999999999,5.7527499999999998,5.7984999999999998,5.8442499999999997,5.89,5.9740000000000002,6.0579999999999998,6.1419999999999995,6.226,6.2043333333333335,6.182666666666667,6.1609999999999996,6.1393333333333331,6.1176666666666666,6.0960000000000001,6.1462500000000002,6.1965000000000003,6.2467500000000005,6.2970000000000006,6.3472499999999998,6.3975,6.4477500000000001,6.4980000000000002,6.5036000000000005,6.5091999999999999,6.5148000000000001,6.5204000000000004,6.5259999999999998,6.5316000000000001,6.5372000000000003,6.5428000000000006,6.5484,6.5540000000000003,6.5206,6.4872000000000005,6.4538000000000002,6.4204000000000008,6.3870000000000005,6.3536000000000001,6.3202000000000007,6.2868000000000004,6.253400000000001,6.2200000000000006,6.1686666666666667,6.1173333333333337,6.0660000000000007,6.0146666666666668,5.9633333333333329,5.9119999999999999,5.8562000000000003,5.8003999999999998,5.7446000000000002,5.6887999999999996,5.633,5.5772000000000004,5.5213999999999999,5.4656000000000002,5.4097999999999997,5.3540000000000001,4,"Altherma 3 R ECH2O 304 07","Altherma 3 R ECH2O 504 07",9,3.25,null,4.3600000000000003]
[null,"Altherma 3 R ECH2O",7,3.1,4.29,5.23,33,4.6859999999999999,4.7316000000000003,4.7771999999999997,4.8228,4.8684000000000003,4.9139999999999997,4.9596,5.0052000000000003,5.0508000000000006,5.0964,5.1420000000000003,5.1868750000000006,5.2317499999999999,5.2766250000000001,5.3215000000000003,5.3663750000000006,5.4112500000000008,5.4561250000000001,5.5010000000000003,5.5458750000000006,5.5907499999999999,5.6356250000000001,5.6805000000000003,5.7253750000000005,5.7702500000000008,5.8151250000000001,{"$f":"AH7","v":5.86},5.9435000000000002,6.0270000000000001,6.1105,6.194,6.1723333333333334,6.1506666666666669,6.1289999999999996,6.1073333333333331,6.0856666666666666,6.0640000000000001,6.1137499999999996,6.1635,6.2132500000000004,6.2629999999999999,6.3127499999999994,6.3624999999999998,6.4122500000000002,6.4619999999999997,6.4664000000000001,6.4707999999999997,6.4752000000000001,6.4795999999999996,6.484,6.4884000000000004,6.4927999999999999,6.4972000000000003,6.5015999999999998,{"$f":"BJ7","v":6.5060000000000002},6.4724000000000004,6.4388000000000005,6.4051999999999998,6.3715999999999999,6.3380000000000001,6.3044000000000002,6.2708000000000004,6.2371999999999996,6.2035999999999998,6.17,6.1163333333333334,6.0626666666666669,6.0090000000000003,5.9553333333333329,5.9016666666666664,5.8479999999999999,5.7918000000000003,5.7355999999999998,5.6794000000000002,5.6231999999999998,5.5670000000000002,5.5108000000000006,5.4546000000000001,5.3984000000000005,5.3422000000000001,{"$f":"CJ7","v":5.2860000000000005},4,"Altherma 3 R ECH2O 304 07","Altherma 3 R ECH2O 504 07",9,3.25,null,4.3600000000000003]
[null,"Altherma 3 R ECH2O",7,3.1,4.29,5.23,34,4.6779999999999999,4.7228000000000003,4.7675999999999998,4.8124000000000002,4.8571999999999997,4.9020000000000001,4.9468000000000005,4.9916,5.0364000000000004,5.0811999999999999,5.1260000000000003,5.17,5.2140000000000004,5.258,5.3020000000000005,5.3460000000000001,5.3900000000000006,5.4340000000000002,5.4779999999999998,5.5220000000000002,5.5659999999999998,5.61,5.6539999999999999,5.6980000000000004,5.742,{"$f":"AG8","v":5.7859999999999996},5.83,5.9130000000000003,5.9960000000000004,6.0789999999999997,6.1619999999999999,6.1403333333333334,6.1186666666666669,6.0969999999999995,6.075333333333333,6.0536666666666665,6.032,6.0812499999999998,6.1304999999999996,6.1797500000000003,6.2290000000000001,6.2782499999999999,6.3275000000000006,6.3767500000000004,{"$f":"AZ8","v":6.4260000000000002},6.4291999999999998,6.4324000000000003,6.4356,6.4388000000000005,6.4420000000000002,6.4451999999999998,6.4484000000000004,6.4516,6.4548000000000005,6.4580000000000002,6.4241999999999999,6.3904000000000005,6.3566000000000003,6.3228,6.2889999999999997,6.2552000000000003,6.2214,6.1875999999999998,6.1538000000000004,6.12,{"$f":"BU8","v":6.0640000000000001},6.008,5.952,5.8959999999999999,5.84,5.7839999999999998,5.7273999999999994,5.6707999999999998,5.6142000000000003,5.5575999999999999,5.5009999999999994,5.4443999999999999,5.3878000000000004,5.3311999999999999,5.2745999999999995,5.218,4,"Altherma 3 R ECH2O 304 07","Altherma 3 R ECH2O 504 07",9,3.25,null,4.3600000000000003]
[null,"Altherma 3 R ECH2O",7,3.1,4.29,5.23,35,4.67,4.7140000000000004,4.758,4.8019999999999996,4.8460000000000001,4.8900000000000006,4.9340000000000002,4.9779999999999998,5.0220000000000002,5.0660000000000007,5.1100000000000003,5.1531250000000002,5.19625,5.2393749999999999,5.2825000000000006,5.3256250000000005,5.3687500000000004,5.4118750000000002,5.4550000000000001,5.4981249999999999,5.5412499999999998,5.5843749999999996,5.6274999999999995,5.6706250000000002,{"$f":"AF9","v":5.7137500000000001},5.756875,5.8,5.8825000000000003,5.9649999999999999,6.0474999999999994,6.13,6.1083333333333334,6.0866666666666669,6.0649999999999995,6.043333333333333,6.0216666666666665,6,6.0487500000000001,6.0975000000000001,6.1462500000000002,6.1950000000000003,6.2437499999999995,6.2924999999999995,6.3412499999999996,6.39,6.3919999999999995,6.3940000000000001,6.3959999999999999,6.3979999999999997,6.4,6.4020000000000001,6.4039999999999999,6.4059999999999997,6.4080000000000004,6.41,6.3760000000000003,6.3420000000000005,6.3079999999999998,6.274,6.24,6.2060000000000004,6.1720000000000006,6.1379999999999999,6.1040000000000001,6.07,6.0116666666666667,5.9533333333333331,5.8949999999999996,5.8366666666666669,5.7783333333333333,5.72,5.6630000000000003,5.6059999999999999,5.5489999999999995,5.492,5.4350000000000005,5.3780000000000001,5.3209999999999997,5.2640000000000002,5.2070000000000007,5.15,4,"Altherma 3 R ECH2O 304 07","Altherma 3 R ECH2O 504 07",9,3.25,null,4.3600000000000003]
[null,"Altherma 3 R ECH2O",7,3.1,4.29,5.23,36,4.6639999999999997,{"$f":"I10","v":4.7069999999999999},4.75,4.7930000000000001,4.8360000000000003,4.8789999999999996,4.9219999999999997,4.9649999999999999,5.008,5.0510000000000002,5.0940000000000003,5.1362500000000004,5.1785000000000005,5.2207499999999998,5.2629999999999999,5.30525,5.3475000000000001,5.3897500000000003,5.4320000000000004,5.4742499999999996,5.5164999999999997,5.5587499999999999,5.601,5.6432500000000001,5.6854999999999993,5.7277499999999995,5.77,5.8514999999999997,5.9329999999999998,6.0145,6.0960000000000001,6.0746666666666664,6.0533333333333337,6.032,6.0106666666666664,5.9893333333333336,5.968,6.0162500000000003,6.0644999999999998,6.1127500000000001,6.1609999999999996,6.2092499999999999,6.2575000000000003,6.3057499999999997,6.3540000000000001,6.3563999999999998,6.3588000000000005,6.3612000000000002,6.3635999999999999,6.3659999999999997,6.3684000000000003,6.3708,6.3731999999999998,6.3756000000000004,6.3780000000000001,6.3410000000000002,6.3040000000000003,6.2670000000000003,6.23,6.1929999999999996,6.1559999999999997,6.1189999999999998,6.0819999999999999,6.0449999999999999,6.008,5.9493333333333336,5.8906666666666663,5.8319999999999999,5.7733333333333334,5.7146666666666661,5.6559999999999997,5.5983999999999998,5.5407999999999999,5.4832000000000001,5.4256000000000002,5.3680000000000003,5.3103999999999996,5.2527999999999997,5.1951999999999998,5.1375999999999999,5.08,4,"Altherma 3 R ECH2O 304 07","Altherma 3 R ECH2O 504 07",9,3.25,null,4.3600000000000003]
[null,"Altherma 3 R ECH2O",7,3.1,4.29,5.23,37,4.6579999999999995,4.6999999999999993,4.742,4.7839999999999998,4.8259999999999996,4.8680000000000003,4.91,4.952,4.9939999999999998,5.0360000000000005,5.0780000000000003,5.1193750000000007,5.1607500000000002,5.2021250000000006,5.2435,5.2848750000000004,5.3262499999999999,5.3676250000000003,5.4090000000000007,5.4503750000000002,5.4917500000000006,5.5331250000000001,5.5745000000000005,5.615875,5.6572500000000003,5.6986249999999998,5.74,{"$f":"AI11","v":5.8205},5.9009999999999998,5.9815000000000005,6.0620000000000003,6.0410000000000004,6.0200000000000005,5.9990000000000006,5.9779999999999998,5.9569999999999999,5.9359999999999999,5.9837499999999997,6.0314999999999994,6.07925,6.1269999999999998,6.1747499999999995,6.2225000000000001,6.2702499999999999,6.3179999999999996,6.3207999999999993,6.3235999999999999,6.3263999999999996,6.3292000000000002,6.3319999999999999,6.3347999999999995,6.3376000000000001,6.3403999999999998,6.3432000000000004,{"$f":"BJ11","v":6.3460000000000001},6.306,6.266,6.226,6.1859999999999999,6.1459999999999999,6.1059999999999999,6.0659999999999998,6.0259999999999998,5.9859999999999998,5.9459999999999997,5.8869999999999996,5.8279999999999994,5.7690000000000001,5.71,5.6509999999999998,5.5919999999999996,5.5337999999999994,5.4756,5.4173999999999998,5.3591999999999995,5.3010000000000002,5.2427999999999999,5.1845999999999997,5.1263999999999994,5.0682,5.01,4,"Altherma 3 R ECH2O 304 07","Altherma 3 R ECH2O 504 07",9,3.25,null,4.3600000000000003]
[null,"Altherma 3 R ECH2O",7,3.1,4.29,5.23,38,4.6520000000000001,4.6930000000000005,4.734,4.7750000000000004,4.8159999999999998,4.8570000000000002,4.8980000000000006,4.9390000000000001,4.9800000000000004,5.0209999999999999,5.0620000000000003,5.1025,5.1430000000000007,5.1835000000000004,5.2240000000000002,5.2645,5.3049999999999997,5.3455000000000004,5.3860000000000001,5.4264999999999999,5.4670000000000005,5.5075000000000003,5.548,5.5884999999999998,5.6289999999999996,5.6695000000000002,{"$f":"AH12","v":5.71},5.7895000000000003,5.8689999999999998,5.9484999999999992,6.0279999999999996,6.0073333333333334,5.9866666666666664,5.9659999999999993,5.9453333333333331,5.924666666666667,5.9039999999999999,5.9512499999999999,5.9984999999999999,6.04575,6.093,6.14025,6.1875,6.23475,{"$f":"AZ12","v":6.282},6.2851999999999997,6.2884000000000002,6.2915999999999999,6.2948000000000004,6.298,6.3011999999999997,6.3044000000000002,6.3075999999999999,6.3108000000000004,6.3140000000000001,6.2709999999999999,6.2279999999999998,6.1850000000000005,6.1420000000000003,6.0990000000000002,6.056,6.0129999999999999,5.9700000000000006,5.9270000000000005,5.8840000000000003,5.8246666666666673,5.7653333333333334,5.7060000000000004,{"$f":"BX12","v":5.6466666666666674},5.5873333333333335,5.5280000000000005,5.4692000000000007,5.4104000000000001,5.3516000000000004,5.2928000000000006,5.234,5.1752000000000002,5.1164000000000005,5.0576000000000008,4.9988000000000001,4.9400000000000004,4,"Altherma 3 R ECH2O 304 07","Altherma 3 R ECH2O 504 07",9,3.25,null,4.3600000000000003]
[null,"Altherma 3 R ECH2O",7,3.1,4.29,5.23,39,4.6459999999999999,4.6859999999999999,4.726,4.766,4.806,4.8460000000000001,4.8860000000000001,4.9260000000000002,4.9660000000000002,5.0060000000000002,5.0460000000000003,5.0856250000000003,5.1252500000000003,5.1648750000000003,5.2045000000000003,5.2441250000000004,5.2837500000000004,5.3233750000000004,5.3630000000000004,5.4026250000000005,5.4422500000000005,5.4818750000000005,5.5215000000000005,5.5611250000000005,{"$f":"AF13","v":5.6007500000000006},5.6403750000000006,5.6800000000000006,5.7585000000000006,5.8369999999999997,5.9154999999999998,5.9939999999999998,5.9736666666666665,5.9533333333333331,5.9329999999999998,5.9126666666666665,5.8923333333333332,5.8719999999999999,5.9187500000000002,5.9654999999999996,6.0122499999999999,6.0589999999999993,6.1057499999999996,6.1524999999999999,6.1992499999999993,{"$f":"AZ13","v":6.2459999999999996},6.2495999999999992,6.2531999999999996,6.2568000000000001,6.2603999999999997,6.2639999999999993,6.2675999999999998,6.2712000000000003,6.2747999999999999,6.2783999999999995,6.282,6.2359999999999998,6.19,6.1440000000000001,6.0979999999999999,6.0519999999999996,6.0060000000000002,5.96,5.9139999999999997,5.8680000000000003,5.8220000000000001,5.7623333333333333,5.7026666666666666,{"$f":"BW13","v":5.6430000000000007},5.5833333333333339,5.5236666666666672,5.4640000000000004,5.4046000000000003,5.3452000000000002,5.2858000000000001,5.2263999999999999,5.1669999999999998,5.1076000000000006,5.0482000000000005,4.9888000000000003,4.9294000000000002,4.87,4,"Altherma 3 R ECH2O 304 07","Altherma 3 R ECH2O 504 07",9,3.25,null,4.3600000000000003]
[null,"Altherma 3 R ECH2O",7,3.1,4.29,5.23,40,4.6399999999999997,{"$f":"I14","v":4.6789999999999994},4.718,4.7569999999999997,4.7960000000000003,4.835,4.8739999999999997,4.9130000000000003,4.952,4.9910000000000005,5.03,5.0687500000000005,5.1074999999999999,5.1462500000000002,5.1850000000000005,5.2237499999999999,5.2625000000000002,5.3012500000000005,5.34,5.3787500000000001,5.4175000000000004,5.4562500000000007,5.4950000000000001,5.5337500000000004,5.5725000000000007,5.6112500000000001,5.65,5.7275,5.8049999999999997,5.8825000000000003,5.96,5.9399999999999995,5.92,5.9,5.88,5.8599999999999994,5.84,5.8862499999999995,5.9325000000000001,5.9787499999999998,6.0250000000000004,6.07125,6.1174999999999997,6.1637500000000003,6.21,6.2140000000000004,6.218,6.2219999999999995,6.226,6.23,6.234,6.2379999999999995,6.242,6.2460000000000004,6.25,6.2009999999999996,6.1520000000000001,6.1029999999999998,6.0540000000000003,6.0049999999999999,5.9559999999999995,5.907,5.8579999999999997,5.8090000000000002,5.76,5.7,5.64,5.58,5.5200000000000005,5.46,5.4,5.34,5.28,5.2200000000000006,5.16,5.0999999999999996,5.04,4.9800000000000004,4.92,4.8599999999999994,4.8,4,"Altherma 3 R ECH2O 304 07","Altherma 3 R ECH2O 504 07",9,3.25,null,4.3600000000000003]
[null,"Altherma 3 R ECH2O",7,3.1,4.29,5.23,41,4.6339999999999995,4.6719999999999997,4.71,4.7479999999999993,4.7859999999999996,4.8239999999999998,4.8620000000000001,4.9000000000000004,4.9379999999999997,4.976,5.0140000000000002,5.0518749999999999,5.0897500000000004,5.1276250000000001,5.1654999999999998,5.2033750000000003,5.24125,5.2791250000000005,5.3170000000000002,5.3548749999999998,5.3927500000000004,5.430625,5.4685000000000006,5.5063750000000002,5.5442499999999999,5.5821250000000004,5.62,5.6965000000000003,5.7729999999999997,5.8494999999999999,5.9260000000000002,5.9063333333333334,5.8866666666666667,5.867,5.8473333333333333,5.8276666666666666,5.8079999999999998,5.8537499999999998,5.8994999999999997,5.9452499999999997,5.9909999999999997,6.0367500000000005,6.0825000000000005,6.1282500000000004,{"$f":"AZ15","v":6.1740000000000004},6.1782000000000004,6.1824000000000003,6.1866000000000003,6.1908000000000003,6.1950000000000003,6.1992000000000003,6.2034000000000002,6.2076000000000002,6.2118000000000002,{"$f":"BJ15","v":6.2160000000000002},6.1644000000000005,6.1128,6.0612000000000004,6.0095999999999998,5.9580000000000002,5.9064000000000005,5.8548,5.8032000000000004,5.7515999999999998,5.7,5.6393333333333331,5.5786666666666669,5.5180000000000007,5.4573333333333336,5.3966666666666665,5.3360000000000003,5.2754000000000003,5.2148000000000003,5.1542000000000003,5.0936000000000003,5.0329999999999995,4.9723999999999995,4.9117999999999995,4.8511999999999995,4.7905999999999995,4.7299999999999995,4,"Altherma 3 R ECH2O 304 07","Altherma 3 R ECH2O 504 07",9,3.25,null,4.3600000000000003]
[null,"Altherma 3 R ECH2O",7,3.1,4.29,5.23,42,4.6280000000000001,4.665,4.702,4.7389999999999999,4.7759999999999998,4.8130000000000006,4.8500000000000005,4.8870000000000005,4.9240000000000004,4.9610000000000003,4.9980000000000002,5.0350000000000001,5.0720000000000001,5.109,5.1459999999999999,5.1829999999999998,5.22,5.2569999999999997,5.2940000000000005,5.3310000000000004,5.3680000000000003,5.4050000000000002,5.4420000000000002,5.4790000000000001,5.516,5.5529999999999999,{"$f":"AH16","v":5.59},5.6654999999999998,5.7409999999999997,5.8165000000000004,5.8920000000000003,5.8726666666666674,5.8533333333333335,5.8339999999999996,5.8146666666666667,5.7953333333333337,5.7759999999999998,5.82125,5.8665000000000003,5.9117499999999996,5.9569999999999999,6.0022500000000001,6.0474999999999994,6.0927499999999997,6.1379999999999999,6.1424000000000003,6.1467999999999998,6.1512000000000002,6.1555999999999997,6.16,6.1644000000000005,6.1688000000000001,6.1732000000000005,6.1776,{"$f":"BJ16","v":6.1820000000000004},6.1278000000000006,6.0735999999999999,6.0194000000000001,5.9652000000000003,5.9109999999999996,5.8567999999999998,5.8026,5.7484000000000002,5.6941999999999995,5.64,5.5786666666666669,5.5173333333333332,5.4559999999999995,5.3946666666666667,5.3333333333333339,5.2720000000000002,5.2107999999999999,5.1496000000000004,5.0884,5.0272000000000006,4.9660000000000002,4.9047999999999998,4.8436000000000003,4.7824,4.7212000000000005,4.66,4,"Altherma 3 R ECH2O 304 07","Altherma 3 R ECH2O 504 07",9,3.25,null,4.3600000000000003]
[null,"Altherma 3 R ECH2O",7,3.1,4.29,5.23,43,4.6219999999999999,4.6579999999999995,4.694,4.7300000000000004,4.766,4.8019999999999996,4.8380000000000001,4.8740000000000006,4.91,4.9459999999999997,4.9820000000000002,5.0181250000000004,5.0542500000000006,5.0903749999999999,5.1265000000000001,5.1626250000000002,5.1987500000000004,5.2348750000000006,5.2710000000000008,5.3071250000000001,5.3432500000000003,5.3793750000000005,5.4155000000000006,5.4516250000000008,{"$f":"AF17","v":5.4877500000000001},5.5238750000000003,5.5600000000000005,5.6345000000000001,5.7089999999999996,5.7835000000000001,5.8579999999999997,5.8389999999999995,5.8199999999999994,5.8010000000000002,5.782,5.7629999999999999,5.7439999999999998,5.7887500000000003,5.8334999999999999,5.8782499999999995,5.923,5.9677500000000006,6.0125000000000002,6.0572499999999998,6.1020000000000003,6.1066000000000003,6.1112000000000002,6.1158000000000001,6.1204000000000001,6.125,6.1295999999999999,6.1341999999999999,6.1387999999999998,6.1433999999999997,6.1479999999999997,6.0911999999999997,6.0343999999999998,5.9775999999999998,5.9207999999999998,5.8639999999999999,5.8071999999999999,5.7504,5.6936,5.6368,5.58,5.5179999999999998,5.4560000000000004,5.3940000000000001,5.3319999999999999,5.2700000000000005,{"$f":"BZ17","v":5.2080000000000002},5.1462000000000003,5.0844000000000005,5.0225999999999997,4.9607999999999999,4.899,4.8372000000000002,4.7754000000000003,4.7135999999999996,4.6517999999999997,4.59,4,"Altherma 3 R ECH2O 304 07","Altherma 3 R ECH2O 504 07",9,3.25,null,4.3600000000000003]
[null,"Altherma 3 R ECH2O",7,3.1,4.29,5.23,44,4.6160000000000005,{"$f":"I18","v":4.6510000000000007},4.6860000000000008,4.7210000000000001,4.7560000000000002,4.7910000000000004,4.8260000000000005,4.8610000000000007,4.8959999999999999,4.931,4.9660000000000002,5.0012500000000006,5.0365000000000002,5.0717499999999998,5.1070000000000002,5.1422500000000007,5.1775000000000002,5.2127499999999998,5.2480000000000002,5.2832500000000007,5.3185000000000002,5.3537499999999998,5.3890000000000002,5.4242500000000007,5.4595000000000002,5.4947499999999998,5.53,5.6035000000000004,5.6769999999999996,5.7504999999999997,5.8239999999999998,5.8053333333333335,5.7866666666666662,5.7679999999999998,5.7493333333333334,5.7306666666666661,5.7119999999999997,5.7562499999999996,5.8004999999999995,5.8447499999999994,5.8889999999999993,5.9332500000000001,5.9775,6.0217499999999999,6.0659999999999998,6.0708000000000002,6.0755999999999997,6.0804,6.0851999999999995,6.09,6.0948000000000002,6.0995999999999997,6.1044,6.1091999999999995,6.1139999999999999,6.0545999999999998,5.9951999999999996,5.9357999999999995,5.8763999999999994,5.8170000000000002,5.7576000000000001,5.6981999999999999,5.6387999999999998,5.5793999999999997,5.52,5.4573333333333327,5.3946666666666667,5.3319999999999999,5.269333333333333,5.206666666666667,{"$f":"BZ18","v":5.1440000000000001},5.0815999999999999,5.0192000000000005,4.9568000000000003,4.8944000000000001,4.8320000000000007,4.7696000000000005,4.7072000000000003,4.6448,4.5824000000000007,4.5200000000000005,4,"Altherma 3 R ECH2O 304 07","Altherma 3 R ECH2O 504 07",9,3.25,null,4.3600000000000003]
[null,"Altherma 3 R ECH2O",7,3.1,4.29,5.23,45,4.6100000000000003,4.6440000000000001,4.6779999999999999,4.7120000000000006,4.7460000000000004,4.78,4.8140000000000001,4.8479999999999999,4.8820000000000006,4.9160000000000004,4.95,4.984375,5.0187499999999998,5.0531250000000005,5.0875000000000004,5.1218750000000002,5.15625,5.1906249999999998,5.2249999999999996,5.2593750000000004,5.2937500000000002,5.328125,5.3624999999999998,5.3968749999999996,5.4312500000000004,5.4656250000000002,5.5,5.5724999999999998,5.6449999999999996,5.7175000000000002,5.79,5.7716666666666665,5.753333333333333,5.7349999999999994,5.7166666666666668,5.6983333333333333,5.68,5.7237499999999999,5.7675000000000001,5.8112500000000002,5.8550000000000004,5.8987499999999997,5.9424999999999999,5.9862500000000001,{"$f":"AZ19","v":6.03},6.0350000000000001,6.04,6.0449999999999999,6.05,6.0549999999999997,6.0600000000000005,6.0650000000000004,6.07,6.0750000000000002,6.08,6.0179999999999998,5.9560000000000004,5.8940000000000001,5.8319999999999999,5.77,5.7080000000000002,5.6459999999999999,5.5839999999999996,5.5220000000000002,5.46,5.3966666666666665,5.333333333333333,{"$f":"BW19","v":5.27},5.206666666666667,5.1433333333333335,5.08,5.0170000000000003,4.9539999999999997,4.891,4.8280000000000003,4.7650000000000006,4.702,4.6390000000000002,4.5760000000000005,4.5129999999999999,4.45,4,"Altherma 3 R ECH2O 304 07","Altherma 3 R ECH2O 504 07",9,3.25,null,4.3600000000000003]
[null,"Altherma 3 R ECH2O",7,3.1,4.29,5.23,46,4.5340000000000007,4.5672000000000006,4.6004000000000005,4.6336000000000004,4.6668000000000003,4.7000000000000011,4.733200000000001,4.7664000000000009,4.7996000000000008,4.8328000000000007,4.8660000000000005,4.8991250000000006,4.9322500000000007,4.9653750000000008,4.9984999999999999,5.031625,5.0647500000000001,5.0978750000000002,5.1310000000000002,5.1641250000000003,5.1972500000000004,5.2303750000000004,5.2635000000000005,5.2966249999999997,5.3297499999999998,5.3628749999999998,{"$f":"AH20","v":5.3959999999999999},5.4734999999999996,5.5510000000000002,5.6285000000000007,5.7060000000000004,5.6859999999999999,5.6660000000000004,5.6459999999999999,5.6259999999999994,5.6059999999999999,5.5859999999999994,5.6327499999999997,5.6794999999999991,5.7262499999999994,5.7729999999999997,5.81975,5.8665000000000003,5.9132499999999997,5.96,5.9686000000000003,5.9771999999999998,5.9858000000000002,5.9943999999999997,6.0030000000000001,6.0116000000000005,6.0202,6.0288000000000004,6.0373999999999999,{"$f":"BJ20","v":6.0460000000000003},5.9828000000000001,5.9196,5.8563999999999998,5.7931999999999997,5.73,5.6668000000000003,5.6036000000000001,5.5404,5.4771999999999998,5.4139999999999997,5.343,5.2720000000000002,5.2010000000000005,5.13,5.0590000000000002,4.9880000000000004,4.9176000000000002,4.8472,4.7768000000000006,4.7064000000000004,4.6360000000000001,4.5655999999999999,4.4951999999999996,4.4248000000000003,4.3544,4.2839999999999998,4,"Altherma 3 R ECH2O 304 07","Altherma 3 R ECH2O 504 07",9,3.25,null,4.3600000000000003]
[null,"Altherma 3 R ECH2O",7,3.1,4.29,5.23,47,4.4580000000000002,4.4904000000000002,4.5228000000000002,4.5552000000000001,4.5876000000000001,4.62,4.6524000000000001,4.6848000000000001,4.7172000000000001,4.7496,4.782,4.8138750000000003,4.8457499999999998,4.8776250000000001,4.9094999999999995,4.9413749999999999,4.9732500000000002,5.0051249999999996,5.0369999999999999,5.0688750000000002,5.1007499999999997,5.132625,5.1645000000000003,5.1963749999999997,{"$f":"AF21","v":5.2282500000000001},5.2601249999999995,5.2919999999999998,5.3744999999999994,5.4569999999999999,5.5395000000000003,5.6219999999999999,5.6003333333333334,5.5786666666666669,5.5570000000000004,5.535333333333333,5.5136666666666665,5.492,5.5417500000000004,5.5914999999999999,5.6412499999999994,5.6909999999999998,5.7407500000000002,5.7904999999999998,5.8402499999999993,5.89,5.9021999999999997,5.9143999999999997,5.9265999999999996,5.9387999999999996,5.9510000000000005,5.9632000000000005,5.9754000000000005,5.9876000000000005,5.9998000000000005,6.0120000000000005,5.9476000000000004,5.8832000000000004,5.8188000000000004,5.7544000000000004,5.69,5.6256000000000004,5.5612000000000004,5.4968000000000004,5.4324000000000003,5.3680000000000003,5.2893333333333334,5.2106666666666666,5.1319999999999997,5.0533333333333337,4.9746666666666668,4.8959999999999999,4.8182,4.7404000000000002,4.6626000000000003,4.5848000000000004,4.5069999999999997,4.4291999999999998,4.3513999999999999,4.2736000000000001,4.1958000000000002,4.1180000000000003,4,"Altherma 3 R ECH2O 304 07","Altherma 3 R ECH2O 504 07",9,3.25,null,4.3600000000000003]
[null,"Altherma 3 R ECH2O",7,3.1,4.29,5.23,48,4.3820000000000006,{"$f":"I22","v":4.4136000000000006},4.4452000000000007,4.4768000000000008,4.5084000000000009,4.5400000000000009,4.5716000000000001,4.6032000000000002,4.6348000000000003,4.6664000000000003,4.6980000000000004,4.7286250000000001,4.7592500000000006,4.7898750000000003,4.8205000000000009,4.8511250000000006,4.8817500000000003,4.9123750000000008,4.9430000000000005,4.9736250000000002,5.0042500000000008,5.0348750000000004,5.0655000000000001,5.0961250000000007,5.1267500000000004,5.1573750000000009,5.1880000000000006,5.275500000000001,5.3630000000000004,5.4504999999999999,5.5380000000000003,5.5146666666666668,5.4913333333333334,5.468,5.4446666666666665,5.4213333333333331,5.3979999999999997,5.4507499999999993,5.5034999999999998,5.5562500000000004,5.609,5.6617499999999996,5.7145000000000001,5.7672500000000007,5.82,5.8357999999999999,5.8516000000000004,5.8673999999999999,5.8832000000000004,5.899,5.9147999999999996,5.9306000000000001,5.9463999999999997,5.9622000000000002,5.9779999999999998,5.9123999999999999,5.8468,5.7812000000000001,5.7156000000000002,5.65,5.5843999999999996,5.5187999999999997,5.4531999999999998,5.3875999999999999,5.3220000000000001,5.2356666666666669,5.1493333333333338,5.0630000000000006,4.9766666666666666,4.8903333333333334,4.8040000000000003,4.7187999999999999,4.6336000000000004,4.5484,4.4632000000000005,4.3780000000000001,4.2927999999999997,4.2076000000000002,4.1223999999999998,4.0372000000000003,3.952,4,"Altherma 3 R ECH2O 304 07","Altherma 3 R ECH2O 504 07",9,3.25,null,4.3600000000000003]
[null,"Altherma 3 R ECH2O",7,3.1,4.29,5.23,49,4.306,4.3368000000000002,4.3676000000000004,4.3983999999999996,4.4291999999999998,4.46,4.4908000000000001,4.5216000000000003,4.5523999999999996,4.5831999999999997,4.6139999999999999,4.6433749999999998,4.6727499999999997,4.7021249999999997,4.7315000000000005,4.7608750000000004,4.7902500000000003,4.8196250000000003,4.8490000000000002,4.8783750000000001,4.9077500000000001,4.937125,4.9664999999999999,4.9958750000000007,5.0252500000000007,5.0546250000000006,5.0840000000000005,5.1765000000000008,5.2690000000000001,5.3614999999999995,5.4539999999999997,5.4290000000000003,5.4039999999999999,5.3789999999999996,5.3540000000000001,5.3290000000000006,5.3040000000000003,5.35975,5.4154999999999998,5.4712500000000004,5.5270000000000001,5.5827499999999999,5.6385000000000005,5.6942500000000003,{"$f":"AZ23","v":5.75},5.7694000000000001,5.7888000000000002,5.8082000000000003,5.8276000000000003,5.8469999999999995,5.8663999999999996,5.8857999999999997,5.9051999999999998,5.9245999999999999,5.944,5.8772000000000002,5.8104000000000005,5.7435999999999998,5.6768000000000001,5.61,5.5432000000000006,5.4764000000000008,5.4096000000000002,5.3428000000000004,5.2760000000000007,5.1820000000000004,5.0880000000000001,{"$f":"BW23","v":4.9939999999999998},4.9000000000000004,4.806,4.7119999999999997,4.6193999999999997,4.5267999999999997,4.4341999999999997,4.3415999999999997,4.2489999999999997,4.1563999999999997,4.0637999999999996,3.9712000000000001,3.8786,{"$f":"CJ23","v":3.786},4,"Altherma 3 R ECH2O 304 07","Altherma 3 R ECH2O 504 07",9,3.25,null,4.3600000000000003]
[null,"Altherma 3 R ECH2O",7,3.1,4.29,5.23,50,4.2300000000000004,4.2600000000000007,4.29,4.32,4.3500000000000005,4.3800000000000008,4.41,4.4400000000000004,4.4700000000000006,4.5,4.53,4.5581250000000004,4.5862500000000006,4.6143749999999999,4.6425000000000001,4.6706250000000002,4.6987500000000004,4.7268750000000006,4.7550000000000008,4.7831250000000001,4.8112500000000002,4.8393750000000004,4.8675000000000006,4.8956250000000008,4.9237500000000001,4.9518750000000002,{"$f":"AH24","v":4.9800000000000004},5.0775000000000006,5.1750000000000007,5.2725,5.37,5.3433333333333337,5.3166666666666664,5.29,5.2633333333333336,5.2366666666666664,5.21,5.2687499999999998,5.3274999999999997,5.3862499999999995,5.4450000000000003,5.5037500000000001,5.5625,5.6212499999999999,5.68,5.7029999999999994,5.726,5.7489999999999997,5.7720000000000002,5.7949999999999999,5.8179999999999996,5.8410000000000002,5.8639999999999999,5.8870000000000005,{"$f":"BJ24","v":5.91},5.8420000000000005,5.774,5.7060000000000004,5.6379999999999999,5.57,5.5020000000000007,5.4340000000000002,5.3660000000000005,5.298,5.23,5.1283333333333339,5.0266666666666673,4.9250000000000007,4.8233333333333333,4.7216666666666667,4.62,4.5200000000000005,4.42,4.32,4.22,4.12,4.0199999999999996,3.92,3.8200000000000003,3.72,3.62,4,"Altherma 3 R ECH2O 304 07","Altherma 3 R ECH2O 504 07",9,3.25,null,4.3600000000000003]
[null,"Altherma 3 R ECH2O",7,3.1,4.29,5.23,51,null,null,null,null,null,null,null,null,null,null,4.4119999999999999,4.4408750000000001,4.4697500000000003,4.4986249999999997,4.5274999999999999,4.5563750000000001,4.5852500000000003,4.6141250000000005,4.6430000000000007,4.671875,4.7007500000000002,4.7296250000000004,4.7585000000000006,4.7873750000000008,{"$f":"AF25","v":4.8162500000000001},4.8451250000000003,4.8740000000000006,4.9765000000000006,5.0790000000000006,5.1814999999999998,5.2839999999999998,5.2563333333333331,5.2286666666666664,5.2010000000000005,5.1733333333333338,5.1456666666666671,5.1180000000000003,5.1795,5.2409999999999997,5.3025000000000002,5.3639999999999999,5.4254999999999995,5.4870000000000001,5.5484999999999998,5.6099999999999994,5.6363999999999992,5.6627999999999998,5.6891999999999996,5.7156000000000002,5.742,5.7683999999999997,5.7948000000000004,5.8212000000000002,5.8476000000000008,5.8740000000000006,5.8048000000000002,5.7356000000000007,5.6664000000000003,5.5972000000000008,5.5280000000000005,5.4588000000000001,5.3896000000000006,5.3204000000000002,5.2512000000000008,5.1820000000000004,5.0733333333333341,4.964666666666667,4.8559999999999999,4.7473333333333336,4.6386666666666674,4.53,4.4226000000000001,4.3151999999999999,4.2078000000000007,4.1004000000000005,3.9930000000000003,3.8856000000000002,3.7782,3.6707999999999998,3.5634000000000001,3.456,4,"Altherma 3 R ECH2O 304 07","Altherma 3 R ECH2O 504 07",9,3.25,null,4.3600000000000003]
[null,"Altherma 3 R ECH2O",7,3.1,4.29,5.23,52,null,null,null,null,null,null,null,null,null,null,{"$f":"R26","v":4.2940000000000005},4.3236250000000007,4.353250000000001,4.3828750000000003,4.4125000000000005,4.4421250000000008,4.4717500000000001,4.5013750000000003,4.5310000000000006,4.5606250000000008,4.5902500000000011,4.6198750000000004,4.6495000000000006,4.6791250000000009,4.7087500000000002,4.7383750000000004,4.7680000000000007,4.8755000000000006,4.9830000000000005,5.0905000000000005,5.1980000000000004,5.1693333333333333,5.1406666666666672,5.1120000000000001,5.083333333333333,5.0546666666666669,5.0259999999999998,5.0902500000000002,5.1544999999999996,5.21875,5.2829999999999995,5.3472499999999998,5.4115000000000002,5.4757499999999997,5.54,5.5697999999999999,5.5995999999999997,5.6294000000000004,5.6592000000000002,5.6890000000000001,5.7187999999999999,5.7485999999999997,5.7784000000000004,5.8082000000000003,{"$f":"BJ26","v":5.8380000000000001},5.7675999999999998,5.6972000000000005,5.6268000000000002,5.5564,5.4860000000000007,5.4156000000000004,5.3452000000000002,5.2747999999999999,5.2044000000000006,5.1340000000000003,5.0183333333333335,4.9026666666666667,4.7870000000000008,4.671333333333334,4.5556666666666672,4.4400000000000004,4.3252000000000006,4.2103999999999999,4.0956000000000001,3.9808000000000003,3.8660000000000001,3.7511999999999999,3.6364000000000001,3.5215999999999998,3.4067999999999996,3.2919999999999998,4,"Altherma 3 R ECH2O 304 07","Altherma 3 R ECH2O 504 07",9,3.25,null,4.3600000000000003]
[null,"Altherma 3 R ECH2O",7,3.1,4.29,5.23,53,null,null,null,null,null,null,null,null,null,null,4.1760000000000002,4.2063750000000004,4.2367499999999998,4.2671250000000001,4.2975000000000003,4.3278749999999997,4.35825,4.3886250000000002,4.4190000000000005,4.4493749999999999,4.4797500000000001,4.5101250000000004,4.5404999999999998,4.570875,4.6012500000000003,4.6316249999999997,4.6619999999999999,4.7744999999999997,4.8870000000000005,4.9995000000000003,5.1120000000000001,5.0823333333333336,5.0526666666666671,5.0229999999999997,4.9933333333333332,4.9636666666666667,4.9340000000000002,5.0010000000000003,5.0679999999999996,5.1349999999999998,5.202,5.2690000000000001,5.3360000000000003,5.4029999999999996,{"$f":"AZ27","v":5.47},5.5031999999999996,5.5363999999999995,5.5696000000000003,5.6028000000000002,5.6360000000000001,5.6692,5.7023999999999999,5.7356000000000007,5.7688000000000006,5.8020000000000005,5.7304000000000004,5.6588000000000003,5.5872000000000002,5.5156000000000001,5.4440000000000008,5.3724000000000007,5.3008000000000006,5.2292000000000005,5.1576000000000004,5.0860000000000003,4.9633333333333338,4.8406666666666665,4.718,4.5953333333333335,4.4726666666666661,{"$f":"BZ27","v":4.3499999999999996},4.2277999999999993,4.1055999999999999,3.9833999999999996,3.8611999999999997,3.7389999999999999,3.6168,3.4946000000000002,3.3723999999999998,3.2502000000000004,3.1280000000000001,4,"Altherma 3 R ECH2O 304 07","Altherma 3 R ECH2O 504 07",9,3.25,null,4.3600000000000003]
[null,"Altherma 3 R ECH2O",7,3.1,4.29,5.23,54,null,null,null,null,null,null,null,null,null,null,4.0579999999999998,4.0891250000000001,4.1202499999999995,4.1513749999999998,4.1825000000000001,4.2136249999999995,4.2447499999999998,4.2758750000000001,4.3070000000000004,4.3381249999999998,4.3692500000000001,4.4003750000000004,4.4314999999999998,4.4626250000000001,4.4937500000000004,4.5248749999999998,{"$f":"AH28","v":4.556},4.6735000000000007,4.7910000000000004,4.9085000000000001,5.0260000000000007,4.9953333333333338,4.964666666666667,4.9340000000000002,4.9033333333333333,4.8726666666666665,4.8419999999999996,4.9117499999999996,4.9814999999999996,5.0512499999999996,5.1210000000000004,5.1907500000000004,5.2605000000000004,5.3302500000000004,5.4,5.4366000000000003,5.4732000000000003,5.5098000000000003,5.5464000000000002,5.5830000000000002,5.6196000000000002,5.6562000000000001,5.6928000000000001,5.7294,5.766,5.6932,5.6204000000000001,5.5476000000000001,5.4748000000000001,5.4020000000000001,5.3292000000000002,5.2564000000000002,5.1836000000000002,5.1108000000000002,5.0380000000000003,4.9083333333333332,4.7786666666666671,4.649,{"$f":"BX28","v":4.519333333333333},4.3896666666666668,4.26,4.1303999999999998,4.0007999999999999,3.8712,3.7416,3.6120000000000001,3.4823999999999997,3.3527999999999998,3.2231999999999998,3.0935999999999999,2.964,4,"Altherma 3 R ECH2O 304 07","Altherma 3 R ECH2O 504 07",9,3.25,null,4.3600000000000003]
[null,"Altherma 3 R ECH2O",7,3.1,4.29,5.23,55,null,null,null,null,null,null,null,null,null,null,3.94,3.9718749999999998,4.0037500000000001,4.0356249999999996,4.0674999999999999,4.0993750000000002,4.1312499999999996,4.163125,4.1950000000000003,4.2268749999999997,4.25875,4.2906250000000004,4.3224999999999998,4.3543750000000001,{"$f":"AF29","v":4.3862500000000004},4.4181249999999999,4.45,4.5724999999999998,4.6950000000000003,4.8175000000000008,4.9400000000000004,4.9083333333333332,4.8766666666666669,4.8450000000000006,4.8133333333333335,4.7816666666666663,4.75,4.8224999999999998,4.8949999999999996,4.9675000000000002,5.04,5.1124999999999998,5.1850000000000005,5.2575000000000003,5.33,5.37,5.41,5.45,5.49,5.53,5.57,5.61,5.65,5.69,5.73,5.6560000000000006,5.5820000000000007,5.508,5.4340000000000002,5.36,5.2860000000000005,5.2120000000000006,5.1379999999999999,5.0640000000000001,{"$f":"BT29","v":4.99},4.8533333333333335,4.7166666666666668,4.58,4.4433333333333334,4.3066666666666666,4.17,4.0329999999999995,3.8959999999999999,3.7589999999999999,3.6219999999999999,3.4849999999999999,3.3479999999999999,3.2109999999999999,3.0739999999999998,2.9369999999999998,2.8,4,"Altherma 3 R ECH2O 304 07","Altherma 3 R ECH2O 504 07",9,3.25,null,4.3600000000000003]
[null,"Altherma 3 R ECH2O",7,3.1,4.29,5.23,56,null,null,null,null,null,null,null,null,null,null,null,null,null,null,null,null,null,null,null,null,null,null,null,null,null,null,null,null,null,null,4.8180000000000005,4.783666666666667,4.7493333333333334,4.7149999999999999,4.6806666666666672,4.6463333333333336,4.6120000000000001,4.6900000000000004,4.7679999999999998,4.8460000000000001,4.9239999999999995,5.0019999999999998,5.08,5.1579999999999995,5.2359999999999998,5.2824,5.3288000000000002,5.3751999999999995,5.4215999999999998,5.468,5.5144000000000002,5.5608000000000004,5.6071999999999997,5.6536,{"$f":"BJ30","v":5.7},5.6276000000000002,5.5552000000000001,5.4828000000000001,5.4104000000000001,5.3380000000000001,5.2656000000000001,5.1932,5.1208,5.0484,4.976,4.8243333333333336,4.6726666666666663,4.5209999999999999,4.3693333333333335,4.2176666666666662,4.0659999999999998,3.9198,3.7736000000000001,3.6273999999999997,3.4811999999999999,3.335,3.1888000000000001,3.0426000000000002,2.8963999999999999,2.7502000000000004,2.6040000000000001,4,"Altherma 3 R ECH2O 304 07","Altherma 3 R ECH2O 504 07",9,3.25,null,4.3600000000000003]
[null,"Altherma 3 R ECH2O",7,3.1,4.29,5.23,57,null,null,null,null,null,null,null,null,null,null,null,null,null,null,null,null,null,null,null,null,null,null,null,null,null,null,null,null,null,null,4.6960000000000006,4.6590000000000007,4.6220000000000008,4.5850000000000009,4.548,4.5110000000000001,4.4740000000000002,4.5575000000000001,4.641,4.7244999999999999,4.8079999999999998,4.8915000000000006,4.9750000000000005,5.0585000000000004,{"$f":"AZ31","v":5.1420000000000003},5.1948000000000008,5.2476000000000003,5.3003999999999998,5.3532000000000002,5.4060000000000006,5.4588000000000001,5.5115999999999996,5.5644,5.6172000000000004,5.67,5.5991999999999997,5.5283999999999995,5.4576000000000002,5.3868,5.3159999999999998,5.2451999999999996,5.1743999999999994,5.1036000000000001,5.0327999999999999,4.9619999999999997,4.7953333333333328,4.6286666666666667,4.4619999999999997,4.2953333333333328,4.1286666666666667,3.9619999999999997,3.8065999999999995,3.6511999999999998,3.4958,3.3403999999999998,3.1849999999999996,3.0295999999999998,2.8742000000000001,2.7187999999999999,2.5633999999999997,2.4079999999999999,4,"Altherma 3 R ECH2O 304 07","Altherma 3 R ECH2O 504 07",9,3.25,null,4.3600000000000003]
[null,"Altherma 3 R ECH2O",7,3.1,4.29,5.23,58,null,null,null,null,null,null,null,null,null,null,null,null,null,null,null,null,null,null,null,null,null,null,null,null,null,null,null,null,null,null,{"$f":"AL32","v":4.5739999999999998},4.5343333333333327,4.4946666666666664,4.4550000000000001,4.4153333333333329,4.3756666666666657,4.3359999999999994,4.4249999999999998,4.5139999999999993,4.6029999999999998,4.6920000000000002,4.7809999999999997,4.87,4.9589999999999996,5.048,5.1071999999999997,5.1664000000000003,5.2256,5.2848000000000006,5.3440000000000003,5.4032,5.4624000000000006,5.5216000000000003,5.5808000000000009,5.6400000000000006,5.5708000000000002,5.5016000000000007,5.4324000000000003,5.3632000000000009,5.2940000000000005,5.2248000000000001,5.1556000000000006,5.0864000000000003,5.0172000000000008,4.9480000000000004,4.7663333333333338,4.5846666666666671,4.4030000000000005,4.2213333333333329,4.0396666666666663,3.8579999999999997,3.6933999999999996,3.5287999999999995,3.3641999999999994,3.1995999999999998,3.0349999999999997,2.8703999999999996,2.7058,2.5411999999999999,2.3765999999999998,2.2119999999999997,4,"Altherma 3 R ECH2O 304 07","Altherma 3 R ECH2O 504 07",9,3.25,null,4.3600000000000003]
[null,"Altherma 3 R ECH2O",7,3.1,4.29,5.23,59,null,null,null,null,null,null,null,null,null,null,null,null,null,null,null,null,null,null,null,null,null,null,null,null,null,null,null,null,null,null,4.452,4.4096666666666664,4.3673333333333328,4.3249999999999993,4.2826666666666666,4.2403333333333331,4.1979999999999995,4.2924999999999995,4.3869999999999996,4.4814999999999996,4.5760000000000005,4.6705000000000005,4.7650000000000006,4.8595000000000006,4.9540000000000006,5.0196000000000005,5.0852000000000004,5.1508000000000003,5.2164000000000001,5.282,5.3476000000000008,5.4132000000000007,5.4788000000000006,5.5444000000000004,5.61,5.5424000000000007,5.4748000000000001,5.4072000000000005,5.3395999999999999,5.2720000000000002,5.2044000000000006,5.1368,5.0692000000000004,5.0015999999999998,{"$f":"BT33","v":4.9340000000000002},4.7373333333333338,4.5406666666666666,4.3440000000000003,4.1473333333333331,3.9506666666666668,3.754,3.5802,3.4064000000000001,3.2325999999999997,3.0587999999999997,2.8849999999999998,2.7111999999999998,2.5373999999999999,2.3635999999999999,2.1898,{"$f":"CJ33","v":2.016},4,"Altherma 3 R ECH2O 304 07","Altherma 3 R ECH2O 504 07",9,3.25,null,4.3600000000000003]
[null,"Altherma 3 R ECH2O",7,3.1,4.29,5.23,60,null,null,null,null,null,null,null,null,null,null,null,null,null,null,null,null,null,null,null,null,null,null,null,null,null,null,null,null,null,null,4.33,4.2850000000000001,4.24,4.1950000000000003,4.1499999999999995,4.1049999999999995,4.0599999999999996,4.16,4.26,4.3599999999999994,4.46,4.5600000000000005,4.66,4.76,4.8600000000000003,4.9320000000000004,5.0040000000000004,5.0760000000000005,5.1480000000000006,5.2200000000000006,5.2919999999999998,5.3639999999999999,5.4359999999999999,5.508,{"$f":"BJ34","v":5.58},5.5140000000000002,5.4480000000000004,5.3819999999999997,5.3159999999999998,5.25,5.1840000000000002,5.1180000000000003,5.0519999999999996,4.9859999999999998,4.92,4.708333333333333,4.4966666666666661,4.2850000000000001,4.0733333333333333,3.8616666666666664,3.65,3.4670000000000001,3.2839999999999998,3.101,2.9180000000000001,2.7349999999999999,2.552,2.3689999999999998,2.1859999999999999,2.0030000000000001,1.82,4,"Altherma 3 R ECH2O 304 07","Altherma 3 R ECH2O 504 07",9,3.25,null,4.3600000000000003]
[null,"Altherma 3 R ECH2O",7,3.1,4.29,5.23,61,null,null,null,null,null,null,null,null,null,null,null,null,null,null,null,null,null,null,null,null,null,null,null,null,null,null,null,null,null,null,null,null,null,null,null,null,null,null,null,null,null,null,null,null,null,null,null,null,null,null,null,null,null,null,null,null,null,null,null,null,null,null,null,null,null,null,null,null,null,null,null,null,null,null,null,null,null,null,null,null,null,4,"Altherma 3 R ECH2O 304 07","Altherma 3 R ECH2O 504 07",9,3.25,null,4.3600000000000003]
[null,"Altherma 3 R ECH2O",7,3.1,4.29,5.23,62,null,null,null,null,null,null,null,null,null,null,null,null,null,null,null,null,null,null,null,null,null,null,null,null,null,null,null,null,null,null,null,null,null,null,null,null,null,null,null,null,null,null,null,null,null,null,null,null,null,null,null,null,null,null,null,null,null,null,null,null,null,null,null,null,null,null,null,null,null,null,null,null,null,null,null,null,null,null,null,null,null,4,"Altherma 3 R ECH2O 304 07","Altherma 3 R ECH2O 504 07",9,3.25,null,4.3600000000000003]
[null,"Altherma 3 R ECH2O",7,3.1,4.29,5.23,63,null,null,null,null,null,null,null,null,null,null,null,null,null,null,null,null,null,null,null,null,null,null,null,null,null,null,null,null,null,null,null,null,null,null,null,null,null,null,null,null,null,null,null,null,null,null,null,null,null,null,null,null,null,null,null,null,null,null,null,null,null,null,null,null,null,null,null,null,null,null,null,null,null,null,null,null,null,null,null,null,null,4,"Altherma 3 R ECH2O 304 07","Altherma 3 R ECH2O 504 07",9,3.25,null,4.3600000000000003]
[null,"Altherma 3 R ECH2O",7,3.1,4.29,5.23,64,null,null,null,null,null,null,null,null,null,null,null,null,null,null,null,null,null,null,null,null,null,null,null,null,null,null,null,null,null,null,null,null,null,null,null,null,null,null,null,null,null,null,null,null,null,null,null,null,null,null,null,null,null,null,null,null,null,null,null,null,null,null,null,null,null,null,null,null,null,null,null,null,null,null,null,null,null,null,null,null,null,4,"Altherma 3 R ECH2O 304 07","Altherma 3 R ECH2O 504 07",9,3.25,null,4.3600000000000003]
[null,"Altherma 3 R ECH2O",7,3.1,4.29,5.23,65,null,null,null,null,null,null,null,null,null,null,null,null,null,null,null,null,null,null,null,null,null,null,null,null,null,null,null,null,null,null,null,null,null,null,null,null,null,null,null,null,null,null,null,null,null,null,null,null,null,null,null,null,null,null,null,null,null,null,null,null,null,null,null,null,null,null,null,null,null,null,null,null,null,null,null,null,null,null,null,null,null,4,"Altherma 3 R ECH2O 304 07","Altherma 3 R ECH2O 504 07",9,3.25,null,4.3600000000000003]
[null,"Altherma 3 R ECH2O",7,3.1,4.29,5.23,66,null,null,null,null,null,null,null,null,null,null,null,null,null,null,null,null,null,null,null,null,null,null,null,null,null,null,null,null,null,null,null,null,null,null,null,null,null,null,null,null,null,null,null,null,null,null,null,null,null,null,null,null,null,null,null,null,null,null,null,null,null,null,null,null,null,null,null,null,null,null,null,null,null,null,null,null,null,null,null,null,null,4,"Altherma 3 R ECH2O 304 07","Altherma 3 R ECH2O 504 07",9,3.25,null,4.3600000000000003]
[null,"Altherma 3 R ECH2O",7,3.1,4.29,5.23,67,null,null,null,null,null,null,null,null,null,null,null,null,null,null,null,null,null,null,null,null,null,null,null,null,null,null,null,null,null,null,null,null,null,null,null,null,null,null,null,null,null,null,null,null,null,null,null,null,null,null,null,null,null,null,null,null,null,null,null,null,null,null,null,null,null,null,null,null,null,null,null,null,null,null,null,null,null,null,null,null,null,4,"Altherma 3 R ECH2O 304 07","Altherma 3 R ECH2O 504 07",9,3.25,null,4.3600000000000003]
[null,"Altherma 3 R ECH2O",7,3.1,4.29,5.23,68,null,null,null,null,null,null,null,null,null,null,null,null,null,null,null,null,null,null,null,null,null,null,null,null,null,null,null,null,null,null,null,null,null,null,null,null,null,null,null,null,null,null,null,null,null,null,null,null,null,null,null,null,null,null,null,null,null,null,null,null,null,null,null,null,null,null,null,null,null,null,null,null,null,null,null,null,null,null,null,null,null,4,"Altherma 3 R ECH2O 304 07","Altherma 3 R ECH2O 504 07",9,3.25,null,4.3600000000000003]
[null,"Altherma 3 R ECH2O",7,3.1,4.29,5.23,69,null,null,null,null,null,null,null,null,null,null,null,null,null,null,null,null,null,null,null,null,null,null,null,null,null,null,null,null,null,null,null,null,null,null,null,null,null,null,null,null,null,null,null,null,null,null,null,null,null,null,null,null,null,null,null,null,null,null,null,null,null,null,null,null,null,null,null,null,null,null,null,null,null,null,null,null,null,null,null,null,null,4,"Altherma 3 R ECH2O 304 07","Altherma 3 R ECH2O 504 07",9,3.25,null,4.3600000000000003]
[null,"Altherma 3 R ECH2O",7,3.1,4.29,5.23,70,null,null,null,null,null,null,null,null,null,null,null,null,null,null,null,null,null,null,null,null,null,null,null,null,null,null,null,null,null,null,null,null,null,null,null,null,null,null,null,null,null,null,null,null,null,null,null,null,null,null,null,null,null,null,null,null,null,null,null,null,null,null,null,null,null,null,null,null,null,null,null,null,null,null,null,null,null,null,null,null,null,4,"Altherma 3 R ECH2O 304 07","Altherma 3 R ECH2O 504 07",9,3.25,null,4.3600000000000003]
[null,"Altherma 3 R ECH2O",6,{"$f":"'Altherma 3 R'!$L$20","v":2.9},{"$f":"'Altherma 3 R'!$L$21","v":3.75},{"$f":"'Altherma 3 R'!$L$22","v":4.8499999999999996},30,{"$f":"H86","v":5.93},{"$f":"I86","v":5.9909999999999997},6.0519999999999996,6.1129999999999995,6.1739999999999995,6.2349999999999994,6.2960000000000003,6.3570000000000002,6.4180000000000001,6.4790000000000001,6.54,{"$f":"S86","v":6.6},6.66,6.72,6.78,6.84,6.9,6.96,7.02,7.08,7.14,7.2,7.26,7.32,7.38,7.4399999999999995,{"$f":"AH86","v":7.5},{"$f":"AI86","v":7.5350000000000001},7.57,7.6049999999999995,7.64,{"$f":"AM86","v":7.63},7.62,7.6099999999999994,7.6,7.59,7.58,7.6012500000000003,7.6225000000000005,7.6437499999999998,7.665,7.6862500000000002,7.7074999999999996,7.7287499999999998,{"$f":"AZ86","v":7.75},7.7670000000000003,7.7839999999999998,7.8010000000000002,7.8179999999999996,7.835,7.8520000000000003,7.8689999999999998,7.8860000000000001,7.9029999999999996,7.92,7.9029999999999996,7.8860000000000001,7.8689999999999998,7.8520000000000003,7.835,7.8179999999999996,7.8010000000000002,7.7839999999999998,{"$f":"BS86","v":7.7670000000000003},7.75,7.7216666666666667,7.6933333333333334,7.665,7.6366666666666667,7.6083333333333334,{"$f":"BZ86","v":7.58},7.5510000000000002,7.5220000000000002,7.4930000000000003,7.4640000000000004,7.4350000000000005,7.4059999999999997,7.3769999999999998,7.3479999999999999,7.319,7.29,{"$f":"Eingabemaske!G$19","v":4},"Altherma 3 R ECH2O 308 6 kW","Altherma 3 R ECH2O 508 6 kW",9,3.1,null,6]
[null,"Altherma 3 R ECH2O",6,{"$f":"'Altherma 3 R'!$L$20","v":2.9},{"$f":"'Altherma 3 R'!$L$21","v":3.75},{"$f":"'Altherma 3 R'!$L$22","v":4.8499999999999996},36,5.8079999999999998,5.8608000000000002,5.9135999999999997,5.9664000000000001,6.0191999999999997,6.0720000000000001,6.1248000000000005,6.1776,6.2304000000000004,6.2831999999999999,6.3360000000000003,6.3885000000000005,6.4410000000000007,6.4935,6.5460000000000003,6.5985000000000005,6.6509999999999998,6.7035,6.7560000000000002,6.8085000000000004,6.8610000000000007,6.9135,6.9660000000000002,7.0185000000000004,7.0709999999999997,7.1234999999999999,7.1760000000000002,{"$f":"AI92","v":7.2205000000000004},7.2650000000000006,7.3094999999999999,7.3540000000000001,{"$f":"AM92","v":7.3416666666666668},7.3293333333333335,7.3170000000000002,7.3046666666666669,7.2923333333333336,7.28,7.3072499999999998,7.3345000000000002,7.3617500000000007,7.3890000000000002,7.4162499999999998,7.4435000000000002,7.4707500000000007,{"$f":"AZ92","v":7.4980000000000002},7.5188000000000006,7.5396000000000001,7.5604000000000005,7.5811999999999999,7.6020000000000003,7.6228000000000007,7.6436000000000002,7.6644000000000005,7.6852,7.7060000000000004,7.6794000000000002,7.6528,7.6262000000000008,7.5996000000000006,7.5730000000000004,7.5464000000000002,7.5198,7.4932000000000007,{"$f":"BS92","v":7.4666000000000006},7.44,7.3933333333333335,7.3466666666666667,7.3000000000000007,7.2533333333333339,7.206666666666667,{"$f":"BZ92","v":7.16},7.1130000000000004,7.0659999999999998,7.0190000000000001,6.9720000000000004,6.9250000000000007,6.8780000000000001,6.8310000000000004,6.7840000000000007,6.7370000000000001,6.69,{"$f":"Eingabemaske!G$19","v":4},"Altherma 3 R ECH2O 308 6 kW","Altherma 3 R ECH2O 508 6 kW",9,3.1,null,6]
[null,"Altherma 3 R ECH2O",6,{"$f":"'Altherma 3 R'!$L$20","v":2.9},{"$f":"'Altherma 3 R'!$L$21","v":3.75},{"$f":"'Altherma 3 R'!$L$22","v":4.8499999999999996},43,5.66,5.7038000000000002,5.7476000000000003,5.7914000000000003,5.8352000000000004,5.8789999999999996,5.9227999999999996,5.9665999999999997,6.0103999999999997,6.0541999999999998,6.0979999999999999,6.14175,6.1855000000000002,6.2292499999999995,6.2729999999999997,6.3167499999999999,6.3605,6.4042500000000002,6.4480000000000004,6.4917499999999997,6.5354999999999999,6.57925,6.6230000000000002,6.6667500000000004,6.7104999999999997,6.7542499999999999,6.798,{"$f":"AI99","v":6.8550000000000004},6.9119999999999999,6.9689999999999994,7.0259999999999998,{"$f":"AM99","v":7.01},6.9939999999999998,6.9779999999999998,6.9619999999999997,6.9459999999999997,6.93,6.9642499999999998,6.9984999999999999,7.0327500000000001,7.0670000000000002,7.1012499999999994,7.1354999999999995,7.1697499999999996,{"$f":"AZ99","v":7.2039999999999997},7.2303999999999995,7.2568000000000001,7.2831999999999999,7.3095999999999997,7.3360000000000003,7.3624000000000001,7.3887999999999998,7.4151999999999996,7.4416000000000002,7.468,7.4302000000000001,7.3924000000000003,7.3545999999999996,7.3167999999999997,7.2789999999999999,7.2412000000000001,7.2034000000000002,7.1655999999999995,{"$f":"BS99","v":7.1277999999999997},7.09,7.0209999999999999,6.952,6.883,6.8140000000000001,6.7450000000000001,{"$f":"BZ99","v":6.6760000000000002},6.6067999999999998,6.5376000000000003,6.4683999999999999,6.3992000000000004,6.33,6.2607999999999997,6.1916000000000002,6.1223999999999998,6.0532000000000004,5.984,{"$f":"Eingabemaske!G$19","v":4},"Altherma 3 R ECH2O 308 6 kW","Altherma 3 R ECH2O 508 6 kW",9,3.1,null,6]
[null,"Altherma 3 R ECH2O",6,{"$f":"'Altherma 3 R'!$L$20","v":2.9},{"$f":"'Altherma 3 R'!$L$21","v":3.75},{"$f":"'Altherma 3 R'!$L$22","v":4.8499999999999996},53,null,null,null,null,null,null,null,null,null,null,{"$f":"R109","v":5.218},5.2530000000000001,5.2880000000000003,5.3229999999999995,5.3579999999999997,5.3929999999999998,5.4279999999999999,5.4630000000000001,5.4979999999999993,5.5329999999999995,5.5679999999999996,5.6029999999999998,5.6379999999999999,5.673,5.7079999999999993,5.7429999999999994,5.7779999999999996,{"$f":"AI109","v":5.8914999999999997},6.0049999999999999,6.1185,6.2320000000000002,{"$f":"AM109","v":6.2010000000000005},6.17,6.1389999999999993,6.1079999999999997,6.077,6.0459999999999994,6.1142499999999993,6.1824999999999992,6.2507499999999991,6.3189999999999991,6.3872499999999999,6.4554999999999998,6.5237499999999997,{"$f":"AZ109","v":6.5919999999999996},6.6433999999999997,6.6947999999999999,6.7462,6.7976000000000001,6.8490000000000002,6.9003999999999994,6.9517999999999995,7.0031999999999996,7.0545999999999998,7.1059999999999999,7.0582000000000003,7.0103999999999997,6.9626000000000001,6.9147999999999996,6.867,6.8192000000000004,6.7713999999999999,6.7236000000000002,{"$f":"BS109","v":6.6757999999999997},6.6280000000000001,6.5156666666666663,6.4033333333333333,6.2910000000000004,6.1786666666666665,6.0663333333333327,{"$f":"BZ109","v":5.9539999999999997},5.8422000000000001,5.7303999999999995,5.6185999999999998,5.5068000000000001,5.3949999999999996,5.2831999999999999,5.1714000000000002,5.0596000000000005,4.9478,4.8360000000000003,{"$f":"Eingabemaske!G$19","v":4},"Altherma 3 R ECH2O 308 6 kW","Altherma 3 R ECH2O 508 6 kW",9,3.1,null,6]
[null,"Altherma 3 R ECH2O",6,{"$f":"'Altherma 3 R'!$L$20","v":2.9},{"$f":"'Altherma 3 R'!$L$21","v":3.75},{"$f":"'Altherma 3 R'!$L$22","v":4.8499999999999996},69,null,null,null,null,null,null,null,null,null,null,null,null,null,null,null,null,null,null,null,null,null,null,null,null,null,null,null,null,null,null,null,null,null,null,null,null,null,null,null,null,null,null,null,null,null,null,null,null,null,null,null,null,null,null,null,null,null,null,null,null,null,null,null,null,null,null,null,null,null,null,null,null,null,null,null,null,null,null,null,null,null,{"$f":"Eingabemaske!G$19","v":4},"Altherma 3 R ECH2O 308 6 kW","Altherma 3 R ECH2O 508 6 kW",9,3.1,null,6]
[null,"Altherma 3 R ECH2O",8,{"$f":"'Altherma 3 R'!$L$32","v":2.7},{"$f":"'Altherma 3 R'!$L$33","v":3.64},{"$f":"'Altherma 3 R'!$L$34","v":4.5999999999999996},39,6.6459999999999999,6.7046000000000001,6.7632000000000003,6.8217999999999996,6.8803999999999998,6.9390000000000001,6.9976000000000003,7.0562000000000005,7.1147999999999998,7.1734,7.2320000000000002,7.2901249999999997,7.3482500000000002,7.4063749999999997,7.4645000000000001,7.5226249999999997,7.5807500000000001,7.6388749999999996,7.6969999999999992,7.7551249999999996,7.8132499999999991,7.8713749999999996,7.9294999999999991,7.9876249999999995,8.04575,8.1038749999999986,8.161999999999999,{"$f":"AI136","v":8.2784999999999993},8.3949999999999996,8.5114999999999998,8.6280000000000001,{"$f":"AM136","v":8.5960000000000001},8.5640000000000001,8.532,8.5,8.468,8.4359999999999999,8.5054999999999996,8.5749999999999993,8.644499999999999,8.7139999999999986,8.7835000000000001,8.8529999999999998,8.9224999999999994,{"$f":"AZ136","v":8.9919999999999991},9.0097999999999985,9.0275999999999996,9.045399999999999,9.0632000000000001,9.0809999999999995,9.0987999999999989,9.1166,9.1343999999999994,9.1522000000000006,9.17,9.15,9.1300000000000008,9.11,9.09,9.07,9.0500000000000007,9.0300000000000011,9.01,{"$f":"BS136","v":8.99},8.9700000000000006,8.8916666666666675,8.8133333333333344,8.7349999999999994,8.6566666666666663,8.5783333333333331,{"$f":"BZ136","v":8.5},8.4212000000000007,8.3423999999999996,8.2636000000000003,8.1847999999999992,8.1059999999999999,8.0272000000000006,7.9483999999999995,7.8696000000000002,7.7907999999999999,7.7119999999999997,{"$f":"Eingabemaske!G$19","v":4},"Altherma 3 R ECH2O 308 8 kW","Altherma 3 R ECH2O 508 8 kW",9,3,null,7.5]
[null,"Altherma 3 R ECH2O",8,{"$f":"'Altherma 3 R'!$L$32","v":2.7},{"$f":"'Altherma 3 R'!$L$33","v":3.64},{"$f":"'Altherma 3 R'!$L$34","v":4.5999999999999996},50,6.37,6.4110000000000005,6.452,6.4930000000000003,6.5339999999999998,6.5750000000000002,6.6160000000000005,6.657,6.6980000000000004,6.7389999999999999,{"$f":"R147","v":6.78},{"$f":"S147","v":6.82125},6.8625000000000007,6.9037500000000005,6.9450000000000003,6.9862500000000001,7.0274999999999999,7.0687500000000005,7.11,7.1512500000000001,7.1925000000000008,7.2337500000000006,7.2750000000000004,7.3162500000000001,7.3574999999999999,7.3987500000000006,{"$f":"AH147","v":7.44},{"$f":"AI147","v":7.5775000000000006},7.7149999999999999,7.8525,7.99,{"$f":"AM147","v":7.9533333333333331},7.916666666666667,7.88,7.8433333333333328,7.8066666666666666,7.77,7.8524999999999991,7.9349999999999996,8.0175000000000001,8.1,8.1824999999999992,8.2650000000000006,8.3475000000000001,{"$f":"AZ147","v":8.43},8.4610000000000003,8.4919999999999991,8.5229999999999997,8.5540000000000003,8.5850000000000009,8.6159999999999997,8.6470000000000002,8.6780000000000008,8.7089999999999996,8.74,8.7080000000000002,8.6760000000000002,8.6440000000000001,8.6120000000000001,8.58,8.548,8.516,8.484,{"$f":"BS147","v":8.452},8.42,8.3149999999999995,8.2100000000000009,8.1050000000000004,8,7.8949999999999996,{"$f":"BZ147","v":7.79},7.6829999999999998,7.5759999999999996,7.4690000000000003,7.3620000000000001,7.2549999999999999,7.1479999999999997,7.0409999999999995,6.9340000000000002,6.827,6.72,{"$f":"Eingabemaske!G$19","v":4},"Altherma 3 R ECH2O 308 8 kW","Altherma 3 R ECH2O 508 8 kW",9,3,null,7.5]
[null,"Altherma 3 R ECH2O",8,{"$f":"'Altherma 3 R'!$L$32","v":2.7},{"$f":"'Altherma 3 R'!$L$33","v":3.64},{"$f":"'Altherma 3 R'!$L$34","v":4.5999999999999996},56,null,null,null,null,null,null,null,null,null,null,null,null,null,null,null,null,null,null,null,null,null,null,null,null,null,null,null,null,null,null,{"$f":"AL153","v":7.5659999999999998},7.5129999999999999,7.46,7.407,7.3540000000000001,7.3010000000000002,7.2480000000000002,7.3567499999999999,7.4655000000000005,7.5742500000000001,7.6829999999999998,7.7917500000000004,7.9005000000000001,8.0092499999999998,8.1180000000000003,8.1626000000000012,8.2072000000000003,8.2517999999999994,8.2964000000000002,8.3410000000000011,8.3856000000000002,8.4301999999999992,8.4748000000000001,8.519400000000001,8.5640000000000001,8.5288000000000004,8.4936000000000007,8.4583999999999993,8.4231999999999996,8.3879999999999999,8.3528000000000002,8.3176000000000005,8.2823999999999991,8.2471999999999994,8.2119999999999997,8.0966666666666658,7.9813333333333327,7.8659999999999997,7.7506666666666666,7.6353333333333326,7.52,7.4057999999999993,7.2915999999999999,7.1773999999999996,7.0632000000000001,6.9489999999999998,6.8347999999999995,6.7206000000000001,6.6063999999999998,6.4922000000000004,6.3780000000000001,{"$f":"Eingabemaske!G$19","v":4},"Altherma 3 R ECH2O 308 8 kW","Altherma 3 R ECH2O 508 8 kW",9,3,null,7.5]
[null,"Altherma 3 R ECH2O",8,{"$f":"'Altherma 3 R'!$L$32","v":2.7},{"$f":"'Altherma 3 R'!$L$33","v":3.64},{"$f":"'Altherma 3 R'!$L$34","v":4.5999999999999996},65,null,null,null,null,null,null,null,null,null,null,null,null,null,null,null,null,null,null,null,null,null,null,null,null,null,null,null,null,null,null,null,null,null,null,null,null,null,null,null,null,null,null,null,null,null,null,null,null,null,null,null,null,null,null,null,null,null,null,null,null,null,null,null,null,null,null,null,null,null,null,null,null,null,null,null,null,null,null,null,null,null,{"$f":"Eingabemaske!G$19","v":4},"Altherma 3 R ECH2O 308 8 kW","Altherma 3 R ECH2O 508 8 kW",9,3,null,7.5]
[null,"Altherma 3 R F",4,{"$f":"'Altherma 3 R'!$L$8","v":3.1},{"$f":"'Altherma 3 R'!$L$9","v":4.0999999999999996},{"$f":"'Altherma 3 R'!$L$10","v":5.0999999999999996},34,4.6779999999999999,4.7228000000000003,4.7675999999999998,4.8124000000000002,4.8571999999999997,4.9020000000000001,4.9468000000000005,4.9916,5.0364000000000004,5.0811999999999999,5.1260000000000003,5.17,5.2140000000000004,5.258,5.3020000000000005,5.3460000000000001,5.3900000000000006,5.4340000000000002,5.4779999999999998,5.5220000000000002,5.5659999999999998,5.61,5.6539999999999999,5.6980000000000004,5.742,{"$f":"AG8","v":5.7859999999999996},5.83,5.9130000000000003,5.9960000000000004,6.0789999999999997,6.1619999999999999,6.1403333333333334,6.1186666666666669,6.0969999999999995,6.075333333333333,6.0536666666666665,6.032,6.0812499999999998,6.1304999999999996,6.1797500000000003,6.2290000000000001,6.2782499999999999,6.3275000000000006,6.3767500000000004,{"$f":"AZ8","v":6.4260000000000002},6.4291999999999998,6.4324000000000003,6.4356,6.4388000000000005,6.4420000000000002,6.4451999999999998,6.4484000000000004,6.4516,6.4548000000000005,6.4580000000000002,6.4241999999999999,6.3904000000000005,6.3566000000000003,6.3228,6.2889999999999997,6.2552000000000003,6.2214,6.1875999999999998,6.1538000000000004,6.12,{"$f":"BU8","v":6.0640000000000001},6.008,5.952,5.8959999999999999,5.84,5.7839999999999998,5.7273999999999994,5.6707999999999998,5.6142000000000003,5.5575999999999999,5.5009999999999994,5.4443999999999999,5.3878000000000004,5.3311999999999999,5.2745999999999995,5.218,4,"Altherma 3 R F 180 l 4 kW","Altherma 3 R F 230 l 4 kW",9,2.2000000000000002,null,4.3]
[null,"Altherma 3 R F",4,{"$f":"'Altherma 3 R'!$L$8","v":3.1},{"$f":"'Altherma 3 R'!$L$9","v":4.0999999999999996},{"$f":"'Altherma 3 R'!$L$10","v":5.0999999999999996},48,4.3820000000000006,{"$f":"I22","v":4.4136000000000006},4.4452000000000007,4.4768000000000008,4.5084000000000009,4.5400000000000009,4.5716000000000001,4.6032000000000002,4.6348000000000003,4.6664000000000003,4.6980000000000004,4.7286250000000001,4.7592500000000006,4.7898750000000003,4.8205000000000009,4.8511250000000006,4.8817500000000003,4.9123750000000008,4.9430000000000005,4.9736250000000002,5.0042500000000008,5.0348750000000004,5.0655000000000001,5.0961250000000007,5.1267500000000004,5.1573750000000009,5.1880000000000006,5.275500000000001,5.3630000000000004,5.4504999999999999,5.5380000000000003,5.5146666666666668,5.4913333333333334,5.468,5.4446666666666665,5.4213333333333331,5.3979999999999997,5.4507499999999993,5.5034999999999998,5.5562500000000004,5.609,5.6617499999999996,5.7145000000000001,5.7672500000000007,5.82,5.8357999999999999,5.8516000000000004,5.8673999999999999,5.8832000000000004,5.899,5.9147999999999996,5.9306000000000001,5.9463999999999997,5.9622000000000002,5.9779999999999998,5.9123999999999999,5.8468,5.7812000000000001,5.7156000000000002,5.65,5.5843999999999996,5.5187999999999997,5.4531999999999998,5.3875999999999999,5.3220000000000001,5.2356666666666669,5.1493333333333338,5.0630000000000006,4.9766666666666666,4.8903333333333334,4.8040000000000003,4.7187999999999999,4.6336000000000004,4.5484,4.4632000000000005,4.3780000000000001,4.2927999999999997,4.2076000000000002,4.1223999999999998,4.0372000000000003,3.952,4,"Altherma 3 R F 180 l 4 kW","Altherma 3 R F 230 l 4 kW",9,2.2000000000000002,null,4.3]
[null,"Altherma 3 R F",4,{"$f":"'Altherma 3 R'!$L$8","v":3.1},{"$f":"'Altherma 3 R'!$L$9","v":4.0999999999999996},{"$f":"'Altherma 3 R'!$L$10","v":5.0999999999999996},56,null,null,null,null,null,null,null,null,null,null,null,null,null,null,null,null,null,null,null,null,null,null,null,null,null,null,null,null,null,null,4.8180000000000005,4.783666666666667,4.7493333333333334,4.7149999999999999,4.6806666666666672,4.6463333333333336,4.6120000000000001,4.6900000000000004,4.7679999999999998,4.8460000000000001,4.9239999999999995,5.0019999999999998,5.08,5.1579999999999995,5.2359999999999998,5.2824,5.3288000000000002,5.3751999999999995,5.4215999999999998,5.468,5.5144000000000002,5.5608000000000004,5.6071999999999997,5.6536,{"$f":"BJ30","v":5.7},5.6276000000000002,5.5552000000000001,5.4828000000000001,5.4104000000000001,5.3380000000000001,5.2656000000000001,5.1932,5.1208,5.0484,4.976,4.8243333333333336,4.6726666666666663,4.5209999999999999,4.3693333333333335,4.2176666666666662,4.0659999999999998,3.9198,3.7736000000000001,3.6273999999999997,3.4811999999999999,3.335,3.1888000000000001,3.0426000000000002,2.8963999999999999,2.7502000000000004,2.6040000000000001,4,"Altherma 3 R F 180 l 4 kW","Altherma 3 R F 230 l 4 kW",9,2.2000000000000002,null,4.3]
[null,"Altherma 3 R F",4,{"$f":"'Altherma 3 R'!$L$8","v":3.1},{"$f":"'Altherma 3 R'!$L$9","v":4.0999999999999996},{"$f":"'Altherma 3 R'!$L$10","v":5.0999999999999996},65,null,null,null,null,null,null,null,null,null,null,null,null,null,null,null,null,null,null,null,null,null,null,null,null,null,null,null,null,null,null,null,null,null,null,null,null,null,null,null,null,null,null,null,null,null,null,null,null,null,null,null,null,null,null,null,null,null,null,null,null,null,null,null,null,null,null,null,null,null,null,null,null,null,null,null,null,null,null,null,null,null,4,"Altherma 3 R F 180 l 4 kW","Altherma 3 R F 230 l 4 kW",9,2.2000000000000002,null,4.3]
[null,"Altherma 3 R F",7,3.1,4.29,5.23,41,4.6339999999999995,4.6719999999999997,4.71,4.7479999999999993,4.7859999999999996,4.8239999999999998,4.8620000000000001,4.9000000000000004,4.9379999999999997,4.976,5.0140000000000002,5.0518749999999999,5.0897500000000004,5.1276250000000001,5.1654999999999998,5.2033750000000003,5.24125,5.2791250000000005,5.3170000000000002,5.3548749999999998,5.3927500000000004,5.430625,5.4685000000000006,5.5063750000000002,5.5442499999999999,5.5821250000000004,5.62,5.6965000000000003,5.7729999999999997,5.8494999999999999,5.9260000000000002,5.9063333333333334,5.8866666666666667,5.867,5.8473333333333333,5.8276666666666666,5.8079999999999998,5.8537499999999998,5.8994999999999997,5.9452499999999997,5.9909999999999997,6.0367500000000005,6.0825000000000005,6.1282500000000004,{"$f":"AZ15","v":6.1740000000000004},6.1782000000000004,6.1824000000000003,6.1866000000000003,6.1908000000000003,6.1950000000000003,6.1992000000000003,6.2034000000000002,6.2076000000000002,6.2118000000000002,{"$f":"BJ15","v":6.2160000000000002},6.1644000000000005,6.1128,6.0612000000000004,6.0095999999999998,5.9580000000000002,5.9064000000000005,5.8548,5.8032000000000004,5.7515999999999998,5.7,5.6393333333333331,5.5786666666666669,5.5180000000000007,5.4573333333333336,5.3966666666666665,5.3360000000000003,5.2754000000000003,5.2148000000000003,5.1542000000000003,5.0936000000000003,5.0329999999999995,4.9723999999999995,4.9117999999999995,4.8511999999999995,4.7905999999999995,4.7299999999999995,4,"Altherma 3 R F 07 180 l","Altherma 3 R F 07 230 l",9,2.25,null,4.3600000000000003]
[null,"Altherma 3 R F",7,3.1,4.29,5.23,45,4.6100000000000003,4.6440000000000001,4.6779999999999999,4.7120000000000006,4.7460000000000004,4.78,4.8140000000000001,4.8479999999999999,4.8820000000000006,4.9160000000000004,4.95,4.984375,5.0187499999999998,5.0531250000000005,5.0875000000000004,5.1218750000000002,5.15625,5.1906249999999998,5.2249999999999996,5.2593750000000004,5.2937500000000002,5.328125,5.3624999999999998,5.3968749999999996,5.4312500000000004,5.4656250000000002,5.5,5.5724999999999998,5.6449999999999996,5.7175000000000002,5.79,5.7716666666666665,5.753333333333333,5.7349999999999994,5.7166666666666668,5.6983333333333333,5.68,5.7237499999999999,5.7675000000000001,5.8112500000000002,5.8550000000000004,5.8987499999999997,5.9424999999999999,5.9862500000000001,{"$f":"AZ19","v":6.03},6.0350000000000001,6.04,6.0449999999999999,6.05,6.0549999999999997,6.0600000000000005,6.0650000000000004,6.07,6.0750000000000002,6.08,6.0179999999999998,5.9560000000000004,5.8940000000000001,5.8319999999999999,5.77,5.7080000000000002,5.6459999999999999,5.5839999999999996,5.5220000000000002,5.46,5.3966666666666665,5.333333333333333,{"$f":"BW19","v":5.27},5.206666666666667,5.1433333333333335,5.08,5.0170000000000003,4.9539999999999997,4.891,4.8280000000000003,4.7650000000000006,4.702,4.6390000000000002,4.5760000000000005,4.5129999999999999,4.45,4,"Altherma 3 R F 07 180 l","Altherma 3 R F 07 230 l",9,2.25,null,4.3600000000000003]
[null,"Altherma 3 R F",7,3.1,4.29,5.23,56,null,null,null,null,null,null,null,null,null,null,null,null,null,null,null,null,null,null,null,null,null,null,null,null,null,null,null,null,null,null,4.8180000000000005,4.783666666666667,4.7493333333333334,4.7149999999999999,4.6806666666666672,4.6463333333333336,4.6120000000000001,4.6900000000000004,4.7679999999999998,4.8460000000000001,4.9239999999999995,5.0019999999999998,5.08,5.1579999999999995,5.2359999999999998,5.2824,5.3288000000000002,5.3751999999999995,5.4215999999999998,5.468,5.5144000000000002,5.5608000000000004,5.6071999999999997,5.6536,{"$f":"BJ30","v":5.7},5.6276000000000002,5.5552000000000001,5.4828000000000001,5.4104000000000001,5.3380000000000001,5.2656000000000001,5.1932,5.1208,5.0484,4.976,4.8243333333333336,4.6726666666666663,4.5209999999999999,4.3693333333333335,4.2176666666666662,4.0659999999999998,3.9198,3.7736000000000001,3.6273999999999997,3.4811999999999999,3.335,3.1888000000000001,3.0426000000000002,2.8963999999999999,2.7502000000000004,2.6040000000000001,4,"Altherma 3 R F 07 180 l","Altherma 3 R F 07 230 l",9,2.25,null,4.3600000000000003]
[null,"Altherma 3 R F",6,{"$f":"'Altherma 3 R'!$L$20","v":2.9},{"$f":"'Altherma 3 R'!$L$21","v":3.75},{"$f":"'Altherma 3 R'!$L$22","v":4.8499999999999996},32,5.89,5.9481999999999999,6.0064000000000002,6.0645999999999995,6.1227999999999998,6.181,6.2392000000000003,6.2974000000000006,6.3555999999999999,6.4138000000000002,6.4720000000000004,6.5295000000000005,6.5870000000000006,6.6445000000000007,6.702,6.7595000000000001,6.8170000000000002,6.8745000000000003,6.9320000000000004,6.9895000000000005,7.0470000000000006,7.1045000000000007,7.1620000000000008,7.2195,7.2770000000000001,7.3345000000000002,7.3920000000000003,7.43,7.468,7.5060000000000002,7.5439999999999996,{"$f":"AM88","v":7.5333333333333332},7.5226666666666668,7.5120000000000005,7.5013333333333332,7.4906666666666668,7.48,7.5032500000000004,7.5265000000000004,7.5497500000000004,7.5730000000000004,7.5962500000000004,7.6195000000000004,7.6427500000000004,{"$f":"AZ88","v":7.6660000000000004},7.6842000000000006,7.7023999999999999,7.7206000000000001,7.7388000000000003,7.7569999999999997,7.7751999999999999,7.7934000000000001,7.8116000000000003,7.8297999999999996,7.8479999999999999,7.8277999999999999,7.8075999999999999,7.7873999999999999,7.7671999999999999,7.7469999999999999,7.7267999999999999,7.7065999999999999,7.6863999999999999,{"$f":"BS88","v":7.6661999999999999},7.6459999999999999,7.6116666666666664,7.5773333333333337,7.5430000000000001,7.5086666666666666,7.4743333333333339,{"$f":"BZ88","v":7.44},7.4050000000000002,7.37,7.335,7.3,7.2650000000000006,7.23,7.1950000000000003,7.16,7.125,7.09,4,"Altherma 3 R F 180 l 6 kW","Altherma 3 R F 230 l 6 kW",9,2.1,null,6]
[null,"Altherma 3 R F",6,{"$f":"'Altherma 3 R'!$L$20","v":2.9},{"$f":"'Altherma 3 R'!$L$21","v":3.75},{"$f":"'Altherma 3 R'!$L$22","v":4.8499999999999996},43,5.66,5.7038000000000002,5.7476000000000003,5.7914000000000003,5.8352000000000004,5.8789999999999996,5.9227999999999996,5.9665999999999997,6.0103999999999997,6.0541999999999998,6.0979999999999999,6.14175,6.1855000000000002,6.2292499999999995,6.2729999999999997,6.3167499999999999,6.3605,6.4042500000000002,6.4480000000000004,6.4917499999999997,6.5354999999999999,6.57925,6.6230000000000002,6.6667500000000004,6.7104999999999997,6.7542499999999999,6.798,6.8550000000000004,6.9119999999999999,6.9689999999999994,7.0259999999999998,{"$f":"AM99","v":7.01},6.9939999999999998,6.9779999999999998,6.9619999999999997,6.9459999999999997,6.93,6.9642499999999998,6.9984999999999999,7.0327500000000001,7.0670000000000002,7.1012499999999994,7.1354999999999995,7.1697499999999996,{"$f":"AZ99","v":7.2039999999999997},7.2303999999999995,7.2568000000000001,7.2831999999999999,7.3095999999999997,7.3360000000000003,7.3624000000000001,7.3887999999999998,7.4151999999999996,7.4416000000000002,7.468,7.4302000000000001,7.3924000000000003,7.3545999999999996,7.3167999999999997,7.2789999999999999,7.2412000000000001,7.2034000000000002,7.1655999999999995,{"$f":"BS99","v":7.1277999999999997},7.09,7.0209999999999999,6.952,6.883,6.8140000000000001,6.7450000000000001,{"$f":"BZ99","v":6.6760000000000002},6.6067999999999998,6.5376000000000003,6.4683999999999999,6.3992000000000004,6.33,6.2607999999999997,6.1916000000000002,6.1223999999999998,6.0532000000000004,5.984,4,"Altherma 3 R F 180 l 6 kW","Altherma 3 R F 230 l 6 kW",9,2.1,null,6]
[null,"Altherma 3 R F",6,{"$f":"'Altherma 3 R'!$L$20","v":2.9},{"$f":"'Altherma 3 R'!$L$21","v":3.75},{"$f":"'Altherma 3 R'!$L$22","v":4.8499999999999996},47,5.532,5.5678000000000001,5.6036000000000001,5.6394000000000002,5.6752000000000002,5.7110000000000003,5.7467999999999995,5.7825999999999995,5.8183999999999996,5.8541999999999996,5.89,5.9257499999999999,5.9615,5.9972500000000002,6.0329999999999995,6.0687499999999996,6.1044999999999998,6.14025,6.1760000000000002,6.2117500000000003,6.2475000000000005,6.2832500000000007,6.3190000000000008,6.3547500000000001,6.3905000000000003,6.4262500000000005,6.4620000000000006,6.5350000000000001,6.6080000000000005,6.681,6.7539999999999996,{"$f":"AM103","v":6.734},6.7139999999999995,6.694,6.6740000000000004,6.6539999999999999,6.6340000000000003,6.6782500000000002,6.7225000000000001,6.76675,6.8109999999999999,6.8552500000000007,6.8995000000000006,6.9437500000000005,{"$f":"AZ103","v":6.9880000000000004},7.0220000000000002,7.056,7.0900000000000007,7.1240000000000006,7.1580000000000004,7.1920000000000002,7.226,7.2600000000000007,7.2940000000000005,7.3280000000000003,7.2850000000000001,7.242,7.1989999999999998,7.1559999999999997,7.1129999999999995,7.07,7.0270000000000001,6.984,{"$f":"BS103","v":6.9409999999999998},6.8979999999999997,6.8136666666666663,6.7293333333333329,6.6449999999999996,6.5606666666666671,6.4763333333333337,{"$f":"BZ103","v":6.3920000000000003},6.3071999999999999,6.2224000000000004,6.1376000000000008,6.0528000000000004,5.968,5.8832000000000004,5.7984000000000009,5.7136000000000005,5.6288,5.5440000000000005,4,"Altherma 3 R F 180 l 6 kW","Altherma 3 R F 230 l 6 kW",9,2.1,null,6]
[null,"Altherma 3 R F",6,{"$f":"'Altherma 3 R'!$L$20","v":2.9},{"$f":"'Altherma 3 R'!$L$21","v":3.75},{"$f":"'Altherma 3 R'!$L$22","v":4.8499999999999996},64,null,null,null,null,null,null,null,null,null,null,null,null,null,null,null,null,null,null,null,null,null,null,null,null,null,null,null,null,null,null,null,null,null,null,null,null,null,null,null,null,null,null,null,null,null,null,null,null,null,null,null,null,null,null,null,null,null,null,null,null,null,null,null,null,null,null,null,null,null,null,null,null,null,null,null,null,null,null,null,null,null,4,"Altherma 3 R F 180 l 6 kW","Altherma 3 R F 230 l 6 kW",9,2.1,null,6]
[null,"Altherma 3 R F",8,{"$f":"'Altherma 3 R'!$L$32","v":2.7},{"$f":"'Altherma 3 R'!$L$33","v":3.64},{"$f":"'Altherma 3 R'!$L$34","v":4.5999999999999996},32,6.8220000000000001,6.8853999999999997,6.9488000000000003,7.0122,7.0755999999999997,7.1389999999999993,7.2023999999999999,7.2657999999999996,7.3291999999999993,7.3925999999999998,7.4559999999999995,7.5188749999999995,7.5817499999999995,7.6446249999999996,7.7074999999999996,7.7703749999999996,7.8332499999999996,7.8961249999999996,7.9589999999999996,8.0218749999999996,8.0847499999999997,8.1476249999999997,8.2104999999999997,8.2733749999999997,8.3362499999999997,8.3991249999999997,8.4619999999999997,{"$f":"AI129","v":8.5875000000000004},8.713000000000001,8.8384999999999998,8.9640000000000004,{"$f":"AM129","v":8.929666666666666},8.8953333333333333,8.8610000000000007,8.8266666666666662,8.7923333333333318,8.7579999999999991,8.832749999999999,8.9074999999999989,8.9822499999999987,9.0569999999999986,9.1317500000000003,9.2065000000000001,9.28125,{"$f":"AZ129","v":9.3559999999999999},9.3729999999999993,9.39,9.407,9.4239999999999995,9.4409999999999989,9.4580000000000002,9.4749999999999996,9.4919999999999991,9.5090000000000003,9.5259999999999998,9.5129999999999999,9.5,9.4870000000000001,9.4740000000000002,9.4610000000000003,9.4480000000000004,9.4350000000000005,9.4220000000000006,{"$f":"BS129","v":9.4090000000000007},9.3960000000000008,9.34,9.2840000000000007,9.2280000000000015,9.1720000000000006,9.1159999999999997,{"$f":"BZ129","v":9.06},9.0030000000000001,8.9459999999999997,8.8890000000000011,8.8320000000000007,8.7750000000000004,8.718,8.6609999999999996,8.604000000000001,8.5470000000000006,8.49,4,"Altherma 3 R F 180 l 8 kW","Altherma 3 R F 230 l 8 kW",9,2,null,7.5]
[null,"Altherma 3 R F",8,{"$f":"'Altherma 3 R'!$L$32","v":2.7},{"$f":"'Altherma 3 R'!$L$33","v":3.64},{"$f":"'Altherma 3 R'!$L$34","v":4.5999999999999996},40,6.62,6.6779999999999999,6.7359999999999998,6.7940000000000005,6.8520000000000003,6.91,6.968,7.0259999999999998,7.0840000000000005,7.1420000000000003,{"$f":"R137","v":7.2},7.2575000000000003,7.3150000000000004,7.3724999999999996,7.43,7.4874999999999998,7.5449999999999999,7.6025,7.66,7.7174999999999994,7.7749999999999995,7.8324999999999996,7.89,7.9474999999999998,8.004999999999999,8.0625,8.1199999999999992,{"$f":"AI137","v":8.2349999999999994},8.35,8.4649999999999999,8.58,{"$f":"AM137","v":8.5483333333333338},8.5166666666666675,8.4849999999999994,8.4533333333333331,8.4216666666666669,8.39,8.4587500000000002,8.5274999999999999,8.5962499999999995,8.6649999999999991,8.7337500000000006,8.8025000000000002,8.8712499999999999,{"$f":"AZ137","v":8.94},8.9580000000000002,8.9759999999999991,8.9939999999999998,9.0119999999999987,9.0299999999999994,9.048,9.0659999999999989,9.0839999999999996,9.1019999999999985,9.1199999999999992,9.0990000000000002,9.0779999999999994,9.0569999999999986,9.0359999999999996,9.0150000000000006,8.9939999999999998,8.972999999999999,8.952,{"$f":"BS137","v":8.9310000000000009},8.91,8.8283333333333331,8.7466666666666661,8.6649999999999991,8.5833333333333339,8.5016666666666669,{"$f":"BZ137","v":8.42},8.3379999999999992,8.2560000000000002,8.1739999999999995,8.0920000000000005,8.01,7.9279999999999999,7.8460000000000001,7.7639999999999993,7.6819999999999995,7.6,4,"Altherma 3 R F 180 l 8 kW","Altherma 3 R F 230 l 8 kW",9,2,null,7.5]
[null,"Altherma 3 R F",8,{"$f":"'Altherma 3 R'!$L$32","v":2.7},{"$f":"'Altherma 3 R'!$L$33","v":3.64},{"$f":"'Altherma 3 R'!$L$34","v":4.5999999999999996},47,6.4480000000000004,6.4968000000000004,6.5456000000000003,6.5944000000000003,6.6432000000000002,6.6920000000000002,6.7408000000000001,6.7896000000000001,6.8384,6.8872,6.9359999999999999,6.98475,7.0335000000000001,7.0822500000000002,7.1310000000000002,7.1797500000000003,7.2285000000000004,7.2772500000000004,7.3260000000000005,7.3747499999999997,7.4234999999999998,7.4722499999999998,7.5209999999999999,7.56975,7.6185,7.6672500000000001,7.7160000000000002,{"$f":"AI144","v":7.8369999999999997},7.9580000000000002,8.0789999999999988,8.1999999999999993,{"$f":"AM144","v":8.1673333333333318},8.134666666666666,8.1020000000000003,8.0693333333333328,8.0366666666666653,8.0039999999999996,8.0767500000000005,8.1494999999999997,8.2222499999999989,8.2949999999999999,8.3677500000000009,8.4405000000000001,8.5132499999999993,{"$f":"AZ144","v":8.5860000000000003},8.6086000000000009,8.6311999999999998,8.6538000000000004,8.6763999999999992,8.6989999999999998,8.7216000000000005,8.7441999999999993,8.7667999999999999,8.7893999999999988,8.8119999999999994,8.7835999999999999,8.7552000000000003,8.726799999999999,8.6983999999999995,8.67,8.6416000000000004,8.6132000000000009,8.5847999999999995,{"$f":"BS144","v":8.5564},8.5280000000000005,8.4280000000000008,8.3279999999999994,8.2279999999999998,8.1280000000000001,8.0280000000000005,{"$f":"BZ144","v":7.9279999999999999},7.8263999999999996,7.7248000000000001,7.6231999999999998,7.5216000000000003,7.42,7.3184000000000005,7.2168000000000001,7.1151999999999997,7.0136000000000003,6.9119999999999999,4,"Altherma 3 R F 180 l 8 kW","Altherma 3 R F 230 l 8 kW",9,2,null,7.5]
[null,"Altherma 3 R F",8,{"$f":"'Altherma 3 R'!$L$32","v":2.7},{"$f":"'Altherma 3 R'!$L$33","v":3.64},{"$f":"'Altherma 3 R'!$L$34","v":4.5999999999999996},64,null,null,null,null,null,null,null,null,null,null,null,null,null,null,null,null,null,null,null,null,null,null,null,null,null,null,null,null,null,null,null,null,null,null,null,null,null,null,null,null,null,null,null,null,null,null,null,null,null,null,null,null,null,null,null,null,null,null,null,null,null,null,null,null,null,null,null,null,null,null,null,null,null,null,null,null,null,null,null,null,null,4,"Altherma 3 R F 180 l 8 kW","Altherma 3 R F 230 l 8 kW",9,2,null,7.5]
[null,"Altherma 3 H HT ECH2O",14,{"$f":"'Altherma 3 H HT'!$M$8","v":3.21},{"$f":"'Altherma 3 H HT'!$M$9","v":4.09},{"$f":"'Altherma 3 H HT'!$M$10","v":4.79},32,{"$f":"$H$496-(($H$496-$H$501)/5*A5)","v":8.0399999999999991},8.1369999999999987,8.234,8.3309999999999995,8.427999999999999,8.5249999999999986,8.6219999999999999,8.7189999999999994,8.8159999999999989,8.9130000000000003,{"$f":"$R$496-(($R$496-$R$501)/5*A5)","v":9.01},9.0836249999999996,9.1572499999999994,9.2308749999999993,9.3045000000000009,9.3781250000000007,9.4517500000000005,9.5253750000000004,9.5990000000000002,9.672625,9.7462499999999999,9.8198749999999997,9.8934999999999995,9.9671250000000011,10.040750000000001,10.114375000000001,{"$f":"$AH$496-(($AH$496-$AH$501)/5*A5)","v":10.188000000000001},10.175600000000001,10.1632,10.1508,10.138400000000001,10.126000000000001,10.1136,10.1012,10.088800000000001,10.0764,{"$f":"$AR$496-(($AR$496-$AR$501)/5*A5)","v":10.064},10.130749999999999,10.1975,10.264250000000001,10.331,10.397749999999998,10.464499999999999,10.53125,{"$f":"$AZ$496-(($AZ$496-$AZ$501)/5*A5)","v":10.597999999999999},10.520399999999999,10.442799999999998,10.3652,10.287599999999999,10.209999999999999,10.132399999999999,10.054799999999998,9.9771999999999998,9.8995999999999995,{"$f":"$BJ$496-(($BJ$496-$BJ$501)/5*A5)","v":9.8219999999999992},9.7827999999999999,9.7435999999999989,9.7043999999999997,9.6651999999999987,9.6259999999999994,9.5868000000000002,9.5475999999999992,9.5084,9.469199999999999,{"$f":"$BT$496-(($BT$496-$BT$501)/5*A5)","v":9.43},9.3693333333333335,9.3086666666666673,9.2480000000000011,9.1873333333333331,9.1266666666666669,{"$f":"$BZ$496-(($BZ$496-$BZ$501)/5*A5)","v":9.0660000000000007},9.1320000000000014,9.1980000000000004,9.2639999999999993,9.33,9.3960000000000008,9.4619999999999997,9.5279999999999987,9.5939999999999994,9.66,{"$f":"$CJ$496-(($CJ$496-$CJ$501)/5*A5)","v":9.7259999999999991},4,"Altherma 3 H HT ECH2O 500 14","Altherma 3 H HT ECH2O 500 14",9,1.2,null,5.9]
[null,"Altherma 3 H HT ECH2O",14,{"$f":"'Altherma 3 H HT'!$M$8","v":3.21},{"$f":"'Altherma 3 H HT'!$M$9","v":4.09},{"$f":"'Altherma 3 H HT'!$M$10","v":4.79},38,{"$f":"$H$501-(($H$501-$H$506)/5*A6)","v":8.1059999999999999},8.2498000000000005,8.3935999999999993,8.5373999999999999,8.6811999999999987,8.8249999999999993,8.9687999999999999,9.1125999999999987,9.2563999999999993,9.4001999999999981,{"$f":"$R$501-(($R$501-$R$506)/5*A6)","v":9.5439999999999987},9.6131249999999984,9.6822499999999998,9.7513749999999995,9.8204999999999991,9.8896249999999988,9.9587499999999984,10.027875,10.097,10.166124999999999,10.235250000000001,10.304375,10.3735,10.442625,10.511749999999999,10.580875000000001,{"$f":"$AH$501-(($AH$501-$AH$506)/5*A6)","v":10.65},10.6046,10.559200000000001,10.5138,10.468400000000001,10.423,10.377599999999999,10.3322,10.286799999999999,10.241400000000001,{"$f":"$AR$501-(($AR$501-$AR$506)/5*A6)","v":10.196},10.268750000000001,10.3415,10.414249999999999,10.487,10.559750000000001,10.6325,10.705249999999999,{"$f":"$AZ$501-(($AZ$501-$AZ$506)/5*A6)","v":10.778},10.685400000000001,10.5928,10.5002,10.4076,10.315000000000001,10.2224,10.129799999999999,10.0372,9.9446000000000012,{"$f":"$BJ$501-(($BJ$501-$BJ$506)/5*A6)","v":9.8520000000000003},9.7924000000000007,9.732800000000001,9.6731999999999996,9.6135999999999999,9.5540000000000003,9.4944000000000006,9.434800000000001,9.3751999999999995,9.3155999999999999,{"$f":"$BT$501-(($BT$501-$BT$506)/5*A6)","v":9.2560000000000002},9.2053333333333338,9.1546666666666674,9.1039999999999992,9.0533333333333328,9.0026666666666664,{"$f":"$BZ$501-(($BZ$501-$BZ$506)/5*A6)","v":8.952},9.0708000000000002,9.1896000000000004,9.3083999999999989,9.4271999999999991,9.5459999999999994,9.6647999999999996,9.7835999999999999,9.9023999999999983,10.021199999999999,{"$f":"$CJ$501-(($CJ$501-$CJ$506)/5*A6)","v":10.139999999999999},4,"Altherma 3 H HT ECH2O 500 14","Altherma 3 H HT ECH2O 500 14",9,1.2,null,5.9]
[null,"Altherma 3 H HT ECH2O",14,{"$f":"'Altherma 3 H HT'!$M$8","v":3.21},{"$f":"'Altherma 3 H HT'!$M$9","v":4.09},{"$f":"'Altherma 3 H HT'!$M$10","v":4.79},49,{"$f":"$H$511-(($H$511-$H$516)/5*A7)","v":8.3559999999999999},8.5175999999999998,8.6791999999999998,8.8407999999999998,9.0023999999999997,9.1639999999999997,9.3255999999999997,9.4871999999999996,9.6487999999999996,9.8103999999999996,{"$f":"$R$511-(($R$511-$R$516)/5*A7)","v":9.9719999999999995},10.022874999999999,10.07375,10.124625,10.1755,10.226374999999999,10.277249999999999,10.328125,10.379,10.429874999999999,10.48075,10.531625,10.5825,10.633374999999999,10.684249999999999,10.735125,{"$f":"$AH$511-(($AH$511-$AH$516)/5*A7)","v":10.786},10.779399999999999,10.7728,10.7662,10.759600000000001,10.753,10.7464,10.739800000000001,10.7332,10.726600000000001,{"$f":"$AR$511-(($AR$511-$AR$516)/5*A7)","v":10.72},10.733750000000001,10.7475,10.76125,10.775,10.78875,10.8025,10.81625,{"$f":"$AZ$511-(($AZ$511-$AZ$516)/5*A7)","v":10.83},10.772,10.714,10.656000000000001,10.598000000000001,10.54,10.481999999999999,10.423999999999999,10.366,10.308,{"$f":"$BJ$511-(($BJ$511-$BJ$516)/5*A7)","v":10.25},10.118,9.9860000000000007,9.8539999999999992,9.7219999999999995,9.59,9.4580000000000002,9.3260000000000005,9.1939999999999991,9.0619999999999994,{"$f":"$BT$511-(($BT$511-$BT$516)/5*A7)","v":8.93},8.89,8.85,8.8099999999999987,8.77,8.73,{"$f":"$BZ$511-(($BZ$511-$BZ$516)/5*A7)","v":8.69},8.8040000000000003,8.9179999999999993,9.032,9.145999999999999,9.26,9.3740000000000006,9.4879999999999995,9.6020000000000003,9.7159999999999993,{"$f":"$CJ$511-(($CJ$511-$CJ$516)/5*A7)","v":9.83},4,"Altherma 3 H HT ECH2O 500 14","Altherma 3 H HT ECH2O 500 14",9,1.2,null,5.9]
[null,"Altherma 3 H HT ECH2O",14,{"$f":"'Altherma 3 H HT'!$M$8","v":3.21},{"$f":"'Altherma 3 H HT'!$M$9","v":4.09},{"$f":"'Altherma 3 H HT'!$M$10","v":4.79},60,8.3149999999999995,{"$f":"$H526-(($H526-$R526)/$R$3*I$3)","v":8.4669999999999987},8.6189999999999998,8.7710000000000008,8.923,9.0749999999999993,9.2270000000000003,9.3790000000000013,9.5310000000000006,9.6829999999999998,9.8350000000000009,{"$f":"$R526-(($R526-$AH526)/$AH$3*S$3)","v":9.875},9.9150000000000009,9.9550000000000018,9.995000000000001,10.035,10.075000000000001,10.115000000000002,10.155000000000001,10.195,10.235000000000001,10.275000000000002,10.315000000000001,10.355,10.395000000000001,10.435000000000002,10.475000000000001,{"$f":"$AH526-(($AH526-$AR526)/$AR$3*AI$3)","v":10.480500000000001},10.486000000000001,10.491500000000002,10.497000000000002,10.502500000000001,10.508000000000001,10.513500000000001,10.519000000000002,10.524500000000002,10.530000000000001,{"$f":"$AR526-(($AR526-$AZ526)/$AZ$3*AS$3)","v":10.535625000000001},10.541250000000002,10.546875,10.5525,10.558125,10.563749999999999,10.569374999999999,10.574999999999999,{"$f":"$AZ526-(($AZ526-$BJ526)/$BJ$3*BA$3)","v":10.535},10.494999999999999,10.455,10.414999999999999,10.375,10.335000000000001,10.295,10.255000000000001,10.215,10.175000000000001,{"$f":"$BJ526-(($BJ526-$BT526)/$BT$3*BK$3)","v":9.9755000000000003},9.7759999999999998,9.5765000000000011,9.3770000000000007,9.1775000000000002,8.9779999999999998,8.7784999999999993,8.5790000000000006,8.3795000000000002,8.18,{"$f":"$BT526-(($BT526-$BZ526)/$BZ$3*BU$3)","v":8.2016666666666662},8.2233333333333327,8.245000000000001,8.2666666666666675,8.288333333333334,8.31,{"$f":"$BZ526-(($BZ526-$CJ526)/$CJ$3*CA$3)","v":8.3885000000000005},8.4670000000000005,8.5455000000000005,8.6240000000000006,8.7025000000000006,8.7809999999999988,8.8594999999999988,8.9379999999999988,9.0164999999999988,9.0949999999999989,4,"Altherma 3 H HT ECH2O 500 14","Altherma 3 H HT ECH2O 500 14",9,1.2,null,5.9]
[null,"Altherma 3 H HT ECH2O",16,{"$f":"'Altherma 3 H HT'!$M$19","v":3.13},{"$f":"'Altherma 3 H HT'!$M$20","v":4.09},{"$f":"'Altherma 3 H HT'!$M$21","v":5},35,{"$f":"'Altherma 3 H HT'!D18","v":8.94},9.09,9.24,9.3899999999999988,9.5399999999999991,9.69,9.84,9.99,10.139999999999999,10.29,{"$f":"'Altherma 3 H HT'!D19","v":10.44},10.524374999999999,10.608749999999999,10.693125,10.7775,10.861875,10.946249999999999,11.030624999999999,11.114999999999998,11.199375,11.28375,11.368124999999999,11.452499999999999,11.536874999999998,11.62125,11.705625,{"$f":"'Altherma 3 H HT'!D20","v":11.79},11.732999999999999,11.676,11.619,11.561999999999999,11.504999999999999,11.448,11.391,11.334,11.277000000000001,{"$f":"'Altherma 3 H HT'!D21","v":11.22},11.251250000000001,11.282500000000001,11.313750000000001,11.345000000000001,11.376250000000001,11.407500000000001,11.438750000000001,{"$f":"'Altherma 3 H HT'!D22","v":11.47},11.367000000000001,11.264000000000001,11.161,11.058,10.955,10.852,10.749000000000001,10.645999999999999,10.542999999999999,{"$f":"'Altherma 3 H HT'!D23","v":10.44},10.397,10.353999999999999,10.311,10.267999999999999,10.225,10.182,10.138999999999999,10.096,10.052999999999999,{"$f":"'Altherma 3 H HT'!D24","v":10.01},9.9649999999999999,9.92,9.875,9.83,9.7850000000000001,{"$f":"'Altherma 3 H HT'!D25","v":9.74},9.83,9.92,10.01,10.1,10.190000000000001,10.280000000000001,10.370000000000001,10.46,10.55,{"$f":"'Altherma 3 H HT'!D26","v":10.64},4,"Altherma 3 H HT ECH2O 500 16","Altherma 3 H HT ECH2O 500 16",9,1.1000000000000001,null,9]
[null,"Altherma 3 H HT ECH2O",16,{"$f":"'Altherma 3 H HT'!$M$19","v":3.13},{"$f":"'Altherma 3 H HT'!$M$20","v":4.09},{"$f":"'Altherma 3 H HT'!$M$21","v":5},45,{"$f":"'Altherma 3 H HT'!F18","v":9.14},9.3130000000000006,9.4860000000000007,9.6590000000000007,9.8320000000000007,10.004999999999999,10.178000000000001,10.350999999999999,10.523999999999999,10.696999999999999,{"$f":"'Altherma 3 H HT'!F19","v":10.87},10.927499999999998,10.984999999999999,11.042499999999999,11.1,11.157499999999999,11.215,11.272499999999999,11.329999999999998,11.387499999999999,11.444999999999999,11.5025,11.559999999999999,11.6175,11.674999999999999,11.7325,{"$f":"'Altherma 3 H HT'!F20","v":11.79},11.757,11.724,11.690999999999999,11.657999999999999,11.625,11.592000000000001,11.559000000000001,11.526,11.493,{"$f":"'Altherma 3 H HT'!F21","v":11.46},11.49375,11.5275,11.561250000000001,11.595000000000001,11.62875,11.662500000000001,11.696250000000001,{"$f":"'Altherma 3 H HT'!F22","v":11.73},11.641999999999999,11.554,11.466000000000001,11.378,11.29,11.202,11.114000000000001,11.026,10.937999999999999,{"$f":"'Altherma 3 H HT'!F23","v":10.85},10.734,10.618,10.501999999999999,10.385999999999999,10.27,10.154,10.038,9.9219999999999988,9.8059999999999992,{"$f":"'Altherma 3 H HT'!F24","v":9.69},9.64,9.59,9.5399999999999991,9.49,9.4400000000000013,{"$f":"'Altherma 3 H HT'!F25","v":9.39},9.5259999999999998,9.6620000000000008,9.798,9.9340000000000011,10.07,10.206,10.342000000000001,10.478,10.614000000000001,{"$f":"'Altherma 3 H HT'!F26","v":10.75},4,"Altherma 3 H HT ECH2O 500 16","Altherma 3 H HT ECH2O 500 16",9,1.1000000000000001,null,9]
[null,"Altherma 3 H HT ECH2O",16,{"$f":"'Altherma 3 H HT'!$M$19","v":3.13},{"$f":"'Altherma 3 H HT'!$M$20","v":4.09},{"$f":"'Altherma 3 H HT'!$M$21","v":5},55,{"$f":"'Altherma 3 H HT'!H18","v":9.49},9.702,9.9139999999999997,10.125999999999999,10.337999999999999,10.55,10.762,10.974,11.186,11.398,{"$f":"'Altherma 3 H HT'!H19","v":11.61},11.665624999999999,11.72125,11.776875,11.8325,11.888124999999999,11.94375,11.999375000000001,12.055,12.110624999999999,12.16625,12.221875000000001,12.2775,12.333124999999999,12.38875,12.444375000000001,{"$f":"'Altherma 3 H HT'!H20","v":12.5},12.478999999999999,12.458,12.436999999999999,12.416,12.395,12.373999999999999,12.353,12.331999999999999,12.311,{"$f":"'Altherma 3 H HT'!H21","v":12.29},12.212499999999999,12.135,12.057499999999999,11.98,11.9025,11.824999999999999,11.7475,{"$f":"'Altherma 3 H HT'!H22","v":11.67},11.645,11.62,11.595000000000001,11.57,11.545,11.52,11.494999999999999,11.47,11.445,{"$f":"'Altherma 3 H HT'!H23","v":11.42},11.212999999999999,11.006,10.798999999999999,10.592000000000001,10.385,10.178000000000001,9.9710000000000001,9.7639999999999993,9.5570000000000004,{"$f":"'Altherma 3 H HT'!H24","v":9.35},9.3416666666666668,9.3333333333333339,9.3249999999999993,9.3166666666666664,9.3083333333333336,{"$f":"'Altherma 3 H HT'!H25","v":9.3000000000000007},9.4140000000000015,9.5280000000000005,9.6419999999999995,9.7560000000000002,9.870000000000001,9.984,10.097999999999999,10.212,10.326000000000001,{"$f":"'Altherma 3 H HT'!H26","v":10.44},4,"Altherma 3 H HT ECH2O 500 16","Altherma 3 H HT ECH2O 500 16",9,1.1000000000000001,null,9]
[null,"Altherma 3 H HT ECH2O",16,{"$f":"'Altherma 3 H HT'!$M$19","v":3.13},{"$f":"'Altherma 3 H HT'!$M$20","v":4.09},{"$f":"'Altherma 3 H HT'!$M$21","v":5},68,null,null,null,null,null,null,null,null,null,null,{"$f":"$R$572-(($R$572-$R$577)/5*A6)","v":10.167999999999999},10.231999999999999,10.295999999999999,10.36,10.423999999999999,10.488,10.552,10.616,10.68,10.744,10.808,10.872,10.936,11,11.064,11.128,{"$f":"$AH$572-(($AH$572-$AH$577)/5*A6)","v":11.192},11.191800000000001,11.191599999999999,11.1914,11.1912,11.190999999999999,11.190799999999999,11.1906,11.1904,11.190199999999999,{"$f":"$AR$572-(($AR$572-$AR$577)/5*A6)","v":11.19},11.167999999999999,11.145999999999999,11.123999999999999,11.102,11.08,11.058,11.036,{"$f":"$AZ$572-(($AZ$572-$AZ$577)/5*A6)","v":11.013999999999999},10.9414,10.8688,10.796199999999999,10.723599999999999,10.651,10.5784,10.505800000000001,10.433199999999999,10.3606,{"$f":"$BJ$572-(($BJ$572-$BJ$577)/5*A6)","v":10.288},null,null,null,null,null,null,null,null,null,null,null,null,null,null,null,null,null,null,null,null,null,null,null,null,null,null,4,"Altherma 3 H HT ECH2O 500 16","Altherma 3 H HT ECH2O 500 16",9,1.1000000000000001,null,9]
[null,"Altherma 3 H HT ECH2O",18,{"$f":"'Altherma 3 H HT'!$M$30","v":3.05},{"$f":"'Altherma 3 H HT'!$M$31","v":4.09},{"$f":"'Altherma 3 H HT'!$M$32","v":5},36,{"$f":"$H$583-(($H$583-$H$588)/5*A4)","v":9.6239999999999988},9.7891999999999992,9.9543999999999997,10.119599999999998,10.284799999999999,10.45,10.6152,10.7804,10.945599999999999,11.110799999999999,{"$f":"$R$583-(($R$583-$R$588)/5*A4)","v":11.276},11.363125,11.45025,11.537374999999999,11.624499999999999,11.711625,11.79875,11.885875,11.972999999999999,12.060124999999999,12.14725,12.234375,12.3215,12.408625000000001,12.495749999999999,12.582875,{"$f":"$AH$583-(($AH$583-$AH$588)/5*A4)","v":12.67},12.611599999999999,12.5532,12.4948,12.436400000000001,12.378,12.319599999999999,12.261200000000001,12.2028,12.144400000000001,{"$f":"$AR$583-(($AR$583-$AR$588)/5*A4)","v":12.086},12.1715,12.257,12.342499999999999,12.428000000000001,12.513500000000001,12.599,12.6845,{"$f":"$AZ$583-(($AZ$583-$AZ$588)/5*A4)","v":12.77},12.6572,12.5444,12.4316,12.3188,12.206,12.0932,11.980399999999999,11.867599999999999,11.754799999999999,{"$f":"$BJ$583-(($BJ$583-$BJ$588)/5*A4)","v":11.641999999999999},11.586399999999999,11.530799999999999,11.475199999999999,11.419599999999999,11.363999999999999,11.308399999999999,11.252799999999999,11.197199999999999,11.141599999999999,{"$f":"$BT$583-(($BT$583-$BT$588)/5*A4)","v":11.085999999999999},11.032666666666666,10.979333333333333,10.925999999999998,10.872666666666666,10.819333333333333,{"$f":"$BZ$583-(($BZ$583-$BZ$588)/5*A4)","v":10.766},10.880599999999999,10.995200000000001,11.1098,11.224400000000001,11.339,11.4536,11.568200000000001,11.6828,11.797400000000001,{"$f":"$CJ$583-(($CJ$583-$CJ$588)/5*A4)","v":11.912000000000001},4,"Altherma 3 H HT ECH2O 500 18","Altherma 3 H HT ECH2O 500 18",9,1,null,9]
[null,"Altherma 3 H HT ECH2O",18,{"$f":"'Altherma 3 H HT'!$M$30","v":3.05},{"$f":"'Altherma 3 H HT'!$M$31","v":4.09},{"$f":"'Altherma 3 H HT'!$M$32","v":5},44,{"$f":"$H$588-(($H$588-$H$593)/5*A7)","v":9.8000000000000007},9.9844000000000008,10.168800000000001,10.353200000000001,10.537600000000001,10.722000000000001,10.906400000000001,11.0908,11.2752,11.4596,{"$f":"$R$588-(($R$588-$R$593)/5*A7)","v":11.644},11.708125000000001,11.77225,11.836375,11.900500000000001,11.964625,12.02875,12.092874999999999,12.157,12.221125000000001,12.28525,12.349375,12.413499999999999,12.477625,12.54175,12.605874999999999,{"$f":"$AH$588-(($AH$588-$AH$593)/5*A7)","v":12.67},12.6332,12.596399999999999,12.5596,12.5228,12.486000000000001,12.449199999999999,12.4124,12.3756,12.338799999999999,{"$f":"$AR$588-(($AR$588-$AR$593)/5*A7)","v":12.302},12.3895,12.477,12.564499999999999,12.651999999999999,12.7395,12.826999999999998,12.914499999999999,{"$f":"$AZ$588-(($AZ$588-$AZ$593)/5*A7)","v":13.001999999999999},12.901999999999999,12.802,12.702,12.602,12.501999999999999,12.401999999999999,12.302,12.202,12.102,{"$f":"$BJ$588-(($BJ$588-$BJ$593)/5*A7)","v":12.002000000000001},11.882400000000001,11.7628,11.6432,11.5236,11.404,11.2844,11.1648,11.045199999999999,10.925599999999999,{"$f":"$BT$588-(($BT$588-$BT$593)/5*A7)","v":10.805999999999999},10.748666666666665,10.691333333333333,10.634,10.576666666666666,10.519333333333332,{"$f":"$BZ$588-(($BZ$588-$BZ$593)/5*A7)","v":10.462},10.6158,10.769600000000001,10.923399999999999,11.077199999999999,11.231,11.3848,11.538600000000001,11.692399999999999,11.8462,{"$f":"$CJ$588-(($CJ$588-$CJ$593)/5*A7)","v":12},4,"Altherma 3 H HT ECH2O 500 18","Altherma 3 H HT ECH2O 500 18",9,1,null,9]
[null,"Altherma 3 H HT ECH2O",18,{"$f":"'Altherma 3 H HT'!$M$30","v":3.05},{"$f":"'Altherma 3 H HT'!$M$31","v":4.09},{"$f":"'Altherma 3 H HT'!$M$32","v":5},51,{"$f":"$H$598-(($H$598-$H$603)/5*A4)","v":9.9619999999999997},10.1624,10.3628,10.5632,10.7636,10.963999999999999,11.164400000000001,11.364799999999999,11.565199999999999,11.765599999999999,{"$f":"$R$598-(($R$598-$R$603)/5*A4)","v":11.965999999999999},12.025625,12.085249999999998,12.144874999999999,12.204499999999999,12.264125,12.32375,12.383374999999999,12.443,12.502625,12.562249999999999,12.621874999999999,12.6815,12.741125,12.800750000000001,12.860374999999999,{"$f":"$AH$598-(($AH$598-$AH$603)/5*A4)","v":12.92},12.9148,12.909599999999999,12.904399999999999,12.899199999999999,12.893999999999998,12.8888,12.883599999999999,12.878399999999999,12.873199999999999,{"$f":"$AR$598-(($AR$598-$AR$603)/5*A4)","v":12.867999999999999},12.862499999999999,12.856999999999999,12.8515,12.846,12.840499999999999,12.834999999999999,12.829499999999999,{"$f":"$AZ$598-(($AZ$598-$AZ$603)/5*A4)","v":12.824},12.7682,12.712400000000001,12.656599999999999,12.6008,12.545,12.4892,12.433400000000001,12.377599999999999,12.3218,{"$f":"$BJ$598-(($BJ$598-$BJ$603)/5*A4)","v":12.266},12.0908,11.9156,11.740399999999999,11.565199999999999,11.39,11.2148,11.0396,10.8644,10.6892,{"$f":"$BT$598-(($BT$598-$BT$603)/5*A4)","v":10.513999999999999},10.475999999999999,10.437999999999999,10.399999999999999,10.362,10.324,{"$f":"$BZ$598-(($BZ$598-$BZ$603)/5*A4)","v":10.286},10.416399999999999,10.546799999999999,10.677199999999999,10.807599999999999,10.937999999999999,11.0684,11.1988,11.3292,11.4596,{"$f":"$CJ$598-(($CJ$598-$CJ$603)/5*A4)","v":11.59},4,"Altherma 3 H HT ECH2O 500 18","Altherma 3 H HT ECH2O 500 18",9,1,null,9]
[null,"Altherma 3 H HT ECH2O",18,{"$f":"'Altherma 3 H HT'!$M$30","v":3.05},{"$f":"'Altherma 3 H HT'!$M$31","v":4.09},{"$f":"'Altherma 3 H HT'!$M$32","v":5},65,{"$f":"'Altherma 3 H HT'!I29","v":9.86},10.001999999999999,10.144,10.286,10.427999999999999,10.57,10.712,10.853999999999999,10.995999999999999,11.138,{"$f":"'Altherma 3 H HT'!I30","v":11.28},11.315624999999999,11.35125,11.386875,11.422499999999999,11.458124999999999,11.493749999999999,11.529375,11.565,11.600624999999999,11.63625,11.671875,11.7075,11.743124999999999,11.778749999999999,11.814375,{"$f":"'Altherma 3 H HT'!I31","v":11.85},11.885999999999999,11.922000000000001,11.958,11.994,12.030000000000001,12.066000000000001,12.102,12.138,12.174000000000001,{"$f":"'Altherma 3 H HT'!I32","v":12.21},12.24625,12.282500000000001,12.318750000000001,12.355,12.391249999999999,12.4275,12.463750000000001,{"$f":"'Altherma 3 H HT'!I33","v":12.5},12.432,12.364000000000001,12.295999999999999,12.228,12.16,12.092000000000001,12.024000000000001,11.956,11.888,{"$f":"'Altherma 3 H HT'!I34","v":11.82},11.569000000000001,11.318,11.067,10.816000000000001,10.565000000000001,10.314,10.063000000000001,9.8120000000000012,9.5609999999999999,{"$f":"'Altherma 3 H HT'!I35","v":9.31},9.3716666666666661,9.4333333333333336,9.495000000000001,9.5566666666666666,9.6183333333333323,{"$f":"'Altherma 3 H HT'!I36","v":9.68},9.7430000000000003,9.8059999999999992,9.8689999999999998,9.9320000000000004,9.995000000000001,10.058,10.121,10.184000000000001,10.247,{"$f":"'Altherma 3 H HT'!I37","v":10.31},4,"Altherma 3 H HT ECH2O 500 18","Altherma 3 H HT ECH2O 500 18",9,1,null,9]
[null,"Altherma 3 H HT W",14,{"$f":"'Altherma 3 H HT'!$M$8","v":3.21},{"$f":"'Altherma 3 H HT'!$M$9","v":4.09},{"$f":"'Altherma 3 H HT'!$M$10","v":4.79},36,{"$f":"$H$501-(($H$501-$H$506)/5*A4)","v":8.0820000000000007},8.220600000000001,8.3592000000000013,8.4977999999999998,8.6364000000000001,8.7750000000000004,8.9136000000000006,9.0522000000000009,9.1907999999999994,9.3293999999999997,{"$f":"$R$501-(($R$501-$R$506)/5*A4)","v":9.468},9.5418749999999992,9.6157500000000002,9.6896249999999995,9.7635000000000005,9.8373749999999998,9.9112500000000008,9.985125,10.059000000000001,10.132875,10.20675,10.280625000000001,10.3545,10.428375000000001,10.50225,10.576125000000001,{"$f":"$AH$501-(($AH$501-$AH$506)/5*A4)","v":10.65},10.600200000000001,10.5504,10.5006,10.450800000000001,10.401,10.3512,10.301400000000001,10.251600000000002,10.2018,{"$f":"$AR$501-(($AR$501-$AR$506)/5*A4)","v":10.152000000000001},10.223750000000001,10.295500000000001,10.36725,10.439,10.51075,10.5825,10.654249999999999,{"$f":"$AZ$501-(($AZ$501-$AZ$506)/5*A4)","v":10.725999999999999},10.631799999999998,10.537599999999999,10.4434,10.3492,10.254999999999999,10.1608,10.066600000000001,9.9724000000000004,9.8781999999999996,{"$f":"$BJ$501-(($BJ$501-$BJ$506)/5*A4)","v":9.7840000000000007},9.7368000000000006,9.6896000000000004,9.6424000000000003,9.5952000000000002,9.548,9.5007999999999999,9.4535999999999998,9.4063999999999997,9.3591999999999995,{"$f":"$BT$501-(($BT$501-$BT$506)/5*A4)","v":9.3119999999999994},9.2673333333333332,9.222666666666667,9.1780000000000008,9.1333333333333329,9.0886666666666667,{"$f":"$BZ$501-(($BZ$501-$BZ$506)/5*A4)","v":9.0440000000000005},9.1395999999999997,9.2352000000000007,9.3308,9.426400000000001,9.5220000000000002,9.6175999999999995,9.7132000000000005,9.8087999999999997,9.9044000000000008,{"$f":"$CJ$501-(($CJ$501-$CJ$506)/5*A4)","v":10},4,"Altherma 3 H HT W 14","Altherma 3 H HT W 14",9,1.8,null,5.9]
[null,"Altherma 3 H HT W",14,{"$f":"'Altherma 3 H HT'!$M$8","v":3.21},{"$f":"'Altherma 3 H HT'!$M$9","v":4.09},{"$f":"'Altherma 3 H HT'!$M$10","v":4.79},42,{"$f":"$H$506-(($H$506-$H$511)/5*A5)","v":8.1820000000000004},8.3338000000000001,8.4855999999999998,8.6373999999999995,8.7891999999999992,8.9409999999999989,9.0928000000000004,9.2446000000000002,9.3963999999999999,9.5481999999999996,{"$f":"$R$506-(($R$506-$R$511)/5*A5)","v":9.6999999999999993},9.7593749999999986,9.8187499999999996,9.8781249999999989,9.9375,9.9968749999999993,10.05625,10.115625,10.175000000000001,10.234375,10.293749999999999,10.353125,10.4125,10.471875000000001,10.53125,10.590625000000001,{"$f":"$AH$506-(($AH$506-$AH$511)/5*A5)","v":10.65},10.613800000000001,10.5776,10.541399999999999,10.5052,10.469000000000001,10.4328,10.396599999999999,10.3604,10.324200000000001,{"$f":"$AR$506-(($AR$506-$AR$511)/5*A5)","v":10.288},10.361750000000001,10.435500000000001,10.50925,10.583,10.656750000000001,10.730499999999999,10.80425,{"$f":"$AZ$506-(($AZ$506-$AZ$511)/5*A5)","v":10.878},10.7906,10.703200000000001,10.6158,10.5284,10.440999999999999,10.3536,10.2662,10.178799999999999,10.0914,{"$f":"$BJ$506-(($BJ$506-$BJ$511)/5*A5)","v":10.004},9.9176000000000002,9.8311999999999991,9.7447999999999997,9.6584000000000003,9.5719999999999992,9.4855999999999998,9.3992000000000004,9.3128000000000011,9.2263999999999999,{"$f":"$BT$506-(($BT$506-$BT$511)/5*A5)","v":9.14},9.108666666666668,9.0773333333333337,9.0459999999999994,9.0146666666666668,8.9833333333333343,{"$f":"$BZ$506-(($BZ$506-$BZ$501)/5*A5)","v":8.952},9.0747999999999998,9.1975999999999996,9.3203999999999994,9.4431999999999992,9.5659999999999989,9.6888000000000005,9.8116000000000003,9.9344000000000001,10.0572,{"$f":"$CJ$506-(($CJ$506-$CJ$511)/5*A5)","v":10.18},4,"Altherma 3 H HT W 14","Altherma 3 H HT W 14",9,1.8,null,5.9]
[null,"Altherma 3 H HT W",14,{"$f":"'Altherma 3 H HT'!$M$8","v":3.21},{"$f":"'Altherma 3 H HT'!$M$9","v":4.09},{"$f":"'Altherma 3 H HT'!$M$10","v":4.79},53,{"$f":"$H$516-(($H$516-$H$521)/5*A6)","v":8.3620000000000001},8.5381999999999998,8.7143999999999995,8.8905999999999992,9.0667999999999989,9.2429999999999986,9.4192,9.5953999999999997,9.7715999999999994,9.9477999999999991,{"$f":"$R$516-(($R$516-$R$521)/5*A6)","v":10.123999999999999},10.173874999999999,10.223749999999999,10.273624999999999,10.323499999999999,10.373374999999999,10.423249999999999,10.473125,10.523,10.572875,10.62275,10.672625,10.7225,10.772375,10.82225,10.872125,{"$f":"$AH$516-(($AH$516-$AH$521)/5*A6)","v":10.922000000000001},10.9102,10.898400000000001,10.886600000000001,10.8748,10.863,10.8512,10.839400000000001,10.8276,10.815799999999999,{"$f":"$AR$516-(($AR$516-$AR$521)/5*A6)","v":10.804},10.792250000000001,10.7805,10.768750000000001,10.757000000000001,10.74525,10.733500000000001,10.72175,{"$f":"$AZ$516-(($AZ$516-$AZ$521)/5*A6)","v":10.71},10.6754,10.6408,10.606200000000001,10.5716,10.536999999999999,10.5024,10.4678,10.433199999999999,10.398599999999998,{"$f":"$BJ$516-(($BJ$516-$BJ$521)/5*A6)","v":10.363999999999999},10.196,10.027999999999999,9.86,9.6919999999999984,9.5239999999999991,9.3559999999999981,9.1879999999999988,9.02,8.8519999999999985,{"$f":"$BT$516-(($BT$516-$BT$521)/5*A6)","v":8.6839999999999993},8.663666666666666,8.6433333333333326,8.6229999999999993,8.602666666666666,8.5823333333333327,{"$f":"$BZ$516-(($BZ$516-$BZ$521)/5*A6)","v":8.5619999999999994},8.6687999999999992,8.775599999999999,8.8823999999999987,8.9891999999999985,9.0960000000000001,9.2027999999999999,9.3095999999999997,9.4163999999999994,9.5231999999999992,{"$f":"$CJ$516-(($CJ$516-$CJ$521)/5*A6)","v":9.629999999999999},4,"Altherma 3 H HT W 14","Altherma 3 H HT W 14",9,1.8,null,5.9]
[null,"Altherma 3 H HT W",14,{"$f":"'Altherma 3 H HT'!$M$8","v":3.21},{"$f":"'Altherma 3 H HT'!$M$9","v":4.09},{"$f":"'Altherma 3 H HT'!$M$10","v":4.79},68,null,null,null,null,null,null,null,null,null,null,{"$f":"$R$531-(($R$531-$R$536)/5*A6)","v":8.9960000000000004},9.0525000000000002,9.109,9.1654999999999998,9.2220000000000013,9.2785000000000011,9.3350000000000009,9.3915000000000006,9.4480000000000004,9.5045000000000002,9.5609999999999999,9.6174999999999997,9.6739999999999995,9.730500000000001,9.7870000000000008,9.8435000000000006,{"$f":"$AH$531-(($AH$531-$AH$536)/5*A6)","v":9.9},9.9006000000000007,9.9012000000000011,9.9017999999999997,9.9024000000000001,9.9030000000000005,9.9036000000000008,9.9042000000000012,9.9047999999999998,9.9054000000000002,{"$f":"$AR$531-(($AR$531-$AR$536)/5*A6)","v":9.9060000000000006},9.9060000000000006,9.9060000000000006,9.9060000000000006,9.9060000000000006,9.9060000000000006,9.9060000000000006,9.9060000000000006,{"$f":"$AZ$531-(($AZ$531-$AZ$536)/5*A6)","v":9.9060000000000006},9.8406000000000002,9.7751999999999999,9.7098000000000013,9.644400000000001,9.5790000000000006,9.5136000000000003,9.4481999999999999,9.3828000000000014,9.317400000000001,{"$f":"$BJ$531-(($BJ$531-$BJ$536)/5*A6)","v":9.2520000000000007},null,null,null,null,null,null,null,null,null,null,null,null,null,null,null,null,null,null,null,null,null,null,null,null,null,null,4,"Altherma 3 H HT W 14","Altherma 3 H HT W 14",9,1.8,null,5.9]
[null,"Altherma 3 H HT W",16,{"$f":"'Altherma 3 H HT'!$M$19","v":3.13},{"$f":"'Altherma 3 H HT'!$M$20","v":4.09},{"$f":"'Altherma 3 H HT'!$M$21","v":5},33,{"$f":"$H$537-(($H$537-$H$542)/5*A6)","v":8.911999999999999},9.0339999999999989,9.1559999999999988,9.2779999999999987,9.3999999999999986,9.5219999999999985,9.6440000000000001,9.766,9.8879999999999999,10.01,{"$f":"$R$537-(($R$537-$R$542)/5*A6)","v":10.132},10.214375,10.296749999999999,10.379125,10.461499999999999,10.543875,10.626249999999999,10.708625,10.791,10.873374999999999,10.95575,11.038124999999999,11.1205,11.202874999999999,11.28525,11.367625,{"$f":"$AH$537-(($AH$537-$AH$542)/5*A6)","v":11.45},11.421799999999999,11.393599999999999,11.365399999999999,11.337199999999999,11.309000000000001,11.280800000000001,11.252600000000001,11.224400000000001,11.196200000000001,{"$f":"$AR$537-(($AR$537-$AR$542)/5*A6)","v":11.168000000000001},11.196250000000001,11.224500000000001,11.252750000000001,11.281000000000001,11.30925,11.3375,11.36575,{"$f":"$AZ$537-(($AZ$537-$AZ$542)/5*A6)","v":11.394},11.3042,11.214399999999999,11.124600000000001,11.034800000000001,10.945,10.8552,10.7654,10.675600000000001,10.585800000000001,{"$f":"$BJ$537-(($BJ$537-$BJ$542)/5*A6)","v":10.496},10.453800000000001,10.4116,10.369400000000001,10.327199999999999,10.285,10.242800000000001,10.2006,10.1584,10.116199999999999,{"$f":"$BT$537-(($BT$537-$BT$542)/5*A6)","v":10.074},10.015666666666666,9.9573333333333327,9.8990000000000009,9.8406666666666673,9.7823333333333338,{"$f":"$BZ$537-(($BZ$537-$BZ$542)/5*A6)","v":9.7240000000000002},9.8008000000000006,9.877600000000001,9.9543999999999997,10.0312,10.108000000000001,10.184800000000001,10.261600000000001,10.3384,10.4152,{"$f":"$CJ$537-(($CJ$537-$CJ$542)/5*A6)","v":10.492000000000001},4,"Altherma 3 H HT W 16","Altherma 3 H HT W 16",9,1.7,null,9]
[null,"Altherma 3 H HT W",16,{"$f":"'Altherma 3 H HT'!$M$19","v":3.13},{"$f":"'Altherma 3 H HT'!$M$20","v":4.09},{"$f":"'Altherma 3 H HT'!$M$21","v":5},53,{"$f":"$H$557-(($H$557-$H$562)/5*A6)","v":9.4019999999999992},9.6015999999999995,9.8011999999999997,10.0008,10.2004,10.399999999999999,10.599599999999999,10.799199999999999,10.998799999999999,11.198399999999999,{"$f":"$R$557-(($R$557-$R$562)/5*A6)","v":11.398},11.453875,11.50975,11.565624999999999,11.621499999999999,11.677375,11.73325,11.789125,11.844999999999999,11.900874999999999,11.95675,12.012625,12.0685,12.124375000000001,12.180249999999999,12.236124999999999,{"$f":"$AH$557-(($AH$557-$AH$562)/5*A6)","v":12.292},12.279,12.266,12.253,12.24,12.227,12.213999999999999,12.200999999999999,12.187999999999999,12.174999999999999,{"$f":"$AR$557-(($AR$557-$AR$562)/5*A6)","v":12.161999999999999},12.095499999999999,12.029,11.9625,11.896000000000001,11.829499999999999,11.763,11.6965,{"$f":"$AZ$557-(($AZ$557-$AZ$562)/5*A6)","v":11.63},11.592600000000001,11.555200000000001,11.517800000000001,11.480400000000001,11.443000000000001,11.4056,11.3682,11.3308,11.2934,{"$f":"$BJ$557-(($BJ$557-$BJ$562)/5*A6)","v":11.256},11.073,10.89,10.707000000000001,10.524000000000001,10.341000000000001,10.158000000000001,9.9749999999999996,9.7919999999999998,9.609,{"$f":"$BT$557-(($BT$557-$BT$562)/5*A6)","v":9.4260000000000002},9.4043333333333337,9.3826666666666672,9.3610000000000007,9.3393333333333324,9.3176666666666659,{"$f":"$BZ$557-(($BZ$557-$BZ$562)/5*A6)","v":9.2959999999999994},9.411999999999999,9.5279999999999987,9.6440000000000001,9.76,9.8759999999999994,9.9919999999999991,10.107999999999999,10.224,10.34,{"$f":"$CJ$557-(($CJ$557-$CJ$562)/5*A6)","v":10.456},4,"Altherma 3 H HT W 16","Altherma 3 H HT W 16",9,1.7,null,9]
[null,"Altherma 3 H HT W",16,{"$f":"'Altherma 3 H HT'!$M$19","v":3.13},{"$f":"'Altherma 3 H HT'!$M$20","v":4.09},{"$f":"'Altherma 3 H HT'!$M$21","v":5},60,9.4550000000000001,{"$f":"$H690-(($H690-$R690)/$R$3*I$3)","v":9.6289999999999996},9.8030000000000008,9.9770000000000003,10.151,10.324999999999999,10.499000000000001,10.673,10.847,11.021000000000001,11.195,11.24,11.285,11.33,11.375,11.42,11.465,11.51,11.555,11.6,11.645,11.69,11.734999999999999,11.78,11.824999999999999,11.87,11.914999999999999,11.9215,11.927999999999999,11.9345,11.940999999999999,11.9475,11.954000000000001,11.9605,11.967000000000001,11.9735,11.98,11.930625000000001,11.881250000000001,11.831875,11.782500000000001,11.733125000000001,11.68375,11.634375,11.585000000000001,11.541,11.497,11.453000000000001,11.409000000000001,11.365,11.321,11.276999999999999,11.233000000000001,11.189,11.145,{"$f":"$BJ690-(($BJ690-$BT690)/$BT$3*BK$3)","v":10.926499999999999},10.708,10.4895,10.271000000000001,10.0525,9.8339999999999996,9.6155000000000008,9.3970000000000002,9.1785000000000014,8.9600000000000009,{"$f":"$BT690-(($BT690-$BZ690)/$BZ$3*BU$3)","v":8.9841666666666669},9.0083333333333346,9.0325000000000006,9.0566666666666666,9.0808333333333344,9.1050000000000004,{"$f":"$BZ690-(($BZ690-$CJ690)/$CJ$3*CA$3)","v":9.1905000000000001},9.2759999999999998,9.3615000000000013,9.447000000000001,9.5325000000000006,9.6180000000000003,9.7035,9.7890000000000015,9.8745000000000012,9.9600000000000009,4,"Altherma 3 H HT W 16","Altherma 3 H HT W 16",9,1.7,null,9]
[null,"Altherma 3 H HT W",16,{"$f":"'Altherma 3 H HT'!$M$19","v":3.13},{"$f":"'Altherma 3 H HT'!$M$20","v":4.09},{"$f":"'Altherma 3 H HT'!$M$21","v":5},68,null,null,null,null,null,null,null,null,null,null,{"$f":"$R$572-(($R$572-$R$577)/5*A6)","v":10.167999999999999},10.231999999999999,10.295999999999999,10.36,10.423999999999999,10.488,10.552,10.616,10.68,10.744,10.808,10.872,10.936,11,11.064,11.128,{"$f":"$AH$572-(($AH$572-$AH$577)/5*A6)","v":11.192},11.191800000000001,11.191599999999999,11.1914,11.1912,11.190999999999999,11.190799999999999,11.1906,11.1904,11.190199999999999,{"$f":"$AR$572-(($AR$572-$AR$577)/5*A6)","v":11.19},11.167999999999999,11.145999999999999,11.123999999999999,11.102,11.08,11.058,11.036,{"$f":"$AZ$572-(($AZ$572-$AZ$577)/5*A6)","v":11.013999999999999},10.9414,10.8688,10.796199999999999,10.723599999999999,10.651,10.5784,10.505800000000001,10.433199999999999,10.3606,{"$f":"$BJ$572-(($BJ$572-$BJ$577)/5*A6)","v":10.288},null,null,null,null,null,null,null,null,null,null,null,null,null,null,null,null,null,null,null,null,null,null,null,null,null,null,4,"Altherma 3 H HT W 16","Altherma 3 H HT W 16",9,1.7,null,9]
[null,"Altherma 3 H HT W",18,{"$f":"'Altherma 3 H HT'!$M$30","v":3.05},{"$f":"'Altherma 3 H HT'!$M$31","v":4.09},{"$f":"'Altherma 3 H HT'!$M$32","v":5},36,{"$f":"$H$583-(($H$583-$H$588)/5*A4)","v":9.6239999999999988},9.7891999999999992,9.9543999999999997,10.119599999999998,10.284799999999999,10.45,10.6152,10.7804,10.945599999999999,11.110799999999999,{"$f":"$R$583-(($R$583-$R$588)/5*A4)","v":11.276},11.363125,11.45025,11.537374999999999,11.624499999999999,11.711625,11.79875,11.885875,11.972999999999999,12.060124999999999,12.14725,12.234375,12.3215,12.408625000000001,12.495749999999999,12.582875,{"$f":"$AH$583-(($AH$583-$AH$588)/5*A4)","v":12.67},12.611599999999999,12.5532,12.4948,12.436400000000001,12.378,12.319599999999999,12.261200000000001,12.2028,12.144400000000001,{"$f":"$AR$583-(($AR$583-$AR$588)/5*A4)","v":12.086},12.1715,12.257,12.342499999999999,12.428000000000001,12.513500000000001,12.599,12.6845,{"$f":"$AZ$583-(($AZ$583-$AZ$588)/5*A4)","v":12.77},12.6572,12.5444,12.4316,12.3188,12.206,12.0932,11.980399999999999,11.867599999999999,11.754799999999999,{"$f":"$BJ$583-(($BJ$583-$BJ$588)/5*A4)","v":11.641999999999999},11.586399999999999,11.530799999999999,11.475199999999999,11.419599999999999,11.363999999999999,11.308399999999999,11.252799999999999,11.197199999999999,11.141599999999999,{"$f":"$BT$583-(($BT$583-$BT$588)/5*A4)","v":11.085999999999999},11.032666666666666,10.979333333333333,10.925999999999998,10.872666666666666,10.819333333333333,{"$f":"$BZ$583-(($BZ$583-$BZ$588)/5*A4)","v":10.766},10.880599999999999,10.995200000000001,11.1098,11.224400000000001,11.339,11.4536,11.568200000000001,11.6828,11.797400000000001,{"$f":"$CJ$583-(($CJ$583-$CJ$588)/5*A4)","v":11.912000000000001},4,"Altherma 3 H HT W 18","Altherma 3 H HT W 18",9,1.6,null,9]
[null,"Altherma 3 H HT W",18,{"$f":"'Altherma 3 H HT'!$M$30","v":3.05},{"$f":"'Altherma 3 H HT'!$M$31","v":4.09},{"$f":"'Altherma 3 H HT'!$M$32","v":5},49,{"$f":"$H$593-(($H$593-$H$598)/5*A7)","v":9.9420000000000002},10.135200000000001,10.3284,10.521599999999999,10.7148,10.908000000000001,11.1012,11.2944,11.4876,11.680800000000001,{"$f":"$R$593-(($R$593-$R$598)/5*A7)","v":11.874000000000001},11.93425,11.9945,12.05475,12.115,12.17525,12.2355,12.29575,12.356000000000002,12.416250000000002,12.476500000000001,12.536750000000001,12.597000000000001,12.657250000000001,12.717500000000001,12.777750000000001,{"$f":"$AH$593-(($AH$593-$AH$598)/5*A7)","v":12.838000000000001},12.830400000000001,12.822800000000001,12.815200000000001,12.807600000000001,12.8,12.792399999999999,12.784799999999999,12.777199999999999,12.769599999999999,{"$f":"$AR$593-(($AR$593-$AR$598)/5*A7)","v":12.761999999999999},12.778499999999999,12.794999999999998,12.811499999999999,12.827999999999999,12.8445,12.861000000000001,12.8775,{"$f":"$AZ$593-(($AZ$593-$AZ$598)/5*A7)","v":12.894},12.824,12.754,12.684000000000001,12.614000000000001,12.544,12.474,12.404,12.334000000000001,12.264000000000001,{"$f":"$BJ$593-(($BJ$593-$BJ$598)/5*A7)","v":12.194000000000001},12.038,11.882000000000001,11.726000000000001,11.57,11.414000000000001,11.258000000000001,11.102,10.946,10.790000000000001,{"$f":"$BT$593-(($BT$593-$BT$598)/5*A7)","v":10.634},10.587,10.540000000000001,10.493,10.446,10.399000000000001,{"$f":"$BZ$593-(($BZ$593-$BZ$598)/5*A7)","v":10.352},10.4876,10.623200000000001,10.758800000000001,10.894400000000001,11.030000000000001,11.1656,11.3012,11.4368,11.5724,{"$f":"$CJ$593-(($CJ$593-$CJ$598)/5*A7)","v":11.708},4,"Altherma 3 H HT W 18","Altherma 3 H HT W 18",9,1.6,null,9]
[null,"Altherma 3 H HT W",18,{"$f":"'Altherma 3 H HT'!$M$30","v":3.05},{"$f":"'Altherma 3 H HT'!$M$31","v":4.09},{"$f":"'Altherma 3 H HT'!$M$32","v":5},59,9.9019999999999992,10.091999999999999,10.282,10.472,10.661999999999999,10.852,11.042,11.231999999999999,11.421999999999999,11.612,11.802,11.851125,11.90025,11.949375,11.9985,12.047625,12.09675,12.145875,12.195,12.244124999999999,12.293249999999999,12.342374999999999,12.391499999999999,12.440624999999999,12.489749999999999,12.538874999999999,12.587999999999999,12.5892,12.590399999999999,12.5916,12.592799999999999,12.593999999999999,12.5952,12.596399999999999,12.5976,12.598799999999999,12.6,12.600999999999999,12.602,12.603,12.603999999999999,12.605,12.606,12.607000000000001,12.608000000000001,12.5646,12.5212,12.4778,12.4344,12.391,12.3476,12.3042,12.2608,12.2174,12.173999999999999,11.9392,11.7044,11.4696,11.2348,11,10.7652,10.5304,10.2956,10.0608,9.8260000000000005,9.8446666666666669,9.8633333333333333,9.8819999999999997,9.9006666666666661,9.9193333333333324,9.9379999999999988,10.037599999999999,10.137199999999998,10.236799999999999,10.336399999999999,10.436,10.535599999999999,10.635199999999999,10.7348,10.834399999999999,10.933999999999999,4,"Altherma 3 H HT W 18","Altherma 3 H HT W 18",9,1.6,null,9]
[null,"Altherma 3 H HT W",18,{"$f":"'Altherma 3 H HT'!$M$30","v":3.05},{"$f":"'Altherma 3 H HT'!$M$31","v":4.09},{"$f":"'Altherma 3 H HT'!$M$32","v":5},69,null,null,null,null,null,null,null,null,null,null,{"$f":"$R$613-(($R$613-$R$618)/5*A7)","v":10.927999999999999},11.009625,11.091249999999999,11.172874999999999,11.2545,11.336124999999999,11.41775,11.499374999999999,11.581,11.662625,11.744249999999999,11.825875,11.907499999999999,11.989125,12.07075,12.152374999999999,{"$f":"$AH$613-(($AH$613-$AH$618)/5*A7)","v":12.234},12.2212,12.208399999999999,12.195600000000001,12.1828,12.17,12.1572,12.144399999999999,12.131600000000001,12.1188,{"$f":"$AR$613-(($AR$613-$AR$618)/5*A7)","v":12.106},12.093249999999999,12.080500000000001,12.06775,12.055,12.042250000000001,12.029500000000001,12.016750000000002,{"$f":"$AZ$613-(($AZ$613-$AZ$618)/5*A7)","v":12.004000000000001},11.920000000000002,11.836,11.752000000000001,11.668000000000001,11.584,11.5,11.416,11.332000000000001,11.247999999999999,{"$f":"$BJ$613-(($BJ$613-$BJ$618)/5*A7)","v":11.164},null,null,null,null,null,null,null,null,null,null,null,null,null,null,null,null,null,null,null,null,null,null,null,null,null,null,4,"Altherma 3 H HT W 18","Altherma 3 H HT W 18",9,1.6,null,9]
[null,"Altherma 3 H HT F",14,{"$f":"'Altherma 3 H HT'!$M$8","v":3.21},{"$f":"'Altherma 3 H HT'!$M$9","v":4.09},{"$f":"'Altherma 3 H HT'!$M$10","v":4.79},40,{"$f":"H506","v":8.1300000000000008},8.2789999999999999,8.4280000000000008,8.577,8.7260000000000009,8.875,9.0239999999999991,9.173,9.3219999999999992,9.4710000000000001,9.6199999999999992,9.6843749999999993,9.7487499999999994,9.8131249999999994,9.8774999999999995,9.9418749999999996,10.00625,10.070625,10.135,10.199375,10.26375,10.328125,10.3925,10.456875,{"$f":"AF506","v":10.52125},10.585625,{"$f":"AH506","v":10.65},10.609,10.568,10.527000000000001,10.486000000000001,10.445,10.404,10.363,10.322000000000001,10.281000000000001,10.24,10.313750000000001,10.387499999999999,10.46125,10.535,10.608750000000001,10.682500000000001,10.75625,{"$f":"AZ506","v":10.83},10.739000000000001,10.648,10.557,10.465999999999999,10.375,10.284000000000001,10.193,10.102,10.010999999999999,{"$f":"BJ506","v":9.92},9.847999999999999,9.7759999999999998,9.7040000000000006,9.6319999999999997,9.5599999999999987,9.4879999999999995,9.4160000000000004,9.3439999999999994,9.2719999999999985,{"$f":"BT506","v":9.1999999999999993},9.1433333333333326,9.086666666666666,9.0299999999999994,8.9733333333333327,8.9166666666666661,8.86,9.0019999999999989,9.1440000000000001,9.2859999999999996,9.427999999999999,9.57,9.7119999999999997,9.8539999999999992,9.9959999999999987,10.138,{"$f":"CJ506","v":10.28},4,"Altherma 3 H HT F 180 l 14","Altherma 3 H HT F 230 l 14",9,1.5,null,5.9]
[null,"Altherma 3 H HT F",14,{"$f":"'Altherma 3 H HT'!$M$8","v":3.21},{"$f":"'Altherma 3 H HT'!$M$9","v":4.09},{"$f":"'Altherma 3 H HT'!$M$10","v":4.79},55,{"$f":"H521","v":8.35},8.5350000000000001,8.7199999999999989,8.9049999999999994,9.09,9.2749999999999986,9.4599999999999991,9.6449999999999996,9.83,10.014999999999999,10.199999999999999,10.249374999999999,10.29875,10.348125,10.397499999999999,10.446875,10.49625,10.545624999999999,10.594999999999999,10.644375,10.69375,10.743124999999999,10.7925,10.841875,{"$f":"AF521","v":10.891249999999999},10.940625000000001,{"$f":"AH521","v":10.99},10.971,10.952,10.933,10.914,10.895,10.876000000000001,10.857000000000001,10.838000000000001,10.819000000000001,10.8,10.78125,10.762500000000001,10.74375,10.725000000000001,10.706250000000001,10.6875,10.668750000000001,{"$f":"AZ521","v":10.65},10.627000000000001,10.604000000000001,10.581,10.558,10.535,10.512,10.489000000000001,10.465999999999999,10.443,{"$f":"BJ521","v":10.42},10.231999999999999,10.044,9.8559999999999999,9.6679999999999993,9.48,9.2919999999999998,9.1039999999999992,8.9159999999999986,8.7279999999999998,{"$f":"BT521","v":8.5399999999999991},8.5316666666666663,8.5233333333333334,8.5150000000000006,8.5066666666666659,8.4983333333333331,8.49,8.5939999999999994,8.6980000000000004,8.8019999999999996,8.9060000000000006,9.01,9.113999999999999,9.218,9.3219999999999992,9.4260000000000002,{"$f":"CJ521","v":9.5299999999999994},4,"Altherma 3 H HT F 180 l 14","Altherma 3 H HT F 230 l 14",9,1.5,null,5.9]
[null,"Altherma 3 H HT F",14,{"$f":"'Altherma 3 H HT'!$M$8","v":3.21},{"$f":"'Altherma 3 H HT'!$M$9","v":4.09},{"$f":"'Altherma 3 H HT'!$M$10","v":4.79},66,null,null,null,null,null,null,null,null,null,null,{"$f":"R532","v":9.3120000000000012},9.3512500000000003,9.3905000000000012,9.4297500000000021,9.4690000000000012,9.5082500000000003,9.5475000000000012,9.5867500000000021,9.6260000000000012,9.6652500000000003,9.7045000000000012,9.7437500000000021,9.7830000000000013,9.8222500000000004,{"$f":"AF532","v":9.8615000000000013},9.9007500000000022,{"$f":"AH532","v":9.9400000000000013},9.9602000000000004,9.9804000000000013,10.0006,10.020800000000001,10.041,10.061199999999999,10.0814,10.101599999999999,10.1218,10.141999999999999,10.161999999999999,10.181999999999999,10.202,10.222,10.241999999999999,10.262,10.282,{"$f":"AZ532","v":10.302},10.2422,10.182399999999999,10.1226,10.062799999999999,10.003,9.9432000000000009,9.8834,9.8236000000000008,9.7637999999999998,{"$f":"BJ532","v":9.7040000000000006},null,null,null,null,null,null,null,null,null,null,null,null,null,null,null,null,null,null,null,null,null,null,null,null,null,null,4,"Altherma 3 H HT F 180 l 14","Altherma 3 H HT F 230 l 14",9,1.5,null,5.9]
[null,"Altherma 3 H HT F",16,{"$f":"'Altherma 3 H HT'!$M$19","v":3.13},{"$f":"'Altherma 3 H HT'!$M$20","v":4.09},{"$f":"'Altherma 3 H HT'!$M$21","v":5},31,{"$f":"H538","v":8.8839999999999986},8.977999999999998,9.0719999999999992,9.1659999999999986,9.26,9.3539999999999992,9.4479999999999986,9.5419999999999998,9.6359999999999992,9.73,9.8239999999999998,9.9043749999999999,9.98475,10.065125,10.1455,10.225875,10.30625,10.386625,10.466999999999999,10.547374999999999,10.627749999999999,10.708124999999999,10.788499999999999,10.868874999999999,{"$f":"AF538","v":10.949249999999999},11.029624999999999,{"$f":"AH538","v":11.11},11.1106,11.1112,11.111799999999999,11.112399999999999,11.113,11.1136,11.1142,11.114799999999999,11.115399999999999,11.116,11.141249999999999,11.166499999999999,11.191749999999999,11.216999999999999,11.24225,11.2675,11.29275,{"$f":"AZ538","v":11.318},11.241399999999999,11.1648,11.088200000000001,11.0116,10.934999999999999,10.8584,10.7818,10.7052,10.628599999999999,{"$f":"BJ538","v":10.552},10.5106,10.469199999999999,10.4278,10.3864,10.344999999999999,10.303599999999999,10.2622,10.220800000000001,10.179399999999999,{"$f":"BT538","v":10.138},10.066333333333333,9.9946666666666673,9.923,9.8513333333333328,9.7796666666666674,9.7080000000000002,9.7715999999999994,9.8352000000000004,9.8987999999999996,9.9624000000000006,10.026,10.089599999999999,10.1532,10.216799999999999,10.2804,{"$f":"CJ538","v":10.343999999999999},4,"Altherma 3 H HT F 180 l 16","Altherma 3 H HT F 230 l 16",9,1.4,null,9]
[null,"Altherma 3 H HT F",16,{"$f":"'Altherma 3 H HT'!$M$19","v":3.13},{"$f":"'Altherma 3 H HT'!$M$20","v":4.09},{"$f":"'Altherma 3 H HT'!$M$21","v":5},40,{"$f":"H547","v":9.01},9.1750000000000007,9.34,9.504999999999999,9.67,9.8350000000000009,10,10.164999999999999,10.33,10.495000000000001,10.66,10.730625,10.80125,10.871874999999999,10.942499999999999,11.013125,11.08375,11.154375,11.225,11.295624999999999,11.366249999999999,11.436874999999999,11.5075,11.578125,{"$f":"AF547","v":11.64875},11.719374999999999,{"$f":"AH547","v":11.79},11.744999999999999,11.7,11.654999999999999,11.61,11.565,11.52,11.475,11.43,11.385,11.34,11.3725,11.404999999999999,11.4375,11.469999999999999,11.5025,11.535,11.567499999999999,{"$f":"AZ547","v":11.6},11.503,11.406000000000001,11.308999999999999,11.212,11.115,11.018000000000001,10.921000000000001,10.824,10.727,{"$f":"BJ547","v":10.63},10.552000000000001,10.474,10.396000000000001,10.318,10.24,10.162000000000001,10.084,10.006,9.927999999999999,{"$f":"BT547","v":9.85},9.7899999999999991,9.73,9.67,9.61,9.5500000000000007,9.49,9.6419999999999995,9.7940000000000005,9.9459999999999997,10.098000000000001,10.25,10.401999999999999,10.554,10.706,10.858000000000001,{"$f":"CJ547","v":11.01},4,"Altherma 3 H HT F 180 l 16","Altherma 3 H HT F 230 l 16",9,1.4,null,9]
[null,"Altherma 3 H HT F",16,{"$f":"'Altherma 3 H HT'!$M$19","v":3.13},{"$f":"'Altherma 3 H HT'!$M$20","v":4.09},{"$f":"'Altherma 3 H HT'!$M$21","v":5},57,{"$f":"H564","v":9.4760000000000009},9.6728000000000005,9.8696000000000002,10.0664,10.263199999999999,10.46,10.6568,10.8536,11.0504,11.247199999999999,11.443999999999999,11.495374999999999,11.546749999999999,11.598125,11.6495,11.700875,11.75225,11.803625,11.855,11.906374999999999,11.957749999999999,12.009124999999999,12.060499999999999,12.111875,{"$f":"AF564","v":12.16325},12.214625,{"$f":"AH564","v":12.266},12.256,12.246,12.235999999999999,12.225999999999999,12.215999999999999,12.206,12.196,12.185999999999998,12.175999999999998,12.165999999999999,12.099749999999998,12.033499999999998,11.967249999999998,11.901,11.83475,11.7685,11.702249999999999,{"$f":"AZ564","v":11.635999999999999},11.603399999999999,11.5708,11.5382,11.505599999999999,11.472999999999999,11.4404,11.4078,11.3752,11.342600000000001,{"$f":"BJ564","v":11.31},11.0984,10.886800000000001,10.6752,10.4636,10.251999999999999,10.0404,9.8287999999999993,9.6171999999999986,9.4055999999999997,{"$f":"BT564","v":9.1939999999999991},9.1986666666666661,9.2033333333333331,9.2080000000000002,9.2126666666666672,9.2173333333333343,9.2220000000000013,9.3246000000000002,9.4272000000000009,9.5298000000000016,9.6324000000000005,9.7349999999999994,9.8376000000000001,9.9402000000000008,10.0428,10.145399999999999,{"$f":"CJ564","v":10.247999999999999},4,"Altherma 3 H HT F 180 l 16","Altherma 3 H HT F 230 l 16",9,1.4,null,9]
[null,"Altherma 3 H HT F",16,{"$f":"'Altherma 3 H HT'!$M$19","v":3.13},{"$f":"'Altherma 3 H HT'!$M$20","v":4.09},{"$f":"'Altherma 3 H HT'!$M$21","v":5},64,{"$f":"H571","v":9.4269999999999996},9.5705999999999989,9.7141999999999999,9.8577999999999992,10.0014,10.145,10.288599999999999,10.4322,10.575799999999999,10.7194,10.863,10.8995,10.936,10.9725,11.009,11.045499999999999,11.081999999999999,11.118499999999999,11.154999999999999,11.1915,11.228,11.2645,11.300999999999998,11.337499999999999,{"$f":"AF571","v":11.373999999999999},11.410499999999999,{"$f":"AH571","v":11.446999999999999},11.475499999999998,11.504,11.532499999999999,11.561,11.589499999999999,11.617999999999999,11.6465,11.674999999999999,11.7035,11.731999999999999,11.705124999999999,11.678249999999998,11.651375,11.624499999999999,11.597624999999999,11.57075,11.543875,{"$f":"AZ571","v":11.516999999999999},11.457799999999999,11.3986,11.339399999999999,11.280199999999999,11.221,11.161799999999999,11.102599999999999,11.043399999999998,10.9842,{"$f":"BJ571","v":10.924999999999999},10.697299999999998,10.4696,10.241899999999999,10.014199999999999,9.7865000000000002,9.5587999999999997,9.3310999999999993,9.1033999999999988,8.8757000000000001,{"$f":"BT571","v":8.6479999999999997},8.6981666666666655,8.7483333333333331,8.7985000000000007,8.8486666666666665,8.8988333333333323,8.9489999999999998,9.0116999999999994,9.0744000000000007,9.1371000000000002,9.1997999999999998,9.2624999999999993,9.3252000000000006,9.3879000000000001,9.4505999999999997,9.513300000000001,{"$f":"CJ571","v":9.5760000000000005},4,"Altherma 3 H HT F 180 l 16","Altherma 3 H HT F 230 l 16",9,1.4,null,9]
[null,"Altherma 3 H HT F",18,{"$f":"'Altherma 3 H HT'!$M$30","v":3.05},{"$f":"'Altherma 3 H HT'!$M$31","v":4.09},{"$f":"'Altherma 3 H HT'!$M$32","v":5},31,{"$f":"H579","v":9.5539999999999985},9.6551999999999989,9.7563999999999993,9.8575999999999997,9.9588000000000001,10.059999999999999,10.161199999999999,10.2624,10.3636,10.4648,10.566000000000001,10.652000000000001,10.738000000000001,10.824,10.91,10.996,11.082000000000001,11.168000000000001,11.254000000000001,11.34,11.426,11.512,11.598000000000001,11.684000000000001,{"$f":"AF579","v":11.77},11.856,{"$f":"AH579","v":11.942},11.9434,11.944800000000001,11.946199999999999,11.9476,11.949,11.9504,11.9518,11.953199999999999,11.954599999999999,11.956,12.033999999999999,12.112,12.19,12.268000000000001,12.346,12.423999999999999,12.502000000000001,{"$f":"AZ579","v":12.58},12.494,12.407999999999999,12.322000000000001,12.236000000000001,12.15,12.064,11.978,11.892000000000001,11.806000000000001,{"$f":"BJ579","v":11.72},11.6744,11.6288,11.583200000000001,11.537600000000001,11.492000000000001,11.446400000000001,11.4008,11.355200000000002,11.309600000000001,{"$f":"BT579","v":11.264000000000001},11.183333333333334,11.102666666666668,11.022,10.941333333333333,10.860666666666667,10.78,10.8522,10.9244,10.996599999999999,11.0688,11.141,11.213200000000001,11.285400000000001,11.3576,11.4298,{"$f":"CJ579","v":11.502000000000001},4,"Altherma 3 H HT F 180 l 18","Altherma 3 H HT F 230 l 18",9,1.3,null,9]
[null,"Altherma 3 H HT F",18,{"$f":"'Altherma 3 H HT'!$M$30","v":3.05},{"$f":"'Altherma 3 H HT'!$M$31","v":4.09},{"$f":"'Altherma 3 H HT'!$M$32","v":5},40,{"$f":"H588","v":9.68},9.8580000000000005,10.036,10.214,10.391999999999999,10.57,10.748000000000001,10.926,11.104000000000001,11.282,11.46,11.535625000000001,11.61125,11.686875000000001,11.762500000000001,11.838125,11.91375,11.989375000000001,12.065000000000001,12.140625,12.21625,12.291875000000001,12.3675,12.443125,{"$f":"AF588","v":12.518750000000001},12.594374999999999,{"$f":"AH588","v":12.67},12.622,12.574,12.526,12.478,12.43,12.382,12.334,12.286,12.238,12.19,12.2775,12.365,12.452500000000001,12.54,12.6275,12.715,12.8025,{"$f":"AZ588","v":12.89},12.782,12.674000000000001,12.566000000000001,12.458,12.350000000000001,12.242000000000001,12.134,12.026,11.918000000000001,{"$f":"BJ588","v":11.81},11.724,11.638,11.552,11.465999999999999,11.379999999999999,11.294,11.208,11.122,11.036,{"$f":"BT588","v":10.95},10.883333333333333,10.816666666666666,10.75,10.683333333333334,10.616666666666667,10.55,10.719000000000001,10.888,11.057,11.226000000000001,11.395,11.564,11.733000000000001,11.902000000000001,12.071,{"$f":"CJ588","v":12.24},4,"Altherma 3 H HT F 180 l 18","Altherma 3 H HT F 230 l 18",9,1.3,null,9]
[null,"Altherma 3 H HT F",18,{"$f":"'Altherma 3 H HT'!$M$30","v":3.05},{"$f":"'Altherma 3 H HT'!$M$31","v":4.09},{"$f":"'Altherma 3 H HT'!$M$32","v":5},57,{"$f":"H605","v":9.9160000000000004},10.122,10.328000000000001,10.534000000000001,10.74,10.946000000000002,11.152000000000001,11.358000000000001,11.564,11.770000000000001,11.976000000000001,12.029625000000001,12.083250000000001,12.136875,12.1905,12.244125,12.297750000000001,12.351375000000001,12.405000000000001,12.458625,12.51225,12.565875,12.6195,12.673125000000001,{"$f":"AF605","v":12.726749999999999},12.780374999999999,{"$f":"AH605","v":12.834},12.823599999999999,12.8132,12.8028,12.792400000000001,12.782,12.771599999999999,12.761200000000001,12.7508,12.740400000000001,12.73,12.719250000000001,12.708500000000001,12.697750000000001,12.687000000000001,12.67625,12.6655,12.65475,{"$f":"AZ605","v":12.644},12.6088,12.573600000000001,12.538399999999999,12.5032,12.468,12.4328,12.397600000000001,12.362399999999999,12.327199999999999,{"$f":"BJ605","v":12.292},12.0626,11.8332,11.6038,11.3744,11.145,10.9156,10.686199999999999,10.456799999999999,10.227399999999999,{"$f":"BT605","v":9.9979999999999993},10.002333333333333,10.006666666666666,10.010999999999999,10.015333333333333,10.019666666666666,10.023999999999999,10.1358,10.247599999999998,10.359399999999999,10.4712,10.582999999999998,10.694799999999999,10.8066,10.9184,11.030199999999999,{"$f":"CJ605","v":11.141999999999999},4,"Altherma 3 H HT F 180 l 18","Altherma 3 H HT F 230 l 18",9,1.3,null,9]
[null,"Altherma 3 H HT F",18,{"$f":"'Altherma 3 H HT'!$M$30","v":3.05},{"$f":"'Altherma 3 H HT'!$M$31","v":4.09},{"$f":"'Altherma 3 H HT'!$M$32","v":5},61,{"$f":"H609","v":9.8879999999999999},10.061999999999999,10.236000000000001,10.41,10.584,10.757999999999999,10.932,11.106,11.28,11.454000000000001,11.628,11.672625,11.71725,11.761875,11.8065,11.851125,11.89575,11.940375,11.984999999999999,12.029625000000001,12.074250000000001,12.118875000000001,12.163500000000001,12.208125000000001,{"$f":"AF609","v":12.252750000000001},12.297375000000001,{"$f":"AH609","v":12.342000000000001},12.354800000000001,12.367600000000001,12.3804,12.3932,12.406000000000001,12.418800000000001,12.431600000000001,12.4444,12.4572,12.47,12.482750000000001,12.4955,12.50825,12.521000000000001,12.53375,12.5465,12.559249999999999,{"$f":"AZ609","v":12.571999999999999},12.520399999999999,12.4688,12.417199999999999,12.365600000000001,12.314,12.2624,12.210800000000001,12.1592,12.107600000000001,{"$f":"BJ609","v":12.056000000000001},11.815800000000001,11.575600000000001,11.3354,11.0952,10.855,10.614800000000001,10.374600000000001,10.134399999999999,9.8941999999999997,{"$f":"BT609","v":9.6539999999999999},9.6869999999999994,9.7200000000000006,9.7530000000000001,9.7859999999999996,9.8190000000000008,9.8520000000000003,9.9394000000000009,10.0268,10.1142,10.201600000000001,10.289000000000001,10.3764,10.463800000000001,10.551200000000001,10.6386,{"$f":"CJ609","v":10.726000000000001},4,"Altherma 3 H HT F 180 l 18","Altherma 3 H HT F 230 l 18",9,1.3,null,9]
[null,"Altherma H Hybrid",4,2.69,3.78,4.55,31,null,null,null,null,null,null,null,null,null,null,null,null,null,null,null,null,null,null,null,null,{"$f":"$AB$865-(($AB$865-$AB$870)/5*A4)","v":3.0140000000000002},{"$f":"$AB866-(($AB866-$AH866)/$R$1*M$1)","v":3.1680000000000001},{"$f":"$AB866-(($AB866-$AH866)/$R$1*N$1)","v":3.3220000000000001},{"$f":"$AB866-(($AB866-$AH866)/$R$1*O$1)","v":3.476},{"$f":"$AB866-(($AB866-$AH866)/$R$1*P$1)","v":3.6300000000000003},{"$f":"$AB866-(($AB866-$AH866)/$R$1*Q$1)","v":3.7840000000000003},{"$f":"$AH$865-(($AH$865-$AH$870)/5*A4)","v":3.9380000000000002},3.9930000000000003,4.048,4.1030000000000006,4.1580000000000004,4.2130000000000001,4.2680000000000007,4.3230000000000004,4.3780000000000001,4.4330000000000007,{"$f":"$AR$865-(($AR$865-$AR$870)/5*A4)","v":4.4880000000000004},4.5322500000000003,4.5765000000000002,4.6207500000000001,4.6650000000000009,4.7092500000000008,4.7535000000000007,4.7977500000000006,{"$f":"$AZ$865-(($AZ$865-$AZ$870)/5*A4)","v":4.8420000000000005},4.8308000000000009,4.8196000000000003,4.8084000000000007,4.7972000000000001,4.7860000000000005,4.7748000000000008,4.7636000000000003,4.7524000000000006,4.7412000000000001,{"$f":"$BJ$865-(($BJ$865-$BJ$870)/5*A4)","v":4.7300000000000004},4.7606000000000002,4.7912000000000008,4.8218000000000005,4.8524000000000003,4.8830000000000009,4.9136000000000006,4.9442000000000004,4.9748000000000001,5.0054000000000007,{"$f":"$BT$865-(($BT$865-$BT$870)/5*A4)","v":5.0360000000000005},5.0983333333333336,5.1606666666666667,5.2230000000000008,5.2853333333333339,5.347666666666667,{"$f":"$BZ$865-(($BZ$865-$BZ$870)/5*A4)","v":5.41},5.4350000000000005,5.46,5.4850000000000003,5.51,5.5350000000000001,5.5600000000000005,5.585,5.61,5.6349999999999998,{"$f":"$CJ$865-(($CJ$865-$CJ$870)/5*A4)","v":5.66},null,"Altherma H Hybrid 4 kW","Altherma H Hybrid 4 kW",9,13,null,3.98]
[null,"Altherma H Hybrid",4,2.69,3.78,4.55,48,null,null,null,null,null,null,null,null,null,null,null,null,null,null,null,null,null,null,null,null,{"$f":"$AB$880-(($AB$880-$AB$885)/5*A6)","v":2.5659999999999998},2.6266666666666665,2.6873333333333331,2.7480000000000002,2.8086666666666669,2.8693333333333335,{"$f":"$AH$880-(($AH$880-$AH$885)/5*A6)","v":2.93},2.9382000000000001,2.9464000000000001,2.9546000000000001,2.9628000000000001,2.9710000000000001,2.9792000000000001,2.9874000000000001,2.9956,3.0038,{"$f":"$AR$880-(($AR$880-$AR$885)/5*A6)","v":3.012},3.0230000000000001,3.0339999999999998,3.0449999999999999,3.056,3.0669999999999997,3.0779999999999998,3.0889999999999995,{"$f":"$AZ$880-(($AZ$880-$AZ$885)/5*A6)","v":3.0999999999999996},3.2151999999999998,3.3303999999999996,3.4455999999999998,3.5607999999999995,3.6759999999999997,3.7911999999999999,3.9063999999999997,4.0215999999999994,4.1368,{"$f":"$BJ$880-(($BJ$880-$BJ$885)/5*A6)","v":4.2519999999999998},4.2519999999999998,4.2519999999999998,4.2519999999999998,4.2519999999999998,4.2519999999999998,4.2519999999999998,4.2519999999999998,4.2519999999999998,4.2519999999999998,{"$f":"$BT$880-(($BT$880-$BT$885)/5*A6)","v":4.2519999999999998},4.2723333333333331,4.2926666666666664,4.3129999999999997,4.333333333333333,4.3536666666666664,{"$f":"$BZ$880-(($BZ$880-$BZ$885)/5*A6)","v":4.3739999999999997},4.3369999999999997,4.3,4.2629999999999999,4.226,4.1890000000000001,4.1519999999999992,4.1149999999999993,4.0779999999999994,4.0409999999999995,{"$f":"$CJ$880-(($CJ$880-$CJ$885)/5*A6)","v":4.0039999999999996},null,"Altherma H Hybrid 4 kW","Altherma H Hybrid 4 kW",9,13,null,3.98]
[null,"Altherma H Hybrid",4,2.69,3.78,4.55,53,null,null,null,null,null,null,null,null,null,null,null,null,null,null,null,null,null,null,null,null,null,null,null,null,null,null,{"$f":"$AH$885-(($AH$885-$AH$890)/5*A6)","v":2.5980000000000003},2.6014000000000004,2.6048000000000004,2.6082000000000001,2.6116000000000001,2.6150000000000002,2.6184000000000003,2.6218000000000004,2.6252,2.6286,{"$f":"$AR$885-(($AR$885-$AR$890)/5*A6)","v":2.6320000000000001},2.6347499999999999,2.6375000000000002,2.64025,2.6429999999999998,2.64575,2.6484999999999999,2.6512500000000001,{"$f":"$AZ$885-(($AZ$885-$AZ$890)/5*A6)","v":2.6539999999999999},2.7993999999999999,2.9447999999999999,3.0901999999999998,3.2355999999999998,3.3809999999999998,3.5263999999999998,3.6717999999999997,3.8171999999999997,3.9625999999999997,{"$f":"$BJ$885-(($BJ$885-$BJ$890)/5*A6)","v":4.1079999999999997},4.0987999999999998,4.0895999999999999,4.0804,4.0712000000000002,4.0619999999999994,4.0527999999999995,4.0435999999999996,4.0343999999999998,4.0251999999999999,{"$f":"$BT$885-(($BT$885-$BT$890)/5*A6)","v":4.016},4.024,4.032,4.04,4.048,4.056,{"$f":"$BZ$885-(($BZ$885-$BZ$890)/5*A6)","v":4.0640000000000001},4.0124000000000004,3.9607999999999999,3.9092000000000002,3.8576000000000001,3.806,3.7544,3.7027999999999999,3.6512000000000002,3.5996000000000001,{"$f":"$CJ$885-(($CJ$885-$CJ$890)/5*A6)","v":3.548},null,"Altherma H Hybrid 4 kW","Altherma H Hybrid 4 kW",9,13,null,3.98]
[null,"Altherma H Hybrid",4,2.69,3.78,4.55,63,null,null,null,null,null,null,null,null,null,null,null,null,null,null,null,null,null,null,null,null,null,null,null,null,null,null,null,null,null,null,null,null,null,null,null,null,null,null,null,null,null,null,null,null,null,null,null,null,null,null,null,null,null,null,null,null,null,null,null,null,null,null,null,null,null,null,null,null,null,null,null,null,null,null,null,null,null,null,null,null,null,null,"Altherma H Hybrid 4 kW","Altherma H Hybrid 4 kW",9,13,null,3.98]
[null,"Altherma 3 M",4,{"$f":"'Altherma 3 M'!$K$58","v":3.1},{"$f":"'Altherma 3 M'!$K$59","v":4.0999999999999996},{"$f":"'Altherma 3 M'!$K$60","v":5.0999999999999996},39,{"$f":"$H$911-(($H$911-$H$916)/5*A7)","v":4.226},4.2687999999999997,4.3116000000000003,4.3544,4.3971999999999998,4.4399999999999995,4.4828000000000001,4.5255999999999998,4.5683999999999996,4.6112000000000002,{"$f":"$R$911-(($R$911-$R$916)/5*A7)","v":4.6539999999999999},4.6973750000000001,4.7407500000000002,4.7841249999999995,4.8274999999999997,4.8708749999999998,4.91425,4.9576250000000002,5.0009999999999994,5.0443749999999996,5.0877499999999998,5.1311249999999999,5.1745000000000001,5.2178749999999994,5.2612499999999995,5.3046249999999997,{"$f":"$AH$911-(($AH$911-$AH$916)/5*A7)","v":5.3479999999999999},5.3506,5.3532000000000002,5.3558000000000003,5.3584000000000005,5.3610000000000007,5.3635999999999999,5.3662000000000001,5.3688000000000002,5.3714000000000004,{"$f":"$AR$911-(($AR$911-$AR$916)/5*A7)","v":5.3740000000000006},5.3767500000000004,5.3795000000000002,5.38225,5.3849999999999998,5.3877500000000005,5.3905000000000003,5.3932500000000001,{"$f":"$AZ$911-(($AZ$911-$AZ$916)/5*A7)","v":5.3959999999999999},5.4846000000000004,5.5731999999999999,5.6617999999999995,5.7504,5.8390000000000004,5.9276,6.0161999999999995,6.1048,6.1934000000000005,{"$f":"$BJ$911-(($BJ$911-$BJ$916)/5*A7)","v":6.282},6.2359999999999998,6.19,6.1440000000000001,6.0979999999999999,6.0519999999999996,6.0060000000000002,5.96,5.9139999999999997,5.8680000000000003,{"$f":"BT911-((BT911-BT916)/5*$A$7)","v":5.8220000000000001},5.7623333333333333,5.7026666666666666,5.6430000000000007,5.5833333333333339,5.5236666666666672,{"$f":"BZ911-((BZ911-BZ916)/5*$A$7)","v":5.4640000000000004},5.4046000000000003,5.3452000000000002,5.2858000000000001,5.2263999999999999,5.1669999999999998,5.1076000000000006,5.0482000000000005,4.9888000000000003,4.9294000000000002,{"$f":"CJ911-((CJ911-CJ916)/5*$A$7)","v":4.87},null,"Altherma 3 M 4 kW","Altherma 3 M 4 kW",3,5.2,null,4.3]
[null,"Altherma 3 M",4,{"$f":"'Altherma 3 M'!$K$58","v":3.1},{"$f":"'Altherma 3 M'!$K$59","v":4.0999999999999996},{"$f":"'Altherma 3 M'!$K$60","v":5.0999999999999996},48,{"$f":"$H$921-(($H$921-$H$926)/5*A6)","v":4.0460000000000003},4.0796000000000001,4.1132,4.1467999999999998,4.1803999999999997,4.2140000000000004,4.2476000000000003,4.2812000000000001,4.3148,4.3483999999999998,{"$f":"$R$921-(($R$921-$R$926)/5*A6)","v":4.3819999999999997},4.415,4.4479999999999995,4.4809999999999999,4.5139999999999993,4.5469999999999997,4.58,4.6129999999999995,4.6459999999999999,4.6790000000000003,4.7119999999999997,4.7450000000000001,4.7780000000000005,4.8109999999999999,4.8440000000000003,4.8769999999999998,{"$f":"$AH$921-(($AH$921-$AH$926)/5*A6)","v":4.91},4.9219999999999997,4.9340000000000002,4.9459999999999997,4.9580000000000002,4.97,4.9819999999999993,4.9939999999999998,5.0059999999999993,5.0179999999999998,{"$f":"$AR$921-(($AR$921-$AR$926)/5*A6)","v":5.0299999999999994},5.0419999999999998,5.0539999999999994,5.0659999999999989,5.0779999999999994,5.09,5.1019999999999994,5.113999999999999,{"$f":"$AZ$921-(($AZ$921-$AZ$926)/5*A6)","v":5.1259999999999994},5.2111999999999998,5.2963999999999993,5.3815999999999997,5.4667999999999992,5.5519999999999996,5.6372,5.7223999999999995,5.8075999999999999,5.8927999999999994,{"$f":"$BJ$921-(($BJ$921-$BJ$926)/5*A6)","v":5.9779999999999998},5.9123999999999999,5.8468,5.7812000000000001,5.7156000000000002,5.65,5.5843999999999996,5.5187999999999997,5.4531999999999998,5.3875999999999999,{"$f":"BT921-((BT921-BT926)/5*$A$6)","v":5.3220000000000001},5.2356666666666669,5.1493333333333338,5.0630000000000006,4.9766666666666666,4.8903333333333334,{"$f":"BZ921-((BZ921-BZ926)/5*$A$6)","v":4.8040000000000003},4.7187999999999999,4.6336000000000004,4.5484,4.4632000000000005,4.3780000000000001,4.2927999999999997,4.2076000000000002,4.1223999999999998,4.0372000000000003,{"$f":"CJ921-((CJ921-CJ926)/5*$A$6)","v":3.952},null,"Altherma 3 M 4 kW","Altherma 3 M 4 kW",3,5.2,null,4.3]
[null,"Altherma 3 M",6,{"$f":"'Altherma 3 M'!$K$69","v":2.9},{"$f":"'Altherma 3 M'!$K$70","v":3.75},{"$f":"'Altherma 3 M'!$K$71","v":4.8499999999999996},30,{"$f":"'Altherma 3 M'!C68","v":5.19},{"$f":"$H932-(($H932-$R932)/$R$3*I$3)","v":5.23},5.2700000000000005,5.3100000000000005,5.3500000000000005,5.3900000000000006,5.43,5.47,5.51,5.55,{"$f":"'Altherma 3 M'!C69","v":5.59},5.6306250000000002,5.6712499999999997,5.711875,5.7524999999999995,5.7931249999999999,5.8337500000000002,5.8743749999999997,5.915,5.9556250000000004,5.9962499999999999,6.0368750000000002,6.0775000000000006,6.118125,6.1587500000000004,6.1993749999999999,{"$f":"'Altherma 3 M'!C70","v":6.24},6.2380000000000004,6.2359999999999998,6.234,6.2320000000000002,6.23,6.2279999999999998,6.226,6.2240000000000002,6.2219999999999995,{"$f":"'Altherma 3 M'!C71","v":6.22},6.2174999999999994,6.2149999999999999,6.2125000000000004,6.21,6.2074999999999996,6.2050000000000001,6.2025000000000006,{"$f":"'Altherma 3 M'!C72","v":6.2},6.3719999999999999,6.5440000000000005,6.7160000000000002,6.8879999999999999,7.0600000000000005,7.2320000000000002,7.4039999999999999,7.5760000000000005,7.7480000000000002,{"$f":"'Altherma 3 M'!C73","v":7.92},7.907,7.8940000000000001,7.8810000000000002,7.8680000000000003,7.8550000000000004,7.8419999999999996,7.8289999999999997,7.8159999999999998,7.8029999999999999,{"$f":"'Altherma 3 M'!C74","v":7.79},7.7583333333333329,7.7266666666666666,7.6950000000000003,7.6633333333333331,7.6316666666666659,{"$f":"'Altherma 3 M'!C75","v":7.6},7.569,7.5379999999999994,7.5069999999999997,7.476,7.4450000000000003,7.4139999999999997,7.383,7.3520000000000003,7.3209999999999997,{"$f":"'Altherma 3 M'!C76","v":7.29},null,"Altherma 3 M 6 kW","Altherma 3 M 6 kW",3,5.0999999999999996,null,6]
[null,"Altherma 3 M",6,{"$f":"'Altherma 3 M'!$K$69","v":2.9},{"$f":"'Altherma 3 M'!$K$70","v":3.75},{"$f":"'Altherma 3 M'!$K$71","v":4.8499999999999996},44,{"$f":"$H$942-(($H$942-$H$947)/5*A7)","v":5.032},5.0793999999999997,5.1268000000000002,5.1741999999999999,5.2216000000000005,5.2690000000000001,5.3163999999999998,5.3638000000000003,5.4112,5.4586000000000006,{"$f":"$R$942-(($R$942-$R$947)/5*A7)","v":5.5060000000000002},{"$f":"$R946-(($R946-$AH946)/$AH$3*S$3)","v":5.5529999999999999},5.6000000000000005,5.6470000000000002,5.694,5.7410000000000005,5.7880000000000003,5.835,5.8819999999999997,5.9290000000000003,5.976,6.0229999999999997,6.07,6.117,6.1639999999999997,6.2110000000000003,{"$f":"$AH$942-(($AH$942-$AH$947)/5*A7)","v":6.258},{"$f":"$AH946-(($AH946-$AR946)/$AR$3*AI$3)","v":6.2496},6.2412000000000001,6.2328000000000001,6.2244000000000002,6.2160000000000002,6.2076000000000002,6.1992000000000003,6.1908000000000003,6.1824000000000003,{"$f":"$AR$942-(($AR$942-$AR$947)/5*A7)","v":6.1740000000000004},{"$f":"$AR946-(($AR946-$AZ946)/$AZ$3*AS$3)","v":6.1655000000000006},6.157,6.1485000000000003,6.1400000000000006,6.1315,6.1230000000000002,6.1144999999999996,{"$f":"$AZ$942-(($AZ$942-$AZ$947)/5*A7)","v":6.1059999999999999},{"$f":"$AZ946-(($AZ946-$BJ946)/$BJ$3*BA$3)","v":6.2387999999999995},6.3715999999999999,6.5044000000000004,6.6372,6.77,6.9028,7.0356000000000005,7.1684000000000001,7.3011999999999997,{"$f":"$BJ$942-(($BJ$942-$BJ$947)/5*A7)","v":7.4340000000000002},{"$f":"$BJ946-(($BJ946-$BT946)/$BT$3*BK$3)","v":7.3950000000000005},7.3559999999999999,7.3170000000000002,7.2780000000000005,7.2390000000000008,7.2,7.1610000000000005,7.1220000000000008,7.0830000000000002,{"$f":"BT942-((BT942-BT947)/5*$A$7)","v":7.0440000000000005},{"$f":"$BT946-(($BT946-$BZ946)/$BZ$3*BU$3)","v":6.9716666666666676},6.8993333333333338,6.827,6.754666666666667,6.6823333333333341,{"$f":"BZ942-((BZ942-BZ947)/5*$A$7)","v":6.61},{"$f":"$BZ946-(($BZ946-$CJ946)/$CJ$3*CA$3)","v":6.5372000000000003},6.4644000000000004,6.3916000000000004,6.3188000000000004,6.2460000000000004,6.1732000000000005,6.1004000000000005,6.0276000000000005,5.9548000000000005,{"$f":"CJ942-((CJ942-CJ947)/5*$A$7)","v":5.8820000000000006},null,"Altherma 3 M 6 kW","Altherma 3 M 6 kW",3,5.0999999999999996,null,6]
[null,"Altherma 3 M",6,{"$f":"'Altherma 3 M'!$K$69","v":2.9},{"$f":"'Altherma 3 M'!$K$70","v":3.75},{"$f":"'Altherma 3 M'!$K$71","v":4.8499999999999996},54,null,null,null,null,null,null,null,null,null,null,{"$f":"$R$952-(($R$952-$R$957)/5*A7)","v":4.9720000000000004},{"$f":"$R956-(($R956-$AH956)/$AH$3*S$3)","v":4.9765000000000006},4.9810000000000008,4.9855,4.99,4.9945000000000004,4.9990000000000006,5.0035000000000007,5.0080000000000009,5.0125000000000002,5.0170000000000003,5.0215000000000005,5.0260000000000007,5.0305000000000009,5.0350000000000001,5.0395000000000003,{"$f":"$AH$952-(($AH$952-$AH$957)/5*A7)","v":5.0440000000000005},{"$f":"$AH956-(($AH956-$AR956)/$AR$3*AI$3)","v":5.08},5.1160000000000005,5.1520000000000001,5.1880000000000006,5.2240000000000002,5.26,5.2960000000000003,5.3319999999999999,5.3680000000000003,{"$f":"$AR$952-(($AR$952-$AR$957)/5*A7)","v":5.4039999999999999},{"$f":"$AR956-(($AR956-$AZ956)/$AZ$3*AS$3)","v":5.4402499999999998},5.4764999999999997,5.5127499999999996,5.5489999999999995,5.5852500000000003,5.6215000000000002,5.6577500000000001,{"$f":"$AZ$952-(($AZ$952-$AZ$957)/5*A7)","v":5.694},{"$f":"$AZ956-(($AZ956-$BJ956)/$BJ$3*BA$3)","v":5.8314000000000004},5.9687999999999999,6.1062000000000003,6.2435999999999998,6.3810000000000002,6.5183999999999997,6.6558000000000002,6.7932000000000006,6.9306000000000001,{"$f":"$BJ$952-(($BJ$952-$BJ$957)/5*A7)","v":7.0680000000000005},{"$f":"$BJ956-(($BJ956-$BT956)/$BT$3*BK$3)","v":7.0196000000000005},6.9712000000000005,6.9228000000000005,6.8744000000000005,6.8260000000000005,6.7775999999999996,6.7291999999999996,6.6807999999999996,6.6323999999999996,{"$f":"BT952-((BT952-BT957)/5*$A$7)","v":6.5839999999999996},{"$f":"$BT956-(($BT956-$BZ956)/$BZ$3*BU$3)","v":6.4669999999999996},6.35,6.2329999999999997,6.1159999999999997,5.9989999999999997,{"$f":"BZ952-((BZ952-BZ957)/5*$A$7)","v":5.8819999999999997},{"$f":"$BZ956-(($BZ956-$CJ956)/$CJ$3*CA$3)","v":5.7656000000000001},5.6491999999999996,5.5327999999999999,5.4163999999999994,5.3,5.1836000000000002,5.0671999999999997,4.9508000000000001,4.8343999999999996,{"$f":"CJ952-((CJ952-CJ957)/5*$A$7)","v":4.718},null,"Altherma 3 M 6 kW","Altherma 3 M 6 kW",3,5.0999999999999996,null,6]
[null,"Altherma 3 M",8,{"$f":"'Altherma 3 M'!$K$80","v":2.7},{"$f":"'Altherma 3 M'!$K$81","v":3.65},{"$f":"'Altherma 3 M'!$K$82","v":4.5999999999999996},37,{"$f":"$H$963-(($H$963-$H$968)/5*A5)","v":6.1079999999999997},6.1532,6.1983999999999995,6.2435999999999998,6.2888000000000002,6.3339999999999996,6.3792,6.4244000000000003,6.4696000000000007,6.5148000000000001,{"$f":"$R$963-(($R$963-$R$968)/5*A5)","v":6.5600000000000005},6.6052500000000007,6.6505000000000001,6.6957500000000003,6.7410000000000005,6.7862499999999999,6.8315000000000001,6.8767500000000004,6.9220000000000006,6.9672499999999999,7.0125000000000002,7.0577500000000004,7.1029999999999998,7.14825,7.1935000000000002,7.2387499999999996,{"$f":"$AH$963-(($AH$963-$AH$968)/5*A5)","v":7.2839999999999998},7.2804000000000002,7.2767999999999997,7.2732000000000001,7.2695999999999996,7.266,7.2624000000000004,7.2587999999999999,7.2552000000000003,7.2515999999999998,{"$f":"$AR$963-(($AR$963-$AR$968)/5*A5)","v":7.2480000000000002},7.2450000000000001,7.242,7.2389999999999999,7.2360000000000007,7.2330000000000005,7.23,7.2270000000000003,{"$f":"$AZ$963-(($AZ$963-$AZ$968)/5*A5)","v":7.2240000000000002},7.4286000000000003,7.6332000000000004,7.8377999999999997,8.0424000000000007,8.2469999999999999,8.4515999999999991,8.6562000000000001,8.8607999999999993,9.0654000000000003,{"$f":"$BJ$963-(($BJ$963-$BJ$968)/5*A5)","v":9.27},8.8289999999999988,8.3879999999999999,7.9469999999999992,7.5060000000000002,7.0649999999999995,6.6239999999999997,6.1829999999999998,5.742,5.3010000000000002,{"$f":"$BT$870-(($BT$870-$BT$875)/5*A98)","v":4.8600000000000003},4.9116666666666671,4.9633333333333338,5.0150000000000006,5.0666666666666664,5.1183333333333332,{"$f":"$BZ$870-(($BZ$870-$BZ$875)/5*A98)","v":5.17},5.1829999999999998,5.1959999999999997,5.2089999999999996,5.2219999999999995,5.2349999999999994,5.2480000000000002,5.2610000000000001,5.274,5.2869999999999999,{"$f":"$CJ$870-(($CJ$870-$CJ$875)/5*A98)","v":5.3},null,"Altherma 3 M 8 kW","Altherma 3 M 8 kW",3,5,null,7.5]
[null,"Altherma 3 M",8,{"$f":"'Altherma 3 M'!$K$80","v":2.7},{"$f":"'Altherma 3 M'!$K$81","v":3.65},{"$f":"'Altherma 3 M'!$K$82","v":4.5999999999999996},50,{"$f":"'Altherma 3 M'!G79","v":5.89},5.9339999999999993,5.9779999999999998,6.0220000000000002,6.0659999999999998,6.1099999999999994,6.1539999999999999,6.1980000000000004,6.242,6.2859999999999996,{"$f":"'Altherma 3 M'!G80","v":6.33},6.3731249999999999,6.4162499999999998,6.4593749999999996,6.5024999999999995,6.5456250000000002,6.5887500000000001,6.631875,6.6749999999999998,6.7181249999999997,6.7612499999999995,6.8043749999999994,6.8475000000000001,6.890625,6.9337499999999999,6.9768749999999997,{"$f":"'Altherma 3 M'!G81","v":7.02},7.0229999999999997,7.0259999999999998,7.0289999999999999,7.032,7.0350000000000001,7.0379999999999994,7.0409999999999995,7.0439999999999996,7.0469999999999997,{"$f":"'Altherma 3 M'!G82","v":7.05},7.0525000000000002,7.0549999999999997,7.0575000000000001,7.0600000000000005,7.0625,7.0650000000000004,7.0674999999999999,{"$f":"'Altherma 3 M'!G83","v":7.07},7.2370000000000001,7.4039999999999999,7.5709999999999997,7.7380000000000004,7.9050000000000002,8.0719999999999992,8.2390000000000008,8.4060000000000006,8.5730000000000004,{"$f":"'Altherma 3 M'!G84","v":8.74},8.7080000000000002,8.6760000000000002,8.6440000000000001,8.6120000000000001,8.58,8.548,8.516,8.484,8.452,{"$f":"'Altherma 3 M'!G85","v":8.42},8.3149999999999995,8.2100000000000009,8.1050000000000004,8,7.8949999999999996,{"$f":"'Altherma 3 M'!G86","v":7.79},7.6829999999999998,7.5759999999999996,7.4690000000000003,7.3620000000000001,7.2549999999999999,7.1479999999999997,7.0409999999999995,6.9340000000000002,6.827,{"$f":"'Altherma 3 M'!G87","v":6.72},null,"Altherma 3 M 8 kW","Altherma 3 M 8 kW",3,5,null,7.5]
[null,"Altherma 3 M",8,{"$f":"'Altherma 3 M'!$K$80","v":2.7},{"$f":"'Altherma 3 M'!$K$81","v":3.65},{"$f":"'Altherma 3 M'!$K$82","v":4.5999999999999996},54,null,null,null,null,null,null,null,null,null,null,{"$f":"$R$978-(($R$978-$R$983)/5*A7)","v":6.33},6.3591249999999997,6.3882500000000002,6.4173749999999998,6.4465000000000003,6.475625,6.5047500000000005,6.5338750000000001,6.5630000000000006,6.5921250000000002,6.6212499999999999,6.6503750000000004,6.6795,6.7086250000000005,6.7377500000000001,6.7668750000000006,{"$f":"$AH$978-(($AH$978-$AH$983)/5*A7)","v":6.7960000000000003},6.8037999999999998,6.8116000000000003,6.8193999999999999,6.8272000000000004,6.835,6.8427999999999995,6.8506,6.8583999999999996,6.8662000000000001,{"$f":"$AR$978-(($AR$978-$AR$983)/5*A7)","v":6.8739999999999997},6.8815,6.8889999999999993,6.8964999999999996,6.9039999999999999,6.9115000000000002,6.9190000000000005,6.9264999999999999,{"$f":"$AZ$978-(($AZ$978-$AZ$983)/5*A7)","v":6.9340000000000002},7.1042000000000005,7.2744,7.4445999999999994,7.6147999999999998,7.7850000000000001,7.9551999999999996,8.1253999999999991,8.2956000000000003,8.4657999999999998,{"$f":"$BJ$978-(($BJ$978-$BJ$983)/5*A7)","v":8.6359999999999992},8.1883999999999997,7.7407999999999992,7.2931999999999997,6.8455999999999992,6.3979999999999997,5.9504000000000001,5.5028000000000006,5.0552000000000001,4.6076000000000006,{"$f":"$BT$885-(($BT$885-$BT$890)/5*A100)","v":4.16},4.1749999999999998,4.1900000000000004,4.2050000000000001,4.22,4.2350000000000003,{"$f":"$BZ$885-(($BZ$885-$BZ$890)/5*A100)","v":4.25},4.2050000000000001,4.16,4.1150000000000002,4.07,4.0250000000000004,3.98,3.9350000000000001,3.8899999999999997,3.8449999999999998,{"$f":"$CJ$885-(($CJ$885-$CJ$890)/5*A100)","v":3.8},null,"Altherma 3 M 8 kW","Altherma 3 M 8 kW",3,5,null,7.5]
[null,"Altherma 3 M",9,2.81,4.01,4.91,34,{"$f":"$H$989-(($H$989-$H$994)/5*A7)","v":6.5922490521903017},6.6447966251361423,6.6973441980819839,6.7498917710278246,6.8024393439736652,6.8549869169195059,6.9075344898653475,6.9600820628111881,7.0126296357570288,7.0651772087028704,{"$f":"$R$989-(($R$989-$R$994)/5*A7)","v":7.117724781648711},7.1702723545945517,7.2228199275403924,7.275367500486233,7.3279150734320737,7.3804626463779153,7.4330102193237559,7.4855577922695966,7.5381053652154373,7.590652938161278,7.6432005111071186,7.6957480840529593,7.7482956569988009,7.8008432299446415,7.8533908028904822,7.9059383758363229,{"$f":"$AH$989-(($AH$989-$AH$994)/5*A7)","v":7.9584859487821635},8.0551140339697138,8.1517421191572659,8.2483702043448162,8.3449982895323682,8.4416263747199185,8.5382544599074688,8.6348825450950208,8.7315106302825711,8.8281387154701232,{"$f":"$AR$989-(($AR$989-$AR$994)/5*A7)","v":8.9247668006576735},8.9350111384406947,8.9452554762237177,8.955499814006739,8.9657441517897603,8.9759884895727815,8.9862328273558028,8.9964771651388258,{"$f":"$AZ$989-(($AZ$989-$AZ$994)/5*A7)","v":9.006721502921847},9.1357175305413207,9.2647135581607944,9.3937095857802699,9.5227056133997436,9.6517016410192173,9.7806976686386911,9.9096936962581648,10.03868972387764,10.167685751497114,{"$f":"$BJ$989-(($BJ$989-$BJ$994)/5*A7)","v":10.296681779116588},10.62709336326405,10.957504947411511,11.287916531558974,11.618328115706435,11.948739699853897,12.279151284001358,12.609562868148821,12.939974452296283,13.270386036443744,{"$f":"$BT$989-(($BT$989-$BT$994)/5*A7)","v":13.600797620591207},13.865677010351785,14.130556400112361,14.395435789872939,14.660315179633518,14.925194569394094,{"$f":"$BZ$989-(($BZ$989-$BZ$994)/5*A7)","v":15.190073959154672},15.45495334891525,15.719832738675828,15.984712128436406,16.249591518196983,16.514470907957563,16.779350297718139,17.044229687478719,17.309109077239295,17.573988466999875,{"$f":"$CJ$989-(($CJ$989-$CJ$994)/5*A7)","v":17.838867856760452},null,"Altherma 3 M 9 kW","Altherma 3 M 9 kW",3,5.6,null,9.3699999999999992]
[null,"Altherma 3 M",9,2.81,4.01,4.91,50,null,null,null,null,null,null,null,null,null,null,null,null,null,null,null,null,null,null,null,null,null,null,null,null,null,null,{"$f":"'Altherma 3 M'!H9","v":8.5169397198658334},8.5764826077374092,8.6360254956089868,8.6955683834805626,8.7551112713521384,8.8146541592237142,8.8741970470952918,8.9337399349668676,8.9932828228384434,9.052825710710021,{"$f":"'Altherma 3 M'!H10","v":9.1123685985815968},9.1446346213111322,9.176900644040666,9.2091666667702015,9.2414326894997352,9.2736987122292707,9.3059647349588062,9.3382307576883399,{"$f":"'Altherma 3 M'!H11","v":9.3704967804178754},9.4148533786045387,9.4592099767912039,9.5035665749778673,9.5479231731645324,9.5922797713511958,9.6366363695378592,9.6809929677245243,9.7253495659111877,9.7697061640978529,{"$f":"'Altherma 3 M'!H12","v":9.8140627622845162},10.143535766044867,10.473008769805215,10.802481773565566,11.131954777325914,11.461427781086265,11.790900784846613,12.120373788606964,12.449846792367314,12.779319796127663,{"$f":"'Altherma 3 M'!H13","v":13.108792799888013},13.36140863249879,13.614024465109566,13.866640297720343,14.11925613033112,14.371871962941896,{"$f":"'Altherma 3 M'!H14","v":14.624487795552673},14.87710362816345,15.129719460774227,15.382335293385005,15.634951125995782,15.887566958606559,16.140182791217335,16.392798623828114,16.645414456438889,16.898030289049668,{"$f":"'Altherma 3 M'!H15","v":17.150646121660444},null,"Altherma 3 M 9 kW","Altherma 3 M 9 kW",3,5.6,null,9.3699999999999992]
[null,"Altherma 3 M",9,2.81,4.01,4.91,60,null,null,null,null,null,null,null,null,null,null,null,null,null,null,null,null,null,null,null,null,null,null,null,null,null,null,{"$f":"'Altherma 3 M'!J9","v":7.6272144663501535},7.6764164308570768,7.7256183953640001,7.7748203598709225,7.8240223243778457,7.873224288884769,7.9224262533916923,7.9716282178986155,8.0208301824055379,8.0700321469124621,{"$f":"'Altherma 3 M'!J10","v":8.1192341114193844},8.1406755899884278,8.1621170685574711,8.1835585471265144,8.2050000256955578,8.2264415042645993,8.2478829828336426,8.269324461402686,{"$f":"'Altherma 3 M'!J11","v":8.2907659399717293},8.5313548833341599,8.7719438266965906,9.0125327700590212,9.2531217134214518,9.4937106567838825,9.7342996001463113,9.974888543508742,10.215477486871173,10.456066430233603,{"$f":"'Altherma 3 M'!J12","v":10.696655373596034},10.907641823609456,11.118628273622878,11.329614723636301,11.540601173649723,11.751587623663145,11.962574073676567,12.173560523689991,12.384546973703413,12.595533423716835,{"$f":"'Altherma 3 M'!J13","v":12.806519873730258},12.988917408452821,13.171314943175382,13.353712477897945,13.536110012620508,13.718507547343069,{"$f":"'Altherma 3 M'!J14","v":13.900905082065632},14.083302616788195,14.265700151510758,14.44809768623332,14.630495220955883,14.812892755678446,14.995290290401009,15.177687825123572,15.360085359846133,15.542482894568696,{"$f":"'Altherma 3 M'!J15","v":15.724880429291259},null,"Altherma 3 M 9 kW","Altherma 3 M 9 kW",3,5.6,null,9.3699999999999992]
[null,"Altherma 3 M",11,2.92,4.01,4.83,30,{"$f":"'Altherma 3 M'!D18","v":8.5489707281846545},8.5744172260744858,8.5998637239643152,8.6253102218541464,8.6507567197439759,8.6762032176338071,8.7016497155236383,8.7270962134134678,8.752542711303299,8.7779892091931284,{"$f":"'Altherma 3 M'!D19","v":8.8034357070829596},8.8288822049727891,8.8543287028626203,8.8797752007524497,8.905221698642281,8.9306681965321104,8.9561146944219416,8.9815611923117711,9.0070076902016005,9.0324541880914317,9.0579006859812612,9.0833471838710924,9.1087936817609219,9.1342401796507531,9.1596866775405825,9.1851331754304137,{"$f":"'Altherma 3 M'!D20","v":9.2105796733202432},9.3164713032127171,9.4223629331051928,9.5282545629976667,9.6341461928901406,9.7400378227826145,9.8459294526750902,9.9518210825675641,10.057712712460038,10.163604342352514,{"$f":"'Altherma 3 M'!D21","v":10.269495972244988},10.279368522338425,10.289241072431864,10.299113622525301,10.308986172618738,10.318858722712175,10.328731272805612,10.338603822899051,{"$f":"'Altherma 3 M'!D22","v":10.348476372992488},10.446976723099489,10.545477073206492,10.643977423313492,10.742477773420493,10.840978123527496,10.939478473634496,11.037978823741497,11.136479173848498,11.2349795239555,{"$f":"'Altherma 3 M'!D23","v":11.333479874062501},11.632448246202948,11.931416618343397,12.230384990483845,12.529353362624292,12.828321734764739,13.127290106905187,13.426258479045636,13.725226851186083,14.024195223326529,{"$f":"'Altherma 3 M'!D24","v":14.323163595466978},14.586975517980996,14.850787440495015,15.114599363009033,15.37841128552305,15.64222320803707,{"$f":"'Altherma 3 M'!D25","v":15.906035130551087},16.169847053065105,16.433658975579121,16.69747089809314,16.961282820607156,17.225094743121176,17.488906665635191,17.752718588149211,18.016530510663227,18.280342433177246,{"$f":"'Altherma 3 M'!D26","v":18.544154355691262},null,"Altherma 3 M 11 kW","Altherma 3 M 11 kW",3,5.5,null,10.56]
[null,"Altherma 3 M",11,2.92,4.01,4.83,47,null,null,null,null,null,null,null,null,null,null,null,null,null,null,null,null,null,null,null,null,null,null,null,null,null,null,{"$f":"$AH$1040-(($AH$1040-$AH$1045)/5*A5)","v":10.263506219792932},10.335754650320903,10.408003080848873,10.480251511376844,10.552499941904815,10.624748372432785,10.696996802960756,10.769245233488727,10.841493664016697,10.913742094544668,{"$f":"$AR$1040-(($AR$1040-$AR$1045)/5*A5)","v":10.985990525072639},10.968367305594594,10.950744086116551,10.933120866638506,10.915497647160461,10.897874427682417,10.880251208204372,10.862627988726329,{"$f":"$AZ$1040-(($AZ$1040-$AZ$1045)/5*A5)","v":10.845004769248284},10.971665720697809,11.098326672147333,11.22498762359686,11.351648575046385,11.478309526495909,11.604970477945434,11.731631429394959,11.858292380844485,11.98495333229401,{"$f":"$BJ$1040-(($BJ$1040-$BJ$1045)/5*A5)","v":12.111614283743535},12.264827036003666,12.418039788263798,12.571252540523929,12.72446529278406,12.877678045044192,13.030890797304325,13.184103549564457,13.337316301824588,13.490529054084719,{"$f":"$BT$1040-(($BT$1040-$BT$1045)/5*A5)","v":13.643741806344851},13.872013382975116,14.100284959605379,14.328556536235642,14.556828112865906,14.785099689496171,{"$f":"$BZ$1040-(($BZ$1040-$BZ$1045)/5*A5)","v":15.013371266126434},15.241642842756697,15.469914419386962,15.698185996017225,15.92645757264749,16.154729149277752,16.383000725908015,16.611272302538278,16.839543879168545,17.067815455798808,{"$f":"$CJ$1040-(($CJ$1040-$CJ$1045)/5*A5)","v":17.296087032429071},null,"Altherma 3 M 11 kW","Altherma 3 M 11 kW",3,5.5,null,10.56]
[null,"Altherma 3 M",11,2.92,4.01,4.83,56,null,null,null,null,null,null,null,null,null,null,null,null,null,null,null,null,null,null,null,null,null,null,null,null,null,null,{"$f":"$AH$1050-(($AH$1050-$AH$1055)/5*A4)","v":8.8020587799367433},8.8622833812378321,8.9225079825389209,8.9827325838400096,9.0429571851410984,9.1031817864421889,9.1634063877432776,9.2236309890443664,9.2838555903454552,9.3440801916465439,{"$f":"$AR$1050-(($AR$1050-$AR$1055)/5*A4)","v":9.4043047929476327},9.4866853216639928,9.5690658503803512,9.6514463790967113,9.7338269078130715,9.8162074365294316,9.8985879652457918,9.9809684939621501,{"$f":"$AZ$1050-(($AZ$1050-$AZ$1055)/5*A4)","v":10.06334902267851},10.207098144303632,10.350847265928756,10.494596387553878,10.638345509179,10.782094630804124,10.925843752429246,11.069592874054369,11.213341995679491,11.357091117304615,{"$f":"$BJ$1050-(($BJ$1050-$BJ$1055)/5*A4)","v":11.500840238929737},11.674824695699433,11.84880915246913,12.022793609238827,12.196778066008523,12.370762522778222,12.544746979547917,12.718731436317615,12.892715893087312,13.066700349857008,{"$f":"$BT$1050-(($BT$1050-$BT$1055)/5*A4)","v":13.240684806626705},13.450143358452522,13.659601910278338,13.869060462104155,14.078519013929974,14.28797756575579,{"$f":"$BZ$1050-(($BZ$1050-$BZ$1055)/5*A4)","v":14.497436117581607},14.706894669407424,14.916353221233242,15.125811773059059,15.335270324884878,15.544728876710694,15.754187428536511,15.96364598036233,16.173104532188148,16.382563084013963,{"$f":"$CJ$1050-(($CJ$1050-$CJ$1055)/5*A4)","v":16.592021635839782},null,"Altherma 3 M 11 kW","Altherma 3 M 11 kW",3,5.5,null,10.56]
[null,"Altherma 3 M",14,2.86,4.01,4.87,28,{"$f":"$H$1056-(($H$1056-$H$1061)/5*A6)","v":8.965609518806092},9.019103739087317,9.0725979593685437,9.1260921796497687,9.1795863999309955,9.2330806202122204,9.2865748404934454,9.3400690607746721,9.3935632810558971,9.4470575013371239,{"$f":"$R$1056-(($R$1056-$R$1061)/5*A6)","v":9.5005517216183488},9.5540459418995738,9.6075401621808005,9.6610343824620273,9.7145286027432523,9.7680228230244772,9.821517043305704,9.8750112635869307,9.9285054838681557,9.9819997041493806,10.035493924430607,10.088988144711834,10.142482364993059,10.195976585274284,10.249470805555511,10.302965025836738,{"$f":"$AH$1056-(($AH$1056-$AH$1061)/5*A6)","v":10.356459246117963},10.445498814374506,10.53453838263105,10.623577950887594,10.712617519144137,10.801657087400681,10.890696655657226,10.97973622391377,11.068775792170314,11.157815360426858,{"$f":"$AR$1056-(($AR$1056-$AR$1061)/5*A6)","v":11.246854928683401},11.249562741352644,11.252270554021887,11.25497836669113,11.257686179360373,11.260393992029616,11.263101804698859,11.265809617368102,{"$f":"$AZ$1056-(($AZ$1056-$AZ$1061)/5*A6)","v":11.268517430037345},11.524588824057611,11.780660218077877,12.036731612098142,12.292803006118408,12.548874400138672,12.80494579415894,13.061017188179203,13.317088582199469,13.573159976219735,{"$f":"$BJ$1056-(($BJ$1056-$BJ$1061)/5*A6)","v":13.82923137024},13.994763420300407,14.160295470360815,14.325827520421221,14.491359570481629,14.656891620542035,14.822423670602442,14.98795572066285,15.153487770723256,15.319019820783664,{"$f":"$BT$1056-(($BT$1056-$BT$1061)/5*A6)","v":15.48455187084407},15.684971223918321,15.885390576992572,16.085809930066823,16.286229283141076,16.486648636215325,{"$f":"$BZ$1056-(($BZ$1056-$BZ$1061)/5*A6)","v":16.687067989289577},16.887487342363826,17.087906695438079,17.288326048512332,17.488745401586581,17.68916475466083,17.889584107735082,18.090003460809335,18.290422813883584,18.490842166957833,{"$f":"$CJ$1056-(($CJ$1056-$CJ$1061)/5*A6)","v":18.691261520032086},null,"Altherma 3 M 14 kW","Altherma 3 M 14 kW",3,5.4,null,12]
[null,"Altherma 3 M",14,2.86,4.01,4.87,35,{"$f":"'Altherma 3 M'!E29","v":8.7789725758512276},{"$f":"$H1066-(($H1066-$R1066)/$R$3*I$3)","v":8.8538403920309232},8.9287082082106171,9.0035760243903127,9.0784438405700065,9.1533116567497022,9.2281794729293978,9.3030472891090916,9.3779151052887872,9.4527829214684811,{"$f":"'Altherma 3 M'!E30","v":9.5276507376481767},{"$f":"$R1066-(($R1066-$AH1066)/$AH$3*S$3)","v":9.6025185538278723},9.6773863700075662,9.7522541861872618,9.8271220023669574,9.9019898185466513,9.9768576347263469,10.051725450906043,10.126593267085738,10.201461083265432,10.276328899445128,10.351196715624823,10.426064531804517,10.500932347984213,10.575800164163908,10.650667980343602,{"$f":"'Altherma 3 M'!E31","v":10.725535796523298},{"$f":"$AH1066-(($AH1066-$AR1066)/$AR$3*AI$3)","v":10.801562910824718},10.877590025126137,10.953617139427559,11.029644253728978,11.105671368030398,11.181698482331818,11.257725596633238,11.333752710934659,11.409779825236079,{"$f":"'Altherma 3 M'!E32","v":11.485806939537499},{"$f":"$AR1066-(($AR1066-$AZ1066)/$AZ$3*AS$3)","v":11.437782913045256},11.389758886553013,11.34173486006077,11.293710833568529,11.245686807076286,11.197662780584043,11.1496387540918,{"$f":"'Altherma 3 M'!E33","v":11.101614727599557},{"$f":"$AZ1066-(($AZ1066-$BJ1066)/$BJ$3*BA$3)","v":11.360225464919601},11.618836202239645,11.87744693955969,12.136057676879734,12.394668414199778,12.653279151519822,12.911889888839866,13.17050062615991,13.429111363479954,{"$f":"'Altherma 3 M'!E34","v":13.687722100799999},{"$f":"$BJ1066-(($BJ1066-$BT1066)/$BT$3*BK$3)","v":13.827636447153486},13.967550793506973,14.10746513986046,14.247379486213948,14.387293832567433,14.527208178920921,14.667122525274408,14.807036871627895,14.946951217981383,{"$f":"'Altherma 3 M'!E35","v":15.08686556433487},{"$f":"$BT1066-(($BT1066-$BZ1066)/$BZ$3*BU$3)","v":15.27996061936639},15.47305567439791,15.666150729429432,15.859245784460953,16.052340839492473,{"$f":"'Altherma 3 M'!E36","v":16.245435894523993},{"$f":"$BZ1066-(($BZ1066-$CJ1066)/$CJ$3*CA$3)","v":16.438530949555513},16.631626004587034,16.824721059618554,17.017816114650074,17.210911169681594,17.404006224713118,17.597101279744638,17.790196334776159,17.983291389807679,{"$f":"'Altherma 3 M'!E37","v":18.176386444839199},null,"Altherma 3 M 14 kW","Altherma 3 M 14 kW",3,5.4,null,12]
[null,"Altherma 3 M",14,2.86,4.01,4.87,49,null,null,null,null,null,null,null,null,null,null,null,null,null,null,null,null,null,null,null,null,null,null,null,null,null,null,{"$f":"$AH$1076-(($AH$1076-$AH$1081)/5*A7)","v":10.250483475716896},10.294446551833733,10.33840962795057,10.382372704067405,10.426335780184242,10.470298856301079,10.514261932417917,10.558225008534754,10.602188084651589,10.646151160768426,{"$f":"$AR$1076-(($AR$1076-$AR$1081)/5*A7)","v":10.690114236885263},10.774395419975178,10.858676603065092,10.942957786155006,11.027238969244921,11.111520152334837,11.195801335424751,11.280082518514664,{"$f":"$AZ$1076-(($AZ$1076-$AZ$1081)/5*A7)","v":11.36436370160458},11.581567701323673,11.798771701042764,12.015975700761857,12.233179700480949,12.450383700200042,12.667587699919133,12.884791699638226,13.101995699357319,13.31919969907641,{"$f":"$BJ$1076-(($BJ$1076-$BJ$1081)/5*A7)","v":13.536403698795503},13.616770070242774,13.697136441690047,13.777502813137318,13.85786918458459,13.938235556031861,14.018601927479132,14.098968298926405,14.179334670373676,14.259701041820948,{"$f":"$BT$1076-(($BT$1076-$BT$1081)/5*A7)","v":14.340067413268219},14.515666265444699,14.691265117621178,14.866863969797656,15.042462821974135,15.218061674150615,{"$f":"$BZ$1076-(($BZ$1076-$BZ$1081)/5*A7)","v":15.393660526327094},15.569259378503574,15.744858230680052,15.920457082856531,16.096055935033011,16.271654787209489,16.44725363938597,16.622852491562448,16.798451343738925,16.974050195915407,{"$f":"$CJ$1076-(($CJ$1076-$CJ$1081)/5*A7)","v":17.149649048091884},null,"Altherma 3 M 14 kW","Altherma 3 M 14 kW",3,5.4,null,12]
[null,"Altherma 3 M",16,2.7,4.01,4.53,25,{"$f":"'Altherma 3 M'!C40","v":9.5630705217599861},{"$f":"$H1092-(($H1092-$R1092)/$R$3*I$3)","v":9.6074664389658579},9.6518623561717316,9.6962582733776035,9.7406541905834771,9.785050107789349,9.8294460249952209,9.8738419422010946,9.9182378594069665,9.9626337766128401,{"$f":"'Altherma 3 M'!C41","v":10.007029693818712},{"$f":"$R1092-(($R1092-$AH1092)/$AH$3*S$3)","v":10.051425611024584},10.095821528230458,10.140217445436331,10.184613362642203,10.229009279848075,10.273405197053949,10.317801114259822,10.362197031465694,10.406592948671566,10.45098886587744,10.495384783083313,10.539780700289185,10.584176617495057,10.628572534700931,10.672968451906804,{"$f":"'Altherma 3 M'!C42","v":10.717364369112676},10.810605285431745,10.903846201750813,10.997087118069883,11.090328034388952,11.18356895070802,11.276809867027088,11.370050783346157,11.463291699665227,11.556532615984295,{"$f":"'Altherma 3 M'!C43","v":11.649773532303364},11.737396596440838,11.825019660578313,11.912642724715786,12.000265788853261,12.087888852990735,12.175511917128208,12.263134981265683,{"$f":"'Altherma 3 M'!C44","v":12.350758045403158},12.629559798073112,12.908361550743065,13.187163303413019,13.465965056082972,13.744766808752926,14.023568561422881,14.302370314092833,14.581172066762788,14.85997381943274,{"$f":"'Altherma 3 M'!C45","v":15.138775572102695},15.400511452260169,15.662247332417643,15.923983212575116,16.18571909273259,16.447454972890064,16.709190853047538,16.970926733205012,17.232662613362486,17.494398493519959,{"$f":"'Altherma 3 M'!C46","v":17.756134373677433},17.868511711824159,17.980889049970887,18.093266388117613,18.205643726264338,18.318021064411067,{"$f":"'Altherma 3 M'!C47","v":18.430398402557792},18.542775740704517,18.655153078851246,18.767530416997971,18.879907755144696,18.992285093291422,19.10466243143815,19.217039769584876,19.329417107731601,19.44179444587833,{"$f":"'Altherma 3 M'!C48","v":19.554171784025055},null,"Altherma 3 M 16 kW","Altherma 3 M 16 kW",3,5.3,null,16]
[null,"Altherma 3 M",16,2.7,4.01,4.53,31,{"$f":"$H$1097-(($H$1097-$H$1102)/5*A4)","v":9.267579569422038},9.3333851727337418,9.3991907760454438,9.4649963793571477,9.5308019826688497,9.5966075859805535,9.6624131892922573,9.7282187926039594,9.7940243959156632,9.8598299992273652,{"$f":"$R$1097-(($R$1097-$R$1102)/5*A4)","v":9.9256356025390691},9.9914412058507729,10.057246809162475,10.123052412474177,10.188858015785881,10.254663619097585,10.320469222409287,10.386274825720989,10.452080429032693,10.517886032344396,10.583691635656098,10.6494972389678,10.715302842279504,10.781108445591208,10.84691404890291,10.912719652214612,{"$f":"$AH$1097-(($AH$1097-$AH$1102)/5*A4)","v":10.978525255526316},11.068010688474105,11.157496121421895,11.246981554369686,11.336466987317475,11.425952420265265,11.515437853213054,11.604923286160844,11.694408719108635,11.783894152056424,{"$f":"$AR$1097-(($AR$1097-$AR$1102)/5*A4)","v":11.873379585004214},11.933026927140823,11.992674269277433,12.052321611414042,12.111968953550651,12.171616295687262,12.23126363782387,12.290910979960481,{"$f":"$AZ$1097-(($AZ$1097-$AZ$1102)/5*A4)","v":12.35055832209709},12.678487931249895,13.006417540402703,13.334347149555509,13.662276758708314,13.99020636786112,14.318135977013927,14.646065586166733,14.973995195319539,15.301924804472346,{"$f":"$BJ$1097-(($BJ$1097-$BJ$1102)/5*A4)","v":15.629854413625152},15.80218684657703,15.974519279528909,16.146851712480785,16.319184145432665,16.491516578384545,16.663849011336421,16.8361814442883,17.00851387724018,17.180846310192056,{"$f":"$BT$1097-(($BT$1097-$BT$1102)/5*A4)","v":17.353178743143935},17.463031924560202,17.572885105976471,17.682738287392738,17.792591468809004,17.902444650225274,{"$f":"$BZ$1097-(($BZ$1097-$BZ$1102)/5*A4)","v":18.01229783164154},18.122151013057806,18.232004194474072,18.341857375890342,18.451710557306608,18.561563738722874,18.671416920139141,18.781270101555407,18.891123282971677,19.000976464387943,{"$f":"$CJ$1097-(($CJ$1097-$CJ$1102)/5*A4)","v":19.110829645804209},null,"Altherma 3 M 16 kW","Altherma 3 M 16 kW",3,5.3,null,16]
[null,"Altherma 3 M",16,2.7,4.01,4.53,46,null,null,null,null,null,null,null,null,null,null,null,null,null,null,null,null,null,null,null,null,null,null,null,null,null,null,{"$f":"$AH$1112-(($AH$1112-$AH$1117)/5*A4)","v":10.950493106438111},11.017965183492729,11.085437260547346,11.152909337601965,11.220381414656583,11.2878534917112,11.355325568765817,11.422797645820435,11.490269722875054,11.557741799929671,{"$f":"$AR$1112-(($AR$1112-$AR$1117)/5*A4)","v":11.625213876984288},11.728847351347905,11.832480825711523,11.93611430007514,12.039747774438755,12.143381248802372,12.247014723165989,12.350648197529607,{"$f":"$AZ$1112-(($AZ$1112-$AZ$1117)/5*A4)","v":12.454281671893224},12.768436822771275,13.082591973649324,13.396747124527373,13.710902275405424,14.025057426283475,14.339212577161524,14.653367728039573,14.967522878917624,15.281678029795675,{"$f":"$BJ$1112-(($BJ$1112-$BJ$1117)/5*A4)","v":15.595833180673724},15.644906856475291,15.693980532276857,15.743054208078423,15.79212788387999,15.841201559681558,15.890275235483124,15.939348911284689,15.988422587086257,16.037496262887824,{"$f":"$BT$1112-(($BT$1112-$BT$1117)/5*A4)","v":16.08656993868939},16.206313961287059,16.326057983884731,16.445802006482403,16.565546029080071,16.68529005167774,{"$f":"$BZ$1112-(($BZ$1112-$BZ$1117)/5*A4)","v":16.805034074275412},16.92477809687308,17.044522119470752,17.164266142068421,17.284010164666089,17.403754187263758,17.52349820986143,17.643242232459098,17.762986255056767,17.882730277654439,{"$f":"$CJ$1112-(($CJ$1112-$CJ$1117)/5*A4)","v":18.002474300252107},null,"Altherma 3 M 16 kW","Altherma 3 M 16 kW",3,5.3,null,16]
[null,"Altherma 3 M",16,2.7,4.01,4.53,57,null,null,null,null,null,null,null,null,null,null,null,null,null,null,null,null,null,null,null,null,null,null,null,null,null,null,{"$f":"$AH$1122-(($AH$1122-$AH$1127)/5*A5)","v":8.887821314509976},9.078200514985646,9.2685797154613176,9.4589589159369893,9.6493381164126593,9.8397173168883292,10.030096517364001,10.220475717839673,10.410854918315342,10.601234118791012,{"$f":"$AR$1122-(($AR$1122-$AR$1107)/5*A5)","v":10.791613319266684},10.702085526045314,10.612557732823946,10.523029939602576,10.433502146381208,10.343974353159838,10.254446559938469,10.164918766717101,{"$f":"$AZ$1122-(($AZ$1122-$AZ$1127)/5*A5)","v":10.075390973495731},10.521099180335417,10.966807387175102,11.412515594014788,11.858223800854473,12.30393200769416,12.749640214533844,13.195348421373531,13.641056628213217,14.086764835052904,{"$f":"$BJ$1122-(($BJ$1122-$BJ$1127)/5*A5)","v":14.532473041892588},14.588085559829047,14.643698077765505,14.699310595701961,14.754923113638419,14.810535631574878,14.866148149511336,14.921760667447794,14.97737318538425,15.032985703320708,{"$f":"$BT$1122-(($BT$1122-$BT$1127)/5*A5)","v":15.088598221257167},15.211350179465773,15.33410213767438,15.456854095882985,15.579606054091592,15.702358012300198,{"$f":"$BZ$1122-(($BZ$1122-$BZ$1127)/5*A5)","v":15.825109970508805},15.94786192871741,16.070613886926015,16.193365845134622,16.316117803343229,16.438869761551835,16.561621719760439,16.684373677969045,16.807125636177652,16.929877594386255,{"$f":"$CJ$1122-(($CJ$1122-$CJ$1127)/5*A5)","v":17.052629552594862},null,"Altherma 3 M 16 kW","Altherma 3 M 16 kW",3,5.3,null,16]
[null,"Altherma 3 H MT ECH2O",8,{"$f":"'Altherma 3 H MT'!$N$8","v":3.14},{"$f":"'Altherma 3 H MT'!$N$9","v":4.2300000000000004},{"$f":"'Altherma 3 H MT'!$N$10","v":5.0999999999999996},27,{"$f":"$H$1128-(($H$1128-$H$1133)/5*A5)","v":5.7473430536231591},5.8358496921938521,5.924356330764545,6.0128629693352371,6.1013696079059301,6.189876246476623,6.278382885047316,6.366889523618009,6.455396162188701,6.543902800759394,{"$f":"$R$1128-(($R$1128-$R$1133)/5*A5)","v":6.632409439330087},6.7209160779007799,6.8094227164714729,6.897929355042165,6.9864359936128579,7.0749426321835509,7.1634492707542439,7.2519559093249368,7.3404625478956298,7.4289691864663219,7.5174758250370148,7.6059824636077078,7.6944891021784008,7.7829957407490937,7.8715023793197858,7.9600090178904788,{"$f":"$AH$1128-(($AH$1128-$AH$1133)/5*A5)","v":8.0485156564611717},8.0383023834717005,8.0280891104822292,8.0178758374927579,8.0076625645032866,7.9974492915138145,7.9872360185243432,7.9770227455348719,7.9668094725453997,7.9565961995559285,{"$f":"$AR$1128-(($AR$1128-$AR$1133)/5*A5)","v":7.9463829265664572},7.8975939277722329,7.8488049289780077,7.8000159301837826,7.7512269313895583,7.702437932595334,7.6536489338011089,7.6048599350068837,{"$f":"$AZ$1128-(($AZ$1128-$AZ$1133)/5*A5)","v":7.5560709362126595},7.6459561915576089,7.7358414469025583,7.8257267022475077,7.9156119575924571,8.0054972129374065,8.0953824682823559,8.1852677236273053,8.2751529789722547,8.3650382343172041,{"$f":"$BJ$1128-(($BJ$1128-$BJ$1133)/5*A5)","v":8.4549234896621535},8.5237166034782348,8.5925097172943143,8.6613028311103957,8.730095944926477,8.7988890587425566,8.8676821725586379,8.9364752863747192,9.0052684001908005,9.0740615140068801,{"$f":"$BT$1128-(($BT$1128-$BT$1133)/5*A5)","v":9.1428546278229614},9.0821032864976843,9.0213519451724071,8.96060060384713,8.8998492625218528,8.8390979211965757,{"$f":"$BZ$1128-(($BZ$1128-$BZ$1133)/5*A5)","v":8.7783465798712985},8.882884940340448,8.9874233008095956,9.0919616612787451,9.1965000217478927,9.3010383822170422,9.4055767426861916,9.5101151031553393,9.6146534636244887,9.7191918240936364,{"$f":"$CJ$1128-(($CJ$1128-$CJ$1133)/5*A5)","v":9.8237301845627858},null,"Altherma 3 H MT ECH2O 300 8","Altherma 3 H MT ECH2O 500 8",9,2.2000000000000002,null,6.17]
[null,"Altherma 3 H MT ECH2O",8,{"$f":"'Altherma 3 H MT'!$N$8","v":3.14},{"$f":"'Altherma 3 H MT'!$N$9","v":4.2300000000000004},{"$f":"'Altherma 3 H MT'!$N$10","v":5.0999999999999996},36,{"$f":"$H$1138-(($H$1138-$H$1143)/5*A4)","v":5.6809460730920396},5.7565913805408577,5.8322366879896759,5.907881995438494,5.9835273028873122,6.0591726103361303,6.1348179177849493,6.2104632252337675,6.2861085326825856,6.3617538401314038,{"$f":"$R$1138-(($R$1138-$R$1143)/5*A4)","v":6.4373991475802219},6.5033742008564577,6.5693492541326943,6.6353243074089301,6.7012993606851667,6.7672744139614025,6.8332494672376392,6.8992245205138749,6.9651995737901107,7.0311746270663473,7.0971496803425831,7.1631247336188197,7.2290997868950555,7.2950748401712922,7.3610498934475279,7.4270249467237637,{"$f":"$AH$1138-(($AH$1138-$AH$1143)/5*A4)","v":7.4930000000000003},7.5541903399521253,7.6153806799042512,7.6765710198563761,7.737761359808502,7.798951699760627,7.8601420397127519,7.9213323796648778,7.9825227196170028,8.0437130595691286,{"$f":"$AR$1138-(($AR$1138-$AR$1143)/5*A4)","v":8.1049033995212536},8.056526303812177,8.0081492081031005,7.9597721123940248,7.9113950166849492,7.8630179209758726,7.814640825266796,7.7662637295577204,{"$f":"$AZ$1138-(($AZ$1138-$AZ$1143)/5*A4)","v":7.7178866338486438},7.7395063273375388,7.761126020826433,7.7827457143153271,7.8043654078042222,7.8259851012931172,7.8476047947820113,7.8692244882709055,7.8908441817598005,7.9124638752486955,{"$f":"$BJ$1138-(($BJ$1138-$BJ$1143)/5*A4)","v":7.9340835687375897},8.0409042668740014,8.1477249650104131,8.2545456631468248,8.3613663612832365,8.4681870594196482,8.5750077575560599,8.6818284556924716,8.7886491538288833,8.895469851965295,{"$f":"$BT$1138-(($BT$1138-$BT$1143)/5*A4)","v":9.0022905501017068},8.9393665483568281,8.8764425466119494,8.8135185448670725,8.7505945431221939,8.6876705413773152,{"$f":"$BZ$1138-(($BZ$1138-$BZ$1143)/5*A4)","v":8.6247465396324365},8.6561967204775581,8.6876469013226796,8.7190970821677993,8.7505472630129209,8.7819974438580424,8.8134476247031639,8.8448978055482854,8.8763479863934052,8.9077981672385267,{"$f":"$CJ$1138-(($CJ$1138-$CJ$1143)/5*A4)","v":8.9392483480836482},null,"Altherma 3 H MT ECH2O 300 8","Altherma 3 H MT ECH2O 500 8",9,2.2000000000000002,null,6.17]
[null,"Altherma 3 H MT ECH2O",8,{"$f":"'Altherma 3 H MT'!$N$8","v":3.14},{"$f":"'Altherma 3 H MT'!$N$9","v":4.2300000000000004},{"$f":"'Altherma 3 H MT'!$N$10","v":5.0999999999999996},54,{"$f":"$H$1153-(($H$1153-$H$1158)/5*A7)","v":5.3716180412363785},5.4882431516511909,5.6048682620660042,5.7214933724808166,5.8381184828956298,5.9547435933104422,6.0713687037252555,6.1879938141400679,6.3046189245548803,6.4212440349696935,{"$f":"$R$1153-(($R$1153-$R$1158)/5*A7)","v":6.5378691453845059},6.6009398237979742,6.6640105022114424,6.7270811806249107,6.7901518590383798,6.8532225374518481,6.9162932158653163,6.9793638942787846,7.0424345726922528,7.1055052511057211,7.1685759295191893,7.2316466079326576,7.2947172863461258,7.357787964759595,7.4208586431730632,7.4839293215865315,{"$f":"$AH$1153-(($AH$1153-$AH$1158)/5*A7)","v":7.5469999999999997},7.806837776302304,8.0666755526046074,8.3265133289069126,8.5863511052092161,8.8461888815115213,9.1060266578138247,9.3658644341161299,9.6257022104184333,9.8855399867207367,{"$f":"$AR$1153-(($AR$1153-$AR$1248)/5*A7)","v":10.145377763023042},9.9687188199860515,9.792059876949061,9.6154009339120705,9.43874199087508,9.2620830478380913,9.0854241048011009,8.9087651617641104,{"$f":"$AZ$1153-(($AZ$1153-$AZ$1158)/5*A7)","v":8.7321062187271199},8.7660711828322633,8.8000361469374084,8.8340011110425518,8.8679660751476952,8.9019310392528403,8.9358960033579837,8.9698609674631271,9.0038259315682705,9.0377908956734156,{"$f":"$BJ$1153-(($BJ$1153-$BJ$1158)/5*A7)","v":9.071755859778559},9.0742659528535139,9.076776045928467,9.0792861390034219,9.0817962320783749,9.0843063251533298,9.0868164182282847,9.0893265113032378,9.0918366043781926,9.0943466974531457,{"$f":"$BT$1153-(($BT$1153-$BT$1158)/5*A7)","v":9.0968567905281006},9.0130909935688859,8.9293251966096712,8.8455593996504565,8.7617936026912417,8.678027805732027,{"$f":"$BZ$1153-(($BZ$1153-$BZ$1158)/5*A7)","v":8.5942620087728123},8.6252323776674089,8.6562027465620055,8.6871731154566021,8.7181434843511987,8.7491138532457953,8.7800842221403919,8.8110545910349884,8.842024959929585,8.8729953288241816,{"$f":"$CJ$1153-(($CJ$1153-$CJ$1158)/5*A7)","v":8.9039656977187782},null,"Altherma 3 H MT ECH2O 300 8","Altherma 3 H MT ECH2O 500 8",9,2.2000000000000002,null,6.17]
[null,"Altherma 3 H MT ECH2O",8,{"$f":"'Altherma 3 H MT'!$N$8","v":3.14},{"$f":"'Altherma 3 H MT'!$N$9","v":4.2300000000000004},{"$f":"'Altherma 3 H MT'!$N$10","v":5.0999999999999996},58,{"$f":"$H$1158-(($H$1158-$H$1163)/5*A6)","v":5.46084679096891},5.5599839836389737,5.6591211763090374,5.758258368979102,5.8573955616491657,5.9565327543192295,6.0556699469892932,6.1548071396593569,6.2539443323294215,6.3530815249994852,{"$f":"$R$1158-(($R$1158-$R$1163)/5*A6)","v":6.4522187176695489},6.5285068758180298,6.6047950339665107,6.6810831921149925,6.7573713502634734,6.8336595084119542,6.9099476665604351,6.986235824708916,7.0625239828573978,7.1388121410058787,7.2151002991543596,7.2913884573028405,7.3676766154513214,7.4439647735998022,7.5202529317482831,7.5965410898967649,{"$f":"$AH$1158-(($AH$1158-$AH$1163)/5*A6)","v":7.6728292480452458},7.7895999268911806,7.9063706057371155,8.0231412845830494,8.1399119634289843,8.2566826422749191,8.3734533211208539,8.4902239999667888,8.6069946788127236,8.7237653576586585,{"$f":"$AR$1158-(($AR$1158-$AR$1163)/5*A6)","v":8.8405360365045933},8.8386427645455079,8.8367494925864207,8.8348562206273353,8.8329629486682499,8.8310696767091645,8.8291764047500791,8.827283132790992,{"$f":"$AZ$1158-(($AZ$1158-$AZ$1163)/5*A6)","v":8.8253898608319066},8.8305393403794703,8.835688819927034,8.8408382994745978,8.8459877790221615,8.8511372585697252,8.8562867381172872,8.8614362176648509,8.8665856972124146,8.8717351767599784,{"$f":"$BJ$1158-(($BJ$1158-$BJ$1163)/5*A6)","v":8.8768846563075421},8.9262002486386489,8.9755158409697575,9.0248314333008643,9.0741470256319712,9.123462617963078,9.1727782102941866,9.2220938026252934,9.2714093949564003,9.3207249872875089,{"$f":"$BT$1158-(($BT$1158-$BT$1163)/5*A6)","v":9.3700405796186157},9.3030493871560651,9.2360581946935163,9.1690670022309675,9.1020758097684169,9.0350846173058663,{"$f":"$BZ$1158-(($BZ$1158-$BZ$1163)/5*A6)","v":8.9680934248433175},8.9423076325455781,8.9165218402478406,8.8907360479501012,8.8649502556523618,8.8391644633546242,8.8133786710568849,8.7875928787591455,8.7618070864614062,8.7360212941636686,{"$f":"$CJ$1158-(($CJ$1158-$CJ$1163)/5*A6)","v":8.7102355018659292},null,"Altherma 3 H MT ECH2O 300 8","Altherma 3 H MT ECH2O 500 8",9,2.2000000000000002,null,6.17]
[null,"Altherma 3 H MT ECH2O",10,{"$f":"'Altherma 3 H MT'!$N$8","v":3.14},{"$f":"'Altherma 3 H MT'!$N$9","v":4.2300000000000004},{"$f":"'Altherma 3 H MT'!$N$10","v":5.0999999999999996},30,{"$f":"'Altherma 3 H MT'!D18","v":6.5731266993135424},6.6715720883981033,6.7700174774826642,6.868462866567226,6.966908255651787,7.0653536447363479,7.1637990338209088,7.2622444229054697,7.3606898119900315,7.4591352010745924,{"$f":"'Altherma 3 H MT'!D19","v":7.5575805901591533},7.6002530255631591,7.642925460967164,7.6855978963711689,7.7282703317751746,7.7709427671791804,7.8136152025831853,7.8562876379871902,7.898960073391196,7.9416325087952018,7.9843049441992067,8.0269773796032116,8.0696498150072173,8.1123222504112231,8.1549946858152289,8.1976671212192329,{"$f":"'Altherma 3 H MT'!D20","v":8.2403395566232387},8.3015656659247181,8.3627917752261975,8.424017884527677,8.4852439938291564,8.546470103130634,8.6076962124321135,8.6689223217335929,8.7301484310350723,8.7913745403365517,{"$f":"'Altherma 3 H MT'!D21","v":8.8526006496380312},8.7647755684332775,8.6769504872285239,8.5891254060237703,8.5013003248190167,8.4134752436142612,8.3256501624095076,8.237825081204754,{"$f":"'Altherma 3 H MT'!D22","v":8.15},8.296686135216536,8.4433722704330716,8.590058405649609,8.7367445408661446,8.8834306760826802,9.0301168112992158,9.1768029465157515,9.3234890817322889,9.4701752169488245,{"$f":"'Altherma 3 H MT'!D23","v":9.6168613521653601},9.7041752169488245,9.7914890817322888,9.8788029465157514,9.9661168112992158,10.05343067608268,10.140744540866145,10.228058405649609,10.315372270433071,10.402686135216536,{"$f":"'Altherma 3 H MT'!D24","v":10.49},10.434997505606155,10.37999501121231,10.324992516818465,10.269990022424619,10.214987528030774,{"$f":"'Altherma 3 H MT'!D25","v":10.159985033636929},10.221498058702123,10.283011083767317,10.344524108832511,10.406037133897705,10.467550158962901,10.529063184028095,10.590576209093289,10.652089234158483,10.713602259223677,{"$f":"'Altherma 3 H MT'!D26","v":10.775115284288871},null,"Altherma 3 H MT ECH2O 300 10","Altherma 3 H MT ECH2O 500 10",9,2.1,null,6.17]
[null,"Altherma 3 H MT ECH2O",10,{"$f":"'Altherma 3 H MT'!$N$8","v":3.14},{"$f":"'Altherma 3 H MT'!$N$9","v":4.2300000000000004},{"$f":"'Altherma 3 H MT'!$N$10","v":5.0999999999999996},43,{"$f":"$H$1184-(($H$1184-$H$1189)/5*A6)","v":6.6491664902490468},6.7330917790227076,6.8170170677963684,6.9009423565700292,6.98486764534369,7.0687929341173508,7.1527182228910124,7.2366435116646732,7.320568800438334,7.4044940892119948,{"$f":"$R$1184-(($R$1184-$R$1189)/5*A6)","v":7.4884193779856556},7.5813615306125879,7.6743036832395202,7.7672458358664525,7.8601879884933847,7.9531301411203161,8.0460722937472493,8.1390144463741816,8.2319565990011121,8.3248987516280444,8.4178409042549767,8.5107830568819089,8.6037252095088412,8.6966673621357735,8.7896095147627058,8.8825516673896381,{"$f":"$AH$1184-(($AH$1184-$AH$1189)/5*A6)","v":8.9754938200165704},8.9857461343757272,8.9959984487348841,9.0062507630940427,9.0165030774531996,9.0267553918123564,9.0370077061715133,9.0472600205306701,9.0575123348898288,9.0677646492489856,{"$f":"$AR$1184-(($AR$1184-$AR$1189)/5*A6)","v":9.0780169636081425},8.9449349385493431,8.8118529134905437,8.6787708884317443,8.5456888633729449,8.4126068383141437,8.2795248132553443,8.1464427881965449,{"$f":"$AZ$1184-(($AZ$1184-$AZ$1189)/5*A6)","v":8.0133607631377455},8.1246598466753959,8.2359589302130463,8.3472580137506966,8.458557097288347,8.5698561808259974,8.681155264363646,8.7924543479012964,8.9037534314389468,9.0150525149765972,{"$f":"$BJ$1184-(($BJ$1184-$BJ$1189)/5*A6)","v":9.1263515985142476},9.2448260950753891,9.3633005916365324,9.4817750881976739,9.6002495847588154,9.7187240813199587,9.8371985778811002,9.9556730744422417,10.074147571003383,10.192622067564526,{"$f":"$BT$1184-(($BT$1184-$BT$1189)/5*A6)","v":10.311096564125668},10.285596370324502,10.260096176523335,10.234595982722169,10.209095788921005,10.183595595119838,{"$f":"$BZ$1184-(($BZ$1184-$BZ$1189)/5*A6)","v":10.158095401318672},10.17102041383975,10.183945426360827,10.196870438881906,10.209795451402984,10.222720463924063,10.235645476445139,10.248570488966218,10.261495501487296,10.274420514008373,{"$f":"$CJ$1184-(($CJ$1184-$CJ$1189)/5*A6)","v":10.287345526529451},null,"Altherma 3 H MT ECH2O 300 10","Altherma 3 H MT ECH2O 500 10",9,2.1,null,6.17]
[null,"Altherma 3 H MT ECH2O",10,{"$f":"'Altherma 3 H MT'!$N$8","v":3.14},{"$f":"'Altherma 3 H MT'!$N$9","v":4.2300000000000004},{"$f":"'Altherma 3 H MT'!$N$10","v":5.0999999999999996},49,{"$f":"$H$1189-(($H$1189-$H$1194)/5*A7)","v":6.7143149881741264},6.7955977083206527,6.876880428467179,6.9581631486137052,7.0394458687602315,7.1207285889067578,7.2020113090532849,7.2832940291998112,7.3645767493463374,7.4458594694928637,{"$f":"$R$1189-(($R$1189-$R$1194)/5*A7)","v":7.52714218963939},7.6220879195151312,7.7170336493908724,7.8119793792666137,7.9069251091423549,8.0018708390180961,8.0968165688938374,8.1917622987695786,8.2867080286453199,8.3816537585210611,8.4765994883968023,8.5715452182725436,8.6664909481482848,8.761436678024026,8.8563824078997673,8.9513281377755085,{"$f":"$AH$1189-(($AH$1189-$AH$1194)/5*A7)","v":9.0462738676512497},9.0286847326434447,9.0110955976356397,8.9935064626278365,8.9759173276200315,8.9583281926122265,8.9407390576044214,8.9231499225966164,8.9055607875888132,8.8879716525810082,{"$f":"$AR$1189-(($AR$1189-$AR$1194)/5*A7)","v":8.8703825175732032},8.8510125096099976,8.8316425016467939,8.8122724936835883,8.7929024857203828,8.7735324777571773,8.7541624697939717,8.734792461830768,{"$f":"$AZ$1189-(($AZ$1189-$AZ$1194)/5*A7)","v":8.7154224538675624},8.8531636361248225,8.9909048183820808,9.1286460006393408,9.2663871828965991,9.4041283651538592,9.5418695474111193,9.6796107296683775,9.8173519119256376,9.9550930941828959,{"$f":"$BJ$1189-(($BJ$1189-$BJ$1194)/5*A7)","v":10.092834276440156},10.105804677165697,10.118775077891236,10.131745478616775,10.144715879342316,10.157686280067857,10.170656680793396,10.183627081518935,10.196597482244476,10.209567882970017,{"$f":"$BT$1189-(($BT$1189-$BT$1194)/5*A7)","v":10.222538283695556},10.134877434717795,10.047216585740035,9.9595557367622742,9.8718948877845136,9.784234038806753,{"$f":"$BZ$1189-(($BZ$1189-$BZ$1194)/5*A7)","v":9.6965731898289924},9.7628607217129435,9.8291482535968946,9.8954357854808475,9.9617233173647985,10.02801084924875,10.094298381132701,10.160585913016652,10.226873444900605,10.293160976784556,{"$f":"$CJ$1189-(($CJ$1189-$CJ$1194)/5*A7)","v":10.359448508668507},null,"Altherma 3 H MT ECH2O 300 10","Altherma 3 H MT ECH2O 500 10",9,2.1,null,6.17]
[null,"Altherma 3 H MT ECH2O",10,{"$f":"'Altherma 3 H MT'!$N$8","v":3.14},{"$f":"'Altherma 3 H MT'!$N$9","v":4.2300000000000004},{"$f":"'Altherma 3 H MT'!$N$10","v":5.0999999999999996},63,null,null,null,null,null,null,null,null,null,null,{"$f":"$R$1204-(($R$1204-$R$1209)/5*A6)","v":6.9920968019114556},7.1454795619353115,7.2988623219591684,7.4522450819830244,7.6056278420068812,7.7590106020307372,7.9123933620545941,8.0657761220784501,8.2191588821023061,8.372541642126162,8.5259244021500198,8.6793071621738758,8.8326899221977317,8.9860726822215877,9.1394554422454455,9.2928382022693015,{"$f":"$AH$1204-(($AH$1204-$AH$1209)/5*A6)","v":9.4462209622931574},9.4940949737850673,9.5419689852769789,9.5898429967688887,9.6377170082608004,9.6855910197527102,9.73346503124462,9.7813390427365317,9.8292130542284415,9.8770870657203531,{"$f":"$AR$1204-(($AR$1204-$AR$1209)/5*A6)","v":9.9249610772122629},9.9627074303008847,10.000453783389505,10.038200136478126,10.075946489566746,10.113692842655368,10.15143919574399,10.18918554883261,{"$f":"$AZ$1204-(($AZ$1204-$AZ$1209)/5*A6)","v":10.226931901921231},10.190467252863449,10.154002603805665,10.117537954747881,10.081073305690099,10.044608656632317,10.008144007574533,9.9716793585167487,9.9352147094589665,9.8987500604011842,{"$f":"$BJ$1204-(($BJ$1204-$BJ$1209)/5*A6)","v":9.8622854113434002},9.9115977607127608,9.9609101100821213,10.010222459451484,10.059534808820844,10.108847158190205,10.158159507559565,10.207471856928926,10.256784206298288,10.306096555667649,{"$f":"$BT$1204-(($BT$1204-$BT$1209)/5*A6)","v":10.35540890503701},10.332465974815332,10.309523044593655,10.286580114371979,10.263637184150301,10.240694253928623,{"$f":"$BZ$1204-(($BZ$1204-$BZ$1209)/5*A6)","v":10.217751323706947},10.1754719505428,10.133192577378653,10.090913204214505,10.048633831050358,10.006354457886211,9.9640750847220616,9.9217957115579143,9.879516338393767,9.8372369652296197,{"$f":"$CJ$1204-(($CJ$1204-$CJ$1209)/5*A6)","v":9.7949575920654723},null,"Altherma 3 H MT ECH2O 300 10","Altherma 3 H MT ECH2O 500 10",9,2.1,null,6.17]
[null,"Altherma 3 H MT ECH2O",12,{"$f":"'Altherma 3 H MT'!$N$8","v":3.14},{"$f":"'Altherma 3 H MT'!$N$9","v":4.2300000000000004},{"$f":"'Altherma 3 H MT'!$N$10","v":5.0999999999999996},34,{"$f":"$H$1215-(($H$1215-$H$1220)/5*A7)","v":7.6236684840696576},7.728384698861495,7.8331009136533334,7.9378171284451708,8.0425333432370092,8.1472495580288466,8.2519657728206841,8.3566819876125216,8.4613982024043608,8.5661144171961983,{"$f":"$R$1215-(($R$1215-$R$1220)/5*A7)","v":8.6708306319880357},8.7560217283961226,8.8412128248042112,8.9264039212122981,9.0115950176203867,9.0967861140284736,9.1819772104365622,9.2671683068446491,9.3523594032527377,9.4375504996608246,9.5227415960689115,9.6079326924770001,9.693123788885087,9.7783148852931756,9.8635059817012625,9.9486970781093511,{"$f":"$AH$1215-(($AH$1215-$AH$1220)/5*A7)","v":10.033888174517438},9.9168963082382362,9.7999044419590327,9.6829125756798309,9.5659207094006273,9.4489288431214256,9.3319369768422238,9.2149451105630202,9.0979532442838185,8.9809613780046149,{"$f":"$AR$1215-(($AR$1215-$AR$1220)/5*A7)","v":8.8639695117254131},8.7755787987716793,8.6871880858179473,8.5987973728642135,8.5104066599104797,8.4220159469567477,8.3336252340030139,8.2452345210492819,{"$f":"$AZ$1215-(($AZ$1215-$AZ$1220)/5*A7)","v":8.1568438080955481},8.3461230001920583,8.5354021922885703,8.7246813843850806,8.9139605764815908,9.1032397685781028,9.292518960674613,9.4817981527711233,9.6710773448676335,9.8603565369641455,{"$f":"$BJ$1215-(($BJ$1215-$BJ$1220)/5*A7)","v":10.049635729060656},10.177573469756851,10.305511210453044,10.43344895114924,10.561386691845433,10.689324432541628,10.817262173237824,10.945199913934017,11.073137654630212,11.201075395326406,{"$f":"$BT$1215-(($BT$1215-$BT$1220)/5*A7)","v":11.329013136022601},11.237128638622631,11.145244141222658,11.053359643822688,10.961475146422718,10.869590649022745,{"$f":"$BZ$1215-(($BZ$1215-$BZ$1220)/5*A7)","v":10.777706151622775},10.833334846098097,10.888963540573421,10.944592235048745,11.000220929524067,11.055849623999389,11.111478318474713,11.167107012950037,11.222735707425359,11.278364401900681,{"$f":"$CJ$1215-(($CJ$1215-$CJ$1220)/5*A7)","v":11.333993096376005},null,"Altherma 3 H MT ECH2O 300 12","Altherma 3 H MT ECH2O 500 12",9,2,null,6.17]
[null,"Altherma 3 H MT ECH2O",12,{"$f":"'Altherma 3 H MT'!$N$8","v":3.14},{"$f":"'Altherma 3 H MT'!$N$9","v":4.2300000000000004},{"$f":"'Altherma 3 H MT'!$N$10","v":5.0999999999999996},39,{"$f":"$H$1220-(($H$1220-$H$1225)/5*A7)","v":7.6756076803885431},7.7753225321316064,7.8750373838746697,7.9747522356177321,8.0744670873607962,8.1741819391038586,8.273896790846921,8.3736116425899851,8.4733264943330475,8.5730413460761117,{"$f":"$R$1220-(($R$1220-$R$1225)/5*A7)","v":8.6727561978191741},8.7778595994039321,8.8829630009886902,8.9880664025734465,9.0931698041582045,9.1982732057429626,9.3033766073277206,9.4084800089124787,9.5135834104972368,9.6186868120819931,9.7237902136667511,9.8288936152515092,9.9339970168362672,10.039100418421025,10.144203820005782,10.24930722159054,{"$f":"$AH$1220-(($AH$1220-$AH$1225)/5*A7)","v":10.354410623175298},10.224074510419936,10.093738397664572,9.9634022849092094,9.8330661721538473,9.7027300593984833,9.5723939466431212,9.442057833887759,9.3117217211323968,9.1813856083770329,{"$f":"$AR$1220-(($AR$1220-$AR$1225)/5*A7)","v":9.0510494956216707},8.9374049943928302,8.8237604931639897,8.7101159919351492,8.5964714907063104,8.4828269894774699,8.3691824882486294,8.2555379870197889,{"$f":"$AZ$1220-(($AZ$1220-$AZ$1225)/5*A7)","v":8.1418934857909484},8.3181715280692625,8.4944495703475766,8.6707276126258908,8.8470056549042049,9.0232836971825172,9.1995617394608331,9.3758397817391455,9.5521178240174596,9.7283958662957737,{"$f":"$BJ$1220-(($BJ$1220-$BJ$1225)/5*A7)","v":9.9046739085740878},10.039102563031472,10.173531217488854,10.307959871946238,10.442388526403622,10.576817180861006,10.711245835318389,10.845674489775773,10.980103144233157,11.114531798690539,{"$f":"$BT$1220-(($BT$1220-$BT$1225)/5*A7)","v":11.248960453147923},11.218301986317154,11.187643519486386,11.156985052655617,11.126326585824847,11.095668118994078,{"$f":"$BZ$1220-(($BZ$1220-$BZ$1225)/5*A7)","v":11.06500965216331},11.063812129601935,11.062614607040562,11.061417084479189,11.060219561917814,11.059022039356439,11.057824516795066,11.056626994233692,11.055429471672317,11.054231949110942,{"$f":"$CJ$1220-(($CJ$1220-$CJ$1225)/5*A7)","v":11.053034426549569},null,"Altherma 3 H MT ECH2O 300 12","Altherma 3 H MT ECH2O 500 12",9,2,null,6.17]
[null,"Altherma 3 H MT ECH2O",12,{"$f":"'Altherma 3 H MT'!$N$8","v":3.14},{"$f":"'Altherma 3 H MT'!$N$9","v":4.2300000000000004},{"$f":"'Altherma 3 H MT'!$N$10","v":5.0999999999999996},49,{"$f":"$H$1230-(($H$1230-$H$1235)/5*A7)","v":7.8031228240942543},7.8975865258861635,7.9920502276780727,8.0865139294699819,8.1809776312618911,8.2754413330537986,8.3699050348457078,8.464368736637617,8.5588324384295262,8.6532961402214355,{"$f":"$R$1230-(($R$1230-$R$1235)/5*A7)","v":8.7477598420133447},8.8581021767338015,8.9684445114542566,9.0787868461747134,9.1891291808951685,9.2994715156156253,9.4098138503360804,9.5201561850565373,9.6304985197769923,9.7408408544974492,9.851183189217906,9.9615255239383611,10.071867858658818,10.182210193379273,10.29255252809973,10.402894862820187,{"$f":"$AH$1230-(($AH$1230-$AH$1235)/5*A7)","v":10.513237197540642},10.376268907445256,10.239300617349871,10.102332327254484,9.9653640371590981,9.8283957470637127,9.6914274569683272,9.5544591668729417,9.4174908767775545,9.280522586682169,{"$f":"$AR$1230-(($AR$1230-$AR$1235)/5*A7)","v":9.1435542965867835},9.1241817389369615,9.1048091812871377,9.0854366236373156,9.0660640659874936,9.0466915083376716,9.0273189506878495,9.0079463930380257,{"$f":"$AZ$1230-(($AZ$1230-$AZ$1235)/5*A7)","v":8.9885738353882036},9.1778501472780878,9.3671264591679719,9.5564027710578561,9.7456790829477402,9.9349553948376226,10.124231706727507,10.313508018617391,10.502784330507275,10.692060642397159,{"$f":"$BJ$1230-(($BJ$1230-$BJ$1235)/5*A7)","v":10.881336954287043},10.902088767598196,10.922840580909348,10.9435923942205,10.964344207531653,10.985096020842807,11.005847834153959,11.026599647465112,11.047351460776264,11.068103274087417,{"$f":"$BT$1230-(($BT$1230-$BT$1235)/5*A7)","v":11.088855087398569},10.974342324953081,10.859829562507596,10.745316800062108,10.63080403761662,10.516291275171135,{"$f":"$BZ$1230-(($BZ$1230-$BZ$1235)/5*A7)","v":10.401778512725647},10.472886956019341,10.543995399313033,10.615103842606727,10.686212285900421,10.757320729194113,10.828429172487807,10.899537615781501,10.970646059075195,11.041754502368887,{"$f":"$CJ$1230-(($CJ$1230-$CJ$1235)/5*A7)","v":11.112862945662581},null,"Altherma 3 H MT ECH2O 300 12","Altherma 3 H MT ECH2O 500 12",9,2,null,6.17]
[null,"Altherma 3 H MT ECH2O",12,{"$f":"'Altherma 3 H MT'!$N$8","v":3.14},{"$f":"'Altherma 3 H MT'!$N$9","v":4.2300000000000004},{"$f":"'Altherma 3 H MT'!$N$10","v":5.0999999999999996},60,{"$f":"'Altherma 3 H MT'!J29","v":6.031524241144341},6.2872158321059928,6.5429074230676454,6.7985990140292971,7.0542906049909497,7.3099821959526015,7.5656737869142532,7.8213653778759049,8.0770569688375566,8.3327485597992101,{"$f":"'Altherma 3 H MT'!J30","v":8.5884401507608619},8.7595701710100471,8.9307001912592323,9.1018302115084175,9.2729602317576028,9.444090252006788,9.6152202722559732,9.7863502925051584,9.9574803127543419,10.128610333003529,10.299740353252712,10.470870373501898,10.642000393751083,10.813130414000268,10.984260434249453,11.155390454498638,{"$f":"'Altherma 3 H MT'!J31","v":11.326520474747824},11.218930620254408,11.111340765760994,11.003750911267581,10.896161056774165,10.78857120228075,10.680981347787336,10.573391493293922,10.465801638800507,10.358211784307091,{"$f":"'Altherma 3 H MT'!J32","v":10.250621929813677},10.264943913594362,10.279265897375044,10.293587881155728,10.307909864936413,10.322231848717097,10.336553832497781,10.350875816278464,{"$f":"'Altherma 3 H MT'!J33","v":10.365197800059148},10.422176396183112,10.479154992307077,10.536133588431042,10.593112184555006,10.650090780678969,10.707069376802934,10.7640479729269,10.821026569050863,10.878005165174827,{"$f":"'Altherma 3 H MT'!J34","v":10.934983761298792},11.034474558397321,11.13396535549585,11.233456152594378,11.332946949692907,11.432437746791436,11.531928543889963,11.631419340988492,11.730910138087021,11.830400935185549,{"$f":"'Altherma 3 H MT'!J35","v":11.929891732284078},11.856986155768064,11.78408057925205,11.711175002736034,11.63826942622002,11.565363849704006,{"$f":"'Altherma 3 H MT'!J36","v":11.492458273187992},11.419552696671978,11.346647120155964,11.273741543639948,11.200835967123934,11.12793039060792,11.055024814091906,10.982119237575892,10.909213661059876,10.836308084543862,{"$f":"'Altherma 3 H MT'!J37","v":10.763402508027848},null,"Altherma 3 H MT ECH2O 300 12","Altherma 3 H MT ECH2O 500 12",9,2,null,6.17]
[null,"Altherma 3 H MT F",8,{"$f":"'Altherma 3 H MT'!$N$8","v":3.14},{"$f":"'Altherma 3 H MT'!$N$9","v":4.2300000000000004},{"$f":"'Altherma 3 H MT'!$N$10","v":5.0999999999999996},34,5.673427709075094,{"$f":"I1137","v":5.7513560549666938},5.8292844008582945,5.9072127467498952,5.985141092641495,6.0630694385330948,6.1409977844246955,6.2189261303162962,6.296854476207896,6.3747828220994958,6.4527111679910965,6.5226486855647572,6.5925862031384179,6.6625237207120787,6.7324612382857385,6.8023987558593992,6.87233627343306,6.9422737910067207,7.0122113085803814,7.0821488261540422,7.1520863437277029,7.2220238613013636,7.2919613788750244,7.3618988964486842,7.431836414022345,{"$f":"AG1137","v":7.5017739315960057},{"$f":"AH1137","v":7.5717114491696664},7.6100029452557614,7.6482944413418572,7.6865859374279522,7.7248774335140471,7.7631689296001429,7.8014604256862379,7.8397519217723328,7.8780434178584278,7.9163349139445236,7.9546264100306185,7.9253073711591568,7.8959883322876951,7.8666692934162334,7.8373502545447717,7.8080312156733092,7.7787121768018475,7.7493931379303858,{"$f":"AZ1137","v":7.7200740990589241},7.7491246095854027,7.7781751201118814,7.8072256306383601,7.8362761411648387,7.8653266516913174,7.894377162217797,7.9234276727442756,7.9524781832707543,7.981528693797233,{"$f":"BJ1137","v":8.0105792043237116},8.1115251996061293,8.2124711948885469,8.3134171901709646,8.4143631854533822,8.5153091807357981,8.6162551760182158,8.7172011713006334,8.8181471665830511,8.9190931618654687,9.0200391571478864,{"$f":"BU1137","v":8.947637684985585},8.8752362128232818,8.8028347406609804,8.730433268498679,8.6580317963363758,8.5856303241740743,8.6299447079086544,8.6742590916432327,8.7185734753778128,8.7628878591123911,8.8072022428469712,8.8515166265815513,8.8958310103161296,8.9401453940507096,8.9844597777852879,{"$f":"CJ1137","v":9.028774161519868},null,"Altherma 3 H MT F 180 l 8","Altherma 3 H MT F 230 l 8",9,2.5,null,6.17]
[null,"Altherma 3 H MT F",8,{"$f":"'Altherma 3 H MT'!$N$8","v":3.14},{"$f":"'Altherma 3 H MT'!$N$9","v":4.2300000000000004},{"$f":"'Altherma 3 H MT'!$N$10","v":5.0999999999999996},40,5.7224581546261684,{"$f":"I1143","v":5.7961849205394467},5.869911686452725,5.9436384523660033,6.0173652182792816,6.0910919841925599,6.1648187501058382,6.2385455160191166,6.3122722819323949,6.3859990478456732,6.4597258137589515,6.5250554503990168,6.590385087039083,6.6557147236791483,6.7210443603192136,6.7863739969592789,6.8517036335993442,6.9170332702394104,6.9823629068794757,7.047692543519541,7.1130221801596072,7.1783518167996725,7.2436814534397378,7.3090110900798031,7.3743407267198684,{"$f":"AG1143","v":7.4396703633599346},{"$f":"AH1143","v":7.5049999999999999},7.6266645704432747,7.7483291408865487,7.8699937113298235,7.9916582817730983,8.1133228522163723,8.234987422659648,8.3566519931029219,8.4783165635461959,8.5999811339894716,8.7216457044327456,8.5825728256222273,8.4434999468117091,8.3044270680011909,8.1653541891906727,8.0262813103801545,7.8872084315696354,7.7481355527591171,{"$f":"AZ1143","v":7.6090626739485989},7.6363576112123894,7.663652548476179,7.6909474857399687,7.7182424230037592,7.7455373602675497,7.7728322975313393,7.8001272347951289,7.8274221720589194,7.8547171093227099,{"$f":"BJ1143","v":7.8820120465864996},7.9889365384047597,8.0958610302230198,8.20278552204128,8.3097100138595401,8.4166345056777985,8.5235589974960586,8.6304834893143187,8.7374079811325789,8.844332472950839,8.9512569647690992,{"$f":"BU1143","v":8.9390058216469317},8.9267546785247642,8.914503535402595,8.9022523922804275,8.8900012491582601,8.8777501060360926,8.8659947675536035,8.8542394290711162,8.8424840905886271,8.8307287521061397,8.8189734136236506,8.8072180751411615,8.7954627366586742,8.7837073981761851,8.7719520596936977,{"$f":"CJ1143","v":8.7601967212112086},null,"Altherma 3 H MT F 180 l 8","Altherma 3 H MT F 230 l 8",9,2.5,null,6.17]
[null,"Altherma 3 H MT F",8,{"$f":"'Altherma 3 H MT'!$N$8","v":3.14},{"$f":"'Altherma 3 H MT'!$N$9","v":4.2300000000000004},{"$f":"'Altherma 3 H MT'!$N$10","v":5.0999999999999996},58,5.46084679096891,{"$f":"I1161","v":5.5599839836389737},5.6591211763090374,5.758258368979102,5.8573955616491657,5.9565327543192295,6.0556699469892932,6.1548071396593569,6.2539443323294215,6.3530815249994852,6.4522187176695489,6.5285068758180298,6.6047950339665107,6.6810831921149925,6.7573713502634734,6.8336595084119542,6.9099476665604351,6.986235824708916,7.0625239828573978,7.1388121410058787,7.2151002991543596,7.2913884573028405,7.3676766154513214,7.4439647735998022,7.5202529317482831,{"$f":"AG1161","v":7.5965410898967649},{"$f":"AH1161","v":7.6728292480452458},7.7895999268911806,7.9063706057371155,8.0231412845830494,8.1399119634289843,8.2566826422749191,8.3734533211208539,8.4902239999667888,8.6069946788127236,8.7237653576586585,8.8405360365045933,8.8386427645455079,8.8367494925864207,8.8348562206273353,8.8329629486682499,8.8310696767091645,8.8291764047500791,8.827283132790992,{"$f":"AZ1161","v":8.8253898608319066},8.8305393403794703,8.835688819927034,8.8408382994745978,8.8459877790221615,8.8511372585697252,8.8562867381172872,8.8614362176648509,8.8665856972124146,8.8717351767599784,{"$f":"BJ1161","v":8.8768846563075421},8.9262002486386489,8.9755158409697575,9.0248314333008643,9.0741470256319712,9.123462617963078,9.1727782102941866,9.2220938026252934,9.2714093949564003,9.3207249872875089,9.3700405796186157,{"$f":"BU1161","v":9.3030493871560651},9.2360581946935163,9.1690670022309675,9.1020758097684169,9.0350846173058663,8.9680934248433175,8.9423076325455781,8.9165218402478406,8.8907360479501012,8.8649502556523618,8.8391644633546242,8.8133786710568849,8.7875928787591455,8.7618070864614062,8.7360212941636686,{"$f":"CJ1161","v":8.7102355018659292},null,"Altherma 3 H MT F 180 l 8","Altherma 3 H MT F 230 l 8",9,2.5,null,6.17]
[null,"Altherma 3 H MT F",10,{"$f":"'Altherma 3 H MT'!$N$8","v":3.14},{"$f":"'Altherma 3 H MT'!$N$9","v":4.2300000000000004},{"$f":"'Altherma 3 H MT'!$N$10","v":5.0999999999999996},25,{"$f":"H1169","v":6.6935245433772685},{"$f":"I1169","v":6.743770335396797},{"$f":"J1169","v":6.7940161274163255},6.8442619194358532,6.8945077114553817,6.9447535034749102,6.9949992954944387,7.0452450875139672,7.0954908795334948,7.1457366715530233,7.1959824635725518,7.2763335742111526,7.3566846848497542,7.437035795488355,7.5173869061269567,7.5977380167655575,7.6780891274041583,7.75844023804276,7.8387913486813607,7.9191424593199615,7.9994935699585632,8.079844680597164,8.1601957912357648,8.2405469018743673,8.3208980125129681,{"$f":"AG1169","v":8.4012491231515689},{"$f":"AH1169","v":8.4816002337901697},8.513601780656046,8.5456033275219205,8.5776048743877968,8.6096064212536714,8.6416079681195477,8.673609514985424,8.7056110618512985,8.7376126087171748,8.7696141555830494,8.8016157024489257,8.7608509638858845,8.7200862253228415,8.6793214867598003,8.6385567481967591,8.5977920096337161,8.557027271070675,8.516262532507632,{"$f":"AZ1169","v":8.4754977939445908},8.6265666617947971,8.7776355296450053,8.9287043974952134,9.0797732653454197,9.2308421331956261,9.3819110010458342,9.5329798688960423,9.6840487367462487,9.835117604596455,{"$f":"BJ1169","v":9.9861864724466631},10.053203194618842,10.120219916791022,10.187236638963201,10.254253361135381,10.32127008330756,10.388286805479739,10.455303527651919,10.522320249824098,10.589336971996278,10.656353694168457,{"$f":"BU1169","v":10.604888972448579},10.553424250728701,10.501959529008824,10.450494807288946,10.399030085569068,10.34756536384919,10.416511418334606,10.485457472820022,10.554403527305437,10.623349581790853,10.692295636276267,10.761241690761683,10.830187745247098,10.899133799732514,10.96807985421793,{"$f":"CJ1169","v":11.037025908703345},null,"Altherma 3 H MT F 180 l 10","Altherma 3 H MT F 230 l 10",9,2.4,null,6.17]
[null,"Altherma 3 H MT F",10,{"$f":"'Altherma 3 H MT'!$N$8","v":3.14},{"$f":"'Altherma 3 H MT'!$N$9","v":4.2300000000000004},{"$f":"'Altherma 3 H MT'!$N$10","v":5.0999999999999996},38,6.5925930691495891,{"$f":"I1182","v":6.6789487990620513},6.7653045289745135,6.8516602588869748,6.938015988799437,7.0243717187118992,7.1107274486243615,7.1970831785368237,7.283438908449285,7.3697946383617472,7.4561503682742094,7.5459620934499192,7.635773818625629,7.7255855438013388,7.8153972689770486,7.9052089941527584,7.9950207193284681,8.0848324445041779,8.1746441696798886,8.2644558948555975,8.3542676200313082,8.4440793452070171,8.5338910703827278,8.6237027955584367,8.7135145207341473,{"$f":"AG1182","v":8.803326245909858},{"$f":"AH1182","v":8.8931379710855669},8.8944645769431752,8.8957911828007816,8.8971177886583881,8.8984443945159963,8.8997710003736046,8.901097606231211,8.9024242120888175,8.9037508179464258,8.905077423804034,8.9064040296616405,8.7982243370895574,8.6900446445174744,8.5818649519453896,8.4736852593733065,8.3655055668012235,8.2573258742291387,8.1491461816570556,{"$f":"AZ1182","v":8.0409664890849726},8.1570790396135138,8.2731915901420532,8.3893041406705944,8.5054166911991356,8.621529241727675,8.7376417922562162,8.8537543427847574,8.9698668933132986,9.085979443841838,{"$f":"BJ1182","v":9.2020919943703792},9.3203723080484178,9.4386526217264546,9.5569329354044932,9.6752132490825318,9.7934935627605704,9.9117738764386072,10.030054190116646,10.148334503794684,10.266614817472721,10.38489513115076,{"$f":"BU1182","v":10.360883026866357},10.336870922581957,10.312858818297556,10.288846714013154,10.264834609728752,10.240822505444351,10.252346083422488,10.263869661400623,10.27539323937876,10.286916817356897,10.298440395335032,10.309963973313168,10.321487551291305,10.333011129269442,10.344534707247577,{"$f":"CJ1182","v":10.356058285225714},null,"Altherma 3 H MT F 180 l 10","Altherma 3 H MT F 230 l 10",9,2.4,null,6.17]
[null,"Altherma 3 H MT F",10,{"$f":"'Altherma 3 H MT'!$N$8","v":3.14},{"$f":"'Altherma 3 H MT'!$N$9","v":4.2300000000000004},{"$f":"'Altherma 3 H MT'!$N$10","v":5.0999999999999996},40,6.616592241286507,{"$f":"I1184","v":6.7018388143737351},6.7870853874609631,6.8723319605481912,6.9575785336354192,7.0428251067226473,7.1280716798098753,7.2133182528971034,7.2985648259843314,7.3838113990715595,7.4690579721587875,7.5601218683149867,7.6511857644711849,7.7422496606273841,7.8333135567835823,7.9243774529397815,8.0154413490959797,8.1065052452521797,8.197569141408378,8.2886330375645763,8.3796969337207745,8.4707608298769745,8.5618247260331728,8.652888622189371,8.7439525183455693,{"$f":"AG1184","v":8.8350164145017693},{"$f":"AH1184","v":8.9260803106579676},8.9309537743085059,8.9358272379590442,8.9407007016095825,8.9455741652601208,8.9504476289106591,8.9553210925611992,8.9601945562117375,8.9650680198622759,8.9699414835128142,8.9748149471633525,8.8573491495857368,8.7398833520081212,8.6224175544305073,8.5049517568528916,8.387485959275276,8.2700201616976621,8.1525543641200464,{"$f":"AZ1184","v":8.0350885665424308},8.1487592934909809,8.2624300204395293,8.3761007473880795,8.4897714743366297,8.6034422012851799,8.7171129282337283,8.8307836551822785,8.9444543821308287,9.0581251090793771,{"$f":"BJ1184","v":9.1717958360279273},9.2901538228592067,9.4085118096904861,9.5268697965217655,9.6452277833530449,9.7635857701843243,9.8819437570156055,10.000301743846885,10.118659730678164,10.237017717509444,10.355375704340723,{"$f":"BU1184","v":10.360955838127854},10.366535971914987,10.372116105702117,10.377696239489248,10.383276373276381,10.388856507063512,10.375100259903153,10.361344012742794,10.347587765582436,10.333831518422077,10.320075271261718,10.306319024101359,10.292562776941001,10.278806529780642,10.265050282620283,{"$f":"CJ1184","v":10.251294035459924},null,"Altherma 3 H MT F 180 l 10","Altherma 3 H MT F 230 l 10",9,2.4,null,6.17]
[null,"Altherma 3 H MT F",10,{"$f":"'Altherma 3 H MT'!$N$8","v":3.14},{"$f":"'Altherma 3 H MT'!$N$9","v":4.2300000000000004},{"$f":"'Altherma 3 H MT'!$N$10","v":5.0999999999999996},55,6.0823734324340437,{"$f":"I1199","v":6.230722589319952},6.3790717462058595,6.5274209030917678,6.6757700599776753,6.8241192168635836,6.972468373749491,7.1208175306353994,7.2691666875213077,7.4175158444072151,7.5658650012931234,7.661937840571345,7.7580106798495665,7.854083519127788,7.9501563584060095,8.0462291976842302,8.1423020369624517,8.2383748762406732,8.3344477155188947,8.4305205547971163,8.5265933940753378,8.6226662333535593,8.7187390726317808,8.8148119119100024,8.9108847511882239,{"$f":"AG1199","v":9.0069575904664454},{"$f":"AH1199","v":9.1030304297446669},9.1308352572422216,9.1586400847397744,9.1864449122373273,9.2142497397348819,9.2420545672324366,9.2698593947299894,9.2976642222275423,9.3254690497250969,9.3532738772226516,9.3810787047202044,9.4351723475673097,9.4892659904144132,9.5433596332615185,9.5974532761086238,9.651546918955729,9.7056405618028343,9.7597342046499378,{"$f":"AZ1199","v":9.8138278474970431},9.893422463168358,9.9730170788396713,10.052611694510986,10.132206310182299,10.211800925853614,10.291395541524929,10.370990157196243,10.450584772867558,10.530179388538871,{"$f":"BJ1199","v":10.609774004210186},10.609078979338664,10.608383954467142,10.607688929595618,10.606993904724096,10.606298879852574,10.605603854981052,10.60490883010953,10.604213805238006,10.603518780366484,10.602823755494962,{"$f":"BU1199","v":10.530099911329042},10.457376067163125,10.384652222997206,10.311928378831286,10.239204534665369,10.16648069049945,10.192987770530261,10.219494850561071,10.246001930591884,10.272509010622695,10.299016090653506,10.325523170684317,10.352030250715128,10.378537330745941,10.405044410776751,{"$f":"CJ1199","v":10.431551490807562},null,"Altherma 3 H MT F 180 l 10","Altherma 3 H MT F 230 l 10",9,2.4,null,6.17]
[null,"Altherma 3 H MT F",10,{"$f":"'Altherma 3 H MT'!$N$8","v":3.14},{"$f":"'Altherma 3 H MT'!$N$9","v":4.2300000000000004},{"$f":"'Altherma 3 H MT'!$N$10","v":5.0999999999999996},62,null,null,null,null,null,null,null,null,null,null,{"$f":"R1206","v":7.1247489189343964},7.276087896541152,7.4274268741479075,7.5787658517546639,7.7301048293614194,7.8814438069681749,8.0327827845749304,8.184121762181686,8.3354607397884415,8.486799717395197,8.6381386950019525,8.789477672608708,8.9408166502154653,9.0921556278222209,9.2434946054289764,{"$f":"AG1206","v":9.3948335830357319},{"$f":"AH1206","v":9.5461725606424874},9.578637463860364,9.6111023670782387,9.6435672702961153,9.6760321735139918,9.7084970767318666,9.7409619799497431,9.7734268831676196,9.8058917863854962,9.838356689603371,9.8708215928212475,9.9176925501807993,9.9645635075403529,10.011434464899905,10.058305422259458,10.10517637961901,10.152047336978562,10.198918294338116,{"$f":"AZ1206","v":10.245789251697667},10.216782475073076,10.187775698448483,10.158768921823892,10.129762145199299,10.100755368574708,10.071748591950117,10.042741815325524,10.013735038700933,9.9847282620763398,{"$f":"BJ1206","v":9.9557214854517486},10.017105561932354,10.078489638412959,10.139873714893564,10.20125779137417,10.262641867854775,10.32402594433538,10.385410020815986,10.446794097296591,10.508178173777196,10.569562250257801,{"$f":"BU1206","v":10.538458053390691},10.507353856523581,10.476249659656471,10.445145462789359,10.414041265922249,10.382937069055139,10.332096545090447,10.281256021125758,10.230415497161067,10.179574973196377,10.128734449231686,10.077893925266995,10.027053401302306,9.9762128773376144,9.925372353372925,{"$f":"CJ1206","v":9.8745318294082338},null,"Altherma 3 H MT F 180 l 10","Altherma 3 H MT F 230 l 10",9,2.4,null,6.17]
[null,"Altherma 3 H MT F",12,{"$f":"'Altherma 3 H MT'!$N$8","v":3.14},{"$f":"'Altherma 3 H MT'!$N$9","v":4.2300000000000004},{"$f":"'Altherma 3 H MT'!$N$10","v":5.0999999999999996},31,7.6351964737974622,{"$f":"I1216","v":7.7471826571704785},7.8591688405434947,7.9711550239165101,8.0831412072895272,8.1951273906625417,8.3071135740355579,8.4190997574085742,8.5310859407815904,8.6430721241546067,8.7550583075276229,8.7892438428101904,8.8234293780927597,8.8576149133753272,8.8918004486578948,8.9259859839404641,8.9601715192230316,8.9943570545055991,9.0285425897881666,9.0627281250707359,9.0969136603533034,9.1310991956358709,9.1652847309184402,9.1994702662010077,9.2336558014835752,{"$f":"AG1216","v":9.2678413367661445},{"$f":"AH1216","v":9.302026872048712},9.2641082298245454,9.226189587600377,9.1882709453762104,9.150352303152042,9.1124336609278753,9.0745150187037087,9.0365963764795403,8.9986777342553737,8.9607590920312052,8.9228404498070386,8.8511974744443016,8.7795544990815664,8.7079115237188294,8.6362685483560924,8.5646255729933554,8.4929825976306184,8.4213396222678831,{"$f":"AZ1216","v":8.3496966469051461},8.5435812738388943,8.7374659007726425,8.9313505277063889,9.1252351546401371,9.3191197815738853,9.5130044085076335,9.7068890354413817,9.9007736623751281,10.094658289308876,{"$f":"BJ1216","v":10.288542916242625},10.397393099193103,10.506243282143581,10.615093465094059,10.723943648044537,10.832793830995016,10.941644013945496,11.050494196895974,11.159344379846452,11.26819456279693,11.377044745747408,{"$f":"BU1216","v":11.292303340617529},11.20756193548765,11.122820530357771,11.03807912522789,10.953337720098011,10.868596314968132,10.931993513298504,10.995390711628879,11.058787909959252,11.122185108289626,11.185582306619999,11.248979504950372,11.312376703280746,11.375773901611119,11.439171099941493,{"$f":"CJ1216","v":11.502568298271866},null,"Altherma 3 H MT F 180 l 12","Altherma 3 H MT F 230 l 12",9,2.2999999999999998,null,6.17]
[null,"Altherma 3 H MT F",12,{"$f":"'Altherma 3 H MT'!$N$8","v":3.14},{"$f":"'Altherma 3 H MT'!$N$9","v":4.2300000000000004},{"$f":"'Altherma 3 H MT'!$N$10","v":5.0999999999999996},47,7.7778851176908459,{"$f":"I1232","v":7.8733725172392122},7.9688599167875793,8.0643473163359456,8.1598347158843119,8.2553221154326781,8.3508095149810444,8.4462969145294124,8.5417843140777787,8.637271713626145,8.7327591131745113,8.84266481992824,8.9525705266819706,9.0624762334356994,9.1723819401894282,9.2822876469431588,9.3921933536968876,9.5020990604506181,9.6120047672043469,9.7219104739580757,9.8318161807118063,9.9417218874655351,10.051627594219266,10.161533300972994,10.271439007726723,{"$f":"AG1232","v":10.381344714480454},{"$f":"AH1232","v":10.491250421234183},10.367437481531963,10.243624541829746,10.119811602127527,9.9959986624253077,9.8721857227230885,9.7483727830208711,9.6245598433186519,9.5007469036164327,9.3769339639142153,9.2531210242119961,9.1702174205866562,9.0873138169613181,9.0044102133359782,8.9215066097106401,8.8386030060853003,8.7556994024599604,8.6727957988346223,{"$f":"AZ1232","v":8.5898921952092824},8.7653040619744669,8.9407159287396514,9.1161277955048376,9.2915396622700221,9.4669515290352066,9.6423633958003911,9.8177752625655756,9.9931871293307619,10.168598996095946,{"$f":"BJ1232","v":10.344010862861131},10.421697392629863,10.499383922398593,10.577070452167323,10.654756981936055,10.732443511704787,10.810130041473517,10.887816571242247,10.965503101010979,11.043189630779711,11.120876160548441,{"$f":"BU1232","v":11.028531411646552},10.936186662744664,10.843841913842775,10.751497164940886,10.659152416038998,10.566807667137109,10.618834967143471,10.670862267149834,10.722889567156198,10.77491686716256,10.826944167168921,10.878971467175285,10.930998767181649,10.98302606718801,11.035053367194372,{"$f":"CJ1232","v":11.087080667200736},null,"Altherma 3 H MT F 180 l 12","Altherma 3 H MT F 230 l 12",9,2.2999999999999998,null,6.17]
[null,"Altherma 3 H MT F",12,{"$f":"'Altherma 3 H MT'!$N$8","v":3.14},{"$f":"'Altherma 3 H MT'!$N$9","v":4.2300000000000004},{"$f":"'Altherma 3 H MT'!$N$10","v":5.0999999999999996},57,6.6538322520468807,{"$f":"I1242","v":6.8595523545844177},7.0652724571219547,7.2709925596594918,7.4767126621970297,7.6824327647345667,7.8881528672721037,8.0938729698096417,8.2995930723471787,8.5053131748847157,8.7110332774222528,8.846476616694309,8.9819199559663634,9.1173632952384196,9.252806634510474,9.3882499737825302,9.5236933130545864,9.6591366523266409,9.7945799915986971,9.9300233308707533,10.065466670142808,10.200910009414864,10.33635334868692,10.471796687958975,10.607240027231031,{"$f":"AG1242","v":10.742683366503087},{"$f":"AH1242","v":10.878126705775141},10.786539807090165,10.694952908405188,10.603366009720212,10.511779111035235,10.420192212350258,10.328605313665284,10.237018414980307,10.14543151629533,10.053844617610354,9.9622577189253771,10.001927388809685,10.041597058693993,10.081266728578301,10.120936398462607,10.160606068346915,10.200275738231223,10.239945408115531,{"$f":"AZ1242","v":10.279615077999839},10.375372676549153,10.471130275098467,10.566887873647781,10.662645472197095,10.758403070746411,10.854160669295725,10.949918267845039,11.045675866394353,11.141433464943667,{"$f":"BJ1242","v":11.237191063492981},11.280749714928277,11.324308366363574,11.36786701779887,11.411425669234166,11.454984320669464,11.49854297210476,11.542101623540056,11.585660274975352,11.629218926410649,11.672777577845945,{"$f":"BU1242","v":11.58406464351955},11.495351709193153,11.406638774866757,11.317925840540362,11.229212906213967,11.14049997188757,11.128398661882814,11.116297351878057,11.104196041873301,11.092094731868544,11.079993421863788,11.067892111859033,11.055790801854275,11.04368949184952,11.031588181844763,{"$f":"CJ1242","v":11.019486871840007},null,"Altherma 3 H MT F 180 l 12","Altherma 3 H MT F 230 l 12",9,2.2999999999999998,null,6.17]
[null,"Altherma 3 H MT F",12,{"$f":"'Altherma 3 H MT'!$N$8","v":3.14},{"$f":"'Altherma 3 H MT'!$N$9","v":4.2300000000000004},{"$f":"'Altherma 3 H MT'!$N$10","v":5.0999999999999996},64,null,null,null,null,null,null,null,null,null,null,{"$f":"R1249","v":7.099122084444633},7.3342944924262765,7.56946690040792,7.8046393083895644,8.039811716371208,8.2749841243528515,8.510156532334495,8.7453289403161385,8.980501348297782,9.2156737562794255,9.450846164261069,9.6860185722427126,9.9211909802243561,10.156363388206001,10.391535796187645,{"$f":"AG1249","v":10.626708204169288},{"$f":"AH1249","v":10.861880612150932},10.848444669185673,10.835008726220414,10.821572783255155,10.808136840289896,10.794700897324637,10.781264954359377,10.767829011394118,10.754393068428859,10.7409571254636,10.727521182498341,10.738467607187902,10.749414031877462,10.760360456567023,10.771306881256582,10.782253305946142,10.793199730635703,10.804146155325263,{"$f":"AZ1249","v":10.815092580014824},10.786787391183996,10.758482202353168,10.730177013522338,10.70187182469151,10.673566635860682,10.645261447029855,10.616956258199027,10.588651069368197,10.560345880537369,{"$f":"BJ1249","v":10.532040691706541},10.578905022244765,10.625769352782989,10.672633683321212,10.719498013859436,10.76636234439766,10.813226674935883,10.860091005474107,10.906955336012331,10.953819666550555,11.000683997088778,{"$f":"BU1249","v":10.964513540371456},10.928343083654136,10.892172626936814,10.856002170219492,10.819831713502172,10.78366125678485,10.781635381909149,10.779609507033449,10.77758363215775,10.77555775728205,10.773531882406349,10.771506007530649,10.769480132654948,10.767454257779249,10.765428382903549,{"$f":"CJ1249","v":10.763402508027848},null,"Altherma 3 H MT F 180 l 12","Altherma 3 H MT F 230 l 12",9,2.2999999999999998,null,6.17]
[null,"Altherma 3 H MT W",8,{"$f":"'Altherma 3 H MT'!$N$8","v":3.14},{"$f":"'Altherma 3 H MT'!$N$9","v":4.2300000000000004},{"$f":"'Altherma 3 H MT'!$N$10","v":5.0999999999999996},38,5.7017021138591035,{"$f":"I1141","v":5.7763881505401518},5.8510741872212,5.9257602239022482,6.0004462605832964,6.0751322972643447,6.1498183339453938,6.224504370626442,6.2991904073074902,6.3738764439885385,6.4485624806695867,6.5142148256277377,6.5798671705858887,6.6455195155440387,6.7111718605021897,6.7768242054603407,6.8424765504184917,6.9081288953766427,6.9737812403347927,7.0394335852929437,7.1050859302510947,7.1707382752092457,7.2363906201673966,7.3020429651255476,7.3676953100836977,{"$f":"AG1141","v":7.4333476550418487},{"$f":"AH1141","v":7.4989999999999997},7.5904274551977,7.6818549103953995,7.7732823655930998,7.8647098207908002,7.9561372759884996,8.0475647311862009,8.1389921863839003,8.2304196415815998,8.321847096779301,8.4132745519770005,8.3195495647172031,8.2258245774574057,8.1320995901976083,8.0383746029378109,7.9446496156780135,7.8509246284182161,7.7571996411584188,{"$f":"AZ1141","v":7.6634746538986214},7.6879319692749633,7.712389284651306,7.7368466000276488,7.7613039154039907,7.7857612307803326,7.8102185461566753,7.8346758615330181,7.85913317690936,7.8835904922857019,{"$f":"BJ1141","v":7.9080478076620446},8.0149204026393797,8.1217929976167156,8.2286655925940515,8.3355381875713874,8.4424107825487233,8.5492833775260593,8.6561559725033952,8.7630285674807311,8.869901162458067,8.976773757435403,{"$f":"BU1141","v":8.9391861850018799},8.9015986125683568,8.8640110401348338,8.8264234677013107,8.7888358952677876,8.7512483228342646,8.7610957440155808,8.770943165196897,8.7807905863782132,8.7906380075595294,8.8004854287408456,8.8103328499221636,8.8201802711034798,8.830027692284796,8.8398751134661122,{"$f":"CJ1141","v":8.8497225346474284},null,"Altherma 3 H MT W 8","Altherma 3 H MT W 8",9,2.8,null,6.17]
[null,"Altherma 3 H MT W",8,{"$f":"'Altherma 3 H MT'!$N$8","v":3.14},{"$f":"'Altherma 3 H MT'!$N$9","v":4.2300000000000004},{"$f":"'Altherma 3 H MT'!$N$10","v":5.0999999999999996},50,5.8163658993830394,{"$f":"I1153","v":5.8862835573653127},5.956201215347587,6.0261188733298603,6.0960365313121345,6.1659541892944079,6.2358718472766812,6.3057895052589554,6.3757071632412288,6.445624821223503,6.5155424792057763,6.579258574255415,6.6429746693050546,6.7066907643546934,6.7704068594043321,6.8341229544539717,6.8978390495036104,6.9615551445532491,7.0252712396028887,7.0889873346525274,7.1527034297021661,7.2164195247518048,7.2801356198014444,7.3438517148510831,7.4075678099007218,{"$f":"AG1153","v":7.4712839049503614},{"$f":"AH1153","v":7.5350000000000001},7.6108703337806514,7.6867406675613026,7.7626110013419529,7.8384813351226041,7.9143516689032554,7.9902220026839066,8.0660923364645569,8.1419626702452081,8.2178330040258594,8.2937033378065106,8.2776752760689796,8.2616472143314486,8.2456191525939175,8.2295910908563883,8.2135630291188573,8.1975349673813263,8.1815069056437952,{"$f":"AZ1153","v":8.1654788439062642},8.237699075457666,8.3099193070090696,8.3821395385604713,8.4543597701118749,8.5265800016632767,8.5988002332146785,8.671020464766082,8.7432406963174838,8.8154609278688874,{"$f":"BJ1153","v":8.8876811594202891},8.8812803436220182,8.8748795278237473,8.8684787120254782,8.8620778962272073,8.8556770804289364,8.8492762646306655,8.8428754488323946,8.8364746330341255,8.8300738172358546,8.8236730014375837,{"$f":"BU1153","v":8.7231325999817049},8.6225921985258243,8.5220517970699454,8.4215113956140666,8.320970994158186,8.2204305927023071,8.2846764181608812,8.3489222436194552,8.4131680690780275,8.4774138945366015,8.5416597199951756,8.6059055454537496,8.6701513709123237,8.734397196370896,8.79864302182947,{"$f":"CJ1153","v":8.862888847288044},null,"Altherma 3 H MT W 8","Altherma 3 H MT W 8",9,2.8,null,6.17]
[null,"Altherma 3 H MT W",8,{"$f":"'Altherma 3 H MT'!$N$8","v":3.14},{"$f":"'Altherma 3 H MT'!$N$9","v":4.2300000000000004},{"$f":"'Altherma 3 H MT'!$N$10","v":5.0999999999999996},53,5.4828050057730442,{"$f":"I1156","v":5.5877532530797218},5.6927015003864003,5.7976497476930779,5.9025979949997556,6.0075462423064341,6.1124944896131117,6.2174427369197893,6.3223909842264669,6.4273392315331455,6.5322874788398231,6.5955195114123342,6.6587515439848453,6.7219835765573563,6.7852156091298674,6.8484476417023785,6.9116796742748896,6.9749117068474007,7.0381437394199118,7.1013757719924229,7.1646078045649331,7.2278398371374442,7.2910718697099552,7.3543039022824663,7.4175359348549774,{"$f":"AG1156","v":7.4807679674274885},{"$f":"AH1156","v":7.5439999999999996},7.7578459156718909,7.9716918313437812,8.1855377470156725,8.3993836626875638,8.613229578359455,8.8270754940313445,9.0409214097032358,9.254767325375127,9.4686132410470183,9.6824591567189096,9.5459579340067844,9.4094567112946592,9.272955488582534,9.1364542658704089,8.9999530431582819,8.8634518204461568,8.7269505977340316,{"$f":"AZ1156","v":8.5904493750219064},8.6339781559886148,8.6775069369553233,8.7210357179220317,8.7645644988887401,8.8080932798554485,8.8516220608221587,8.8951508417888672,8.9386796227555756,8.982208403722284,{"$f":"BJ1156","v":9.0257371846889924},9.0260195505456409,9.0263019164022875,9.0265842822589359,9.0268666481155844,9.027149013972231,9.0274313798288794,9.0277137456855279,9.0279961115421763,9.0282784773988229,9.0285608432554714,{"$f":"BU1156","v":8.9406013951720897},8.8526419470887099,8.7646824990053283,8.6767230509219466,8.5887636028385668,8.5008041547551851,8.5400933877907761,8.579382620826367,8.618671853861958,8.657961086897549,8.6972503199331399,8.7365395529687309,8.7758287860043218,8.8151180190399128,8.8544072520755037,{"$f":"CJ1156","v":8.8936964851110947},null,"Altherma 3 H MT W 8","Altherma 3 H MT W 8",9,2.8,null,6.17]
[null,"Altherma 3 H MT W",10,{"$f":"'Altherma 3 H MT'!$N$8","v":3.14},{"$f":"'Altherma 3 H MT'!$N$9","v":4.2300000000000004},{"$f":"'Altherma 3 H MT'!$N$10","v":5.0999999999999996},33,6.5632072662919434,{"$f":"I1177","v":6.6553971010159554},6.7475869357399683,6.8397767704639802,6.9319666051879931,7.0241564399120051,7.1163462746360171,7.20853610936003,7.300725944084042,7.3929157788080548,7.4851056135320668,7.5549346689166548,7.6247637243012427,7.6945927796858307,7.7644218350704186,7.8342508904550066,7.9040799458395945,7.9739090012241824,8.0437380566087704,8.1135671119933583,8.1833961673779463,8.2532252227625342,8.3230542781471222,8.3928833335317101,8.4627123889162981,{"$f":"AG1177","v":8.532541444300886},{"$f":"AH1177","v":8.602370499685474},8.6244647349069918,8.6465589701285097,8.6686532053500294,8.6907474405715472,8.7128416757930651,8.734935911014583,8.7570301462361009,8.7791243814576205,8.8012186166791384,8.8233128519006563,8.7316324983804829,8.6399521448603096,8.5482717913401363,8.4565914378199629,8.3649110842997914,8.273230730779618,8.1815503772594447,{"$f":"AZ1177","v":8.0898700237392713},8.2204096493650027,8.3509492749907324,8.4814889006164638,8.6120285262421952,8.7425681518679248,8.8731077774936562,9.0036474031193876,9.134187028745119,9.2647266543708486,{"$f":"BJ1177","v":9.39526627999658},9.5010901082788717,9.6069139365611615,9.7127377648434532,9.8185615931257431,9.9243854214080347,10.030209249690326,10.136033077972616,10.241856906254908,10.347680734537198,10.453504562819489,{"$f":"BU1177","v":10.390463288226931},10.327422013634372,10.264380739041814,10.201339464449255,10.138298189856696,10.075256915264138,10.129528114701742,10.183799314139348,10.238070513576954,10.292341713014558,10.346612912452162,10.400884111889768,10.455155311327374,10.509426510764978,10.563697710202582,{"$f":"CJ1177","v":10.617968909640188},null,"Altherma 3 H MT W 10","Altherma 3 H MT W 10",9,2.7,null,6.17]
[null,"Altherma 3 H MT W",10,{"$f":"'Altherma 3 H MT'!$N$8","v":3.14},{"$f":"'Altherma 3 H MT'!$N$9","v":4.2300000000000004},{"$f":"'Altherma 3 H MT'!$N$10","v":5.0999999999999996},42,6.6383084072615341,{"$f":"I1186","v":6.7226741241397177},6.8070398410179003,6.8914055578960838,6.9757712747742673,7.0601369916524508,7.1445027085306334,7.2288684254088169,7.3132341422870004,7.397599859165183,7.4819655760433665,7.5742816431800541,7.6665977103167418,7.7589137774534294,7.851229844590117,7.9435459117268046,8.0358619788634922,8.1281780460001798,8.2204941131368674,8.312810180273555,8.4051262474102426,8.4974423145469302,8.5897583816836178,8.6820744488203054,8.774390515956993,{"$f":"AG1186","v":8.8667065830936806},{"$f":"AH1186","v":8.9590226502303683},8.9674820143533189,8.9759413784762714,8.9844007425992221,8.9928601067221727,9.0013194708451252,9.0097788349680759,9.0182381990910265,9.0266975632139772,9.0351569273369297,9.0436162914598803,8.9157396755614755,8.7878630596630707,8.6599864437646659,8.532109827866261,8.4042332119678562,8.2763565960694514,8.1484799801710466,{"$f":"AZ1186","v":8.0206033642726418},8.132692995613926,8.2447826269552085,8.3568722582964909,8.4689618896377752,8.5810515209790594,8.6931411523203419,8.8052307836616244,8.9173204150029086,9.0294100463441929,{"$f":"BJ1186","v":9.1414996776854753},9.2599353376699973,9.3783709976545175,9.4968066576390378,9.6152423176235597,9.7336779776080817,9.8521136375926019,9.9705492975771222,10.088984957561644,10.207420617546166,10.325856277530686,{"$f":"BU1186","v":10.31071619292562},10.295576108320553,10.280436023715485,10.265295939110418,10.250155854505351,10.235015769900285,10.239047029194218,10.243078288488149,10.247109547782081,10.251140807076014,10.255172066369948,10.259203325663879,10.263234584957811,10.267265844251744,10.271297103545677,{"$f":"CJ1186","v":10.275328362839609},null,"Altherma 3 H MT W 10","Altherma 3 H MT W 10",9,2.7,null,6.17]
[null,"Altherma 3 H MT W",10,{"$f":"'Altherma 3 H MT'!$N$8","v":3.14},{"$f":"'Altherma 3 H MT'!$N$9","v":4.2300000000000004},{"$f":"'Altherma 3 H MT'!$N$10","v":5.0999999999999996},44,6.6600245732365604,{"$f":"I1188","v":6.7435094339056985},6.8269942945748374,6.9104791552439764,6.9939640159131145,7.0774488765822525,7.1609337372513915,7.2444185979205304,7.3279034585896685,7.4113883192588066,7.4948731799279456,7.5884414180451225,7.6820096561622986,7.7755778942794755,7.8691461323966516,7.9627143705138286,8.0562826086310046,8.1498508467481816,8.2434190848653586,8.3369873229825338,8.4305555610997107,8.5241237992168877,8.6176920373340646,8.7112602754512416,8.8048285135684168,{"$f":"AG1188","v":8.8983967516855937},{"$f":"AH1188","v":8.9919649898027707},9.0040102543981337,9.0160555189934986,9.0281007835888616,9.0401460481842246,9.0521913127795877,9.0642365773749525,9.0762818419703155,9.0883271065656785,9.1003723711610434,9.1124176357564064,8.9741302015372124,8.8358427673180167,8.6975553330988227,8.5592678988796287,8.4209804646604347,8.2826930304412407,8.144405596222045,{"$f":"AZ1188","v":8.006118162002851},8.1166266977368675,8.2271352334708858,8.3376437692049024,8.4481523049389189,8.5586608406729354,8.6691693764069537,8.7796779121409703,8.8901864478749868,9.0006949836090051,{"$f":"BJ1188","v":9.1112035193430216},9.2297168524807844,9.3482301856185472,9.46674351875631,9.5852568518940728,9.7037701850318356,9.8222835181695984,9.9407968513073612,10.059310184445124,10.177823517582887,10.29633685072065,{"$f":"BU1188","v":10.260476547723384},10.22461624472612,10.188755941728854,10.152895638731588,10.117035335734323,10.081175032737058,10.102993798485281,10.124812564233505,10.146631329981728,10.168450095729952,10.190268861478176,10.212087627226399,10.233906392974623,10.255725158722846,10.27754392447107,{"$f":"CJ1188","v":10.299362690219294},null,"Altherma 3 H MT W 10","Altherma 3 H MT W 10",9,2.7,null,6.17]
[null,"Altherma 3 H MT W",10,{"$f":"'Altherma 3 H MT'!$N$8","v":3.14},{"$f":"'Altherma 3 H MT'!$N$9","v":4.2300000000000004},{"$f":"'Altherma 3 H MT'!$N$10","v":5.0999999999999996},59,6.0416940794022818,{"$f":"I1203","v":6.1800462237263378},6.3183983680503948,6.4567505123744509,6.5951026566985078,6.7334548010225639,6.87180694534662,7.0101590896706769,7.148511233994733,7.2868633783187899,7.425215522642846,7.5622312207165336,7.6992469187902222,7.8362626168639098,7.9732783149375983,8.1102940130112859,8.2473097110849736,8.3843254091586612,8.5213411072323488,8.6583568053060382,8.7953725033797259,8.9323882014534135,9.0694038995271011,9.2064195976007888,9.3434352956744782,{"$f":"AG1203","v":9.4804509937481658},{"$f":"AH1203","v":9.6174666918218534},9.6243450066572098,9.6312233214925662,9.6381016363279208,9.6449799511632772,9.6518582659986336,9.65873658083399,9.6656148956693464,9.672493210504701,9.6793715253400574,9.6862498401754138,9.7491647014659684,9.8120795627565212,9.8749944240470739,9.9379092853376285,10.000824146628183,10.063739007918736,10.126653869209289,{"$f":"AZ1203","v":10.189568730499843},10.194214828227539,10.198860925955234,10.203507023682928,10.208153121410623,10.212799219138319,10.217445316866014,10.222091414593709,10.226737512321403,10.231383610049098,{"$f":"BJ1203","v":10.236029707776794},10.304312727364964,10.372595746953134,10.440878766541307,10.509161786129477,10.577444805717647,10.645727825305817,10.714010844893988,10.78229386448216,10.85057688407033,10.9188599036585,{"$f":"BU1203","v":10.866373750698934},10.813887597739368,10.761401444779803,10.708915291820237,10.65642913886067,10.603942985901105,10.554874141454647,10.505805297008187,10.456736452561728,10.40766760811527,10.358598763668812,10.309529919222353,10.260461074775893,10.211392230329436,10.162323385882978,{"$f":"CJ1203","v":10.113254541436518},null,"Altherma 3 H MT W 10","Altherma 3 H MT W 10",9,2.7,null,6.17]
[null,"Altherma 3 H MT W",12,{"$f":"'Altherma 3 H MT'!$N$8","v":3.14},{"$f":"'Altherma 3 H MT'!$N$9","v":4.2300000000000004},{"$f":"'Altherma 3 H MT'!$N$10","v":5.0999999999999996},29,7.6670235007954162,{"$f":"I1214","v":7.7638747344223651},7.860725968049314,7.9575772016762638,8.0544284353032118,8.1512796689301616,8.2481309025571115,8.3449821361840595,8.4418333698110093,8.5386846034379573,8.6355358370649071,8.6651025896180549,8.6946693421712027,8.7242360947243522,8.7538028472775,8.7833695998306478,8.8129363523837956,8.8425031049369434,8.8720698574900929,8.9016366100432407,8.9312033625963885,8.9607701151495363,8.990336867702684,9.0199036202558318,9.0494703728089814,{"$f":"AG1214","v":9.0790371253621291},{"$f":"AH1214","v":9.1086038779152769},9.0907155742530925,9.0728272705909099,9.0549389669287255,9.0370506632665411,9.0191623596043584,9.001274055942174,8.9833857522799896,8.9654974486178052,8.9476091449556225,8.9297208412934381,8.8687859639475999,8.8078510866017616,8.7469162092559252,8.6859813319100869,8.6250464545642487,8.5641115772184122,8.503176699872574,{"$f":"AZ1214","v":8.4422418225267357},8.6427990777104551,8.8433563328941762,9.0439135880778956,9.2444708432616149,9.4450280984453343,9.6455853536290554,9.8461426088127748,10.046699863996494,10.247257119180215,{"$f":"BJ1214","v":10.447814374363935},10.545666049827492,10.64351772529105,10.741369400754605,10.839221076218163,10.93707275168172,11.034924427145278,11.132776102608835,11.230627778072391,11.328479453535948,11.426331128999506,{"$f":"BU1214","v":11.345132198048326},11.263933267097146,11.182734336145966,11.101535405194786,11.020336474243607,10.939137543292427,11.006718965583428,11.074300387874429,11.141881810165431,11.209463232456432,11.277044654747433,11.344626077038434,11.412207499329435,11.479788921620438,11.547370343911439,{"$f":"CJ1214","v":11.61495176620244},null,"Altherma 3 H MT W 12","Altherma 3 H MT W 12",9,2.6,null,6.17]
[null,"Altherma 3 H MT W",12,{"$f":"'Altherma 3 H MT'!$N$8","v":3.14},{"$f":"'Altherma 3 H MT'!$N$9","v":4.2300000000000004},{"$f":"'Altherma 3 H MT'!$N$10","v":5.0999999999999996},39,7.6756076803885431,{"$f":"I1224","v":7.7753225321316064},7.8750373838746697,7.9747522356177321,8.0744670873607962,8.1741819391038586,8.273896790846921,8.3736116425899851,8.4733264943330475,8.5730413460761117,8.6727561978191741,8.7778595994039321,8.8829630009886902,8.9880664025734465,9.0931698041582045,9.1982732057429626,9.3033766073277206,9.4084800089124787,9.5135834104972368,9.6186868120819931,9.7237902136667511,9.8288936152515092,9.9339970168362672,10.039100418421025,10.144203820005782,{"$f":"AG1224","v":10.24930722159054},{"$f":"AH1224","v":10.354410623175298},10.224074510419936,10.093738397664572,9.9634022849092094,9.8330661721538473,9.7027300593984833,9.5723939466431212,9.442057833887759,9.3117217211323968,9.1813856083770329,9.0510494956216707,8.9374049943928302,8.8237604931639897,8.7101159919351492,8.5964714907063104,8.4828269894774699,8.3691824882486294,8.2555379870197889,{"$f":"AZ1224","v":8.1418934857909484},8.3181715280692625,8.4944495703475766,8.6707276126258908,8.8470056549042049,9.0232836971825172,9.1995617394608331,9.3758397817391455,9.5521178240174596,9.7283958662957737,{"$f":"BJ1224","v":9.9046739085740878},10.039102563031472,10.173531217488854,10.307959871946238,10.442388526403622,10.576817180861006,10.711245835318389,10.845674489775773,10.980103144233157,11.114531798690539,11.248960453147923,{"$f":"BU1224","v":11.218301986317154},11.187643519486386,11.156985052655617,11.126326585824847,11.095668118994078,11.06500965216331,11.063812129601935,11.062614607040562,11.061417084479189,11.060219561917814,11.059022039356439,11.057824516795066,11.056626994233692,11.055429471672317,11.054231949110942,{"$f":"CJ1224","v":11.053034426549569},null,"Altherma 3 H MT W 12","Altherma 3 H MT W 12",9,2.6,null,6.17]
[null,"Altherma 3 H MT W",12,{"$f":"'Altherma 3 H MT'!$N$8","v":3.14},{"$f":"'Altherma 3 H MT'!$N$9","v":4.2300000000000004},{"$f":"'Altherma 3 H MT'!$N$10","v":5.0999999999999996},55,7.0687042593152407,{"$f":"I1240","v":7.2411100362367016},7.4135158131581615,7.5859215900796224,7.7583273670010833,7.9307331439225432,8.1031389208440032,8.275544697765465,8.4479504746869249,8.6203562516083867,8.7927620285298467,8.9044142471504824,9.016066465771118,9.1277186843917537,9.2393709030123894,9.3510231216330251,9.4626753402536607,9.5743275588742964,9.6859797774949321,9.7976319961155696,9.9092842147362052,10.020936433356841,10.132588651977477,10.244240870598112,10.355893089218748,{"$f":"AG1240","v":10.467545307839384},{"$f":"AH1240","v":10.579197526460019},10.498279264980669,10.417361003501318,10.336442742021966,10.255524480542615,10.174606219063264,10.093687957583914,10.012769696104563,9.9318514346252105,9.8509331731458598,9.7700149116665091,9.8265830389532329,9.8831511662399567,9.9397192935266805,9.996287420813406,10.05285554810013,10.109423675386854,10.165991802673577,{"$f":"AZ1240","v":10.222559929960301},10.344170196793181,10.465780463626063,10.587390730458942,10.709000997291824,10.830611264124704,10.952221530957583,11.073831797790465,11.195442064623345,11.317052331456226,{"$f":"BJ1240","v":11.438662598289106},11.444933152615581,11.451203706942056,11.457474261268532,11.463744815595007,11.47001536992148,11.476285924247955,11.482556478574431,11.488827032900906,11.495097587227381,11.501368141553856,{"$f":"BU1240","v":11.402116968687206},11.302865795820555,11.203614622953905,11.104363450087256,11.005112277220604,10.905861104353955,10.934295972023371,10.962730839692787,10.991165707362201,11.019600575031617,11.048035442701034,11.07647031037045,11.104905178039866,11.13334004570928,11.161774913378697,{"$f":"CJ1240","v":11.190209781048113},null,"Altherma 3 H MT W 12","Altherma 3 H MT W 12",9,2.6,null,6.17]
[null,"Altherma 3 H MT W",12,{"$f":"'Altherma 3 H MT'!$N$8","v":3.14},{"$f":"'Altherma 3 H MT'!$N$9","v":4.2300000000000004},{"$f":"'Altherma 3 H MT'!$N$10","v":5.0999999999999996},61,null,null,null,null,null,null,null,null,null,null,{"$f":"R1246","v":8.2161106341818044},8.4032512513641038,8.5903918685464049,8.7775324857287043,8.9646731029110036,9.151813720093303,9.3389543372756023,9.5260949544579034,9.7132355716402028,9.9003761888225021,10.087516806004803,10.274657423187103,10.461798040369402,10.648938657551701,10.836079274734001,{"$f":"AG1246","v":11.023219891916302},{"$f":"AH1246","v":11.210360509098601},11.126309132487226,11.04225775587585,10.958206379264473,10.874155002653097,10.790103626041722,10.706052249430346,10.622000872818971,10.537949496207593,10.453898119596218,10.369846742984842,10.383324836992745,10.396802931000648,10.410281025008551,10.423759119016456,10.437237213024359,10.450715307032262,10.464193401040164,{"$f":"AZ1246","v":10.477671495048067},10.513329144933333,10.5489867948186,10.584644444703866,10.620302094589132,10.655959744474398,10.691617394359664,10.72727504424493,10.762932694130196,10.798590344015462,{"$f":"BJ1246","v":10.834247993900728},10.920582174359181,11.006916354817633,11.093250535276086,11.179584715734538,11.265918896192991,11.352253076651444,11.438587257109896,11.524921437568349,11.611255618026801,11.697589798485254,{"$f":"BU1246","v":11.633868001918913},11.570146205352572,11.506424408786231,11.44270261221989,11.378980815653549,11.315259019087208,11.260073367981272,11.204887716875335,11.1497020657694,11.094516414663463,11.039330763557528,10.984145112451593,10.928959461345656,10.873773810239721,10.818588159133784,{"$f":"CJ1246","v":10.763402508027848},null,"Altherma 3 H MT W 12","Altherma 3 H MT W 12",9,2.6,null,6.17]
[null,"Altherma 3 R ECH2O",11,{"$f":"'Altherma 3 R 11-16 peak'!$M$5","v":2.92},{"$f":"'Altherma 3 R 11-16 peak'!$M$6","v":3.65},{"$f":"'Altherma 3 R 11-16 peak'!$M$7","v":4.83},27,{"$f":"$H$1497-(($H$1497-$H$1502)/5*A5)","v":7.14},7.2758000000000003,7.4116,7.5473999999999997,7.6832000000000003,7.8190000000000008,7.9548000000000005,8.0906000000000002,8.2264000000000017,8.3622000000000014,{"$f":"$R$1497-(($R$1497-$R$1502)/5*A5)","v":8.4980000000000011},8.6335000000000015,8.7690000000000019,8.9045000000000005,9.0400000000000009,9.1755000000000013,9.3109999999999999,9.4465000000000003,9.5820000000000007,9.7175000000000011,9.8530000000000015,9.9885000000000002,10.124000000000001,10.259500000000001,10.395,10.5305,{"$f":"$AH$1497-(($AH$1497-$AH$1502)/5*A5)","v":10.666},10.7902,10.914400000000001,11.038600000000001,11.162800000000001,11.287000000000001,11.411200000000001,11.535400000000001,11.659600000000001,11.783800000000001,{"$f":"$AR$1497-(($AR$1497-$AR$1502)/5*A5)","v":11.908000000000001},11.951750000000001,11.9955,12.039250000000001,12.083,12.126749999999999,12.170500000000001,12.21425,{"$f":"$AZ$1497-(($AZ$1497-$AZ$1502)/5*A5)","v":12.257999999999999},12.108835729060655,11.959671458121312,11.810507187181967,11.661342916242623,11.51217864530328,11.363014374363935,11.213850103424591,11.064685832485246,10.915521561545903,{"$f":"$BJ$1210-(($BJ$1210-$BJ$1215)/5*A292)","v":10.766357290606559},10.724921561545903,10.683485832485246,10.642050103424591,10.600614374363936,10.55917864530328,10.517742916242623,10.476307187181968,10.434871458121313,10.393435729060656,{"$f":"$BT$1497-(($BT$1497-$BT$1502)/5*A5)","v":10.352},10.386333333333333,10.420666666666667,10.455,10.489333333333333,10.523666666666667,{"$f":"$BZ$1497-(($BZ$1497-$BZ$1502)/5*A5)","v":10.558},10.5936,10.629199999999999,10.6648,10.7004,10.736000000000001,10.771599999999999,10.8072,10.8428,10.878399999999999,{"$f":"$CJ$1497-(($CJ$1497-$CJ$1502)/5*A5)","v":10.914},null,"Altherma 3 R ECH2O 300 11 kW","Altherma 3 R ECH2O 500 11 kW",9,4.2,null,10]
[null,"Altherma 3 R ECH2O",11,{"$f":"'Altherma 3 R 11-16 peak'!$M$5","v":2.92},{"$f":"'Altherma 3 R 11-16 peak'!$M$6","v":3.65},{"$f":"'Altherma 3 R 11-16 peak'!$M$7","v":4.83},46,null,null,null,null,null,null,null,null,null,null,null,null,null,null,null,null,null,null,null,null,null,null,null,null,null,null,{"$f":"$AH$1517-(($AH$1517-$AH$1522)/5*A4)","v":10.106},10.239000000000001,10.372,10.504999999999999,10.638,10.771000000000001,10.904,11.036999999999999,11.17,11.303000000000001,{"$f":"$AR$1517-(($AR$1517-$AR$1522)/5*A4)","v":11.436},11.385999999999999,11.336,11.286,11.236000000000001,11.186,11.135999999999999,11.086,{"$f":"$AZ$1517-(($AZ$1517-$AZ$1522)/5*A4)","v":11.036},10.913068477143522,10.790136954287043,10.667205431430565,10.544273908574086,10.421342385717608,10.298410862861131,10.175479340004651,10.052547817148174,9.9296162942916943,{"$f":"$BJ$1230-(($BJ$1230-$BJ$1235)/5*A291)","v":9.8066847714352168},9.8062162942916942,9.8057478171481733,9.8052793400046525,9.8048108628611299,9.8043423857176073,9.8038739085740865,9.8034054314305656,9.802936954287043,9.8024684771435204,{"$f":"$BT$1517-(($BT$1517-$BT$1522)/5*A4)","v":9.8019999999999996},9.7989999999999995,9.7959999999999994,9.7929999999999993,9.7900000000000009,9.7870000000000008,{"$f":"$BZ$1517-(($BZ$1517-$BZ$1522)/5*A4)","v":9.7840000000000007},9.7810000000000006,9.7780000000000005,9.7750000000000004,9.7720000000000002,9.7690000000000001,9.766,9.7629999999999999,9.76,9.7569999999999997,{"$f":"$CJ$1517-(($CJ$1517-$CJ$1522)/5*A4)","v":9.7539999999999996},null,"Altherma 3 R ECH2O 300 11 kW","Altherma 3 R ECH2O 500 11 kW",9,4.2,null,10]
[null,"Altherma 3 R ECH2O",11,{"$f":"'Altherma 3 R 11-16 peak'!$M$5","v":2.92},{"$f":"'Altherma 3 R 11-16 peak'!$M$6","v":3.65},{"$f":"'Altherma 3 R 11-16 peak'!$M$7","v":4.83},48,null,null,null,null,null,null,null,null,null,null,null,null,null,null,null,null,null,null,null,null,null,null,null,null,null,null,{"$f":"$AH$1517-(($AH$1517-$AH$1522)/5*A6)","v":9.9980000000000011},10.139000000000001,10.280000000000001,10.421000000000001,10.562000000000001,10.702999999999999,10.843999999999999,10.984999999999999,11.125999999999999,11.266999999999999,{"$f":"$AR$1517-(($AR$1517-$AR$1522)/5*A6)","v":11.407999999999999},11.372999999999999,11.337999999999999,11.302999999999999,11.268000000000001,11.233000000000001,11.198,11.163,{"$f":"$AZ$1517-(($AZ$1517-$AZ$1522)/5*A6)","v":11.128},10.995868477143521,10.863736954287043,10.731605431430566,10.599473908574087,10.467342385717608,10.33521086286113,10.203079340004653,10.070947817148173,9.9388162942916942,{"$f":"$BJ$1230-(($BJ$1230-$BJ$1235)/5*A293)","v":9.8066847714352168},9.7846162942916948,9.7625478171481728,9.7404793400046525,9.7184108628611305,9.6963423857176085,9.6742739085740865,9.6522054314305645,9.6301369542870443,9.6080684771435223,{"$f":"$BT$1517-(($BT$1517-$BT$1522)/5*A6)","v":9.5860000000000003},9.5869999999999997,9.588000000000001,9.5890000000000004,9.59,9.5910000000000011,{"$f":"$BZ$1517-(($BZ$1517-$BZ$1522)/5*A6)","v":9.5920000000000005},9.593,9.5940000000000012,9.5950000000000006,9.5960000000000001,9.5970000000000013,9.5980000000000008,9.5990000000000002,9.6,9.6010000000000009,{"$f":"$CJ$1517-(($CJ$1517-$CJ$1522)/5*A6)","v":9.6020000000000003},null,"Altherma 3 R ECH2O 300 11 kW","Altherma 3 R ECH2O 500 11 kW",9,4.2,null,10]
[null,"Altherma 3 R ECH2O",14,{"$f":"'Altherma 3 R 11-16 peak'!$M$16","v":3},{"$f":"'Altherma 3 R 11-16 peak'!$M$17","v":3.5},{"$f":"'Altherma 3 R 11-16 peak'!$M$18","v":4.87},25,{"$f":"'Altherma 3 R 11-16 peak'!C15","v":7.7},{"$f":"$H1533-(($H1533-$R1533)/$R$3*I$3)","v":7.9089999999999998},8.1180000000000003,8.327,8.5359999999999996,8.7449999999999992,8.9540000000000006,9.1630000000000003,9.3719999999999999,9.5809999999999995,{"$f":"'Altherma 3 R 11-16 peak'!C16","v":9.7899999999999991},{"$f":"$R1533-(($R1533-$AH1533)/$AH$3*S$3)","v":9.9981249999999999},10.206249999999999,10.414375,10.622499999999999,10.830625,11.038749999999999,11.246874999999999,11.454999999999998,11.663124999999999,11.87125,12.079374999999999,12.2875,12.495624999999999,12.703749999999999,12.911874999999998,{"$f":"'Altherma 3 R 11-16 peak'!C17","v":13.12},13.186,13.251999999999999,13.318,13.383999999999999,13.45,13.516,13.581999999999999,13.648,13.713999999999999,{"$f":"'Altherma 3 R 11-16 peak'!C18","v":13.78},13.841249999999999,13.9025,13.963749999999999,14.024999999999999,14.08625,14.147499999999999,14.20875,{"$f":"'Altherma 3 R 11-16 peak'!C19","v":14.27},14.243,14.215999999999999,14.189,14.161999999999999,14.135,14.108000000000001,14.081,14.054,14.026999999999999,{"$f":"'Altherma 3 R 11-16 peak'!C20","v":14},13.856999999999999,13.714,13.571,13.428000000000001,13.285,13.141999999999999,12.999000000000001,12.856,12.713000000000001,{"$f":"'Altherma 3 R 11-16 peak'!C21","v":12.57},12.661666666666667,12.753333333333334,12.844999999999999,12.936666666666666,13.028333333333332,{"$f":"'Altherma 3 R 11-16 peak'!C22","v":13.12},13.210999999999999,13.302,13.392999999999999,13.484,13.574999999999999,13.665999999999999,13.757,13.847999999999999,13.939,{"$f":"'Altherma 3 R 11-16 peak'!C23","v":14.03},null,"Altherma 3 R ECH2O 300 14 kW","Altherma 3 R ECH2O 500 14 kW",9,4.0999999999999996,null,10]
[null,"Altherma 3 R ECH2O",14,{"$f":"'Altherma 3 R 11-16 peak'!$M$16","v":3},{"$f":"'Altherma 3 R 11-16 peak'!$M$17","v":3.5},{"$f":"'Altherma 3 R 11-16 peak'!$M$18","v":4.87},39,{"$f":"$H$1543-(($H$1543-$H$1548)/5*A7)","v":7.0659999999999998},7.2206000000000001,7.3751999999999995,7.5297999999999998,7.6844000000000001,7.8390000000000004,7.9935999999999998,8.1481999999999992,8.3027999999999995,8.4573999999999998,{"$f":"$R$1543-(($R$1543-$R$1548)/5*A7)","v":8.6120000000000001},8.7703749999999996,8.9287500000000009,9.0871250000000003,9.2454999999999998,9.4038749999999993,9.5622499999999988,9.7206250000000001,9.8789999999999996,10.037374999999999,10.19575,10.354125,10.512499999999999,10.670874999999999,10.829249999999998,10.987625,{"$f":"$AH$1543-(($AH$1543-$AH$1548)/5*A7)","v":11.145999999999999},{"$f":"$AH1547-(($AH1547-$AR1547)/$AR$3*AI$3)","v":11.3164},11.486799999999999,11.6572,11.827599999999999,11.997999999999999,12.168399999999998,12.338799999999999,12.5092,12.679599999999999,{"$f":"$AR$1543-(($AR$1543-$AR$1548)/5*A7)","v":12.85},{"$f":"$AR1547-(($AR1547-$AZ1547)/$AZ$3*AS$3)","v":12.983000000000001},13.116,13.248999999999999,13.382,13.515000000000001,13.648,13.780999999999999,{"$f":"$AZ$1543-(($AZ$1543-$AZ$1548)/5*A7)","v":13.914},{"$f":"$AZ1547-(($AZ1547-$BJ1547)/$BJ$3*BA$3)","v":13.8286},13.7432,13.6578,13.5724,13.487,13.4016,13.3162,13.2308,13.1454,{"$f":"$BJ$1543-(($BJ$1543-$BJ$1548)/5*A7)","v":13.06},{"$f":"$BJ1547-(($BJ1547-$BT1547)/$BT$3*BK$3)","v":12.889800000000001},12.7196,12.5494,12.379200000000001,12.209,12.0388,11.868600000000001,11.698400000000001,11.5282,{"$f":"$BT$1543-(($BT$1543-$BT$1548)/5*A7)","v":11.358000000000001},{"$f":"$BT1547-(($BT1547-$BZ1547)/$BZ$3*BU$3)","v":11.477666666666668},11.597333333333333,11.717000000000001,11.836666666666668,11.956333333333333,{"$f":"$BZ$1543-(($BZ$1543-$BZ$1548)/5*A7)","v":12.076000000000001},{"$f":"$BZ1547-(($BZ1547-$CJ1547)/$CJ$3*CA$3)","v":12.1952},12.314400000000001,12.4336,12.552800000000001,12.672000000000001,12.7912,12.910400000000001,13.0296,13.148800000000001,{"$f":"$CJ$1543-(($CJ$1543-$CJ$1548)/5*A7)","v":13.268000000000001},null,"Altherma 3 R ECH2O 300 14 kW","Altherma 3 R ECH2O 500 14 kW",9,4.0999999999999996,null,10]
[null,"Altherma 3 R ECH2O",14,{"$f":"'Altherma 3 R 11-16 peak'!$M$16","v":3},{"$f":"'Altherma 3 R 11-16 peak'!$M$17","v":3.5},{"$f":"'Altherma 3 R 11-16 peak'!$M$18","v":4.87},47,null,null,null,null,null,null,null,null,null,null,null,null,null,null,null,null,null,null,null,null,null,null,null,null,null,null,{"$f":"$AH$1553-(($AH$1553-$AH$1558)/5*A5)","v":10.792},10.952199999999999,11.112399999999999,11.272600000000001,11.4328,11.593,11.7532,11.913399999999999,12.073600000000001,12.2338,{"$f":"$AR$1553-(($AR$1553-$AR$1558)/5*A5)","v":12.394},12.481,12.568,12.654999999999999,12.742000000000001,12.829000000000001,12.916,13.003,{"$f":"$AZ$1553-(($AZ$1553-$AZ$1558)/5*A5)","v":13.09},13.026999999999999,12.964,12.901,12.837999999999999,12.774999999999999,12.712,12.648999999999999,12.585999999999999,12.523,{"$f":"$BJ$1553-(($BJ$1553-$BJ$1558)/5*A5)","v":12.459999999999999},12.327599999999999,12.1952,12.062799999999999,11.930400000000001,11.798,11.6656,11.533200000000001,11.4008,11.268400000000002,{"$f":"$BT$1553-(($BT$1553-$BT$1558)/5*A5)","v":11.136000000000001},11.240333333333334,11.344666666666667,11.449000000000002,11.553333333333335,11.657666666666668,{"$f":"$BZ$1553-(($BZ$1553-$BZ$1558)/5*A5)","v":11.762},11.866200000000001,11.9704,12.0746,12.178800000000001,12.283000000000001,12.3872,12.491400000000001,12.595600000000001,12.6998,{"$f":"$CJ$1553-(($CJ$1553-$CJ$1558)/5*A5)","v":12.804},null,"Altherma 3 R ECH2O 300 14 kW","Altherma 3 R ECH2O 500 14 kW",9,4.0999999999999996,null,10]
[null,"Altherma 3 R ECH2O",14,{"$f":"'Altherma 3 R 11-16 peak'!$M$16","v":3},{"$f":"'Altherma 3 R 11-16 peak'!$M$17","v":3.5},{"$f":"'Altherma 3 R 11-16 peak'!$M$18","v":4.87},57,null,null,null,null,null,null,null,null,null,null,null,null,null,null,null,null,null,null,null,null,null,null,null,null,null,null,{"$f":"$AH$1563-(($AH$1563-$AH$1568)/5*A5)","v":9.3699999999999992},9.541599999999999,9.7131999999999987,9.8848000000000003,10.0564,10.228,10.3996,10.571199999999999,10.742800000000001,10.914400000000001,{"$f":"$AR$1563-(($AR$1563-$AR$1568)/5*A5)","v":11.086},11.262499999999999,11.439,11.615500000000001,11.792,11.968499999999999,12.145,12.3215,{"$f":"$AZ$1563-(($AZ$1563-$AZ$1568)/5*A5)","v":12.497999999999999},12.4224,12.3468,12.271199999999999,12.195599999999999,12.12,12.0444,11.9688,11.893199999999998,11.817599999999999,{"$f":"$BJ$1563-(($BJ$1563-$BJ$1568)/5*A5)","v":11.741999999999999},11.5984,11.454799999999999,11.311199999999999,11.1676,11.024000000000001,10.8804,10.736800000000001,10.593200000000001,10.4496,{"$f":"$BT$1563-(($BT$1563-$BT$1568)/5*A5)","v":10.306000000000001},10.427000000000001,10.548,10.669,10.790000000000001,10.911,{"$f":"$BZ$1563-(($BZ$1563-$BZ$1568)/5*A5)","v":11.032},11.1518,11.271599999999999,11.391400000000001,11.511200000000001,11.631,11.7508,11.8706,11.990400000000001,12.110200000000001,{"$f":"$CJ$1563-(($CJ$1563-$CJ$1568)/5*A5)","v":12.23},null,"Altherma 3 R ECH2O 300 14 kW","Altherma 3 R ECH2O 500 14 kW",9,4.0999999999999996,null,10]
[null,"Altherma 3 R ECH2O",16,{"$f":"'Altherma 3 R 11-16 peak'!$M$27","v":2.87},{"$f":"'Altherma 3 R 11-16 peak'!$M$28","v":3.3},{"$f":"'Altherma 3 R 11-16 peak'!$M$29","v":4.53},36,{"$f":"$H$1579-(($H$1579-$H$1584)/5*A4)","v":9.2379999999999995},9.4123999999999999,9.5868000000000002,9.7611999999999988,9.9355999999999991,10.11,10.2844,10.4588,10.633199999999999,10.807599999999999,{"$f":"$R$1579-(($R$1579-$R$1584)/5*A4)","v":10.981999999999999},11.165624999999999,11.34925,11.532874999999999,11.7165,11.900124999999999,12.08375,12.267374999999999,12.451000000000001,12.634625,12.818249999999999,13.001875,13.185499999999999,13.369125,13.55275,13.736374999999999,{"$f":"$AH$1579-(($AH$1579-$AH$1584)/5*A4)","v":13.92},14.1174,14.3148,14.5122,14.7096,14.907,15.1044,15.3018,15.4992,15.6966,{"$f":"$AR$1579-(($AR$1579-$AR$1584)/5*A4)","v":15.894},16.081250000000001,16.2685,16.455749999999998,16.643000000000001,16.830249999999999,17.017499999999998,17.204750000000001,{"$f":"$AZ$1579-(($AZ$1579-$AZ$1584)/5*A4)","v":17.391999999999999},17.246600000000001,17.101199999999999,16.9558,16.810400000000001,16.664999999999999,16.519600000000001,16.374200000000002,16.2288,16.083400000000001,{"$f":"$BJ$1579-(($BJ$1579-$BJ$1584)/5*A4)","v":15.938000000000001},15.784800000000001,15.631600000000001,15.478400000000001,15.325200000000001,15.172000000000001,15.018800000000001,14.865600000000001,14.712400000000001,14.559200000000001,{"$f":"$BT$1579-(($BT$1579-$BT$1584)/5*A4)","v":14.406000000000001},14.398,14.39,14.382,14.373999999999999,14.366,{"$f":"$BZ$1579-(($BZ$1579-$BZ$1584)/5*A4)","v":14.357999999999999},14.348599999999999,14.339199999999998,14.329799999999999,14.320399999999999,14.311,14.301599999999999,14.292199999999999,14.2828,14.273399999999999,{"$f":"$CJ$1579-(($CJ$1579-$CJ$1584)/5*A4)","v":14.263999999999999},null,"Altherma 3 R ECH2O 300 16 kW","Altherma 3 R ECH2O 500 16 kW",9,4,null,10]
[null,"Altherma 3 R ECH2O",16,{"$f":"'Altherma 3 R 11-16 peak'!$M$27","v":2.87},{"$f":"'Altherma 3 R 11-16 peak'!$M$28","v":3.3},{"$f":"'Altherma 3 R 11-16 peak'!$M$29","v":4.53},47,null,null,null,null,null,null,null,null,null,null,null,null,null,null,null,null,null,null,null,null,null,null,null,null,null,null,{"$f":"$AH$1589-(($AH$1589-$AH$1594)/5*A5)","v":13.173999999999999},13.3408,13.5076,13.6744,13.841200000000001,14.007999999999999,14.174800000000001,14.3416,14.5084,14.6752,{"$f":"$AR$1589-(($AR$1589-$AR$1594)/5*A5)","v":14.842000000000001},14.934000000000001,15.026,15.118,15.21,15.302000000000001,15.394000000000002,15.486000000000001,{"$f":"$AZ$1589-(($AZ$1589-$AZ$1594)/5*A5)","v":15.578000000000001},15.594000000000001,15.610000000000001,15.626000000000001,15.642000000000001,15.658000000000001,15.673999999999999,15.69,15.706,15.722,{"$f":"$BJ$1589-(($BJ$1589-$BJ$1594)/5*A5)","v":15.738},15.535399999999999,15.332799999999999,15.1302,14.9276,14.725,14.522399999999999,14.319799999999999,14.1172,13.9146,{"$f":"$BT$1589-(($BT$1589-$BT$1594)/5*A5)","v":13.712},13.797666666666666,13.883333333333333,13.968999999999999,14.054666666666666,14.140333333333333,{"$f":"$BZ$1589-(($BZ$1589-$BZ$1594)/5*A5)","v":14.225999999999999},14.310199999999998,14.394399999999999,14.4786,14.562799999999999,14.646999999999998,14.731199999999999,14.8154,14.8996,14.983799999999999,{"$f":"$CJ$1589-(($CJ$1589-$CJ$1594)/5*A5)","v":15.068},null,"Altherma 3 R ECH2O 300 16 kW","Altherma 3 R ECH2O 500 16 kW",9,4,null,10]
[null,"Altherma 3 R ECH2O",16,{"$f":"'Altherma 3 R 11-16 peak'!$M$27","v":2.87},{"$f":"'Altherma 3 R 11-16 peak'!$M$28","v":3.3},{"$f":"'Altherma 3 R 11-16 peak'!$M$29","v":4.53},53,null,null,null,null,null,null,null,null,null,null,null,null,null,null,null,null,null,null,null,null,null,null,null,null,null,null,{"$f":"$AH$1594-(($AH$1594-$AH$1599)/5*A6)","v":12.045999999999999},{"$f":"$AH1597-(($AH1597-$AR1597)/$AR$3*AI$3)","v":12.1852},12.324399999999999,12.4636,12.6028,12.742000000000001,12.8812,13.0204,13.159600000000001,13.2988,{"$f":"$AR$1594-(($AR$1594-$AR$1599)/5*A6)","v":13.438000000000001},{"$f":"$AR1597-(($AR1597-$AZ1597)/$AZ$3*AS$3)","v":13.5585},13.679,13.7995,13.92,14.0405,14.161,14.281499999999999,{"$f":"$AZ$1594-(($AZ$1594-$AZ$1599)/5*A6)","v":14.401999999999999},{"$f":"$AZ1597-(($AZ1597-$BJ1597)/$BJ$3*BA$3)","v":14.532599999999999},14.6632,14.793799999999999,14.9244,15.055,15.185599999999999,15.3162,15.4468,15.577400000000001,{"$f":"$BJ$1594-(($BJ$1594-$BJ$1599)/5*A6)","v":15.708},{"$f":"$BJ1597-(($BJ1597-$BT1597)/$BT$3*BK$3)","v":15.470600000000001},15.2332,14.995799999999999,14.7584,14.521000000000001,14.2836,14.046199999999999,13.8088,13.571400000000001,{"$f":"$BT$1594-(($BT$1594-$BT$1599)/5*A6)","v":13.334},{"$f":"$BT1597-(($BT1597-$BZ1597)/$BZ$3*BU$3)","v":13.470666666666666},13.607333333333333,13.744,13.880666666666666,14.017333333333333,{"$f":"$BZ$1594-(($BZ$1594-$BZ$1599)/5*A6)","v":14.154},{"$f":"$BZ1597-(($BZ1597-$CJ1597)/$CJ$3*CA$3)","v":14.2898},14.425599999999999,14.561400000000001,14.6972,14.833,14.9688,15.1046,15.240400000000001,15.376200000000001,{"$f":"$CJ$1594-(($CJ$1594-$CJ$1599)/5*A6)","v":15.512},null,"Altherma 3 R ECH2O 300 16 kW","Altherma 3 R ECH2O 500 16 kW",9,4,null,10]
[null,"Altherma 3 R F",11,{"$f":"'Altherma 3 R 11-16 peak'!$M$5","v":2.92},{"$f":"'Altherma 3 R 11-16 peak'!$M$6","v":3.65},{"$f":"'Altherma 3 R 11-16 peak'!$M$7","v":4.83},33,6.9,{"$f":"I1505","v":7.0442},7.1883999999999997,7.3326000000000002,7.4767999999999999,7.6209999999999996,7.7651999999999992,7.9093999999999989,8.0535999999999994,8.1977999999999991,8.3419999999999987,8.4864999999999995,8.6309999999999985,8.7754999999999992,8.9199999999999982,9.0644999999999989,9.2089999999999996,9.3534999999999986,9.4979999999999993,9.6425000000000001,9.786999999999999,9.9314999999999998,10.076000000000001,10.220499999999999,10.365,{"$f":"AG1505","v":10.509499999999999},{"$f":"AH1505","v":10.654},10.763199999999999,10.872400000000001,10.9816,11.0908,11.2,11.309200000000001,11.4184,11.5276,11.636800000000001,11.746,11.8355,11.925000000000001,12.0145,12.103999999999999,12.1935,12.282999999999999,12.3725,{"$f":"AZ1505","v":12.462},12.252617864530327,12.043235729060656,11.833853593590984,11.624471458121311,11.415089322651639,11.205707187181968,10.996325051712295,10.786942916242623,10.577560780772952,{"$f":"BJ1505","v":10.36817864530328},10.352160780772952,10.336142916242624,10.320125051712296,10.304107187181968,10.28808932265164,10.272071458121312,10.256053593590984,10.240035729060656,10.224017864530328,10.208,{"$f":"BU1505","v":10.230333333333334},10.252666666666666,10.274999999999999,10.297333333333333,10.319666666666667,10.341999999999999,10.364399999999998,10.386799999999999,10.409199999999998,10.4316,10.453999999999999,10.476399999999998,10.498799999999999,10.521199999999999,10.5436,{"$f":"CJ1505","v":10.565999999999999},null,"Altherma 3 R F 180 l 11 kW","Altherma 3 R F 230 l 11 kW",9,4.5,null,10]
[null,"Altherma 3 R F",11,{"$f":"'Altherma 3 R 11-16 peak'!$M$5","v":2.92},{"$f":"'Altherma 3 R 11-16 peak'!$M$6","v":3.65},{"$f":"'Altherma 3 R 11-16 peak'!$M$7","v":4.83},34,6.86,{"$f":"I1506","v":7.0056000000000003},7.1512000000000002,7.2968000000000002,7.4424000000000001,7.5879999999999992,7.7335999999999991,7.8791999999999991,8.024799999999999,8.170399999999999,8.3159999999999989,8.4619999999999997,8.6079999999999988,8.7539999999999996,8.8999999999999986,9.0459999999999994,9.1920000000000002,9.3379999999999992,9.484,9.6300000000000008,9.7759999999999998,9.9220000000000006,10.068000000000001,10.214,10.360000000000001,{"$f":"AG1506","v":10.506},{"$f":"AH1506","v":10.652000000000001},10.758600000000001,10.865200000000002,10.9718,11.0784,11.185,11.291600000000001,11.398200000000001,11.504799999999999,11.6114,11.718,11.815249999999999,11.9125,12.00975,12.106999999999999,12.204249999999998,12.301499999999999,12.39875,{"$f":"AZ1506","v":12.495999999999999},12.283217864530327,12.070435729060655,11.857653593590983,11.644871458121312,11.432089322651638,11.219307187181968,11.006525051712295,10.793742916242623,10.580960780772951,{"$f":"BJ1506","v":10.36817864530328},10.349760780772952,10.331342916242624,10.312925051712295,10.294507187181967,10.276089322651639,10.257671458121312,10.239253593590984,10.220835729060655,10.202417864530327,10.183999999999999,{"$f":"BU1506","v":10.204333333333333},10.224666666666666,10.244999999999999,10.265333333333333,10.285666666666666,10.305999999999999,10.3262,10.346399999999999,10.366599999999998,10.386799999999999,10.407,10.427199999999999,10.447399999999998,10.467599999999999,10.4878,{"$f":"CJ1506","v":10.507999999999999},null,"Altherma 3 R F 180 l 11 kW","Altherma 3 R F 230 l 11 kW",9,4.5,null,10]
[null,"Altherma 3 R F",11,{"$f":"'Altherma 3 R 11-16 peak'!$M$5","v":2.92},{"$f":"'Altherma 3 R 11-16 peak'!$M$6","v":3.65},{"$f":"'Altherma 3 R 11-16 peak'!$M$7","v":4.83},48,null,null,null,null,null,null,null,null,null,null,null,null,null,null,null,null,null,null,null,null,null,null,null,null,null,null,{"$f":"AH1520","v":9.9980000000000011},10.139000000000001,10.280000000000001,10.421000000000001,10.562000000000001,10.702999999999999,10.843999999999999,10.984999999999999,11.125999999999999,11.266999999999999,11.407999999999999,11.372999999999999,11.337999999999999,11.302999999999999,11.268000000000001,11.233000000000001,11.198,11.163,{"$f":"AZ1520","v":11.128},10.995868477143521,10.863736954287043,10.731605431430566,10.599473908574087,10.467342385717608,10.33521086286113,10.203079340004653,10.070947817148173,9.9388162942916942,{"$f":"BJ1520","v":9.8066847714352168},9.7846162942916948,9.7625478171481728,9.7404793400046525,9.7184108628611305,9.6963423857176085,9.6742739085740865,9.6522054314305645,9.6301369542870443,9.6080684771435223,9.5860000000000003,{"$f":"BU1520","v":9.5869999999999997},9.588000000000001,9.5890000000000004,9.59,9.5910000000000011,9.5920000000000005,9.593,9.5940000000000012,9.5950000000000006,9.5960000000000001,9.5970000000000013,9.5980000000000008,9.5990000000000002,9.6,9.6010000000000009,{"$f":"CJ1520","v":9.6020000000000003},null,"Altherma 3 R F 180 l 11 kW","Altherma 3 R F 230 l 11 kW",9,4.5,null,10]
[null,"Altherma 3 R F",14,{"$f":"'Altherma 3 R 11-16 peak'!$M$16","v":3},{"$f":"'Altherma 3 R 11-16 peak'!$M$17","v":3.5},{"$f":"'Altherma 3 R 11-16 peak'!$M$18","v":4.87},25,7.7,{"$f":"I1533","v":7.9089999999999998},8.1180000000000003,8.327,8.5359999999999996,8.7449999999999992,8.9540000000000006,9.1630000000000003,9.3719999999999999,9.5809999999999995,9.7899999999999991,9.9981249999999999,10.206249999999999,10.414375,10.622499999999999,10.830625,11.038749999999999,11.246874999999999,11.454999999999998,11.663124999999999,11.87125,12.079374999999999,12.2875,12.495624999999999,12.703749999999999,{"$f":"AG1533","v":12.911874999999998},{"$f":"AH1533","v":13.12},13.186,13.251999999999999,13.318,13.383999999999999,13.45,13.516,13.581999999999999,13.648,13.713999999999999,13.78,13.841249999999999,13.9025,13.963749999999999,14.024999999999999,14.08625,14.147499999999999,14.20875,{"$f":"AZ1533","v":14.27},14.243,14.215999999999999,14.189,14.161999999999999,14.135,14.108000000000001,14.081,14.054,14.026999999999999,{"$f":"BJ1533","v":14},13.856999999999999,13.714,13.571,13.428000000000001,13.285,13.141999999999999,12.999000000000001,12.856,12.713000000000001,12.57,{"$f":"BU1533","v":12.661666666666667},12.753333333333334,12.844999999999999,12.936666666666666,13.028333333333332,13.12,13.210999999999999,13.302,13.392999999999999,13.484,13.574999999999999,13.665999999999999,13.757,13.847999999999999,13.939,{"$f":"CJ1533","v":14.03},null,"Altherma 3 R F 180 l 14 kW","Altherma 3 R F 230 l 14 kW",9,4.4000000000000004,null,10]
[null,"Altherma 3 R F",14,{"$f":"'Altherma 3 R 11-16 peak'!$M$16","v":3},{"$f":"'Altherma 3 R 11-16 peak'!$M$17","v":3.5},{"$f":"'Altherma 3 R 11-16 peak'!$M$18","v":4.87},38,7.1120000000000001,{"$f":"I1546","v":7.2671999999999999},7.4223999999999997,7.5776000000000003,7.7328000000000001,7.8879999999999999,8.0432000000000006,8.1983999999999995,8.3536000000000001,8.508799999999999,8.6639999999999997,8.8219999999999992,8.98,9.1379999999999999,9.2959999999999994,9.4540000000000006,9.6120000000000001,9.77,9.9280000000000008,10.086,10.244,10.402000000000001,10.56,10.718,10.876000000000001,{"$f":"AG1546","v":11.034000000000001},{"$f":"AH1546","v":11.192},11.363799999999999,11.535600000000001,11.7074,11.879200000000001,12.051,12.222799999999999,12.394600000000001,12.5664,12.738200000000001,12.91,13.0535,13.196999999999999,13.3405,13.484,13.6275,13.771000000000001,13.9145,{"$f":"AZ1546","v":14.058},13.966200000000001,13.8744,13.7826,13.690799999999999,13.599,13.507200000000001,13.4154,13.323600000000001,13.2318,{"$f":"BJ1546","v":13.14},12.9626,12.7852,12.607800000000001,12.430400000000001,12.253,12.0756,11.898199999999999,11.720800000000001,11.5434,11.366,{"$f":"BU1546","v":11.488666666666667},11.611333333333333,11.734,11.856666666666667,11.979333333333333,12.102,12.224400000000001,12.3468,12.469200000000001,12.5916,12.714,12.836400000000001,12.9588,13.081200000000001,13.2036,{"$f":"CJ1546","v":13.326000000000001},null,"Altherma 3 R F 180 l 14 kW","Altherma 3 R F 230 l 14 kW",9,4.4000000000000004,null,10]
[null,"Altherma 3 R F",14,{"$f":"'Altherma 3 R 11-16 peak'!$M$16","v":3},{"$f":"'Altherma 3 R 11-16 peak'!$M$17","v":3.5},{"$f":"'Altherma 3 R 11-16 peak'!$M$18","v":4.87},44,null,null,null,null,null,null,null,null,null,null,{"$f":"R1552","v":8.3520000000000003},8.5127500000000005,8.6735000000000007,8.8342500000000008,8.995000000000001,9.1557500000000012,9.3165000000000013,9.4772500000000015,9.6380000000000017,9.7987500000000018,9.9595000000000002,10.12025,10.281000000000001,10.441750000000001,10.602500000000001,{"$f":"AG1552","v":10.763250000000001},{"$f":"AH1552","v":10.924000000000001},11.086600000000001,11.249200000000002,11.411800000000001,11.574400000000001,11.737000000000002,11.899600000000001,12.062200000000001,12.2248,12.387400000000001,12.55,12.630500000000001,12.711,12.791500000000001,12.872,12.952500000000001,13.033000000000001,13.1135,{"$f":"AZ1552","v":13.194000000000001},13.140600000000001,13.087200000000001,13.033800000000001,12.980400000000001,12.927,12.8736,12.8202,12.7668,12.7134,{"$f":"BJ1552","v":12.66},12.525,12.39,12.255000000000001,12.120000000000001,11.984999999999999,11.85,11.715,11.58,11.445,11.31,{"$f":"BU1552","v":11.414666666666667},11.519333333333334,11.624000000000001,11.728666666666667,11.833333333333334,11.938000000000001,12.042,12.146000000000001,12.25,12.354000000000001,12.458,12.561999999999999,12.666,12.77,12.874000000000001,{"$f":"CJ1552","v":12.978},null,"Altherma 3 R F 180 l 14 kW","Altherma 3 R F 230 l 14 kW",9,4.4000000000000004,null,10]
[null,"Altherma 3 R F",14,{"$f":"'Altherma 3 R 11-16 peak'!$M$16","v":3},{"$f":"'Altherma 3 R 11-16 peak'!$M$17","v":3.5},{"$f":"'Altherma 3 R 11-16 peak'!$M$18","v":4.87},58,null,null,null,null,null,null,null,null,null,null,null,null,null,null,null,null,null,null,null,null,null,null,null,null,null,null,{"$f":"AH1566","v":8.83},9.0093999999999994,9.1888000000000005,9.3681999999999999,9.5475999999999992,9.7270000000000003,9.9063999999999997,10.085799999999999,10.265199999999998,10.444599999999999,10.623999999999999,10.811249999999999,10.9985,11.185749999999999,11.372999999999999,11.56025,11.747499999999999,11.934749999999999,{"$f":"AZ1566","v":12.122},12.0716,12.0212,11.970800000000001,11.920400000000001,11.870000000000001,11.819599999999999,11.7692,11.7188,11.6684,{"$f":"BJ1566","v":11.618},11.4786,11.3392,11.1998,11.0604,10.920999999999999,10.781600000000001,10.642200000000001,10.502800000000001,10.3634,10.224,{"$f":"BU1566","v":10.346333333333334},10.468666666666667,10.591000000000001,10.713333333333333,10.835666666666667,10.958,11.0792,11.2004,11.3216,11.4428,11.564,11.6852,11.8064,11.9276,12.0488,{"$f":"CJ1566","v":12.17},null,"Altherma 3 R F 180 l 14 kW","Altherma 3 R F 230 l 14 kW",9,4.4000000000000004,null,10]
[null,"Altherma 3 R F",16,{"$f":"'Altherma 3 R 11-16 peak'!$M$27","v":2.87},{"$f":"'Altherma 3 R 11-16 peak'!$M$28","v":3.3},{"$f":"'Altherma 3 R 11-16 peak'!$M$29","v":4.53},34,9.0820000000000007,{"$f":"I1578","v":9.2678000000000011},9.4535999999999998,9.6394000000000002,9.8252000000000006,10.010999999999999,10.1968,10.3826,10.5684,10.754199999999999,10.94,11.125249999999999,11.310499999999999,11.495749999999999,11.680999999999999,11.866249999999999,12.051499999999999,12.236750000000001,12.422000000000001,12.607250000000001,12.7925,12.97775,13.163,13.34825,13.5335,{"$f":"AG1578","v":13.71875},{"$f":"AH1578","v":13.904},14.1092,14.314400000000001,14.519600000000001,14.7248,14.93,15.135200000000001,15.340400000000001,15.5456,15.750800000000002,15.956000000000001,16.16,16.364000000000001,16.568000000000001,16.772000000000002,16.976000000000003,17.18,17.384,{"$f":"AZ1578","v":17.588000000000001},17.4374,17.286799999999999,17.136200000000002,16.985600000000002,16.835000000000001,16.6844,16.533799999999999,16.383200000000002,16.232600000000001,{"$f":"BJ1578","v":16.082000000000001},15.926400000000001,15.770800000000001,15.6152,15.4596,15.304,15.148400000000001,14.992800000000001,14.837199999999999,14.6816,14.526,{"$f":"BU1578","v":14.527666666666667},14.529333333333334,14.530999999999999,14.532666666666666,14.534333333333333,14.536,14.536999999999999,14.538,14.539,14.54,14.541,14.542,14.542999999999999,14.543999999999999,14.545,{"$f":"CJ1578","v":14.545999999999999},null,"Altherma 3 R F 180 l 16 kW","Altherma 3 R F 230 l 16 kW",9,4.3,null,10]
[null,"Altherma 3 R F",16,{"$f":"'Altherma 3 R 11-16 peak'!$M$27","v":2.87},{"$f":"'Altherma 3 R 11-16 peak'!$M$28","v":3.3},{"$f":"'Altherma 3 R 11-16 peak'!$M$29","v":4.53},43,null,null,null,null,null,null,null,null,null,null,{"$f":"R1587","v":10.792},10.969625000000001,11.14725,11.324875,11.5025,11.680125,11.857749999999999,12.035375,12.213000000000001,12.390625,12.568250000000001,12.745875,12.923500000000001,13.101125,13.27875,{"$f":"AG1587","v":13.456375000000001},{"$f":"AH1587","v":13.634},13.814400000000001,13.9948,14.1752,14.355600000000001,14.536000000000001,14.7164,14.896800000000001,15.077200000000001,15.2576,15.438000000000001,15.544,15.65,15.756,15.862000000000002,15.968000000000002,16.074000000000002,16.18,{"$f":"AZ1587","v":16.286000000000001},16.2364,16.186800000000002,16.1372,16.087600000000002,16.038,15.9884,15.938800000000001,15.889199999999999,15.839599999999999,{"$f":"BJ1587","v":15.79},15.607399999999998,15.424799999999999,15.2422,15.0596,14.876999999999999,14.6944,14.511800000000001,14.3292,14.146599999999999,13.964,{"$f":"BU1587","v":14.015666666666668},14.067333333333334,14.119,14.170666666666667,14.222333333333335,14.274000000000001,14.324200000000001,14.374400000000001,14.4246,14.4748,14.525,14.575200000000001,14.625400000000001,14.675599999999999,14.7258,{"$f":"CJ1587","v":14.776},null,"Altherma 3 R F 180 l 16 kW","Altherma 3 R F 230 l 16 kW",9,4.3,null,10]
[null,"Altherma 3 R F",16,{"$f":"'Altherma 3 R 11-16 peak'!$M$27","v":2.87},{"$f":"'Altherma 3 R 11-16 peak'!$M$28","v":3.3},{"$f":"'Altherma 3 R 11-16 peak'!$M$29","v":4.53},49,null,null,null,null,null,null,null,null,null,null,null,null,null,null,null,null,null,null,null,null,null,null,null,null,null,null,{"$f":"AH1593","v":12.798},12.9556,13.113200000000001,13.270799999999999,13.4284,13.586,13.743600000000001,13.901200000000001,14.0588,14.2164,14.374000000000001,14.4755,14.577,14.6785,14.780000000000001,14.881500000000001,14.983000000000001,15.0845,{"$f":"AZ1593","v":15.186},15.24,15.294,15.348000000000001,15.402000000000001,15.456,15.51,15.564,15.618,15.672000000000001,{"$f":"BJ1593","v":15.726000000000001},15.511800000000001,15.297600000000001,15.083400000000001,14.869200000000001,14.655000000000001,14.440799999999999,14.226599999999999,14.0124,13.7982,13.584,{"$f":"BU1593","v":13.686999999999999},13.79,13.893000000000001,13.996,14.099,14.202,14.3034,14.4048,14.5062,14.6076,14.709,14.8104,14.911799999999999,15.013199999999999,15.114599999999999,{"$f":"CJ1593","v":15.215999999999999},null,"Altherma 3 R F 180 l 16 kW","Altherma 3 R F 230 l 16 kW",9,4.3,null,10]
[null,"Altherma 3 R F",16,{"$f":"'Altherma 3 R 11-16 peak'!$M$27","v":2.87},{"$f":"'Altherma 3 R 11-16 peak'!$M$28","v":3.3},{"$f":"'Altherma 3 R 11-16 peak'!$M$29","v":4.53},60,null,null,null,null,null,null,null,null,null,null,null,null,null,null,null,null,null,null,null,null,null,null,null,null,null,null,{"$f":"AH1604","v":7.77},7.851,7.9319999999999995,8.0129999999999999,8.0939999999999994,8.1750000000000007,8.2560000000000002,8.3369999999999997,8.4179999999999993,8.4990000000000006,8.58,8.66,8.74,8.82,8.9,8.98,9.06,9.14,{"$f":"AZ1604","v":9.2200000000000006},9.4350000000000005,9.65,9.8650000000000002,10.08,10.295,10.51,10.725,10.94,11.154999999999999,{"$f":"BJ1604","v":11.37},11.521999999999998,11.673999999999999,11.826000000000001,11.978,12.129999999999999,12.282,12.434000000000001,12.586,12.738,12.89,{"$f":"BU1604","v":13.02},13.15,13.280000000000001,13.41,13.54,13.67,13.801,13.932,14.063000000000001,14.194000000000001,14.324999999999999,14.456,14.587,14.718,14.849,{"$f":"CJ1604","v":14.98},null,"Altherma 3 R F 180 l 16 kW","Altherma 3 R F 230 l 16 kW",9,4.3,null,10]
[null,"Altherma 3 R W",11,{"$f":"'Altherma 3 R 11-16 peak'!$M$5","v":2.92},{"$f":"'Altherma 3 R 11-16 peak'!$M$6","v":3.65},{"$f":"'Altherma 3 R 11-16 peak'!$M$7","v":4.83},39,6.66,{"$f":"I1511","v":6.8150000000000004},6.97,7.125,7.2799999999999994,7.4349999999999996,7.59,7.7449999999999992,7.8999999999999995,8.0549999999999997,8.2099999999999991,8.35,8.4899999999999984,8.629999999999999,8.77,8.91,9.0500000000000007,9.19,9.33,9.4700000000000006,9.61,9.75,9.89,10.030000000000001,10.170000000000002,{"$f":"AG1511","v":10.31},{"$f":"AH1511","v":10.450000000000001},10.564400000000001,10.678800000000001,10.793200000000001,10.9076,11.022,11.1364,11.2508,11.3652,11.4796,11.593999999999999,11.634,11.673999999999999,11.713999999999999,11.754,11.794,11.834,11.873999999999999,{"$f":"AZ1511","v":11.914},11.7196,11.5252,11.3308,11.1364,10.942,10.7476,10.5532,10.3588,10.164400000000001,{"$f":"BJ1511","v":9.9700000000000006},9.9786000000000001,9.9871999999999996,9.9958000000000009,10.0044,10.013,10.021599999999999,10.030199999999999,10.0388,10.0474,10.055999999999999,{"$f":"BU1511","v":10.065},10.074,10.082999999999998,10.091999999999999,10.100999999999999,10.11,10.119199999999999,10.128399999999999,10.137599999999999,10.146799999999999,10.155999999999999,10.1652,10.1744,10.1836,10.1928,{"$f":"CJ1511","v":10.202},null,"Altherma 3 R W 11 kW","Altherma 3 R W 11 kW",9,4.8,null,10]
[null,"Altherma 3 R W",11,{"$f":"'Altherma 3 R 11-16 peak'!$M$5","v":2.92},{"$f":"'Altherma 3 R 11-16 peak'!$M$6","v":3.65},{"$f":"'Altherma 3 R 11-16 peak'!$M$7","v":4.83},45,null,null,null,null,null,null,null,null,null,null,{"$f":"R1517","v":8.09},8.2193749999999994,8.348749999999999,8.4781250000000004,8.6074999999999999,8.7368749999999995,8.8662500000000009,8.9956250000000004,9.125,9.2543749999999996,9.3837499999999991,9.5131250000000005,9.6425000000000001,9.7718749999999996,9.901250000000001,{"$f":"AG1517","v":10.030625000000001},{"$f":"AH1517","v":10.16},10.289,10.417999999999999,10.547000000000001,10.676,10.805,10.933999999999999,11.062999999999999,11.192,11.321,11.45,11.3925,11.334999999999999,11.2775,11.219999999999999,11.1625,11.105,11.047499999999999,{"$f":"AZ1517","v":10.99},10.989000000000001,10.988,10.987,10.986000000000001,10.984999999999999,10.984,10.983000000000001,10.982000000000001,10.981,{"$f":"BJ1517","v":10.98},10.873000000000001,10.766,10.659000000000001,10.552,10.445,10.338000000000001,10.231,10.124000000000001,10.016999999999999,9.91,{"$f":"BU1517","v":9.9050000000000011},9.9,9.8949999999999996,9.89,9.8850000000000016,9.8800000000000008,9.875,9.870000000000001,9.8650000000000002,9.8600000000000012,9.8550000000000004,9.85,9.8450000000000006,9.84,9.8350000000000009,{"$f":"CJ1517","v":9.83},null,"Altherma 3 R W 11 kW","Altherma 3 R W 11 kW",9,4.8,null,10]
[null,"Altherma 3 R W",11,{"$f":"'Altherma 3 R 11-16 peak'!$M$5","v":2.92},{"$f":"'Altherma 3 R 11-16 peak'!$M$6","v":3.65},{"$f":"'Altherma 3 R 11-16 peak'!$M$7","v":4.83},57,null,null,null,null,null,null,null,null,null,null,null,null,null,null,null,null,null,null,null,null,null,null,null,null,null,null,{"$f":"AH1529","v":8.8620000000000001},9.0413999999999994,9.2208000000000006,9.4001999999999999,9.579600000000001,9.7590000000000003,9.9384000000000015,10.117800000000001,10.2972,10.476600000000001,10.656000000000001,10.751250000000001,10.846500000000001,10.941750000000001,11.036999999999999,11.132249999999999,11.227499999999999,11.322749999999999,{"$f":"AZ1529","v":11.417999999999999},11.420066259828911,11.42213251965782,11.424198779486732,11.426265039315641,11.428331299144553,11.430397558973464,11.432463818802374,11.434530078631285,11.436596338460195,{"$f":"BJ1529","v":11.438662598289106},11.173596338460195,10.908530078631285,10.643463818802374,10.378397558973464,10.113331299144553,9.8482650393156419,9.5831987794867324,9.3181325196578211,9.0530662598289116,8.7880000000000003,{"$f":"BU1529","v":8.7959999999999994},8.8040000000000003,8.8120000000000012,8.82,8.8279999999999994,8.8360000000000003,8.8444000000000003,8.8528000000000002,8.8612000000000002,8.8696000000000002,8.8780000000000001,8.8864000000000001,8.8948,8.9032,8.9116,{"$f":"CJ1529","v":8.92},null,"Altherma 3 R W 11 kW","Altherma 3 R W 11 kW",9,4.8,null,10]
[null,"Altherma 3 R W",14,{"$f":"'Altherma 3 R 11-16 peak'!$M$16","v":3},{"$f":"'Altherma 3 R 11-16 peak'!$M$17","v":3.5},{"$f":"'Altherma 3 R 11-16 peak'!$M$18","v":4.87},35,7.25,{"$f":"I1543","v":7.407},7.5640000000000001,7.7210000000000001,7.8780000000000001,8.0350000000000001,8.1920000000000002,8.3490000000000002,8.5060000000000002,8.6630000000000003,8.82,8.9768749999999997,9.1337500000000009,9.2906250000000004,9.4474999999999998,9.604375000000001,9.7612500000000004,9.9181249999999999,10.074999999999999,10.231875,10.38875,10.545625000000001,10.702500000000001,10.859375,11.016249999999999,{"$f":"AG1543","v":11.173125000000001},{"$f":"AH1543","v":11.33},11.506,11.682,11.858000000000001,12.034000000000001,12.21,12.385999999999999,12.561999999999999,12.738,12.914,13.09,13.265000000000001,13.44,13.615,13.79,13.965,14.14,14.315,{"$f":"AZ1543","v":14.49},14.379,14.268000000000001,14.157,14.046000000000001,13.935,13.824,13.713000000000001,13.602,13.491000000000001,{"$f":"BJ1543","v":13.38},13.181000000000001,12.982000000000001,12.783000000000001,12.584000000000001,12.385000000000002,12.186,11.987,11.788,11.589,11.39,{"$f":"BU1543","v":11.521666666666667},11.653333333333334,11.785,11.916666666666666,12.048333333333334,12.18,12.311999999999999,12.443999999999999,12.576000000000001,12.708,12.84,12.972,13.103999999999999,13.236000000000001,13.368,{"$f":"CJ1543","v":13.5},null,"Altherma 3 R W 14 kW","Altherma 3 R W 14 kW",9,4.7,null,10]
[null,"Altherma 3 R W",14,{"$f":"'Altherma 3 R 11-16 peak'!$M$16","v":3},{"$f":"'Altherma 3 R 11-16 peak'!$M$17","v":3.5},{"$f":"'Altherma 3 R 11-16 peak'!$M$18","v":4.87},38,7.1120000000000001,{"$f":"I1546","v":7.2671999999999999},7.4223999999999997,7.5776000000000003,7.7328000000000001,7.8879999999999999,8.0432000000000006,8.1983999999999995,8.3536000000000001,8.508799999999999,8.6639999999999997,8.8219999999999992,8.98,9.1379999999999999,9.2959999999999994,9.4540000000000006,9.6120000000000001,9.77,9.9280000000000008,10.086,10.244,10.402000000000001,10.56,10.718,10.876000000000001,{"$f":"AG1546","v":11.034000000000001},{"$f":"AH1546","v":11.192},11.363799999999999,11.535600000000001,11.7074,11.879200000000001,12.051,12.222799999999999,12.394600000000001,12.5664,12.738200000000001,12.91,13.0535,13.196999999999999,13.3405,13.484,13.6275,13.771000000000001,13.9145,{"$f":"AZ1546","v":14.058},13.966200000000001,13.8744,13.7826,13.690799999999999,13.599,13.507200000000001,13.4154,13.323600000000001,13.2318,{"$f":"BJ1546","v":13.14},12.9626,12.7852,12.607800000000001,12.430400000000001,12.253,12.0756,11.898199999999999,11.720800000000001,11.5434,11.366,{"$f":"BU1546","v":11.488666666666667},11.611333333333333,11.734,11.856666666666667,11.979333333333333,12.102,12.224400000000001,12.3468,12.469200000000001,12.5916,12.714,12.836400000000001,12.9588,13.081200000000001,13.2036,{"$f":"CJ1546","v":13.326000000000001},null,"Altherma 3 R W 14 kW","Altherma 3 R W 14 kW",9,4.7,null,10]
[null,"Altherma 3 R W",14,{"$f":"'Altherma 3 R 11-16 peak'!$M$16","v":3},{"$f":"'Altherma 3 R 11-16 peak'!$M$17","v":3.5},{"$f":"'Altherma 3 R 11-16 peak'!$M$18","v":4.87},50,null,null,null,null,null,null,null,null,null,null,null,null,null,null,null,null,null,null,null,null,null,null,null,null,null,null,{"$f":"AH1558","v":10.66},10.819000000000001,10.978,11.137,11.295999999999999,11.455,11.614000000000001,11.773,11.932,12.090999999999999,12.25,12.362500000000001,12.475,12.5875,12.7,12.8125,12.925000000000001,13.0375,{"$f":"AZ1558","v":13.15},13.063000000000001,12.976000000000001,12.888999999999999,12.802,12.715,12.628,12.541,12.453999999999999,12.366999999999999,{"$f":"BJ1558","v":12.28},12.141,12.001999999999999,11.863,11.724,11.585000000000001,11.446,11.307,11.168000000000001,11.029,10.89,{"$f":"BU1558","v":10.998333333333333},11.106666666666667,11.215,11.323333333333332,11.431666666666667,11.54,11.648999999999999,11.757999999999999,11.866999999999999,11.975999999999999,12.085000000000001,12.194000000000001,12.303000000000001,12.412000000000001,12.521000000000001,{"$f":"CJ1558","v":12.63},null,"Altherma 3 R W 14 kW","Altherma 3 R W 14 kW",9,4.7,null,10]
[null,"Altherma 3 R W",16,{"$f":"'Altherma 3 R 11-16 peak'!$M$27","v":2.87},{"$f":"'Altherma 3 R 11-16 peak'!$M$28","v":3.3},{"$f":"'Altherma 3 R 11-16 peak'!$M$29","v":4.53},29,8.6920000000000002,{"$f":"I1573","v":8.8818000000000001},9.0716000000000001,9.2614000000000001,9.4512,9.641,9.8308,10.0206,10.2104,10.4002,10.59,10.779624999999999,10.969250000000001,11.158875,11.3485,11.538125000000001,11.72775,11.917375,12.106999999999999,12.296625000000001,12.48625,12.675875000000001,12.865500000000001,13.055125,13.24475,{"$f":"AG1573","v":13.434375000000001},{"$f":"AH1573","v":13.624000000000001},13.855,14.086,14.317,14.548,14.779,15.01,15.241,15.472,15.702999999999999,15.933999999999999,16.1645,16.395,16.625499999999999,16.855999999999998,17.086499999999997,17.317,17.547499999999999,{"$f":"AZ1573","v":17.777999999999999},17.6694,17.5608,17.452199999999998,17.343599999999999,17.234999999999999,17.1264,17.017800000000001,16.909199999999998,16.800599999999999,{"$f":"BJ1573","v":16.692},16.5032,16.314399999999999,16.125599999999999,15.9368,15.748000000000001,15.559200000000001,15.3704,15.1816,14.992800000000001,14.804,{"$f":"BU1573","v":14.898},14.991999999999999,15.085999999999999,15.18,15.273999999999999,15.367999999999999,15.4636,15.559199999999999,15.6548,15.750399999999999,15.846,15.941600000000001,16.037200000000002,16.1328,16.228400000000001,{"$f":"CJ1573","v":16.324000000000002},null,"Altherma 3 R W 16 kW","Altherma 3 R W 16 kW",9,4.5999999999999996,null,10]
[null,"Altherma 3 R W",16,{"$f":"'Altherma 3 R 11-16 peak'!$M$27","v":2.87},{"$f":"'Altherma 3 R 11-16 peak'!$M$28","v":3.3},{"$f":"'Altherma 3 R 11-16 peak'!$M$29","v":4.53},36,9.2379999999999995,{"$f":"I1580","v":9.4123999999999999},9.5868000000000002,9.7611999999999988,9.9355999999999991,10.11,10.2844,10.4588,10.633199999999999,10.807599999999999,10.981999999999999,11.165624999999999,11.34925,11.532874999999999,11.7165,11.900124999999999,12.08375,12.267374999999999,12.451000000000001,12.634625,12.818249999999999,13.001875,13.185499999999999,13.369125,13.55275,{"$f":"AG1580","v":13.736374999999999},{"$f":"AH1580","v":13.92},14.1174,14.3148,14.5122,14.7096,14.907,15.1044,15.3018,15.4992,15.6966,15.894,16.081250000000001,16.2685,16.455749999999998,16.643000000000001,16.830249999999999,17.017499999999998,17.204750000000001,{"$f":"AZ1580","v":17.391999999999999},17.246600000000001,17.101199999999999,16.9558,16.810400000000001,16.664999999999999,16.519600000000001,16.374200000000002,16.2288,16.083400000000001,{"$f":"BJ1580","v":15.938000000000001},15.784800000000001,15.631600000000001,15.478400000000001,15.325200000000001,15.172000000000001,15.018800000000001,14.865600000000001,14.712400000000001,14.559200000000001,14.406000000000001,{"$f":"BU1580","v":14.398},14.39,14.382,14.373999999999999,14.366,14.357999999999999,14.348599999999999,14.339199999999998,14.329799999999999,14.320399999999999,14.311,14.301599999999999,14.292199999999999,14.2828,14.273399999999999,{"$f":"CJ1580","v":14.263999999999999},null,"Altherma 3 R W 16 kW","Altherma 3 R W 16 kW",9,4.5999999999999996,null,10]
[null,"Altherma 3 R W",16,{"$f":"'Altherma 3 R 11-16 peak'!$M$27","v":2.87},{"$f":"'Altherma 3 R 11-16 peak'!$M$28","v":3.3},{"$f":"'Altherma 3 R 11-16 peak'!$M$29","v":4.53},46,null,null,null,null,null,null,null,null,null,null,null,null,null,null,null,null,null,null,null,null,null,null,null,null,null,null,{"$f":"AH1590","v":13.362},13.5334,13.704800000000001,13.876200000000001,14.047600000000001,14.219000000000001,14.3904,14.5618,14.7332,14.9046,15.076000000000001,15.163250000000001,15.250500000000001,15.33775,15.425000000000001,15.512250000000002,15.599500000000001,15.68675,{"$f":"AZ1590","v":15.774000000000001},15.771000000000001,15.768000000000001,15.765000000000001,15.762,15.759,15.756,15.753,15.75,15.747,{"$f":"BJ1590","v":15.744},15.5472,15.3504,15.153599999999999,14.956799999999999,14.76,14.5632,14.366400000000001,14.169599999999999,13.972799999999999,13.776,{"$f":"BU1590","v":13.853},13.93,14.007,14.084,14.161,14.238,14.313599999999999,14.389199999999999,14.4648,14.5404,14.616,14.691599999999999,14.767199999999999,14.8428,14.9184,{"$f":"CJ1590","v":14.994},null,"Altherma 3 R W 16 kW","Altherma 3 R W 16 kW",9,4.5999999999999996,null,10]
[null,"Altherma 3 R MT ECH2O",8,{"$f":"'Altherma 3 R MT'!$N$8","v":3.14},{"$f":"'Altherma 3 R MT'!$N$9","v":4.2300000000000004},{"$f":"'Altherma 3 R MT'!$N$10","v":5.0999999999999996},26,{"$f":"$H$1821-(($H$1821-$H$1826)/5*A4)","v":5.3639999999999999},5.4943999999999997,5.6247999999999996,5.7552000000000003,5.8856000000000002,6.016,6.1463999999999999,6.2767999999999997,6.4071999999999996,6.5376000000000003,{"$f":"$R$1821-(($R$1821-$R$1826)/5*A4)","v":6.6680000000000001},6.7575000000000003,6.8470000000000004,6.9364999999999997,7.0259999999999998,7.1154999999999999,7.2050000000000001,7.2945000000000002,7.3840000000000003,7.4734999999999996,7.5629999999999997,7.6524999999999999,7.742,7.8315000000000001,7.9209999999999994,8.0105000000000004,{"$f":"$AH$1821-(($AH$1821-$AH$1826)/5*A4)","v":8.1},8.0838000000000001,8.0675999999999988,8.0513999999999992,8.0351999999999997,8.0190000000000001,8.0028000000000006,7.9865999999999993,7.9703999999999997,7.9542000000000002,{"$f":"AR1821-((AR1821-AR1826)/5*$A$4)","v":7.9379999999999997},7.7937499999999993,7.6494999999999997,7.5052500000000002,7.3609999999999998,7.2167499999999993,7.0724999999999998,6.9282500000000002,{"$f":"AZ1821-((AZ1821-AZ1826)/5*$A$4)","v":6.7839999999999998},6.9572000000000003,7.1303999999999998,7.3035999999999994,7.4767999999999999,7.65,7.8231999999999999,7.9963999999999995,8.1695999999999991,8.3428000000000004,{"$f":"BJ1821-((BJ1821-BJ1826)/5*$A$4)","v":8.516},8.5820000000000007,8.6479999999999997,8.7140000000000004,8.7799999999999994,8.8460000000000001,8.9120000000000008,8.9779999999999998,9.0440000000000005,9.11,{"$f":"BT1821-((BT1821-BT1826)/5*$A$4)","v":9.1760000000000002},9.2406666666666659,9.3053333333333335,9.370000000000001,9.4346666666666668,9.4993333333333325,{"$f":"BZ1821-((BZ1821-BZ1826)/5*$A$4)","v":9.5640000000000001},9.6257999999999999,9.6875999999999998,9.7493999999999996,9.8111999999999995,9.8730000000000011,9.934800000000001,9.9966000000000008,10.058400000000001,10.120200000000001,{"$f":"CJ1821-((CJ1821-CJ1826)/5*$A$4)","v":10.182},null,"Altherma 3 R MT ECH2O 300 8 kW","Altherma 3 R MT ECH2O 500 8 kW",9,2.25,null,6.17]
[null,"Altherma 3 R MT ECH2O",8,{"$f":"'Altherma 3 R MT'!$N$8","v":3.14},{"$f":"'Altherma 3 R MT'!$N$9","v":4.2300000000000004},{"$f":"'Altherma 3 R MT'!$N$10","v":5.0999999999999996},32,{"$f":"$H$1826-(($H$1826-$H$1831)/5*A5)","v":5.3039999999999994},5.4231999999999996,5.5423999999999998,5.6615999999999991,5.7807999999999993,5.8999999999999995,6.0191999999999997,6.1383999999999999,6.2575999999999992,6.3767999999999994,{"$f":"$R$1826-(($R$1826-$R$1831)/5*A5)","v":6.4959999999999996},6.5734999999999992,6.6509999999999998,6.7284999999999995,6.806,6.8834999999999997,6.9610000000000003,7.0385,7.1159999999999997,7.1935000000000002,7.2709999999999999,7.3485000000000005,7.4260000000000002,7.5035000000000007,7.5810000000000004,7.6585000000000001,{"$f":"$AH$1826-(($AH$1826-$AH$1831)/5*A5)","v":7.7360000000000007},7.7586000000000004,7.7812000000000001,7.8038000000000007,7.8264000000000005,7.8490000000000002,7.8715999999999999,7.8941999999999997,7.9168000000000003,7.9394,{"$f":"AR1826-((AR1826-AR1831)/5*$A$5)","v":7.9619999999999997},7.7937499999999993,7.6254999999999997,7.4572500000000002,7.2889999999999997,7.1207499999999992,6.9524999999999997,6.7842500000000001,{"$f":"AZ1826-((AZ1826-AZ1831)/5*$A$5)","v":6.6159999999999997},6.7679999999999998,6.92,7.0719999999999992,7.2239999999999993,7.3759999999999994,7.5279999999999996,7.68,7.831999999999999,7.9839999999999991,{"$f":"BJ1826-((BJ1826-BJ1831)/5*$A$5)","v":8.1359999999999992},8.2256,8.315199999999999,8.4047999999999998,8.4943999999999988,8.5839999999999996,8.6736000000000004,8.7631999999999994,8.8528000000000002,8.9423999999999992,{"$f":"BT1826-((BT1826-BT1831)/5*$A$5)","v":9.032},9.088000000000001,9.1440000000000001,9.1999999999999993,9.2560000000000002,9.3120000000000012,{"$f":"BZ1826-((BZ1826-BZ1831)/5*$A$5)","v":9.3680000000000003},9.4206000000000003,9.4732000000000003,9.5258000000000003,9.5784000000000002,9.6310000000000002,9.6836000000000002,9.7362000000000002,9.7888000000000002,9.8414000000000001,{"$f":"CJ1826-((CJ1826-CJ1831)/5*$A$5)","v":9.8940000000000001},null,"Altherma 3 R MT ECH2O 300 8 kW","Altherma 3 R MT ECH2O 500 8 kW",9,2.25,null,6.17]
[null,"Altherma 3 R MT ECH2O",8,{"$f":"'Altherma 3 R MT'!$N$8","v":3.14},{"$f":"'Altherma 3 R MT'!$N$9","v":4.2300000000000004},{"$f":"'Altherma 3 R MT'!$N$10","v":5.0999999999999996},43,{"$f":"$H$1836-(($H$1836-$H$1841)/5*A6)","v":5.4059999999999997},5.5131999999999994,5.6204000000000001,5.7275999999999998,5.8347999999999995,5.9420000000000002,6.0491999999999999,6.1563999999999997,6.2635999999999994,6.3708,{"$f":"$R$1836-(($R$1836-$R$1841)/5*A6)","v":6.4779999999999998},6.5428749999999996,6.6077499999999993,6.672625,6.7374999999999998,6.8023749999999996,6.8672500000000003,6.9321250000000001,6.9969999999999999,7.0618749999999997,7.1267499999999995,7.1916250000000002,7.2565,7.3213749999999997,7.3862500000000004,7.4511250000000002,{"$f":"$AH$1836-(($AH$1836-$AH$1841)/5*A6)","v":7.516},7.6382000000000003,7.7603999999999997,7.8826000000000001,8.0047999999999995,8.1269999999999989,8.2492000000000001,8.3713999999999995,8.4935999999999989,8.6158000000000001,{"$f":"AR1836-((AR1836-AR1841)/5*$A$6)","v":8.7379999999999995},8.5857499999999991,8.4335000000000004,8.28125,8.1289999999999996,7.97675,7.8245000000000005,7.67225,{"$f":"AZ1836-((AZ1836-AZ1841)/5*$A$6)","v":7.5200000000000005},7.5524000000000004,7.5848000000000004,7.6172000000000004,7.6496000000000004,7.6820000000000004,7.7144000000000004,7.7468000000000004,7.7792000000000003,7.8116000000000003,{"$f":"BJ1836-((BJ1836-BJ1841)/5*$A$6)","v":7.8440000000000003},7.9510000000000005,8.0579999999999998,8.1650000000000009,8.2720000000000002,8.3789999999999996,8.4860000000000007,8.593,8.6999999999999993,8.8070000000000004,{"$f":"BT1836-((BT1836-BT1841)/5*$A$6)","v":8.9139999999999997},8.9983333333333331,9.0826666666666664,9.1669999999999998,9.2513333333333332,9.3356666666666666,{"$f":"BZ1836-((BZ1836-BZ1841)/5*$A$6)","v":9.42},9.4320000000000004,9.4440000000000008,9.4559999999999995,9.468,9.48,9.4920000000000009,9.5040000000000013,9.516,9.5280000000000005,{"$f":"CJ1836-((CJ1836-CJ1841)/5*$A$6)","v":9.5400000000000009},null,"Altherma 3 R MT ECH2O 300 8 kW","Altherma 3 R MT ECH2O 500 8 kW",9,2.25,null,6.17]
[null,"Altherma 3 R MT ECH2O",8,{"$f":"'Altherma 3 R MT'!$N$8","v":3.14},{"$f":"'Altherma 3 R MT'!$N$9","v":4.2300000000000004},{"$f":"'Altherma 3 R MT'!$N$10","v":5.0999999999999996},58,{"$f":"$H$1851-(($H$1851-$H$1856)/5*A6)","v":5.1779999999999999},5.3052000000000001,5.4324000000000003,5.5595999999999997,5.6867999999999999,5.8140000000000001,5.9412000000000003,6.0684000000000005,6.1956000000000007,6.3228,{"$f":"$R$1851-(($R$1851-$R$1856)/5*A6)","v":6.45},6.5262500000000001,6.6025,6.67875,6.7549999999999999,6.8312499999999998,6.9074999999999998,6.9837500000000006,7.0600000000000005,7.1362500000000004,7.2125000000000004,7.2887500000000003,7.3650000000000002,7.4412500000000001,7.5175000000000001,7.59375,{"$f":"$AH$1851-(($AH$1851-$AH$1856)/5*A6)","v":7.67},7.7872000000000003,7.9043999999999999,8.0215999999999994,8.1387999999999998,8.2560000000000002,8.3732000000000006,8.4904000000000011,8.6075999999999997,8.7248000000000001,{"$f":"AR1851-((AR1851-AR1856)/5*$A$6)","v":8.8420000000000005},8.839500000000001,8.8369999999999997,8.8345000000000002,8.8320000000000007,8.8294999999999995,8.827,8.8244999999999987,{"$f":"AZ1851-((AZ1851-AZ1856)/5*$A$6)","v":8.8219999999999992},8.8277999999999999,8.8335999999999988,8.8393999999999995,8.8452000000000002,8.8509999999999991,8.8567999999999998,8.8626000000000005,8.8684000000000012,8.8742000000000001,{"$f":"BJ1851-((BJ1851-BJ1856)/5*$A$6)","v":8.8800000000000008},8.9294000000000011,8.9788000000000014,9.0282,9.0776000000000003,9.1270000000000007,9.176400000000001,9.2258000000000013,9.2751999999999999,9.3246000000000002,{"$f":"BT1851-((BT1851-BT1856)/5*$A$6)","v":9.3740000000000006},9.4333333333333336,9.4926666666666666,9.5519999999999996,9.6113333333333344,9.6706666666666674,{"$f":"BZ1851-((BZ1851-BZ1856)/5*$A$6)","v":9.73},9.7018000000000004,9.6736000000000004,9.6454000000000004,9.6172000000000004,9.5890000000000004,9.5608000000000004,9.5326000000000004,9.5044000000000004,9.4762000000000004,{"$f":"CJ1851-((CJ1851-CJ1856)/5*$A$6)","v":9.4480000000000004},null,"Altherma 3 R MT ECH2O 300 8 kW","Altherma 3 R MT ECH2O 500 8 kW",9,2.25,null,6.17]
[null,"Altherma 3 R MT ECH2O",10,{"$f":"'Altherma 3 R MT'!$N$19","v":3.14},{"$f":"'Altherma 3 R MT'!$N$20","v":4.2300000000000004},{"$f":"'Altherma 3 R MT'!$N$21","v":5.0999999999999996},29,{"$f":"H1862-((H1862-H1867)/5*$A$7)","v":5.7359999999999998},5.9112,6.0863999999999994,6.2615999999999996,6.4367999999999999,6.6120000000000001,6.7871999999999995,6.9623999999999997,7.1375999999999991,7.3127999999999993,{"$f":"R1862-((R1862-R1867)/5*$A$7)","v":7.4879999999999995},7.5379999999999994,7.5879999999999992,7.6379999999999999,7.6879999999999997,7.7379999999999995,7.7880000000000003,7.8380000000000001,7.8879999999999999,7.9379999999999997,7.9879999999999995,8.0380000000000003,8.088000000000001,8.1379999999999999,8.1880000000000006,8.2379999999999995,{"$f":"AH1862-((AH1862-AH1867)/5*$A$7)","v":8.2880000000000003},8.3431999999999995,8.3984000000000005,8.4535999999999998,8.5088000000000008,8.5640000000000001,8.6191999999999993,8.6744000000000003,8.7295999999999996,8.7848000000000006,{"$f":"AR1862-((AR1862-AR1867)/5*$A$7)","v":8.84},8.7620000000000005,8.6840000000000011,8.6059999999999999,8.5280000000000005,8.4500000000000011,8.3719999999999999,8.2940000000000005,{"$f":"AZ1862-((AZ1862-AZ1867)/5*$A$7)","v":8.2160000000000011},8.3638000000000012,8.5116000000000014,8.6593999999999998,8.8071999999999999,8.9550000000000001,9.1028000000000002,9.2506000000000004,9.3983999999999988,9.5461999999999989,{"$f":"BJ1862-((BJ1862-BJ1867)/5*$A$7)","v":9.6939999999999991},9.7769999999999992,9.86,9.9429999999999996,10.026,10.109,10.192,10.275,10.358000000000001,10.441000000000001,{"$f":"BT1862-((BT1862-BT1867)/5*$A$7)","v":10.524000000000001},10.593333333333334,10.662666666666667,10.731999999999999,10.801333333333334,10.870666666666667,{"$f":"BZ1862-((BZ1862-BZ1867)/5*$A$7)","v":10.94},11.0076,11.075199999999999,11.142799999999999,11.2104,11.277999999999999,11.345599999999999,11.4132,11.4808,11.548399999999999,{"$f":"CJ1862-((CJ1862-CJ1867)/5*$A$7)","v":11.616},null,"Altherma 3 R MT ECH2O 300 10 kW","Altherma 3 R MT ECH2O 500 10 kW",9,2.15,null,6.17]
[null,"Altherma 3 R MT ECH2O",10,{"$f":"'Altherma 3 R MT'!$N$19","v":3.14},{"$f":"'Altherma 3 R MT'!$N$20","v":4.2300000000000004},{"$f":"'Altherma 3 R MT'!$N$21","v":5.0999999999999996},32,{"$f":"H1867-((H1867-H1872)/5*$A$5)","v":5.72},5.8991999999999996,6.0783999999999994,6.2576000000000001,6.4367999999999999,6.6159999999999997,6.7951999999999995,6.9743999999999993,7.1535999999999991,7.3327999999999998,{"$f":"R1867-((R1867-R1872)/5*$A$5)","v":7.5119999999999996},7.5724999999999998,7.633,7.6934999999999993,7.7539999999999996,7.8144999999999998,7.875,7.9355000000000002,7.9960000000000004,8.0564999999999998,8.1170000000000009,8.1775000000000002,8.2379999999999995,8.2985000000000007,8.359,8.4195000000000011,{"$f":"AH1867-((AH1867-AH1872)/5*$A$5)","v":8.48},8.5150000000000006,8.5500000000000007,8.5850000000000009,8.620000000000001,8.6550000000000011,8.69,8.7249999999999996,8.76,8.7949999999999999,{"$f":"AR1867-((AR1867-AR1872)/5*$A$5)","v":8.83},8.74,8.65,8.56,8.4700000000000006,8.3800000000000008,8.2900000000000009,8.2000000000000011,{"$f":"AZ1867-((AZ1867-AZ1872)/5*$A$5)","v":8.1100000000000012},8.2462000000000018,8.3824000000000005,8.5186000000000011,8.6547999999999998,8.7910000000000004,8.9272000000000009,9.0633999999999997,9.1996000000000002,9.335799999999999,{"$f":"BJ1867-((BJ1867-BJ1872)/5*$A$5)","v":9.4719999999999995},9.5713999999999988,9.6707999999999998,9.7701999999999991,9.8696000000000002,9.9689999999999994,10.068399999999999,10.1678,10.267199999999999,10.3666,{"$f":"BT1867-((BT1867-BT1872)/5*$A$5)","v":10.465999999999999},10.528333333333332,10.590666666666666,10.652999999999999,10.715333333333334,10.777666666666667,{"$f":"BZ1867-((BZ1867-BZ1872)/5*$A$5)","v":10.84},10.9008,10.961600000000001,11.022399999999999,11.0832,11.144,11.204800000000001,11.265600000000001,11.3264,11.3872,{"$f":"CJ1867-((CJ1867-CJ1872)/5*$A$5)","v":11.448},null,"Altherma 3 R MT ECH2O 300 10 kW","Altherma 3 R MT ECH2O 500 10 kW",9,2.15,null,6.17]
[null,"Altherma 3 R MT ECH2O",10,{"$f":"'Altherma 3 R MT'!$N$19","v":3.14},{"$f":"'Altherma 3 R MT'!$N$20","v":4.2300000000000004},{"$f":"'Altherma 3 R MT'!$N$21","v":5.0999999999999996},49,{"$f":"H1882-((H1882-H1887)/5*$A$7)","v":5.9080000000000004},6.0696000000000003,6.2312000000000003,6.3928000000000003,6.5544000000000002,6.7160000000000002,6.8776000000000002,7.0392000000000001,7.2008000000000001,7.3624000000000001,{"$f":"R1882-((R1882-R1887)/5*$A$7)","v":7.524},7.6193749999999998,7.7147500000000004,7.8101250000000002,7.9055,8.0008750000000006,8.0962499999999995,8.1916250000000002,8.2870000000000008,8.3823749999999997,8.4777500000000003,8.573125000000001,8.6684999999999999,8.7638750000000005,8.8592500000000012,8.9546250000000001,{"$f":"AH1882-((AH1882-AH1887)/5*$A$7)","v":9.0500000000000007},9.032,9.0140000000000011,8.9960000000000004,8.9780000000000015,8.9600000000000009,8.9420000000000002,8.9240000000000013,8.9060000000000006,8.8880000000000017,{"$f":"AR1882-((AR1882-AR1887)/5*$A$7)","v":8.870000000000001},8.8502500000000008,8.8305000000000007,8.8107500000000005,8.7910000000000004,8.7712500000000002,8.7515000000000001,8.7317499999999999,{"$f":"AZ1882-((AZ1882-AZ1887)/5*$A$7)","v":8.7119999999999997},8.85,8.9879999999999995,9.1259999999999994,9.2639999999999993,9.402000000000001,9.5400000000000009,9.6780000000000008,9.8160000000000007,9.9540000000000006,{"$f":"BJ1882-((BJ1882-BJ1887)/5*$A$7)","v":10.092000000000001},10.1052,10.118400000000001,10.131600000000001,10.1448,10.158000000000001,10.171200000000001,10.1844,10.1976,10.210800000000001,{"$f":"BT1882-((BT1882-BT1887)/5*$A$7)","v":10.224},10.253666666666668,10.283333333333333,10.313000000000001,10.342666666666668,10.372333333333334,{"$f":"BZ1882-((BZ1882-BZ1887)/5*$A$7)","v":10.402000000000001},10.473400000000002,10.5448,10.616200000000001,10.687600000000002,10.759,10.830400000000001,10.901800000000001,10.973200000000002,11.044600000000001,{"$f":"CJ1882-((CJ1882-CJ1887)/5*$A$7)","v":11.116000000000001},null,"Altherma 3 R MT ECH2O 300 10 kW","Altherma 3 R MT ECH2O 500 10 kW",9,2.15,null,6.17]
[null,"Altherma 3 R MT ECH2O",10,{"$f":"'Altherma 3 R MT'!$N$19","v":3.14},{"$f":"'Altherma 3 R MT'!$N$20","v":4.2300000000000004},{"$f":"'Altherma 3 R MT'!$N$21","v":5.0999999999999996},52,{"$f":"H1887-((H1887-H1892)/5*$A$5)","v":5.7},5.8845999999999998,6.0692000000000004,6.2538,6.4384000000000006,6.6230000000000002,6.8076000000000008,6.9922000000000004,7.1768000000000001,7.3614000000000006,{"$f":"R1887-((R1887-R1892)/5*$A$5)","v":7.5460000000000003},7.6416250000000003,7.7372500000000004,7.8328750000000005,7.9285000000000005,8.0241249999999997,8.1197499999999998,8.2153749999999999,8.3109999999999999,8.406625,8.5022500000000001,8.5978750000000002,8.6935000000000002,8.7891250000000003,8.8847500000000004,8.9803750000000004,{"$f":"AH1887-((AH1887-AH1892)/5*$A$5)","v":9.0760000000000005},9.0716000000000001,9.0671999999999997,9.0628000000000011,9.0584000000000007,9.0540000000000003,9.0495999999999999,9.0451999999999995,9.0408000000000008,9.0364000000000004,{"$f":"AR1887-((AR1887-AR1892)/5*$A$5)","v":9.032},9.0602499999999999,9.0884999999999998,9.1167499999999997,9.1449999999999996,9.1732500000000012,9.2015000000000011,9.229750000000001,{"$f":"AZ1887-((AZ1887-AZ1892)/5*$A$5)","v":9.2580000000000009},9.3770000000000007,9.4960000000000004,9.6150000000000002,9.734,9.8530000000000015,9.9720000000000013,10.091000000000001,10.210000000000001,10.329000000000001,{"$f":"BJ1887-((BJ1887-BJ1892)/5*$A$5)","v":10.448},10.4398,10.4316,10.423400000000001,10.4152,10.407,10.3988,10.390599999999999,10.382400000000001,10.3742,{"$f":"BT1887-((BT1887-BT1892)/5*$A$5)","v":10.366},10.397666666666666,10.429333333333334,10.461,10.492666666666667,10.524333333333335,{"$f":"BZ1887-((BZ1887-BZ1892)/5*$A$5)","v":10.556000000000001},10.6158,10.675600000000001,10.7354,10.795200000000001,10.855,10.9148,10.974600000000001,11.0344,11.094200000000001,{"$f":"CJ1887-((CJ1887-CJ1892)/5*$A$5)","v":11.154},null,"Altherma 3 R MT ECH2O 300 10 kW","Altherma 3 R MT ECH2O 500 10 kW",9,2.15,null,6.17]
[null,"Altherma 3 R MT ECH2O",10,{"$f":"'Altherma 3 R MT'!$N$19","v":3.14},{"$f":"'Altherma 3 R MT'!$N$20","v":4.2300000000000004},{"$f":"'Altherma 3 R MT'!$N$21","v":5.0999999999999996},64,null,null,null,null,null,null,null,null,null,null,{"$f":"R1897-((R1897-R1902)/5*$A$7)","v":6.8620000000000001},{"$f":"$R1901-(($R1901-$AH1901)/$AH$3*S$3)","v":7.0175000000000001},7.173,7.3285,7.484,7.6395,7.7949999999999999,7.9504999999999999,8.1059999999999999,8.2614999999999998,8.4169999999999998,8.5724999999999998,8.7279999999999998,8.8834999999999997,9.0389999999999997,9.1944999999999997,{"$f":"AH1897-((AH1897-AH1902)/5*$A$7)","v":9.35},{"$f":"$AH1901-(($AH1901-$AR1901)/$AR$3*AI$3)","v":9.4125999999999994},9.4751999999999992,9.5377999999999989,9.6003999999999987,9.6630000000000003,9.7256,9.7881999999999998,9.8507999999999996,9.9133999999999993,{"$f":"AR1897-((AR1897-AR1902)/5*$A$7)","v":9.9759999999999991},{"$f":"$AR1901-(($AR1901-$AZ1901)/$AZ$3*AS$3)","v":10.004999999999999},10.033999999999999,10.062999999999999,10.091999999999999,10.121,10.15,10.179,{"$f":"AZ1897-((AZ1897-AZ1902)/5*$A$7)","v":10.208},{"$f":"$AZ1901-(($AZ1901-$BJ1901)/$BJ$3*BA$3)","v":10.164400000000001},10.120800000000001,10.077199999999999,10.0336,9.99,9.9464000000000006,9.9028000000000009,9.8591999999999995,9.8155999999999999,{"$f":"BJ1897-((BJ1897-BJ1902)/5*$A$7)","v":9.7720000000000002},{"$f":"$BJ1901-(($BJ1901-$BT1901)/$BT$3*BK$3)","v":9.8092000000000006},9.8464000000000009,9.8835999999999995,9.9207999999999998,9.9580000000000002,9.9952000000000005,10.032400000000001,10.069599999999999,10.1068,{"$f":"BT1897-((BT1897-BT1902)/5*$A$7)","v":10.144},{"$f":"$BT1901-(($BT1901-$BZ1901)/$BZ$3*BU$3)","v":10.250999999999999},10.358000000000001,10.465,10.571999999999999,10.679,{"$f":"BZ1897-((BZ1897-BZ1902)/5*$A$7)","v":10.786},{"$f":"$BZ1901-(($BZ1901-$CJ1901)/$CJ$3*CA$3)","v":10.7498},10.7136,10.677399999999999,10.6412,10.605,10.5688,10.532599999999999,10.4964,10.4602,{"$f":"CJ1897-((CJ1897-CJ1902)/5*$A$7)","v":10.423999999999999},null,"Altherma 3 R MT ECH2O 300 10 kW","Altherma 3 R MT ECH2O 500 10 kW",9,2.15,null,6.17]
[null,"Altherma 3 R MT ECH2O",12,{"$f":"'Altherma 3 R MT'!$N$30","v":3.14},{"$f":"'Altherma 3 R MT'!$N$31","v":4.2300000000000004},{"$f":"'Altherma 3 R MT'!$N$32","v":5.0999999999999996},32,{"$f":"H1908-((H1908-H1913)/5*$A$5)","v":5.72},6.0203999999999995,6.3208000000000002,6.6212,6.9215999999999998,7.2219999999999995,7.5224000000000002,7.8228,8.1232000000000006,8.4236000000000004,{"$f":"R1908-((R1908-R1913)/5*$A$5)","v":8.7240000000000002},8.775500000000001,8.827,8.8785000000000007,8.93,8.9815000000000005,9.0329999999999995,9.0845000000000002,9.1359999999999992,9.1875,9.2390000000000008,9.2904999999999998,9.3420000000000005,9.3934999999999995,9.4450000000000003,9.4964999999999993,{"$f":"AH1908-((AH1908-AH1913)/5*$A$5)","v":9.548},9.4832000000000001,9.4184000000000001,9.3536000000000001,9.2888000000000002,9.2240000000000002,9.1592000000000002,9.0944000000000003,9.0296000000000003,8.9648000000000003,{"$f":"AR1908-((AR1908-AR1913)/5*$A$5)","v":8.9},8.822750000000001,8.7454999999999998,8.6682500000000005,8.5910000000000011,8.5137499999999999,8.4365000000000006,8.3592499999999994,{"$f":"AZ1908-((AZ1908-AZ1913)/5*$A$5)","v":8.282},8.4748000000000001,8.6676000000000002,8.8604000000000003,9.0532000000000004,9.2459999999999987,9.4388000000000005,9.6315999999999988,9.8243999999999989,10.017199999999999,{"$f":"BJ1908-((BJ1908-BJ1913)/5*$A$5)","v":10.209999999999999},10.3248,10.439599999999999,10.554399999999999,10.6692,10.783999999999999,10.8988,11.0136,11.128400000000001,11.2432,{"$f":"BT1908-((BT1908-BT1913)/5*$A$5)","v":11.358000000000001},11.424333333333333,11.490666666666668,11.557,11.623333333333333,11.689666666666668,{"$f":"BZ1908-((BZ1908-BZ1913)/5*$A$5)","v":11.756},11.822000000000001,11.888,11.954000000000001,12.02,12.086,12.152000000000001,12.218,12.284000000000001,12.35,{"$f":"CJ1908-((CJ1908-CJ1913)/5*$A$5)","v":12.416},null,"Altherma 3 R MT ECH2O 300 12 kW","Altherma 3 R MT ECH2O 500 12 kW",9,2.0499999999999998,null,6.17]
[null,"Altherma 3 R MT ECH2O",12,{"$f":"'Altherma 3 R MT'!$N$30","v":3.14},{"$f":"'Altherma 3 R MT'!$N$31","v":4.2300000000000004},{"$f":"'Altherma 3 R MT'!$N$32","v":5.0999999999999996},49,{"$f":"H1923-((H1923-H1928)/5*$A$7)","v":5.9080000000000004},6.1924000000000001,6.4768000000000008,6.7612000000000005,7.0456000000000003,7.33,7.6144000000000007,7.8988000000000005,8.1832000000000011,8.4676000000000009,{"$f":"R1923-((R1923-R1928)/5*$A$7)","v":8.7520000000000007},8.8618750000000013,8.9717500000000001,9.0816250000000007,9.1915000000000013,9.3013750000000002,9.4112500000000008,9.5211249999999996,9.6310000000000002,9.7408750000000008,9.8507499999999997,9.9606250000000003,10.070499999999999,10.180375,10.29025,10.400124999999999,{"$f":"AH1923-((AH1923-AH1928)/5*$A$7)","v":10.51},10.3734,10.236800000000001,10.100199999999999,9.9635999999999996,9.827,9.6904000000000003,9.5538000000000007,9.4171999999999993,9.2805999999999997,{"$f":"AR1923-((AR1923-AR1928)/5*$A$7)","v":9.1440000000000001},9.1247500000000006,9.1054999999999993,9.0862499999999997,9.0670000000000002,9.0477500000000006,9.0285000000000011,9.0092499999999998,{"$f":"AZ1923-((AZ1923-AZ1928)/5*$A$7)","v":8.99},9.1791999999999998,9.3683999999999994,9.5576000000000008,9.7468000000000004,9.9359999999999999,10.1252,10.314399999999999,10.5036,10.6928,{"$f":"BJ1923-((BJ1923-BJ1928)/5*$A$7)","v":10.882},10.9024,10.922800000000001,10.943199999999999,10.9636,10.984,11.0044,11.024800000000001,11.045199999999999,11.0656,{"$f":"BT1923-((BT1923-BT1928)/5*$A$7)","v":11.086},11.118333333333334,11.150666666666666,11.183,11.215333333333334,11.247666666666666,{"$f":"BZ1923-((BZ1923-BZ1928)/5*$A$7)","v":11.28},11.3576,11.4352,11.5128,11.590400000000001,11.667999999999999,11.7456,11.8232,11.9008,11.978400000000001,{"$f":"CJ1923-((CJ1923-CJ1928)/5*$A$7)","v":12.056000000000001},null,"Altherma 3 R MT ECH2O 300 12 kW","Altherma 3 R MT ECH2O 500 12 kW",9,2.0499999999999998,null,6.17]
[null,"Altherma 3 R MT ECH2O",12,{"$f":"'Altherma 3 R MT'!$N$30","v":3.14},{"$f":"'Altherma 3 R MT'!$N$31","v":4.2300000000000004},{"$f":"'Altherma 3 R MT'!$N$32","v":5.0999999999999996},59,{"$f":"H1933-((H1933-H1938)/5*$A$7)","v":5.6580000000000004},5.9552000000000005,6.2523999999999997,6.5495999999999999,6.8468,7.1440000000000001,7.4411999999999994,7.7383999999999995,8.0355999999999987,8.3327999999999989,{"$f":"R1933-((R1933-R1938)/5*$A$7)","v":8.629999999999999},8.7893749999999997,8.9487499999999986,9.1081249999999994,9.2674999999999983,9.426874999999999,9.5862499999999997,9.7456249999999986,9.9049999999999994,10.064375,10.223749999999999,10.383125,10.5425,10.701874999999999,10.86125,11.020624999999999,{"$f":"AH1933-((AH1933-AH1938)/5*$A$7)","v":11.18},11.077399999999999,10.9748,10.872199999999999,10.769600000000001,10.667,10.564399999999999,10.4618,10.3592,10.256600000000001,{"$f":"AR1933-((AR1933-AR1938)/5*$A$7)","v":10.154},10.177250000000001,10.2005,10.223749999999999,10.247,10.270250000000001,10.2935,10.316749999999999,{"$f":"AZ1933-((AZ1933-AZ1938)/5*$A$7)","v":10.34},10.4092,10.478400000000001,10.547599999999999,10.6168,10.686,10.7552,10.824400000000001,10.893599999999999,10.9628,{"$f":"BJ1933-((BJ1933-BJ1938)/5*$A$7)","v":11.032},11.113199999999999,11.1944,11.275600000000001,11.3568,11.437999999999999,11.5192,11.6004,11.6816,11.762799999999999,{"$f":"BT1933-((BT1933-BT1938)/5*$A$7)","v":11.843999999999999},11.927,12.01,12.093,12.176,12.259,{"$f":"BZ1933-((BZ1933-BZ1938)/5*$A$7)","v":12.342000000000001},12.285,12.228,12.171000000000001,12.114000000000001,12.057,12,11.943,11.886000000000001,11.829000000000001,{"$f":"CJ1933-((CJ1933-CJ1938)/5*$A$7)","v":11.772},null,"Altherma 3 R MT ECH2O 300 12 kW","Altherma 3 R MT ECH2O 500 12 kW",9,2.0499999999999998,null,6.17]
[null,"Altherma 3 R MT ECH2O",12,{"$f":"'Altherma 3 R MT'!$N$30","v":3.14},{"$f":"'Altherma 3 R MT'!$N$31","v":4.2300000000000004},{"$f":"'Altherma 3 R MT'!$N$32","v":5.0999999999999996},64,null,null,null,null,null,null,null,null,null,null,{"$f":"R1938-((R1938-R1943)/5*$A$7)","v":7.1020000000000003},7.33725,7.5724999999999998,7.8077500000000004,8.0429999999999993,8.2782499999999999,8.5135000000000005,8.7487499999999994,8.984,9.2192499999999988,9.4544999999999995,9.6897500000000001,9.9250000000000007,10.16025,10.3955,10.630749999999999,{"$f":"AH1938-((AH1938-AH1943)/5*$A$7)","v":10.866},10.917199999999999,10.968399999999999,11.019600000000001,11.0708,11.122,11.1732,11.224399999999999,11.275600000000001,11.3268,{"$f":"AR1938-((AR1938-AR1943)/5*$A$7)","v":11.378},11.396000000000001,11.414,11.432,11.45,11.468,11.486000000000001,11.504,{"$f":"AZ1938-((AZ1938-AZ1943)/5*$A$7)","v":11.522},11.422800000000001,11.323600000000001,11.224399999999999,11.1252,11.026,10.9268,10.8276,10.728399999999999,10.629199999999999,{"$f":"BJ1938-((BJ1938-BJ1943)/5*$A$7)","v":10.53},10.577199999999999,10.6244,10.6716,10.7188,10.765999999999998,10.813199999999998,10.860399999999998,10.907599999999999,10.954799999999999,{"$f":"BT1938-((BT1938-BT1943)/5*$A$7)","v":11.001999999999999},11.118666666666666,11.235333333333333,11.352,11.468666666666666,11.585333333333333,{"$f":"BZ1938-((BZ1938-BZ1943)/5*$A$7)","v":11.702},11.6622,11.622400000000001,11.582599999999999,11.5428,11.503,11.463200000000001,11.423400000000001,11.383599999999999,11.3438,{"$f":"CJ1938-((CJ1938-CJ1943)/5*$A$7)","v":11.304},null,"Altherma 3 R MT ECH2O 300 12 kW","Altherma 3 R MT ECH2O 500 12 kW",9,2.0499999999999998,null,6.17]
[null,"Altherma 3 R MT F",8,{"$f":"'Altherma 3 R MT'!$N$8","v":3.14},{"$f":"'Altherma 3 R MT'!$N$9","v":4.2300000000000004},{"$f":"'Altherma 3 R MT'!$N$10","v":5.0999999999999996},40,5.37,{"$f":"I1836","v":5.4790000000000001},5.5880000000000001,5.6970000000000001,5.806,5.915,6.024,6.133,6.242,6.351,6.46,6.5256249999999998,6.5912499999999996,6.6568750000000003,6.7225000000000001,6.788125,6.8537499999999998,6.9193749999999996,6.9849999999999994,7.0506250000000001,7.11625,7.1818749999999998,7.2474999999999996,7.3131249999999994,7.3787500000000001,{"$f":"AG1836","v":7.444375},{"$f":"AH1836","v":7.51},7.6310000000000002,7.7519999999999998,7.8730000000000002,7.9939999999999998,8.1150000000000002,8.2360000000000007,8.3570000000000011,8.4779999999999998,8.5990000000000002,8.7200000000000006,8.5812500000000007,8.4425000000000008,8.3037500000000009,8.1650000000000009,8.026250000000001,7.8875000000000002,7.7487500000000002,{"$f":"AZ1836","v":7.61},7.6370000000000005,7.6640000000000006,7.6909999999999998,7.718,7.7450000000000001,7.7720000000000002,7.7990000000000004,7.8259999999999996,7.8529999999999998,{"$f":"BJ1836","v":7.88},7.9870000000000001,8.0939999999999994,8.2010000000000005,8.3079999999999998,8.4149999999999991,8.5220000000000002,8.6289999999999996,8.7359999999999989,8.843,8.9499999999999993,{"$f":"BU1836","v":9.0633333333333326},9.1766666666666659,9.2899999999999991,9.4033333333333342,9.5166666666666675,9.6300000000000008,9.6180000000000003,9.6059999999999999,9.5940000000000012,9.5820000000000007,9.57,9.5579999999999998,9.5459999999999994,9.5340000000000007,9.5220000000000002,{"$f":"CJ1836","v":9.51},null,"Altherma 3 R MT F 180 l 8 kW","Altherma 3 R MT F 230 l 8 kW",9,2.5499999999999998,null,6.17]
[null,"Altherma 3 R MT F",8,{"$f":"'Altherma 3 R MT'!$N$8","v":3.14},{"$f":"'Altherma 3 R MT'!$N$9","v":4.2300000000000004},{"$f":"'Altherma 3 R MT'!$N$10","v":5.0999999999999996},51,5.3879999999999999,{"$f":"I1847","v":5.5015999999999998},5.6151999999999997,5.7287999999999997,5.8423999999999996,5.9559999999999995,6.0695999999999994,6.1832000000000003,6.2968000000000002,6.4104000000000001,6.524,6.5876250000000001,6.6512500000000001,6.7148750000000001,6.7785000000000002,6.8421250000000002,6.9057500000000003,6.9693750000000003,7.0329999999999995,7.0966249999999995,7.1602499999999996,7.2238749999999996,7.2874999999999996,7.3511249999999997,7.4147499999999997,{"$f":"AG1847","v":7.4783749999999998},{"$f":"AH1847","v":7.5419999999999998},7.6251999999999995,7.7083999999999993,7.7915999999999999,7.8747999999999996,7.9579999999999993,8.0411999999999999,8.1243999999999996,8.2075999999999993,8.2907999999999991,8.3739999999999988,8.3659999999999997,8.3579999999999988,8.35,8.3419999999999987,8.3339999999999996,8.3260000000000005,8.3179999999999996,{"$f":"AZ1847","v":8.31},8.3726000000000003,8.4352,8.4977999999999998,8.5603999999999996,8.6230000000000011,8.6856000000000009,8.7482000000000006,8.8108000000000004,8.8734000000000002,{"$f":"BJ1847","v":8.9359999999999999},8.9314,8.9268000000000001,8.9222000000000001,8.9176000000000002,8.9130000000000003,8.9084000000000003,8.9038000000000004,8.8992000000000004,8.8946000000000005,8.89,{"$f":"BU1847","v":8.9120000000000008},8.9340000000000011,8.9559999999999995,8.9779999999999998,9,9.0220000000000002,9.0828000000000007,9.1435999999999993,9.2043999999999997,9.2652000000000001,9.3260000000000005,9.3867999999999991,9.4475999999999996,9.5084,9.5691999999999986,{"$f":"CJ1847","v":9.629999999999999},null,"Altherma 3 R MT F 180 l 8 kW","Altherma 3 R MT F 230 l 8 kW",9,2.5499999999999998,null,6.17]
[null,"Altherma 3 R MT F",8,{"$f":"'Altherma 3 R MT'!$N$8","v":3.14},{"$f":"'Altherma 3 R MT'!$N$9","v":4.2300000000000004},{"$f":"'Altherma 3 R MT'!$N$10","v":5.0999999999999996},55,4.9800000000000004,{"$f":"I1851","v":5.1360000000000001},5.2920000000000007,5.4480000000000004,5.6040000000000001,5.76,5.9160000000000004,6.0720000000000001,6.2279999999999998,6.3840000000000003,6.54,6.6031250000000004,6.6662499999999998,6.7293750000000001,6.7925000000000004,6.8556249999999999,6.9187500000000002,6.9818749999999996,7.0449999999999999,7.1081250000000002,7.1712499999999997,7.234375,7.2974999999999994,7.3606249999999998,7.4237500000000001,{"$f":"AG1851","v":7.4868749999999995},{"$f":"AH1851","v":7.55},7.6660000000000004,7.782,7.8979999999999997,8.0139999999999993,8.1300000000000008,8.2460000000000004,8.3620000000000001,8.4780000000000015,8.5940000000000012,8.7100000000000009,8.73,8.75,8.77,8.7899999999999991,8.81,8.83,8.85,{"$f":"AZ1851","v":8.8699999999999992},8.8949999999999996,8.92,8.9449999999999985,8.9699999999999989,8.9949999999999992,9.02,9.0449999999999999,9.0699999999999985,9.0949999999999989,{"$f":"BJ1851","v":9.1199999999999992},9.125,9.129999999999999,9.1349999999999998,9.1399999999999988,9.1449999999999996,9.15,9.1549999999999994,9.16,9.1649999999999991,9.17,{"$f":"BU1851","v":9.2133333333333329},9.2566666666666659,9.3000000000000007,9.3433333333333337,9.3866666666666667,9.43,9.4540000000000006,9.4779999999999998,9.5019999999999989,9.5259999999999998,9.5500000000000007,9.5739999999999998,9.597999999999999,9.6219999999999999,9.6460000000000008,{"$f":"CJ1851","v":9.67},null,"Altherma 3 R MT F 180 l 8 kW","Altherma 3 R MT F 230 l 8 kW",9,2.5499999999999998,null,6.17]
[null,"Altherma 3 R MT F",10,{"$f":"'Altherma 3 R MT'!$N$19","v":3.14},{"$f":"'Altherma 3 R MT'!$N$20","v":4.2300000000000004},{"$f":"'Altherma 3 R MT'!$N$21","v":5.0999999999999996},27,5.7679999999999998,{"$f":"I1864","v":5.9256000000000002},6.0831999999999997,6.2408000000000001,6.3983999999999996,6.556,6.7135999999999996,6.8712,7.0288000000000004,7.1863999999999999,7.3440000000000003,7.4090000000000007,7.4740000000000002,7.5390000000000006,7.6040000000000001,7.6690000000000005,7.734,7.7990000000000004,7.8640000000000008,7.9290000000000003,7.9940000000000007,8.0590000000000011,8.1240000000000006,8.1890000000000001,8.2539999999999996,{"$f":"AG1864","v":8.3190000000000008},{"$f":"AH1864","v":8.3840000000000003},8.4276,8.4711999999999996,8.514800000000001,8.5584000000000007,8.6020000000000003,8.6456,8.6891999999999996,8.732800000000001,8.7764000000000006,8.82,8.761000000000001,8.702,8.6430000000000007,8.5839999999999996,8.5250000000000004,8.4660000000000011,8.407,{"$f":"AZ1864","v":8.3480000000000008},8.4974000000000007,8.6468000000000007,8.7962000000000007,8.9456000000000007,9.0950000000000006,9.2444000000000006,9.3938000000000006,9.5432000000000006,9.6926000000000005,{"$f":"BJ1864","v":9.8420000000000005},9.9169999999999998,9.9920000000000009,10.067,10.142000000000001,10.217000000000001,10.292,10.367000000000001,10.442,10.517000000000001,10.592000000000001,{"$f":"BU1864","v":10.663333333333334},10.734666666666667,10.806000000000001,10.877333333333333,10.948666666666666,11.02,11.0908,11.1616,11.2324,11.3032,11.373999999999999,11.444799999999999,11.515599999999999,11.586399999999999,11.6572,{"$f":"CJ1864","v":11.728},null,"Altherma 3 R MT F 180 l 10 kW","Altherma 3 R MT F 230 l 10 kW",9,2.4500000000000002,null,6.17]
[null,"Altherma 3 R MT F",10,{"$f":"'Altherma 3 R MT'!$N$19","v":3.14},{"$f":"'Altherma 3 R MT'!$N$20","v":4.2300000000000004},{"$f":"'Altherma 3 R MT'!$N$21","v":5.0999999999999996},40,5.79,{"$f":"I1877","v":5.9580000000000002},6.1260000000000003,6.2940000000000005,6.4619999999999997,6.63,6.798,6.9660000000000002,7.1340000000000003,7.3019999999999996,7.47,7.5612499999999994,7.6524999999999999,7.7437499999999995,7.835,7.9262499999999996,8.0175000000000001,8.1087500000000006,8.1999999999999993,8.2912499999999998,8.3825000000000003,8.473749999999999,8.5649999999999995,8.65625,8.7474999999999987,{"$f":"AG1877","v":8.8387499999999992},{"$f":"AH1877","v":8.93},8.9339999999999993,8.9380000000000006,8.9420000000000002,8.9459999999999997,8.9499999999999993,8.9540000000000006,8.9580000000000002,8.9619999999999997,8.9660000000000011,8.9700000000000006,8.8537499999999998,8.7375000000000007,8.6212499999999999,8.504999999999999,8.3887499999999999,8.2724999999999991,8.15625,{"$f":"AZ1877","v":8.0399999999999991},8.1529999999999987,8.266,8.3789999999999996,8.4919999999999991,8.6050000000000004,8.718,8.8309999999999995,8.9439999999999991,9.0570000000000004,{"$f":"BJ1877","v":9.17},9.2889999999999997,9.4079999999999995,9.5269999999999992,9.645999999999999,9.7650000000000006,9.8840000000000003,10.003,10.122,10.241,10.36,{"$f":"BU1877","v":10.49},10.62,10.75,10.88,11.01,11.14,11.126000000000001,11.112,11.098000000000001,11.084,11.07,11.056000000000001,11.042,11.028,11.013999999999999,{"$f":"CJ1877","v":11},null,"Altherma 3 R MT F 180 l 10 kW","Altherma 3 R MT F 230 l 10 kW",9,2.4500000000000002,null,6.17]
[null,"Altherma 3 R MT F",10,{"$f":"'Altherma 3 R MT'!$N$19","v":3.14},{"$f":"'Altherma 3 R MT'!$N$20","v":4.2300000000000004},{"$f":"'Altherma 3 R MT'!$N$21","v":5.0999999999999996},54,5.48,{"$f":"I1891","v":5.6882000000000001},5.8964000000000008,6.1046000000000005,6.3128000000000002,6.5210000000000008,6.7292000000000005,6.9374000000000002,7.1456,7.3538000000000006,7.5620000000000003,7.6576250000000003,7.7532500000000004,7.8488750000000005,7.9445000000000006,8.0401249999999997,8.1357499999999998,8.2313749999999999,8.327,8.422625,8.5182500000000001,8.6138750000000002,8.7095000000000002,8.8051250000000003,8.9007500000000004,{"$f":"AG1891","v":8.9963750000000005},{"$f":"AH1891","v":9.0920000000000005},9.1092000000000013,9.1264000000000003,9.1436000000000011,9.1608000000000001,9.1780000000000008,9.1952000000000016,9.2124000000000006,9.2296000000000014,9.2468000000000004,9.2640000000000011,9.3092500000000005,9.3545000000000016,9.3997500000000009,9.4450000000000003,9.4902500000000014,9.5355000000000008,9.5807500000000019,{"$f":"AZ1891","v":9.6260000000000012},9.7190000000000012,9.8120000000000012,9.9050000000000011,9.9980000000000011,10.091000000000001,10.183999999999999,10.276999999999999,10.37,10.462999999999999,{"$f":"BJ1891","v":10.555999999999999},10.5526,10.549199999999999,10.5458,10.542399999999999,10.539,10.535600000000001,10.5322,10.5288,10.525399999999999,10.522,{"$f":"BU1891","v":10.567},10.612,10.657,10.702,10.747,10.792,10.8306,10.869199999999999,10.9078,10.946399999999999,10.984999999999999,11.0236,11.062199999999999,11.1008,11.139399999999998,{"$f":"CJ1891","v":11.177999999999999},null,"Altherma 3 R MT F 180 l 10 kW","Altherma 3 R MT F 230 l 10 kW",9,2.4500000000000002,null,6.17]
[null,"Altherma 3 R MT F",10,{"$f":"'Altherma 3 R MT'!$N$19","v":3.14},{"$f":"'Altherma 3 R MT'!$N$20","v":4.2300000000000004},{"$f":"'Altherma 3 R MT'!$N$21","v":5.0999999999999996},62,0,{"$f":"I1899","v":0},0,0,0,0,0,0,0,0,7.1260000000000003,7.2775000000000007,7.4290000000000003,7.5805000000000007,7.7320000000000002,7.8835000000000006,8.0350000000000001,8.1865000000000006,8.338000000000001,8.4894999999999996,8.641,8.7925000000000004,8.9440000000000008,9.0955000000000013,9.2469999999999999,{"$f":"AG1899","v":9.3985000000000003},{"$f":"AH1899","v":9.5500000000000007},9.5818000000000012,9.6135999999999999,9.6454000000000004,9.6772000000000009,9.7089999999999996,9.7408000000000001,9.7726000000000006,9.8044000000000011,9.8361999999999998,9.8680000000000003,9.9150000000000009,9.9619999999999997,10.009,10.056000000000001,10.103,10.15,10.196999999999999,{"$f":"AZ1899","v":10.244},10.215199999999999,10.186399999999999,10.1576,10.1288,10.1,10.071199999999999,10.042399999999999,10.0136,9.9847999999999999,{"$f":"BJ1899","v":9.9559999999999995},10.0176,10.0792,10.140799999999999,10.202399999999999,10.263999999999999,10.3256,10.3872,10.448799999999999,10.510399999999999,10.571999999999999,{"$f":"BU1899","v":10.666333333333332},10.760666666666665,10.855,10.949333333333334,11.043666666666667,11.138,11.083399999999999,11.0288,10.9742,10.919600000000001,10.865,10.8104,10.755800000000001,10.7012,10.646600000000001,{"$f":"CJ1899","v":10.592000000000001},null,"Altherma 3 R MT F 180 l 10 kW","Altherma 3 R MT F 230 l 10 kW",9,2.4500000000000002,null,6.17]
[null,"Altherma 3 R MT F",12,{"$f":"'Altherma 3 R MT'!$N$30","v":3.14},{"$f":"'Altherma 3 R MT'!$N$31","v":4.2300000000000004},{"$f":"'Altherma 3 R MT'!$N$32","v":5.0999999999999996},30,5.72,{"$f":"I1908","v":6.0259999999999998},6.3319999999999999,6.6379999999999999,6.9439999999999991,7.25,7.5559999999999992,7.8619999999999992,8.1679999999999993,8.4740000000000002,8.7799999999999994,8.7974999999999994,8.8149999999999995,8.8324999999999996,8.85,8.8674999999999997,8.8849999999999998,8.9024999999999999,8.92,8.9375,8.9550000000000001,8.9725000000000001,8.99,9.0075000000000003,9.0250000000000004,{"$f":"AG1908","v":9.0425000000000004},{"$f":"AH1908","v":9.06},9.048,9.0359999999999996,9.0240000000000009,9.0120000000000005,9,8.9879999999999995,8.9759999999999991,8.9640000000000004,8.952,8.94,8.8737499999999994,8.8074999999999992,8.7412499999999991,8.6750000000000007,8.6087500000000006,8.5425000000000004,8.4762500000000003,{"$f":"AZ1908","v":8.41},8.6059999999999999,8.8019999999999996,8.9979999999999993,9.1939999999999991,9.39,9.5859999999999985,9.782,9.9779999999999998,10.173999999999999,{"$f":"BJ1908","v":10.37},10.472,10.574,10.676,10.778,10.879999999999999,10.981999999999999,11.084,11.186,11.288,11.39,{"$f":"BU1908","v":11.461666666666668},11.533333333333333,11.605,11.676666666666668,11.748333333333333,11.82,11.891999999999999,11.964,12.036,12.108000000000001,12.18,12.251999999999999,12.324,12.395999999999999,12.468,{"$f":"CJ1908","v":12.54},null,"Altherma 3 R MT F 180 l 12 kW","Altherma 3 R MT F 230 l 12 kW",9,2.35,null,6.17]
[null,"Altherma 3 R MT F",12,{"$f":"'Altherma 3 R MT'!$N$30","v":3.14},{"$f":"'Altherma 3 R MT'!$N$31","v":4.2300000000000004},{"$f":"'Altherma 3 R MT'!$N$32","v":5.0999999999999996},36,5.734,{"$f":"I1914","v":6.0254000000000003},6.3167999999999997,6.6082000000000001,6.8995999999999995,7.1909999999999998,7.4824000000000002,7.7737999999999996,8.0652000000000008,8.3566000000000003,8.6479999999999997,8.751125,8.8542500000000004,8.957374999999999,9.0604999999999993,9.1636249999999997,9.26675,9.3698750000000004,9.472999999999999,9.5761249999999993,9.6792499999999997,9.782375,9.8855000000000004,9.988624999999999,10.091749999999999,{"$f":"AG1914","v":10.194875},{"$f":"AH1914","v":10.298},10.157399999999999,10.0168,9.8762000000000008,9.7355999999999998,9.5949999999999989,9.4543999999999997,9.3138000000000005,9.1731999999999996,9.0325999999999986,8.8919999999999995,8.7932500000000005,8.6944999999999997,8.5957499999999989,8.4969999999999999,8.3982500000000009,8.2995000000000001,8.2007499999999993,{"$f":"AZ1914","v":8.1020000000000003},8.2872000000000003,8.4724000000000004,8.6576000000000004,8.8428000000000004,9.0280000000000005,9.2132000000000005,9.3984000000000005,9.5836000000000006,9.7688000000000006,{"$f":"BJ1914","v":9.9540000000000006},10.088000000000001,10.222000000000001,10.356,10.49,10.624000000000001,10.758000000000001,10.892000000000001,11.026,11.16,11.294,{"$f":"BU1914","v":11.369333333333334},11.444666666666667,11.52,11.595333333333334,11.670666666666667,11.746,11.788400000000001,11.8308,11.873200000000001,11.9156,11.958,12.000400000000001,12.0428,12.0852,12.127599999999999,{"$f":"CJ1914","v":12.17},null,"Altherma 3 R MT F 180 l 12 kW","Altherma 3 R MT F 230 l 12 kW",9,2.35,null,6.17]
[null,"Altherma 3 R MT F",12,{"$f":"'Altherma 3 R MT'!$N$30","v":3.14},{"$f":"'Altherma 3 R MT'!$N$31","v":4.2300000000000004},{"$f":"'Altherma 3 R MT'!$N$32","v":5.0999999999999996},53,5.59,{"$f":"I1931","v":5.9087999999999994},6.2275999999999998,6.5463999999999993,6.8651999999999997,7.1839999999999993,7.5027999999999988,7.8215999999999983,8.1403999999999996,8.4591999999999992,8.7779999999999987,8.8891249999999982,9.0002499999999994,9.1113749999999989,9.2224999999999984,9.3336249999999996,9.4447499999999991,9.5558749999999986,9.666999999999998,9.7781249999999993,9.8892499999999988,10.000374999999998,10.111499999999999,10.222624999999999,10.333749999999998,{"$f":"AG1931","v":10.444875},{"$f":"AH1931","v":10.555999999999999},10.450199999999999,10.344399999999998,10.2386,10.1328,10.026999999999999,9.9211999999999989,9.8153999999999986,9.7096,9.6037999999999997,9.4979999999999993,9.5367499999999996,9.5754999999999999,9.6142500000000002,9.6529999999999987,9.691749999999999,9.7304999999999993,9.7692499999999995,{"$f":"AZ1931","v":9.8079999999999998},9.9596,10.1112,10.2628,10.414400000000001,10.565999999999999,10.717599999999999,10.869199999999999,11.020799999999999,11.1724,{"$f":"BJ1931","v":11.324},11.324400000000001,11.3248,11.325199999999999,11.3256,11.326000000000001,11.3264,11.326799999999999,11.327199999999999,11.3276,11.327999999999999,{"$f":"BU1931","v":11.369},11.41,11.451000000000001,11.491999999999999,11.532999999999999,11.574,11.627800000000001,11.6816,11.7354,11.789199999999999,11.843,11.896800000000001,11.9506,12.0044,12.058199999999999,{"$f":"CJ1931","v":12.112},null,"Altherma 3 R MT F 180 l 12 kW","Altherma 3 R MT F 230 l 12 kW",9,2.35,null,6.17]
[null,"Altherma 3 R MT F",12,{"$f":"'Altherma 3 R MT'!$N$30","v":3.14},{"$f":"'Altherma 3 R MT'!$N$31","v":4.2300000000000004},{"$f":"'Altherma 3 R MT'!$N$32","v":5.0999999999999996},63,0,{"$f":"I1941","v":0},0,0,0,0,0,0,0,0,7.4740000000000002,7.6932499999999999,7.9124999999999996,8.1317500000000003,8.3509999999999991,8.5702499999999997,8.7895000000000003,9.0087499999999991,9.2279999999999998,9.4472500000000004,9.6664999999999992,9.8857499999999998,10.105,10.324249999999999,10.5435,{"$f":"AG1941","v":10.76275},{"$f":"AH1941","v":10.981999999999999},10.993399999999999,11.004799999999999,11.0162,11.0276,11.039,11.0504,11.0618,11.0732,11.0846,11.096,11.113250000000001,11.1305,11.14775,11.164999999999999,11.18225,11.1995,11.216749999999999,{"$f":"AZ1941","v":11.234},11.1736,11.113199999999999,11.0528,10.9924,10.931999999999999,10.871599999999999,10.811199999999999,10.7508,10.690399999999999,{"$f":"BJ1941","v":10.629999999999999},10.690399999999999,10.7508,10.811199999999999,10.871599999999999,10.931999999999999,10.9924,11.0528,11.113199999999999,11.1736,11.234,{"$f":"BU1941","v":11.343999999999999},11.454000000000001,11.564,11.673999999999999,11.784000000000001,11.894,11.8444,11.7948,11.745200000000001,11.695600000000001,11.646000000000001,11.596399999999999,11.546799999999999,11.497199999999999,11.4476,{"$f":"CJ1941","v":11.398},null,"Altherma 3 R MT F 180 l 12 kW","Altherma 3 R MT F 230 l 12 kW",9,2.35,null,6.17]
[null,"Altherma 3 R MT W",8,{"$f":"'Altherma 3 R MT'!$N$8","v":3.14},{"$f":"'Altherma 3 R MT'!$N$9","v":4.2300000000000004},{"$f":"'Altherma 3 R MT'!$N$10","v":5.0999999999999996},27,5.3479999999999999,{"$f":"I1823","v":5.4767999999999999},5.6055999999999999,5.7343999999999999,5.8632,5.992,6.1208,6.2496,6.3784000000000001,6.5072000000000001,6.6360000000000001,6.7243750000000002,6.8127500000000003,6.9011250000000004,6.9895000000000005,7.0778750000000006,7.1662500000000007,7.2546250000000008,7.343,7.431375000000001,7.5197500000000002,7.6081250000000002,7.6965000000000003,7.7848750000000004,7.8732500000000005,{"$f":"AG1823","v":7.9616250000000006},{"$f":"AH1823","v":8.0500000000000007},8.0396000000000001,8.0292000000000012,8.0188000000000006,8.0084,7.9980000000000002,7.9876000000000005,7.9771999999999998,7.9668000000000001,7.9563999999999995,7.9459999999999997,7.7974999999999994,7.649,7.5004999999999997,7.3520000000000003,7.2035,7.0549999999999997,6.9064999999999994,{"$f":"AZ1823","v":6.758},6.9274000000000004,7.0968,7.2661999999999995,7.4356,7.6050000000000004,7.7744,7.9437999999999995,8.1131999999999991,8.2826000000000004,{"$f":"BJ1823","v":8.452},8.5210000000000008,8.59,8.6589999999999989,8.7279999999999998,8.7970000000000006,8.8659999999999997,8.9349999999999987,9.0039999999999996,9.0730000000000004,9.1419999999999995,{"$f":"BU1823","v":9.2063333333333333},9.2706666666666671,9.3350000000000009,9.3993333333333329,9.4636666666666667,9.5280000000000005,9.5885999999999996,9.6492000000000004,9.7098000000000013,9.7704000000000004,9.8309999999999995,9.8916000000000004,9.9522000000000013,10.0128,10.073399999999999,{"$f":"CJ1823","v":10.134},null,"Altherma 3 R MT W 8 kW","Altherma 3 R MT W 8 kW",9,2.85,null,6.17]
[null,"Altherma 3 R MT W",8,{"$f":"'Altherma 3 R MT'!$N$8","v":3.14},{"$f":"'Altherma 3 R MT'!$N$9","v":4.2300000000000004},{"$f":"'Altherma 3 R MT'!$N$10","v":5.0999999999999996},39,5.3579999999999997,{"$f":"I1835","v":5.4676},5.5771999999999995,5.6867999999999999,5.7963999999999993,5.9059999999999997,6.0155999999999992,6.1251999999999995,6.2347999999999999,6.3443999999999994,6.4539999999999997,6.5197500000000002,6.5854999999999997,6.6512500000000001,6.7169999999999996,6.7827500000000001,6.8484999999999996,6.91425,6.98,7.04575,7.1115000000000004,7.1772499999999999,7.2430000000000003,7.3087499999999999,7.3745000000000003,{"$f":"AG1835","v":7.4402500000000007},{"$f":"AH1835","v":7.5060000000000002},7.6120000000000001,7.718,7.8240000000000007,7.9300000000000006,8.0360000000000014,8.1420000000000012,8.2480000000000011,8.354000000000001,8.4600000000000009,8.5660000000000007,8.4192499999999999,8.2725000000000009,8.12575,7.979000000000001,7.8322500000000002,7.6855000000000002,7.5387500000000003,{"$f":"AZ1835","v":7.3920000000000003},7.4422000000000006,7.4923999999999999,7.5426000000000002,7.5928000000000004,7.6430000000000007,7.6932,7.7434000000000003,7.7936000000000005,7.8437999999999999,{"$f":"BJ1835","v":7.8940000000000001},8.0009999999999994,8.1080000000000005,8.2149999999999999,8.3219999999999992,8.4289999999999985,8.5359999999999996,8.6429999999999989,8.7499999999999982,8.8569999999999993,8.9639999999999986,{"$f":"BU1835","v":9.0636666666666663},9.1633333333333322,9.2629999999999999,9.3626666666666676,9.4623333333333335,9.5620000000000012,9.5616000000000003,9.5612000000000013,9.5608000000000004,9.5604000000000013,9.56,9.5595999999999997,9.5592000000000006,9.5587999999999997,9.5584000000000007,{"$f":"CJ1835","v":9.5579999999999998},null,"Altherma 3 R MT W 8 kW","Altherma 3 R MT W 8 kW",9,2.85,null,6.17]
[null,"Altherma 3 R MT W",8,{"$f":"'Altherma 3 R MT'!$N$8","v":3.14},{"$f":"'Altherma 3 R MT'!$N$9","v":4.2300000000000004},{"$f":"'Altherma 3 R MT'!$N$10","v":5.0999999999999996},53,5.1840000000000002,{"$f":"I1849","v":5.3188000000000004},5.4535999999999998,5.5884,5.7232000000000003,5.8580000000000005,5.9927999999999999,6.1276000000000002,6.2623999999999995,6.3971999999999998,6.532,6.5953749999999998,6.6587500000000004,6.7221250000000001,6.7854999999999999,6.8488750000000005,6.9122500000000002,6.975625,7.0389999999999997,7.1023750000000003,7.1657500000000001,7.2291249999999998,7.2925000000000004,7.3558750000000002,7.4192499999999999,{"$f":"AG1849","v":7.4826250000000005},{"$f":"AH1849","v":7.5460000000000003},7.6456,7.7452000000000005,7.8448000000000002,7.9443999999999999,8.0440000000000005,8.1435999999999993,8.2431999999999999,8.3428000000000004,8.4423999999999992,8.5419999999999998,8.548,8.5540000000000003,8.56,8.5659999999999989,8.5719999999999992,8.5779999999999994,8.5839999999999996,{"$f":"AZ1849","v":8.59},8.6338000000000008,8.6776,8.7213999999999992,8.7652000000000001,8.8090000000000011,8.8528000000000002,8.8965999999999994,8.9404000000000003,8.9842000000000013,{"$f":"BJ1849","v":9.0280000000000005},9.0282,9.0283999999999995,9.0286000000000008,9.0288000000000004,9.0289999999999999,9.0291999999999994,9.029399999999999,9.0296000000000003,9.0297999999999998,9.0299999999999994,{"$f":"BU1849","v":9.0626666666666651},9.0953333333333326,9.1280000000000001,9.1606666666666658,9.1933333333333316,9.2259999999999991,9.2683999999999997,9.3107999999999986,9.3531999999999993,9.3956,9.4379999999999988,9.4803999999999995,9.5228000000000002,9.5652000000000008,9.6075999999999997,{"$f":"CJ1849","v":9.65},null,"Altherma 3 R MT W 8 kW","Altherma 3 R MT W 8 kW",9,2.85,null,6.17]
[null,"Altherma 3 R MT W",8,{"$f":"'Altherma 3 R MT'!$N$8","v":3.14},{"$f":"'Altherma 3 R MT'!$N$9","v":4.2300000000000004},{"$f":"'Altherma 3 R MT'!$N$10","v":5.0999999999999996},60,5.31,{"$f":"I1856","v":5.4179999999999993},5.5259999999999998,5.6339999999999995,5.742,5.85,5.9580000000000002,6.0659999999999998,6.1739999999999995,6.282,6.39,6.4749999999999996,6.56,6.6449999999999996,6.7299999999999995,6.8149999999999995,6.8999999999999995,6.9849999999999994,7.07,7.1549999999999994,7.24,7.3250000000000002,7.41,7.4950000000000001,7.58,{"$f":"AG1856","v":7.665},{"$f":"AH1856","v":7.75},7.8680000000000003,7.9859999999999998,8.1039999999999992,8.2219999999999995,8.34,8.4580000000000002,8.5760000000000005,8.6939999999999991,8.8119999999999994,8.93,8.9124999999999996,8.8949999999999996,8.8774999999999995,8.86,8.8424999999999994,8.8249999999999993,8.8074999999999992,{"$f":"AZ1856","v":8.7899999999999991},8.7829999999999995,8.7759999999999998,8.7690000000000001,8.7620000000000005,8.754999999999999,8.7479999999999993,8.7409999999999997,8.734,8.7270000000000003,{"$f":"BJ1856","v":8.7200000000000006},8.7990000000000013,8.8780000000000001,8.9570000000000007,9.0359999999999996,9.1150000000000002,9.1940000000000008,9.2729999999999997,9.3520000000000003,9.4309999999999992,9.51,{"$f":"BU1856","v":9.58},9.65,9.7199999999999989,9.7899999999999991,9.86,9.93,9.8669999999999991,9.8040000000000003,9.7409999999999997,9.6780000000000008,9.6150000000000002,9.5519999999999996,9.4890000000000008,9.4260000000000002,9.3630000000000013,{"$f":"CJ1856","v":9.3000000000000007},null,"Altherma 3 R MT W 8 kW","Altherma 3 R MT W 8 kW",9,2.85,null,6.17]
[null,"Altherma 3 R MT W",10,{"$f":"'Altherma 3 R MT'!$N$19","v":3.14},{"$f":"'Altherma 3 R MT'!$N$20","v":4.2300000000000004},{"$f":"'Altherma 3 R MT'!$N$21","v":5.0999999999999996},27,5.7679999999999998,{"$f":"I1864","v":5.9256000000000002},6.0831999999999997,6.2408000000000001,6.3983999999999996,6.556,6.7135999999999996,6.8712,7.0288000000000004,7.1863999999999999,7.3440000000000003,7.4090000000000007,7.4740000000000002,7.5390000000000006,7.6040000000000001,7.6690000000000005,7.734,7.7990000000000004,7.8640000000000008,7.9290000000000003,7.9940000000000007,8.0590000000000011,8.1240000000000006,8.1890000000000001,8.2539999999999996,{"$f":"AG1864","v":8.3190000000000008},{"$f":"AH1864","v":8.3840000000000003},8.4276,8.4711999999999996,8.514800000000001,8.5584000000000007,8.6020000000000003,8.6456,8.6891999999999996,8.732800000000001,8.7764000000000006,8.82,8.761000000000001,8.702,8.6430000000000007,8.5839999999999996,8.5250000000000004,8.4660000000000011,8.407,{"$f":"AZ1864","v":8.3480000000000008},8.4974000000000007,8.6468000000000007,8.7962000000000007,8.9456000000000007,9.0950000000000006,9.2444000000000006,9.3938000000000006,9.5432000000000006,9.6926000000000005,{"$f":"BJ1864","v":9.8420000000000005},9.9169999999999998,9.9920000000000009,10.067,10.142000000000001,10.217000000000001,10.292,10.367000000000001,10.442,10.517000000000001,10.592000000000001,{"$f":"BU1864","v":10.663333333333334},10.734666666666667,10.806000000000001,10.877333333333333,10.948666666666666,11.02,11.0908,11.1616,11.2324,11.3032,11.373999999999999,11.444799999999999,11.515599999999999,11.586399999999999,11.6572,{"$f":"CJ1864","v":11.728},null,"Altherma 3 R MT W 10 kW","Altherma 3 R MT W 10 kW",9,2.75,null,6.17]
[null,"Altherma 3 R MT W",10,{"$f":"'Altherma 3 R MT'!$N$19","v":3.14},{"$f":"'Altherma 3 R MT'!$N$20","v":4.2300000000000004},{"$f":"'Altherma 3 R MT'!$N$21","v":5.0999999999999996},44,5.8460000000000001,{"$f":"I1881","v":6.0107999999999997},6.1756000000000002,6.3403999999999998,6.5052000000000003,6.67,6.8347999999999995,6.9996,7.1643999999999997,7.3292000000000002,7.4939999999999998,7.5877499999999998,7.6814999999999998,7.7752499999999998,7.8689999999999998,7.9627499999999998,8.0564999999999998,8.1502499999999998,8.2439999999999998,8.3377499999999998,8.4314999999999998,8.5252499999999998,8.6189999999999998,8.7127499999999998,8.8064999999999998,{"$f":"AG1881","v":8.9002499999999998},{"$f":"AH1881","v":8.9939999999999998},9.0060000000000002,9.0180000000000007,9.0299999999999994,9.0419999999999998,9.0540000000000003,9.0660000000000007,9.0780000000000012,9.09,9.1020000000000003,9.1140000000000008,8.9757500000000014,8.8375000000000004,8.6992499999999993,8.5609999999999999,8.4227500000000006,8.2844999999999995,8.1462499999999984,{"$f":"AZ1881","v":8.0079999999999991},8.1185999999999989,8.2291999999999987,8.3397999999999985,8.4503999999999984,8.5609999999999999,8.6715999999999998,8.7821999999999996,8.8927999999999994,9.0033999999999992,{"$f":"BJ1881","v":9.113999999999999},9.2321999999999989,9.3503999999999987,9.4685999999999986,9.5867999999999984,9.7049999999999983,9.8231999999999999,9.9413999999999998,10.0596,10.1778,10.295999999999999,{"$f":"BU1881","v":10.382},10.468,10.554,10.64,10.726000000000001,10.812000000000001,10.835600000000001,10.859200000000001,10.882800000000001,10.906400000000001,10.93,10.9536,10.9772,11.0008,11.0244,{"$f":"CJ1881","v":11.048},null,"Altherma 3 R MT W 10 kW","Altherma 3 R MT W 10 kW",9,2.75,null,6.17]
[null,"Altherma 3 R MT W",10,{"$f":"'Altherma 3 R MT'!$N$19","v":3.14},{"$f":"'Altherma 3 R MT'!$N$20","v":4.2300000000000004},{"$f":"'Altherma 3 R MT'!$N$21","v":5.0999999999999996},52,5.7,{"$f":"I1889","v":5.8845999999999998},6.0692000000000004,6.2538,6.4384000000000006,6.6230000000000002,6.8076000000000008,6.9922000000000004,7.1768000000000001,7.3614000000000006,7.5460000000000003,7.6416250000000003,7.7372500000000004,7.8328750000000005,7.9285000000000005,8.0241249999999997,8.1197499999999998,8.2153749999999999,8.3109999999999999,8.406625,8.5022500000000001,8.5978750000000002,8.6935000000000002,8.7891250000000003,8.8847500000000004,{"$f":"AG1889","v":8.9803750000000004},{"$f":"AH1889","v":9.0760000000000005},9.0716000000000001,9.0671999999999997,9.0628000000000011,9.0584000000000007,9.0540000000000003,9.0495999999999999,9.0451999999999995,9.0408000000000008,9.0364000000000004,9.032,9.0602499999999999,9.0884999999999998,9.1167499999999997,9.1449999999999996,9.1732500000000012,9.2015000000000011,9.229750000000001,{"$f":"AZ1889","v":9.2580000000000009},9.3770000000000007,9.4960000000000004,9.6150000000000002,9.734,9.8530000000000015,9.9720000000000013,10.091000000000001,10.210000000000001,10.329000000000001,{"$f":"BJ1889","v":10.448},10.4398,10.4316,10.423400000000001,10.4152,10.407,10.3988,10.390599999999999,10.382400000000001,10.3742,10.366,{"$f":"BU1889","v":10.397666666666666},10.429333333333334,10.461,10.492666666666667,10.524333333333335,10.556000000000001,10.6158,10.675600000000001,10.7354,10.795200000000001,10.855,10.9148,10.974600000000001,11.0344,11.094200000000001,{"$f":"CJ1889","v":11.154},null,"Altherma 3 R MT W 10 kW","Altherma 3 R MT W 10 kW",9,2.75,null,6.17]
[null,"Altherma 3 R MT W",10,{"$f":"'Altherma 3 R MT'!$N$19","v":3.14},{"$f":"'Altherma 3 R MT'!$N$20","v":4.2300000000000004},{"$f":"'Altherma 3 R MT'!$N$21","v":5.0999999999999996},59,5.6580000000000004,{"$f":"I1896","v":5.8348000000000004},6.0116000000000005,6.1884000000000006,6.3652000000000006,6.5419999999999998,6.7187999999999999,6.8956,7.0724,7.2492000000000001,7.4260000000000002,7.5631250000000003,7.7002500000000005,7.8373749999999998,7.9744999999999999,8.1116250000000001,8.2487499999999994,8.3858750000000004,8.5229999999999997,8.660124999999999,8.79725,8.9343749999999993,9.0715000000000003,9.2086249999999996,9.3457499999999989,{"$f":"AG1896","v":9.4828749999999999},{"$f":"AH1896","v":9.6199999999999992},9.6263999999999985,9.6327999999999996,9.6391999999999989,9.6456,9.6519999999999992,9.6583999999999985,9.6647999999999996,9.6711999999999989,9.6776,9.6839999999999993,9.7467499999999987,9.8094999999999999,9.8722499999999993,9.9349999999999987,9.9977499999999999,10.060499999999999,10.123250000000001,{"$f":"AZ1896","v":10.186},10.190799999999999,10.195600000000001,10.2004,10.2052,10.210000000000001,10.2148,10.2196,10.224399999999999,10.229200000000001,{"$f":"BJ1896","v":10.234},10.3026,10.3712,10.4398,10.5084,10.577,10.6456,10.7142,10.7828,10.8514,10.92,{"$f":"BU1896","v":10.995666666666667},11.071333333333333,11.147,11.222666666666667,11.298333333333334,11.374000000000001,11.321200000000001,11.2684,11.2156,11.162800000000001,11.11,11.0572,11.0044,10.951600000000001,10.8988,{"$f":"CJ1896","v":10.846},null,"Altherma 3 R MT W 10 kW","Altherma 3 R MT W 10 kW",9,2.75,null,6.17]
[null,"Altherma 3 R MT W",12,{"$f":"'Altherma 3 R MT'!$N$30","v":3.14},{"$f":"'Altherma 3 R MT'!$N$31","v":4.2300000000000004},{"$f":"'Altherma 3 R MT'!$N$32","v":5.0999999999999996},38,5.7619999999999996,{"$f":"I1916","v":6.0521999999999991},6.3423999999999996,6.6326000000000001,6.9227999999999996,7.2129999999999992,7.5031999999999996,7.7934000000000001,8.0836000000000006,8.3737999999999992,8.6639999999999997,8.7683749999999989,8.8727499999999999,8.9771249999999991,9.0815000000000001,9.1858749999999993,9.2902500000000003,9.3946249999999996,9.4989999999999988,9.6033749999999998,9.707749999999999,9.812125,9.9164999999999992,10.020875,10.125249999999999,{"$f":"AG1916","v":10.229624999999999},{"$f":"AH1916","v":10.334},10.200199999999999,10.0664,9.9326000000000008,9.7988,9.6649999999999991,9.5312000000000001,9.3974000000000011,9.2636000000000003,9.1297999999999995,8.9960000000000004,8.8872499999999999,8.7785000000000011,8.6697500000000005,8.5609999999999999,8.4522499999999994,8.3434999999999988,8.23475,{"$f":"AZ1916","v":8.1259999999999994},8.3056000000000001,8.485199999999999,8.6647999999999996,8.8444000000000003,9.0240000000000009,9.2035999999999998,9.3832000000000004,9.5628000000000011,9.7423999999999999,{"$f":"BJ1916","v":9.9220000000000006},10.056000000000001,10.190000000000001,10.324,10.458,10.592000000000001,10.726000000000001,10.860000000000001,10.994,11.128,11.262,{"$f":"BU1916","v":11.371333333333334},11.480666666666666,11.59,11.699333333333334,11.808666666666666,11.917999999999999,11.931199999999999,11.9444,11.957599999999999,11.970800000000001,11.984,11.997199999999999,12.010400000000001,12.0236,12.036800000000001,{"$f":"CJ1916","v":12.05},null,"Altherma 3 R MT W 12 kW","Altherma 3 R MT W 12 kW",9,2.65,null,6.17]
[null,"Altherma 3 R MT W",12,{"$f":"'Altherma 3 R MT'!$N$30","v":3.14},{"$f":"'Altherma 3 R MT'!$N$31","v":4.2300000000000004},{"$f":"'Altherma 3 R MT'!$N$32","v":5.0999999999999996},44,5.8460000000000001,{"$f":"I1922","v":6.1326000000000001},6.4192,6.7058,6.9923999999999999,7.2789999999999999,7.5655999999999999,7.8521999999999998,8.1387999999999998,8.4253999999999998,8.7119999999999997,8.8206249999999997,8.9292499999999997,9.0378749999999997,9.1464999999999996,9.2551249999999996,9.3637499999999996,9.4723749999999995,9.5809999999999995,9.6896250000000013,9.7982500000000012,9.9068750000000012,10.015500000000001,10.124125000000001,10.232750000000001,{"$f":"AG1922","v":10.341375000000001},{"$f":"AH1922","v":10.450000000000001},10.335800000000001,10.2216,10.1074,9.9931999999999999,9.8790000000000013,9.764800000000001,9.6506000000000007,9.5364000000000004,9.4222000000000001,9.3079999999999998,9.1672499999999992,9.0265000000000004,8.8857499999999998,8.745000000000001,8.6042500000000004,8.4634999999999998,8.322750000000001,{"$f":"AZ1922","v":8.1820000000000004},8.3464000000000009,8.5107999999999997,8.6752000000000002,8.8396000000000008,9.0040000000000013,9.1684000000000001,9.3328000000000007,9.4972000000000012,9.6616,{"$f":"BJ1922","v":9.8260000000000005},9.9600000000000009,10.094000000000001,10.228,10.362,10.496,10.63,10.764000000000001,10.898,11.032,11.166,{"$f":"BU1922","v":11.26},11.354000000000001,11.448,11.542,11.636000000000001,11.73,11.755600000000001,11.7812,11.806800000000001,11.8324,11.858000000000001,11.883600000000001,11.9092,11.934800000000001,11.9604,{"$f":"CJ1922","v":11.986000000000001},null,"Altherma 3 R MT W 12 kW","Altherma 3 R MT W 12 kW",9,2.65,null,6.17]
[null,"Altherma 3 R MT W",12,{"$f":"'Altherma 3 R MT'!$N$30","v":3.14},{"$f":"'Altherma 3 R MT'!$N$31","v":4.2300000000000004},{"$f":"'Altherma 3 R MT'!$N$32","v":5.0999999999999996},55,5.37,{"$f":"I1933","v":5.7119999999999997},6.0540000000000003,6.3959999999999999,6.7379999999999995,7.08,7.4219999999999997,7.7639999999999993,8.1059999999999999,8.4480000000000004,8.7899999999999991,8.9018749999999986,9.0137499999999999,9.1256249999999994,9.2374999999999989,9.3493750000000002,9.4612499999999997,9.5731249999999992,9.6849999999999987,9.796875,9.9087499999999995,10.020624999999999,10.1325,10.244375,10.356249999999999,{"$f":"AG1933","v":10.468125000000001},{"$f":"AH1933","v":10.58},10.499000000000001,10.417999999999999,10.337,10.256,10.175000000000001,10.093999999999999,10.013,9.9320000000000004,9.8509999999999991,9.77,9.8262499999999999,9.8825000000000003,9.9387500000000006,9.995000000000001,10.05125,10.1075,10.16375,{"$f":"AZ1933","v":10.220000000000001},10.342000000000001,10.464,10.586,10.708,10.83,10.952,11.074,11.196,11.318,{"$f":"BJ1933","v":11.44},11.446,11.452,11.458,11.464,11.469999999999999,11.475999999999999,11.481999999999999,11.488,11.494,11.5,{"$f":"BU1933","v":11.555},11.61,11.664999999999999,11.72,11.775,11.83,11.861000000000001,11.891999999999999,11.923,11.954000000000001,11.984999999999999,12.016,12.047000000000001,12.078000000000001,12.109,{"$f":"CJ1933","v":12.14},null,"Altherma 3 R MT W 12 kW","Altherma 3 R MT W 12 kW",9,2.65,null,6.17]
[null,"Altherma 4 H ECH2O",6,{"$f":"'Altherma 4 H'!$P$8","v":3.38},{"$f":"'Altherma 4 H'!$P$9","v":4.46},{"$f":"'Altherma 4 H'!$P$10","v":5.19},25,null,null,null,null,null,null,null,null,null,null,null,null,null,null,null,null,null,null,null,null,null,null,null,null,null,null,{"$f":"'Altherma 4 H'!C9","v":6.0088787452089498},{"$f":"$AH2190-(($AH2190-$AR2190)/$AR$3*AI$3)","v":5.956531718421143},{"$f":"$AH2190-(($AH2190-$AR2190)/$AR$3*AJ$3)","v":5.9041846916333363},5.8518376648455295,5.7994906380577227,5.7471436112699159,5.69479658448211,5.6424495576943032,5.5901025309064964,5.5377555041186897,{"$f":"'Altherma 4 H'!C10","v":5.4854084773308829},{"$f":"$AR2190-(($AR2190-$AZ2190)/$AZ$3*AS$3)","v":5.4122335586460153},{"$f":"$AR2190-(($AR2190-$AZ2190)/$AZ$3*AT$3)","v":5.3390586399611486},5.265883721276281,5.1927088025914134,5.1195338839065467,5.0463589652216791,4.9731840465368125,{"$f":"'Altherma 4 H'!C11","v":4.9000091278519449},{"$f":"$AZ2190-(($AZ2190-$BJ2190)/$BJ$3*BA$3)","v":4.9461340716775997},{"$f":"$AZ2190-(($AZ2190-$BJ2190)/$BJ$3*BB$3)","v":4.9922590155032545},5.0383839593289084,5.0845089031545632,5.130633846980218,5.1767587908058728,5.2228837346315276,5.2690086784571815,5.3151336222828363,{"$f":"'Altherma 4 H'!C12","v":5.3612585661084911},{"$f":"$BJ2190-(($BJ2190-$BT2190)/$BT$3*BK$3)","v":5.3218800104654962},{"$f":"$BJ2190-(($BJ2190-$BT2190)/$BT$3*BL$3)","v":5.2825014548225013},5.2431228991795065,5.2037443435365116,5.1643657878935167,5.1249872322505219,5.085608676607527,5.0462301209645322,5.0068515653215373,{"$f":"'Altherma 4 H'!C13","v":4.9674730096785424},{"$f":"$BT2190-(($BT2190-$BZ2190)/$BZ$3*BU$3)","v":5.0329826888477927},{"$f":"$BT2190-(($BT2190-$BZ2190)/$BZ$3*BV$3)","v":5.098492368017042},5.1640020471862922,5.2295117263555424,5.2950214055247917,{"$f":"'Altherma 4 H'!C14","v":5.3605310846940419},{"$f":"$BZ2190-(($BZ2190-$CJ2190)/$CJ$3*CA$3)","v":5.3440430841974829},{"$f":"$BZ2190-(($BZ2190-$CJ2190)/$CJ$3*CB$3)","v":5.3275550837009238},5.3110670832043647,5.2945790827078056,5.2780910822112457,5.2616030817146866,5.2451150812181275,5.2286270807215685,5.2121390802250094,{"$f":"'Altherma 4 H'!C15","v":5.1956510797284503},null,"Altherma 4 H ECH2O 300 6 kW","Altherma 4 H ECH2O 500 6 kW",9,0.5]
[null,"Altherma 4 H ECH2O",6,{"$f":"'Altherma 4 H'!$P$8","v":3.38},{"$f":"'Altherma 4 H'!$P$9","v":4.46},{"$f":"'Altherma 4 H'!$P$10","v":5.19},35,{"$f":"'Altherma 4 H'!E7","v":4.4938297948150243},{"$f":"$H2200-(($H2200-$R2200)/$R$3*I$3)","v":4.5486285713728076},{"$f":"$H2200-(($H2200-$R2200)/$R$3*J$3)","v":4.6034273479305918},4.6582261244883751,4.7130249010461585,4.7678236776039427,4.822622454161726,4.8774212307195093,4.9322200072772926,4.9870187838350768,{"$f":"'Altherma 4 H'!E8","v":5.0418175603928601},5.1160789628683068,5.1903403653437525,5.2646017678191992,5.338863170294645,5.4131245727700916,5.4873859752455374,5.5616473777209841,5.6359087801964307,5.7101701826718765,5.7844315851473231,5.8586929876227689,5.9329543900982156,6.0072157925736613,6.081477195049108,6.1557385975245538,{"$f":"'Altherma 4 H'!E9","v":6.23},6.1728740192988072,6.115748038597614,6.0586220578964216,6.0014960771952284,5.9443700964940351,5.8872441157928419,5.8301181350916487,5.7729921543904563,5.7158661736892631,{"$f":"'Altherma 4 H'!E10","v":5.6587401929880699},5.5592445202814993,5.4597488475749296,5.3602531748683591,5.2607575021617894,5.1612618294552188,5.0617661567486483,4.9622704840420786,{"$f":"'Altherma 4 H'!E11","v":4.862774811335508},4.9494973858768914,5.0362199604182747,5.122942534959658,5.2096651095010413,5.2963876840424255,5.3831102585838089,5.4698328331251922,5.5565554076665755,5.6432779822079588,{"$f":"'Altherma 4 H'!E12","v":5.7300005567493422},5.6351302885656507,5.5402600203819592,5.4453897521982677,5.3505194840145762,5.2556492158308838,5.1607789476471932,5.0659086794635009,4.9710384112798094,4.8761681430961179,{"$f":"'Altherma 4 H'!E13","v":4.7812978749124264},4.8354835833578944,4.8896692918033624,4.9438550002488295,4.9980407086942975,5.0522264171397655,{"$f":"'Altherma 4 H'!E14","v":5.1064121255852335},5.139551237615068,5.1726903496449026,5.2058294616747363,5.2389685737045708,5.2721076857344054,5.3052467977642399,5.3383859097940745,5.3715250218239081,5.4046641338537427,{"$f":"'Altherma 4 H'!E15","v":5.4378032458835772},null,"Altherma 4 H ECH2O 300 6 kW","Altherma 4 H ECH2O 500 6 kW",9,0.5]
[null,"Altherma 4 H ECH2O",6,{"$f":"'Altherma 4 H'!$P$8","v":3.38},{"$f":"'Altherma 4 H'!$P$9","v":4.46},{"$f":"'Altherma 4 H'!$P$10","v":5.19},47,{"$f":"H2210-((H2210-H2215)/5*$A$5)","v":4.5099725800047645},4.5851081541634118,4.6602437283220581,4.7353793024807054,4.8105148766393526,4.8856504507979999,4.9607860249566462,5.0359215991152935,5.1110571732739407,5.1861927474325871,{"$f":"R2210-((R2210-R2215)/5*$A$5)","v":5.2613283215912343},5.336870301491782,5.4124122813923297,5.4879542612928782,5.5634962411934259,5.6390382210939736,5.7145802009945212,5.7901221808950689,5.8656641607956175,5.9412061406961651,6.0167481205967128,6.0922901004972605,6.1678320803978082,6.2433740602983558,6.3189160401989035,6.3944580200994521,{"$f":"AH2210-((AH2210-AH2215)/5*$A$5)","v":6.47},6.4022470341060904,6.3344940682121811,6.2667411023182709,6.1989881364243615,6.1312351705304522,6.0634822046365429,5.9957292387426335,5.9279762728487233,5.860223306954814,{"$f":"AR2210-((AR2210-AR2215)/5*$A$5)","v":5.7924703410609046},5.8543839754551037,5.9162976098493019,5.9782112442435009,6.0401248786377,6.102038513031899,6.1639521474260981,6.2258657818202963,{"$f":"AZ2210-((AZ2210-AZ2215)/5*$A$5)","v":6.2877794162144953},6.2439152022048816,6.2000509881952679,6.1561867741856542,6.1123225601760405,6.0684583461664268,6.0245941321568131,5.9807299181471993,5.9368657041375856,5.8930014901279719,{"$f":"BJ2210-((BJ2210-BJ2215)/5*$A$5)","v":5.8491372761183582},5.7144913936080934,5.5798455110978278,5.445199628587563,5.3105537460772974,5.1759078635670326,5.0412619810567669,4.9066160985465022,4.7719702160362374,4.6373243335259717,{"$f":"BT2210-((BT2210-BT2215)/5*$A$5)","v":4.502678451015707},4.5524769382888666,4.6022754255620253,4.6520739128351849,4.7018724001083445,4.7516708873815032,{"$f":"BZ2210-((BZ2210-BZ2215)/5*$A$5)","v":4.8014693746546628},4.8436088043295085,4.8857482340043541,4.9278876636791988,4.9700270933540445,5.0121665230288901,5.0543059527037357,5.0964453823785814,5.1385848120534261,5.1807242417282717,{"$f":"CJ2210-((CJ2210-CJ2215)/5*$A$5)","v":5.2228636714031174},null,"Altherma 4 H ECH2O 300 6 kW","Altherma 4 H ECH2O 500 6 kW",9,0.5]
[null,"Altherma 4 H ECH2O",6,{"$f":"'Altherma 4 H'!$P$8","v":3.38},{"$f":"'Altherma 4 H'!$P$9","v":4.46},{"$f":"'Altherma 4 H'!$P$10","v":5.19},61,{"$f":"H2225-((H2225-H2230)/5*$A$4)","v":4.1815601541048935},4.2410570784134798,4.3005540027220652,4.3600509270306516,4.419547851339237,4.4790447756478233,4.5385416999564097,4.5980386242649951,4.6575355485735814,4.7170324728821669,{"$f":"R2225-((R2225-R2230)/5*$A$4)","v":4.7765293971907532},4.8194859739085967,4.8624425506264393,4.9053991273442827,4.9483557040621253,4.9913122807799688,5.0342688574978123,5.0772254342156549,5.1201820109334983,5.1631385876513418,5.2060951643691844,5.2490517410870279,5.2920083178048714,5.3349648945227139,5.3779214712405574,5.4208780479584,{"$f":"AH2225-((AH2225-AH2230)/5*$A$4)","v":5.4638346246762435},{"$f":"$AH2226-(($AH2226-$AR2226)/$AR$3*AI$3)","v":5.5085431265557601},5.5532516284352775,5.5979601303147941,5.6426686321943116,5.6873771340738282,5.7320856359533447,5.7767941378328622,5.8215026397123788,5.8662111415918963,{"$f":"AR2225-((AR2225-AR2230)/5*$A$4)","v":5.9109196434714129},5.898713074443612,5.8865065054158112,5.8742999363880095,5.8620933673602087,5.8498867983324079,5.8376802293046062,5.8254736602768054,{"$f":"AZ2225-((AZ2225-AZ2230)/5*$A$4)","v":5.8132670912490045},{"$f":"$AZ2226-(($AZ2226-$BJ2226)/$BJ$3*BA$3)","v":5.7707175746296784},5.7281680580103513,5.6856185413910252,5.643069024771699,5.600519508152372,5.5579699915330458,5.5154204749137197,5.4728709582943935,5.4303214416750665,{"$f":"BJ2225-((BJ2225-BJ2230)/5*$A$4)","v":5.3877719250557403},5.2782475379991123,5.1687231509424834,5.0591987638858553,4.9496743768292264,4.8401499897725984,4.7306256027159694,4.6211012156593414,4.5115768286027134,4.4020524415460844,{"$f":"BT2225-((BT2225-BT2230)/5*$A$4)","v":4.2925280544894564},4.3431751612890714,4.3938222680886865,4.4444693748883015,4.4951164816879157,4.5457635884875307,{"$f":"BZ2225-((BZ2225-BZ2230)/5*$A$4)","v":4.5964106952871457},4.6268620334056223,4.6573133715240989,4.6877647096425745,4.7182160477610511,4.7486673858795276,4.7791187239980042,4.8095700621164807,4.8400214002349564,4.870472738353433,{"$f":"CJ2225-((CJ2225-CJ2230)/5*$A$4)","v":4.9009240764719095},null,"Altherma 4 H ECH2O 300 6 kW","Altherma 4 H ECH2O 500 6 kW",9,0.5]
[null,"Altherma 4 H ECH2O",6,{"$f":"'Altherma 4 H'!$P$8","v":3.38},{"$f":"'Altherma 4 H'!$P$9","v":4.46},{"$f":"'Altherma 4 H'!$P$10","v":5.19},64,{"$f":"H2225-((H2225-H2230)/5*$A$7)","v":4.1111860628406358},4.1436238622177566,4.1760616615948782,4.208499460971999,4.2409372603491198,4.2733750597262414,4.3058128591033622,4.338250658480483,4.3706884578576037,4.4031262572347254,{"$f":"R2225-((R2225-R2230)/5*$A$7)","v":4.4355640566118462},4.4867862754019487,4.5380084941920504,4.589230712982153,4.6404529317722556,4.6916751505623573,4.7428973693524599,4.7941195881425616,4.8453418069326641,4.8965640257227667,4.9477862445128684,4.999008463302971,5.0502306820930727,5.1014529008831753,5.1526751196732778,5.2038973384633795,{"$f":"AH2225-((AH2225-AH2230)/5*$A$7)","v":5.2551195572534821},5.3058124893250351,5.356505421396589,5.407198353468142,5.4578912855396959,5.5085842176112489,5.559277149682802,5.6099700817543559,5.6606630138259089,5.7113559458974628,{"$f":"AR2225-((AR2225-AR2230)/5*$A$7)","v":5.7620488779690158},5.7512085969367517,5.7403683159044876,5.7295280348722235,5.7186877538399603,5.7078474728076962,5.6970071917754321,5.686166910743168,{"$f":"AZ2225-((AZ2225-AZ2230)/5*$A$7)","v":5.675326629710904},5.6195316677132894,5.5637367057156748,5.5079417437180602,5.4521467817204456,5.3963518197228311,5.3405568577252165,5.2847618957276019,5.2289669337299873,5.1731719717323728,{"$f":"BJ2225-((BJ2225-BJ2230)/5*$A$7)","v":5.1173770097347582},5.0303888914275223,4.9434007731202874,4.8564126548130515,4.7694245365058165,4.6824364181985807,4.5954482998913448,4.5084601815841099,4.421472063276874,4.3344839449696391,{"$f":"BT2225-((BT2225-BT2230)/5*$A$7)","v":4.2474958266624032},4.3055013454264879,4.3635068641905725,4.4215123829546572,4.4795179017187419,4.5375234204828265,{"$f":"BZ2225-((BZ2225-BZ2230)/5*$A$7)","v":4.5955289392469112},4.6198736933223534,4.6442184473977957,4.6685632014732379,4.6929079555486801,4.7172527096241215,4.7415974636995637,4.7659422177750059,4.7902869718504482,4.8146317259258904,{"$f":"CJ2225-((CJ2225-CJ2230)/5*$A$7)","v":4.8389764800013326},null,"Altherma 4 H ECH2O 300 6 kW","Altherma 4 H ECH2O 500 6 kW",9,0.5]
[null,"Altherma 4 H ECH2O",6,{"$f":"'Altherma 4 H'!$P$8","v":3.38},{"$f":"'Altherma 4 H'!$P$9","v":4.46},{"$f":"'Altherma 4 H'!$P$10","v":5.19},72,null,null,null,null,null,null,null,null,null,null,null,null,null,null,null,null,null,null,null,null,null,null,null,null,null,null,null,null,null,null,null,null,null,null,null,null,null,null,null,null,null,null,null,null,null,null,null,null,null,null,null,null,null,null,null,null,null,null,null,null,null,null,null,null,null,null,null,null,null,null,null,null,null,null,null,null,null,null,null,null,null,null,"Altherma 4 H ECH2O 300 6 kW","Altherma 4 H ECH2O 500 6 kW",9,0.5]
[null,"Altherma 4 H F",6,{"$f":"'Altherma 4 H'!$P$8","v":3.38},{"$f":"'Altherma 4 H'!$P$9","v":4.46},{"$f":"'Altherma 4 H'!$P$10","v":5.19},40,4.5253592178313138,{"$f":"I2205","v":4.5861513338040671},4.6469434497768205,4.7077355657495747,4.7685276817223281,4.8293197976950815,4.8901119136678348,4.9509040296405882,5.0116961456133424,5.0724882615860958,5.1332803775588491,5.2080753539614211,5.282870330363993,5.3576653067665649,5.4324602831691369,5.5072552595717088,5.5820502359742807,5.6568452123768527,5.7316401887794246,5.8064351651819965,5.8812301415845685,5.9560251179871404,6.0308200943897123,6.1056150707922843,6.1804100471948562,6.2552050235974281,6.33,6.2682884622931097,6.2065769245862192,6.1448653868793288,6.0831538491724384,6.0214423114655489,5.9597307737586585,5.898019236051768,5.8363076983448776,5.7745961606379872,5.7128846229310968,5.6707766298279472,5.6286686367247984,5.5865606436216488,5.5444526505184992,5.5023446574153496,5.4602366643122,5.4181286712090513,5.3760206781059017,5.4163826959439545,5.4567447137820082,5.497106731620061,5.5374687494581138,5.5778307672961667,5.6181927851342204,5.6585548029722732,5.698916820810326,5.7392788386483797,5.7796408564864326,5.6673766613950978,5.555112466303763,5.4428482712124282,5.3305840761210934,5.2183198810297586,5.1060556859384238,4.9937914908470891,4.8815272957557543,4.7692631006644195,4.6569989055730847,{"$f":"BU2205","v":4.7107245289827091},4.7644501523923326,4.818175775801957,4.8719013992115814,4.9256270226212049,4.9793526460308293,5.014873106604341,5.0503935671778528,5.0859140277513655,5.1214344883248772,5.156954948898389,5.1924754094719008,5.2279958700454126,5.2635163306189252,5.299036791192437,5.3345572517659487,null,"Altherma 4 H F 180 6 kW","Altherma 4 H F 230 6 kW",9,0.51]
[null,"Altherma 4 H F",6,{"$f":"'Altherma 4 H'!$P$8","v":3.38},{"$f":"'Altherma 4 H'!$P$9","v":4.46},{"$f":"'Altherma 4 H'!$P$10","v":5.19},47,4.5099725800047645,{"$f":"I2212","v":4.5851081541634118},4.6602437283220581,4.7353793024807054,4.8105148766393526,4.8856504507979999,4.9607860249566462,5.0359215991152935,5.1110571732739407,5.1861927474325871,5.2613283215912343,5.336870301491782,5.4124122813923297,5.4879542612928782,5.5634962411934259,5.6390382210939736,5.7145802009945212,5.7901221808950689,5.8656641607956175,5.9412061406961651,6.0167481205967128,6.0922901004972605,6.1678320803978082,6.2433740602983558,6.3189160401989035,6.3944580200994521,6.47,6.4022470341060904,6.3344940682121811,6.2667411023182709,6.1989881364243615,6.1312351705304522,6.0634822046365429,5.9957292387426335,5.9279762728487233,5.860223306954814,5.7924703410609046,5.8543839754551037,5.9162976098493019,5.9782112442435009,6.0401248786377,6.102038513031899,6.1639521474260981,6.2258657818202963,6.2877794162144953,6.2439152022048816,6.2000509881952679,6.1561867741856542,6.1123225601760405,6.0684583461664268,6.0245941321568131,5.9807299181471993,5.9368657041375856,5.8930014901279719,5.8491372761183582,5.7144913936080934,5.5798455110978278,5.445199628587563,5.3105537460772974,5.1759078635670326,5.0412619810567669,4.9066160985465022,4.7719702160362374,4.6373243335259717,4.502678451015707,{"$f":"BU2212","v":4.5524769382888666},4.6022754255620253,4.6520739128351849,4.7018724001083445,4.7516708873815032,4.8014693746546628,4.8436088043295085,4.8857482340043541,4.9278876636791988,4.9700270933540445,5.0121665230288901,5.0543059527037357,5.0964453823785814,5.1385848120534261,5.1807242417282717,5.2228636714031174,null,"Altherma 4 H F 180 6 kW","Altherma 4 H F 230 6 kW",9,0.51]
[null,"Altherma 4 H F",6,{"$f":"'Altherma 4 H'!$P$8","v":3.38},{"$f":"'Altherma 4 H'!$P$9","v":4.46},{"$f":"'Altherma 4 H'!$P$10","v":5.19},53,4.3692243974762484,{"$f":"I2218","v":4.4694103279476654},4.5695962584190832,4.6697821888905002,4.7699681193619181,4.8701540498333351,4.9703399803047521,5.07052591077617,5.170711841247587,5.2708977717190049,5.3710837021904219,5.4472659708035209,5.5234482394166191,5.5996305080297173,5.6758127766428164,5.7519950452559154,5.8281773138690136,5.9043595824821118,5.9805418510952109,6.0567241197083099,6.1329063883214081,6.2090886569345063,6.2852709255476054,6.3614531941607044,6.4376354627738026,6.5138177313869008,6.59,6.5633512749571494,6.536702549914299,6.5100538248714495,6.483405099828599,6.4567563747857486,6.4301076497428982,6.4034589247000477,6.3768101996571982,6.3501614746143478,6.3235127495714973,6.30571219612722,6.2879116426829418,6.2701110892386644,6.2523105357943862,6.2345099823501089,6.2167094289058316,6.1989088754615533,6.181108322017276,6.1538680533958345,6.126627784774394,6.0993875161529534,6.0721472475315119,6.0449069789100704,6.0176667102886299,5.9904264416671893,5.9631861730457478,5.9359459044243064,5.9087056358028658,5.7590964717587392,5.6094873077146126,5.459878143670486,5.3102689796263594,5.1606598155822327,5.0110506515381061,4.8614414874939795,4.7118323234498529,4.5622231594057263,4.4126139953615997,{"$f":"BU2218","v":4.4520113293328958},4.4914086633041927,4.5308059972754888,4.5702033312467849,4.6096006652180819,4.6489979991893779,4.6907099659764517,4.7324219327635255,4.7741338995505993,4.8158458663376731,4.857557833124746,4.8992697999118198,4.9409817666988936,4.9826937334859673,5.0244057002730411,5.0661176670601149,null,"Altherma 4 H F 180 6 kW","Altherma 4 H F 230 6 kW",9,0.51]
[null,"Altherma 4 H F",6,{"$f":"'Altherma 4 H'!$P$8","v":3.38},{"$f":"'Altherma 4 H'!$P$9","v":4.46},{"$f":"'Altherma 4 H'!$P$10","v":5.19},73,0,{"$f":"I2238","v":0},0,0,0,0,0,0,0,0,0,0,0,0,0,0,0,0,0,0,0,0,0,0,0,0,0,0,0,0,0,0,0,0,0,0,0,0,0,0,0,0,0,0,0,0,0,0,0,0,0,0,0,0,0,0,0,0,0,0,0,0,0,0,0,{"$f":"BU2238","v":0},0,0,0,0,0,0,0,0,0,0,0,0,0,0,0,null,"Altherma 4 H F 180 6 kW","Altherma 4 H F 230 6 kW",9,0.51]
[null,"Altherma 4 H W",6,{"$f":"'Altherma 4 H'!$P$8","v":3.38},{"$f":"'Altherma 4 H'!$P$9","v":4.46},{"$f":"'Altherma 4 H'!$P$10","v":5.19},28,0,{"$f":"I2193","v":0},0,0,0,0,0,0,0,0,0,0,0,0,0,0,0,0,0,0,0,0,0,0,0,0,6.0257606062018212,5.9767596051084917,5.9277586040151631,5.8787576029218336,5.829756601828505,5.7807556007351755,5.731754599641846,5.6827535985485174,5.6337525974551879,5.5847515963618592,5.5357505952685298,5.4547822272525606,5.3738138592365914,5.2928454912206231,5.2118771232046539,5.1309087551886847,5.0499403871727164,4.9689720191567472,4.8880036511407781,4.9463914023567748,5.0047791535727715,5.0631669047887682,5.1215546560047649,5.1799424072207625,5.2383301584367592,5.2967179096527559,5.3551056608687526,5.4134934120847493,5.471881163300746,5.4155919673578135,5.35930277141488,5.3030135754719474,5.2467243795290139,5.1904351835860814,5.1341459876431488,5.0778567917002153,5.0215675957572827,4.9652783998143493,4.9089892038714167,{"$f":"BU2193","v":4.9715402360530803},5.0340912682347438,5.0966423004164074,5.1591933325980719,5.2217443647797355,5.284295396961399,5.2961548548544695,5.3080143127475399,5.3198737706406103,5.3317332285336807,5.3435926864267511,5.3554521443198215,5.3673116022128919,5.3791710601059624,5.3910305179990328,5.4028899758921032,null,"Altherma 4 H W 6 kW","Altherma 4 H W 6 kW",9,0.52]
[null,"Altherma 4 H W",6,{"$f":"'Altherma 4 H'!$P$8","v":3.38},{"$f":"'Altherma 4 H'!$P$9","v":4.46},{"$f":"'Altherma 4 H'!$P$10","v":5.19},39,4.5190533332280562,{"$f":"I2204","v":4.5786467813178158},4.6382402294075753,4.6978336774973348,4.7574271255870944,4.8170205736768539,4.8766140217666134,4.9362074698563729,4.9958009179461325,5.055394366035892,5.1149878141256515,5.1896760757427982,5.2643643373599449,5.3390525989770916,5.4137408605942383,5.4884291222113859,5.5631173838285326,5.6378056454456793,5.712493907062826,5.7871821686799727,5.8618704302971194,5.9365586919142661,6.0112469535314137,6.0859352151485604,6.1606234767657071,6.2353117383828538,6.3100000000000005,6.2492055736942493,6.1884111473884991,6.1276167210827479,6.0668222947769967,6.0060278684712465,5.9452334421654953,5.8844390158597442,5.823644589553993,5.7628501632482427,5.7020557369424916,5.6484702079186579,5.5948846788948243,5.5412991498709907,5.4877136208471571,5.4341280918233235,5.3805425627994898,5.3269570337756562,5.2733715047518226,5.323005633930542,5.3726397631092606,5.4222738922879801,5.4719080214666995,5.5215421506454181,5.5711762798241375,5.620810409002857,5.6704445381815765,5.720078667360295,5.7697127965390145,5.6609273868292087,5.552141977119402,5.4433565674095963,5.3345711576997896,5.2257857479899839,5.1170003382801781,5.0082149285703714,4.8994295188605657,4.790644109150759,4.6818586994409532,{"$f":"BU2204","v":4.7356763398577462},4.7894939802745391,4.8433116206913311,4.8971292611081241,4.950946901524917,5.0047645419417099,5.0398087328064864,5.0748529236712629,5.1098971145360395,5.144941305400816,5.1799854962655925,5.2150296871303681,5.2500738779951446,5.2851180688599211,5.3201622597246976,5.3552064505894741,null,"Altherma 4 H W 6 kW","Altherma 4 H W 6 kW",9,0.52]
[null,"Altherma 4 H W",6,{"$f":"'Altherma 4 H'!$P$8","v":3.38},{"$f":"'Altherma 4 H'!$P$9","v":4.46},{"$f":"'Altherma 4 H'!$P$10","v":5.19},54,4.3457663670548294,{"$f":"I2219","v":4.4501273569117084},4.5544883467685873,4.6588493366254671,4.763210326482346,4.8675713163392249,4.9719323061961038,5.0762932960529827,5.1806542859098625,5.2850152757667415,5.3893762656236204,5.4656652490221438,5.5419542324206681,5.6182432158191915,5.6945321992177149,5.7708211826162392,5.8471101660147626,5.9233991494132869,5.9996881328118103,6.0759771162103338,6.1522660996088581,6.2285550830073815,6.3048440664059058,6.3811330498044292,6.4574220332029526,6.533711016601476,6.61,6.5749291715211244,6.5398583430422486,6.5047875145633727,6.4697166860844968,6.4346458576056209,6.399575029126745,6.3645042006478691,6.3294333721689933,6.2943625436901174,6.2592917152112415,6.2437712718312417,6.2282508284512419,6.2127303850712421,6.1972099416912414,6.1816894983112416,6.1661690549312418,6.150648611551242,6.1351281681712422,6.1134787209291463,6.0918292736870505,6.0701798264449547,6.0485303792028589,6.026880931960763,6.0052314847186672,5.9835820374765714,5.9619325902344755,5.9402831429923797,5.9186336957502839,5.7665306514505135,5.6144276071507431,5.4623245628509736,5.3102215185512032,5.1581184742514328,5.0060154299516624,4.853912385651892,4.7018093413521225,4.5497062970523521,4.3976032527525817,{"$f":"BU2219","v":4.4352670611735672},4.4729308695945535,4.5105946780155399,4.5482584864365254,4.5859222948575109,4.6235861032784973,4.6657743397743063,4.7079625762701154,4.7501508127659244,4.7923390492617335,4.8345272857575434,4.8767155222533525,4.9189037587491615,4.9610919952449706,5.0032802317407796,5.0454684682365887,null,"Altherma 4 H W 6 kW","Altherma 4 H W 6 kW",9,0.52]
[null,"Altherma 4 H W",6,{"$f":"'Altherma 4 H'!$P$8","v":3.38},{"$f":"'Altherma 4 H'!$P$9","v":4.46},{"$f":"'Altherma 4 H'!$P$10","v":5.19},60,4.2050181845263133,{"$f":"I2225","v":4.2735348171453875},4.3420514497644618,4.410568082383536,4.4790847150026103,4.5476013476216846,4.6161179802407588,4.6846346128598331,4.7531512454789073,4.8216678780979816,4.8901845107170558,4.9303858734108124,4.9705872361045689,5.0107885987983263,5.0509899614920828,5.0911913241858393,5.1313926868795967,5.1715940495733532,5.2117954122671097,5.2519967749608663,5.2921981376546228,5.3323995003483802,5.3726008630421367,5.4128022257358932,5.4530035884296506,5.4932049511234071,5.5334063138171636,5.5761200056326681,5.6188336974481734,5.6615473892636778,5.7042610810791832,5.7469747728946876,5.7896884647101921,5.8324021565256974,5.8751158483412018,5.9178295401567071,5.9605432319722116,5.9478812336125646,5.9352192352529185,5.9225572368932715,5.9098952385336254,5.8972332401739784,5.8845712418143314,5.8719092434546853,5.8592472450950384,5.8211128769351408,5.7829785087752441,5.7448441406153474,5.7067097724554499,5.6685754042955523,5.6304410361356556,5.5923066679757589,5.5541722998158614,5.5160379316559638,5.4779035634960671,5.3608670868563078,5.2438306102165484,5.126794133576789,5.0097576569370297,4.8927211802972703,4.775684703657511,4.6586482270177525,4.5416117503779931,4.4245752737382338,4.3075387970984744,{"$f":"BU2225","v":4.3557330999099326},4.4039274027213908,4.4521217055328499,4.5003160083443081,4.5485103111557663,4.5967046139672245,4.6291914801000456,4.6616783462328666,4.6941652123656876,4.7266520784985087,4.7591389446313297,4.7916258107641516,4.8241126768969727,4.8565995430297937,4.8890864091626147,4.9215732752954358,null,"Altherma 4 H W 6 kW","Altherma 4 H W 6 kW",9,0.52]
[null,"Altherma 4 H W",6,{"$f":"'Altherma 4 H'!$P$8","v":3.38},{"$f":"'Altherma 4 H'!$P$9","v":4.46},{"$f":"'Altherma 4 H'!$P$10","v":5.19},69,3.7929589085182296,{"$f":"I2234","v":3.842355016623376},3.8917511247285224,3.9411472328336687,3.9905433409388151,4.0399394490439615,4.0893355571491075,4.1387316652542543,4.1881277733594002,4.2375238814645471,4.286919989569693,4.3401108138595834,4.3933016381494738,4.4464924624393642,4.4996832867292547,4.552874111019146,4.6060649353090364,4.6592557595989268,4.7124465838888172,4.7656374081787076,4.818828232468598,4.8720190567584885,4.9252098810483798,4.9784007053382702,5.0315915296281606,5.084782353918051,5.1379731782079414,5.1755231641298565,5.2130731500517715,5.2506231359736866,5.2881731218956016,5.3257231078175167,5.3632730937394308,5.4008230796613459,5.4383730655832609,5.475923051505176,5.5134730374270911,5.5049671403087963,5.4964612431905016,5.4879553460722068,5.4794494489539129,5.4709435518356182,5.4624376547173235,5.4539317575990287,5.445425860480734,5.4493953033885738,5.4533647462964128,5.4573341892042526,5.4613036321120916,5.4652730750199314,5.4692425179277713,5.4732119608356102,5.4771814037434501,5.481150846651289,5.4851202895591289,5.5453462805689657,5.6055722715788026,5.6657982625886394,5.7260242535984762,5.7862502446083131,5.8464762356181508,5.9067022266279876,5.9669282176378244,6.0271542086476613,6.0873801996574981,{"$f":"BU2234","v":6.1911460901482434},6.2949119806389886,6.3986778711297339,6.5024437616204791,6.6062096521112244,6.7099755426019696,6.7473196549725509,6.7846637673431314,6.8220078797137127,6.859351992084294,6.8966961044548754,6.9340402168254558,6.9713843291960371,7.0087284415666185,7.0460725539371989,7.0834166663077802,null,"Altherma 4 H W 6 kW","Altherma 4 H W 6 kW",9,0.52]
[null,"Altherma 4 H ECH2O",8,{"$f":"'Altherma 4 H'!$P$19","v":3.32},{"$f":"'Altherma 4 H'!$P$20","v":4.46},{"$f":"'Altherma 4 H'!$P$21","v":5.01},35,{"$f":"'Altherma 4 H'!E18","v":5.4492109322953839},{"$f":"$H2353-(($H2353-$R2353)/$R$3*I$3)","v":5.5553591933213013},{"$f":"$H2353-(($H2353-$R2353)/$R$3*J$3)","v":5.6615074543472188},5.7676557153731371,5.8738039763990546,5.9799522374249721,6.0861004984508895,6.192248759476807,6.2983970205027253,6.4045452815286428,{"$f":"'Altherma 4 H'!E19","v":6.5106935425545602},6.5932854642996102,6.6758773860446601,6.7584693077897109,6.8410612295347608,6.9236531512798107,7.0062450730248607,7.0888369947699106,7.1714289165149605,7.2540208382600113,7.3366127600050612,7.4192046817501112,7.5017966034951611,7.584388525240211,7.6669804469852618,7.7495723687303117,{"$f":"'Altherma 4 H'!E20","v":7.8321642904753617},7.7458337666973796,7.6595032429193983,7.5731727191414162,7.4868421953634341,7.400511671585452,7.3141811478074708,7.2278506240294886,7.1415201002515065,7.0551895764735253,{"$f":"'Altherma 4 H'!E21","v":6.9688590526955432},6.8376639634838545,6.7064688742721668,6.5752737850604781,6.4440786958487895,6.3128836066371017,6.181688517425413,6.0504934282137253,{"$f":"'Altherma 4 H'!E22","v":5.9192983390020366},6.0756391660420412,6.2319799930820459,6.3883208201220505,6.5446616471620551,6.7010024742020597,6.8573433012420644,7.0136841282820681,7.1700249553220727,7.3263657823620774,{"$f":"'Altherma 4 H'!E23","v":7.482706609402082},7.3502091596248373,7.2177117098475936,7.0852142600703489,6.9527168102931052,6.8202193605158605,6.6877219107386168,6.5552244609613721,6.4227270111841275,6.2902295614068837,{"$f":"'Altherma 4 H'!E24","v":6.1577321116296391},6.2275167361427419,6.2973013606558448,6.3670859851689467,6.4368706096820496,6.5066552341951525,{"$f":"'Altherma 4 H'!E25","v":6.5764398587082553},6.6191190181406174,6.6617981775729804,6.7044773370053425,6.7471564964377055,6.7898356558700677,6.8325148153024298,6.8751939747347928,6.9178731341671549,6.9605522935995179,{"$f":"'Altherma 4 H'!E26","v":7.00323145303188},null,"Altherma 4 H ECH2O 300 8 kW","Altherma 4 H ECH2O 500 8 kW",9,0.4]
[null,"Altherma 4 H ECH2O",8,{"$f":"'Altherma 4 H'!$P$19","v":3.32},{"$f":"'Altherma 4 H'!$P$20","v":4.46},{"$f":"'Altherma 4 H'!$P$21","v":5.01},38,{"$f":"H2353-((H2353-H2358)/5*$A$6)","v":5.4721504495135349},5.5830913266988444,5.6940322038841549,5.8049730810694644,5.9159139582547748,6.0268548354400844,6.1377957126253939,6.2487365898107043,6.3596774669960139,6.4706183441813243,{"$f":"R2353-((R2353-R2358)/5*$A$6)","v":6.5815592213666338},6.6612924381350211,6.7410256549034093,6.8207588716717966,6.9004920884401848,6.9802253052085721,7.0599585219769603,7.1396917387453476,7.2194249555137358,7.299158172282123,7.3788913890505103,7.4586246058188985,7.5383578225872858,7.618091039355674,7.6978242561240613,7.7775574728924486,{"$f":"AH2353-((AH2353-AH2358)/5*$A$6)","v":7.8572906896608368},7.7742478615099548,7.6912050333590738,7.6081622052081919,7.5251193770573108,7.4420765489064289,7.359033720755547,7.2759908926046659,7.192948064453784,7.1099052363029029,{"$f":"AR2353-((AR2353-AR2358)/5*$A$6)","v":7.026862408152021},6.9025267801397101,6.7781911521273992,6.6538555241150883,6.5295198961027783,6.4051842680904674,6.2808486400781565,6.1565130120658456,{"$f":"AZ2353-((AZ2353-AZ2358)/5*$A$6)","v":6.0321773840535347},6.1811197700736722,6.3300621560938097,6.4790045421139464,6.6279469281340839,6.7768893141542215,6.925831700174359,7.0747740861944965,7.2237164722146332,7.3726588582347707,{"$f":"BJ2353-((BJ2353-BJ2358)/5*$A$6)","v":7.5216012442549083},7.3756094106343415,7.2296175770137747,7.0836257433932071,6.9376339097726403,6.7916420761520735,6.6456502425315067,6.4996584089109399,6.3536665752903723,6.2076747416698055,{"$f":"BT2353-((BT2353-BT2358)/5*$A$6)","v":6.0616829080492387},6.131112012307371,6.2005411165655033,6.2699702208236356,6.3393993250817688,6.4088284293399012,{"$f":"BZ2353-((BZ2353-BZ2358)/5*$A$6)","v":6.4782575335980335},6.5227768259959653,6.5672961183938963,6.6118154107918281,6.6563347031897599,6.7008539955876909,6.7453732879856227,6.7898925803835546,6.8344118727814864,6.8789311651794174,{"$f":"CJ2353-((CJ2353-CJ2358)/5*$A$6)","v":6.9234504575773492},null,"Altherma 4 H ECH2O 300 8 kW","Altherma 4 H ECH2O 500 8 kW",9,0.4]
[null,"Altherma 4 H ECH2O",8,{"$f":"'Altherma 4 H'!$P$19","v":3.32},{"$f":"'Altherma 4 H'!$P$20","v":4.46},{"$f":"'Altherma 4 H'!$P$21","v":5.01},50,{"$f":"'Altherma 4 H'!H18","v":5.3834501359530558},5.5316073160192429,5.6797644960854301,5.8279216761516173,5.9760788562178044,6.1242360362839925,6.2723932163501797,6.4205503964163668,6.568707576482554,6.7168647565487412,{"$f":"'Altherma 4 H'!H19","v":6.8650219366149283},6.9333203334766669,7.0016187303384045,7.0699171272001431,7.1382155240618808,7.2065139209236193,7.2748123177853579,7.3431107146470955,7.4114091115088341,7.4797075083705726,7.5480059052323103,7.6163043020940489,7.6846026989557874,7.7529010958175251,7.8211994926792636,7.8894978895410013,{"$f":"'Altherma 4 H'!H20","v":7.9577962864027398},7.904493651638739,7.8511910168747381,7.7978883821107372,7.7445857473467363,7.6912831125827346,7.6379804778187337,7.5846778430547328,7.5313752082907319,7.478072573526731,{"$f":"'Altherma 4 H'!H21","v":7.4247699387627302},7.3109789784264434,7.1971880180901566,7.0833970577538699,6.969606097417584,6.8558151370812972,6.7420241767450104,6.6282332164087236,{"$f":"'Altherma 4 H'!H22","v":6.5144422560724369},6.630716008831814,6.746989761591192,6.8632635143505691,6.9795372671099463,7.0958110198693234,7.2120847726287014,7.3283585253880785,7.4446322781474557,7.5609060309068337,{"$f":"'Altherma 4 H'!H23","v":7.6771797836662108},7.4835526067708553,7.2899254298755007,7.0962982529801453,6.9026710760847898,6.7090438991894352,6.5154167222940798,6.3217895453987243,6.1281623685033697,5.9345351916080142,{"$f":"'Altherma 4 H'!H24","v":5.7409080147126588},5.7983447177867404,5.8557814208608221,5.9132181239349038,5.9706548270089845,6.0280915300830662,{"$f":"'Altherma 4 H'!H25","v":6.0855282331571479},6.1374080574173551,6.1892878816775632,6.2411677059377713,6.2930475301979785,6.3449273544581857,6.3968071787183938,6.4486870029786019,6.5005668272388091,6.5524466514990163,{"$f":"'Altherma 4 H'!H26","v":6.6043264757592244},null,"Altherma 4 H ECH2O 300 8 kW","Altherma 4 H ECH2O 500 8 kW",9,0.4]
[null,"Altherma 4 H ECH2O",8,{"$f":"'Altherma 4 H'!$P$19","v":3.32},{"$f":"'Altherma 4 H'!$P$20","v":4.46},{"$f":"'Altherma 4 H'!$P$21","v":5.01},59,{"$f":"H2373-((H2373-H2378)/5*$A$7)","v":5.1274435992279592},5.2595525821391327,5.3916615650503061,5.5237705479614805,5.6558795308726539,5.7879885137838274,5.9200974966950008,6.0522064796061743,6.1843154625173486,6.3164244454285221,{"$f":"R2373-((R2373-R2378)/5*$A$7)","v":6.4485334283396956},6.5321215712929508,6.6157097142462051,6.6992978571994604,6.7828860001527156,6.8664741431059699,6.9500622860592252,7.0336504290124804,7.1172385719657356,7.20082671491899,7.2844148578722452,7.3680030008254995,7.4515911437787548,7.53517928673201,7.6187674296852652,7.7023555726385196,{"$f":"AH2373-((AH2373-AH2378)/5*$A$7)","v":7.7859437155917748},7.7171266083948984,7.648309501198022,7.5794923940011456,7.5106752868042692,7.4418581796073928,7.3730410724105164,7.30422396521364,7.2354068580167636,7.1665897508198873,{"$f":"AR2373-((AR2373-AR2378)/5*$A$7)","v":7.0977726436230109},7.0200504634970446,6.9423282833710793,6.8646061032451131,6.7868839231191469,6.7091617429931807,6.6314395628672145,6.5537173827412492,{"$f":"AZ2373-((AZ2373-AZ2378)/5*$A$7)","v":6.4759952026152829},6.5555155734301547,6.6350359442450255,6.7145563150598973,6.794076685874769,6.8735970566896398,6.9531174275045116,7.0326377983193833,7.112158169134255,7.1916785399491259,{"$f":"BJ2373-((BJ2373-BJ2378)/5*$A$7)","v":7.2711989107639976},7.1007710058620477,6.9303431009600978,6.7599151960581469,6.589487291156197,6.4190593862542471,6.2486314813522972,6.0782035764503473,5.9077756715483964,5.7373477666464465,{"$f":"BT2373-((BT2373-BT2378)/5*$A$7)","v":5.5669198617444966},5.6258293678048101,5.6847388738651228,5.7436483799254354,5.802557885985749,5.8614673920460625,{"$f":"BZ2373-((BZ2373-BZ2378)/5*$A$7)","v":5.9203768981063751},5.9648375572353007,6.0092982163642263,6.0537588754931519,6.0982195346220776,6.1426801937510032,6.1871408528799288,6.2316015120088544,6.27606217113778,6.3205228302667056,{"$f":"CJ2373-((CJ2373-CJ2378)/5*$A$7)","v":6.3649834893956312},null,"Altherma 4 H ECH2O 300 8 kW","Altherma 4 H ECH2O 500 8 kW",9,0.4]
[null,"Altherma 4 H F",8,{"$f":"'Altherma 4 H'!$P$19","v":3.32},{"$f":"'Altherma 4 H'!$P$20","v":4.46},{"$f":"'Altherma 4 H'!$P$21","v":5.01},25,{"$f":"H2343","v":0},{"$f":"I2343","v":0},0,0,0,0,0,0,0,0,0,0,0,0,0,0,0,0,0,0,0,0,0,0,0,0,6.6722946640861176,6.6706018905840283,6.6689091170819399,6.6672163435798506,6.6655235700777613,6.663830796575672,6.6621380230735836,6.6604452495714943,6.658752476069405,6.6570597025673166,6.6553669290652273,6.5685853515524899,6.4818037740397516,6.3950221965270142,6.3082406190142759,6.2214590415015385,6.1346774639888011,6.0478958864760628,5.9611143089633254,6.0651201731705724,6.1691260373778194,6.2731319015850664,6.3771377657923134,6.4811436299995595,6.5851494942068065,6.6891553584140535,6.7931612226213005,6.8971670868285475,7.0011729510357945,6.9408059677847547,6.8804389845337148,6.8200720012826741,6.7597050180316343,6.6993380347805944,6.6389710515295546,6.5786040682785147,6.518237085027474,6.4578701017764342,6.3975031185253943,{"$f":"BU2343","v":6.4818716447282165},6.5662401709310387,6.65060869713386,6.7349772233366823,6.8193457495395045,6.9037142757423267,6.8824797296482734,6.8612451835542201,6.8400106374601668,6.8187760913661135,6.7975415452720593,6.7763069991780061,6.7550724530839528,6.7338379069898995,6.7126033608958462,6.6913688148017929,null,"Altherma 4 H F 180 8 kW","Altherma 4 H F 230 8 kW",9,0.41]
[null,"Altherma 4 H F",8,{"$f":"'Altherma 4 H'!$P$19","v":3.32},{"$f":"'Altherma 4 H'!$P$20","v":4.46},{"$f":"'Altherma 4 H'!$P$21","v":5.01},35,5.4492109322953839,{"$f":"I2353","v":5.5553591933213013},5.6615074543472188,5.7676557153731371,5.8738039763990546,5.9799522374249721,6.0861004984508895,6.192248759476807,6.2983970205027253,6.4045452815286428,6.5106935425545602,6.5932854642996102,6.6758773860446601,6.7584693077897109,6.8410612295347608,6.9236531512798107,7.0062450730248607,7.0888369947699106,7.1714289165149605,7.2540208382600113,7.3366127600050612,7.4192046817501112,7.5017966034951611,7.584388525240211,7.6669804469852618,7.7495723687303117,7.8321642904753617,7.7458337666973796,7.6595032429193983,7.5731727191414162,7.4868421953634341,7.400511671585452,7.3141811478074708,7.2278506240294886,7.1415201002515065,7.0551895764735253,6.9688590526955432,6.8376639634838545,6.7064688742721668,6.5752737850604781,6.4440786958487895,6.3128836066371017,6.181688517425413,6.0504934282137253,5.9192983390020366,6.0756391660420412,6.2319799930820459,6.3883208201220505,6.5446616471620551,6.7010024742020597,6.8573433012420644,7.0136841282820681,7.1700249553220727,7.3263657823620774,7.482706609402082,7.3502091596248373,7.2177117098475936,7.0852142600703489,6.9527168102931052,6.8202193605158605,6.6877219107386168,6.5552244609613721,6.4227270111841275,6.2902295614068837,6.1577321116296391,6.2275167361427419,6.2973013606558448,6.3670859851689467,6.4368706096820496,6.5066552341951525,6.5764398587082553,6.6191190181406174,6.6617981775729804,6.7044773370053425,6.7471564964377055,6.7898356558700677,6.8325148153024298,6.8751939747347928,6.9178731341671549,6.9605522935995179,7.00323145303188,null,"Altherma 4 H F 180 8 kW","Altherma 4 H F 230 8 kW",9,0.41]
[null,"Altherma 4 H F",8,{"$f":"'Altherma 4 H'!$P$19","v":3.32},{"$f":"'Altherma 4 H'!$P$20","v":4.46},{"$f":"'Altherma 4 H'!$P$21","v":5.01},47,5.4687856481947543,{"$f":"I2365","v":5.6013227091555642},5.733859770116374,5.8663968310771848,5.9989338920379947,6.1314709529988045,6.2640080139596144,6.3965450749204242,6.5290821358812341,6.6616191968420448,6.7941562578028547,6.865313359641255,6.9364704614796562,7.0076275633180565,7.0787846651564568,7.149941766994858,7.2210988688332582,7.2922559706716594,7.3634130725100597,7.43457017434846,7.5057272761868612,7.5768843780252615,7.6480414798636627,7.719198581702063,7.7903556835404633,7.8615127853788636,7.9326698872172647,7.8209936960460471,7.7093175048748304,7.5976413137036127,7.485965122532396,7.3742889313611784,7.2626127401899616,7.150936549018744,7.0392603578475264,6.9275841666763096,6.815907975505092,6.7625563210228528,6.7092046665406144,6.6558530120583761,6.6025013575761369,6.5491497030938977,6.4957980486116593,6.442446394129421,6.3890947396471818,6.5140137805638023,6.6389328214804229,6.7638518623970425,6.888770903313663,7.0136899442302836,7.1386089851469041,7.2635280260635247,7.3884470669801443,7.5133661078967648,7.6382851488133854,7.4543470405022516,7.2704089321911178,7.0864708238799832,6.9025327155688494,6.7185946072577156,6.5346564989465818,6.3507183906354481,6.1667802823243143,5.9828421740131796,5.7989040657020459,5.8630384811295997,5.9271728965571535,5.9913073119847073,6.0554417274122621,6.1195761428398159,6.1837105582673697,6.2379810358789127,6.2922515134904566,6.3465219911019997,6.4007924687135427,6.4550629463250857,6.5093334239366296,6.5636039015481726,6.6178743791597157,6.6721448567712596,6.7264153343828026,null,"Altherma 4 H F 180 8 kW","Altherma 4 H F 230 8 kW",9,0.41]
[null,"Altherma 4 H F",8,{"$f":"'Altherma 4 H'!$P$19","v":3.32},{"$f":"'Altherma 4 H'!$P$20","v":4.46},{"$f":"'Altherma 4 H'!$P$21","v":5.01},57,5.1843339407224249,5.3374837881322534,5.4906336355420811,5.6437834829519096,5.7969333303617381,5.9500831777715657,6.1032330251813942,6.2563828725912227,6.4095327200010512,6.5626825674108789,6.7158324148207074,6.7851012123801624,6.8543700099396174,6.9236388074990725,6.9929076050585275,7.0621764026179825,7.1314452001774375,7.2007139977368926,7.2699827952963485,7.3392515928558026,7.4085203904152586,7.4777891879747136,7.5470579855341686,7.6163267830936237,7.6855955806530787,7.7548643782125337,7.8241331757719887,7.7565637466362194,7.68899431750045,7.6214248883646807,7.5538554592289113,7.486286030093142,7.4187166009573726,7.3511471718216033,7.2835777426858339,7.2160083135500646,7.1484388844142952,7.0651870924061919,6.9819353003980886,6.8986835083899862,6.8154317163818829,6.7321799243737797,6.6489281323656773,6.565676340357574,6.4824245483494707,6.5848422478071029,6.6872599472647352,6.7896776467223674,6.8920953461799996,6.9945130456376319,7.0969307450952641,7.1993484445528955,7.3017661440105277,7.4041838434681599,7.5066015429257922,7.3164997782069552,7.1263980134881182,6.9362962487692812,6.7461944840504442,6.5560927193316072,6.3659909546127702,6.1758891898939332,5.9857874251750962,5.7956856604562592,5.6055838957374222,5.6581755733433923,5.7107672509493623,5.7633589285553324,5.8159506061613033,5.8685422837672734,5.9211339613732434,5.9708376472057845,6.0205413330383255,6.0702450188708656,6.1199487047034067,6.1696523905359477,6.2193560763684888,6.2690597622010298,6.3187634480335699,6.368467133866111,6.418170819698652,null,"Altherma 4 H F 180 8 kW","Altherma 4 H F 230 8 kW",9,0.41]
[null,"Altherma 4 H F",8,{"$f":"'Altherma 4 H'!$P$19","v":3.32},{"$f":"'Altherma 4 H'!$P$20","v":4.46},{"$f":"'Altherma 4 H'!$P$21","v":5.01},68,4.8644085271437261,4.93268375740855,5.000958987673374,5.069234217938198,5.1375094482030219,5.2057846784678459,5.2740599087326698,5.3423351389974938,5.4106103692623178,5.4788855995271417,5.5471608297919657,5.6161021379261253,5.685043446060285,5.7539847541944438,5.8229260623286034,5.8918673704627631,5.9608086785969228,6.0297499867310824,6.0986912948652421,6.1676326029994009,6.2365739111335605,6.3055152192677202,6.3744565274018798,6.4433978355360395,6.5123391436701983,6.5812804518043579,6.6502217599385176,6.6676062414864479,6.684990723034379,6.7023752045823093,6.7197596861302404,6.7371441676781707,6.754528649226101,6.7719131307740321,6.7892976123219624,6.8066820938698935,6.8240665754178238,6.7740688809541147,6.7240711864904048,6.6740734920266949,6.6240757975629858,6.5740781030992768,6.5240804086355668,6.4740827141718569,6.4240850197081478,6.4028652243409248,6.3816454289737017,6.3604256336064786,6.3392058382392555,6.3179860428720325,6.2967662475048094,6.2755464521375863,6.2543266567703633,6.2331068614031402,6.2118870660359171,6.2018017085364656,6.191716351037015,6.1816309935375635,6.171545636038112,6.1614602785386605,6.1513749210392099,6.1412895635397584,6.1312042060403069,6.1211188485408563,6.1110334910414048,6.2109343570659643,6.3108352230905229,6.4107360891150824,6.5106369551396419,6.6105378211642005,6.71043868718876,6.7465930191647629,6.7827473511407668,6.8189016831167697,6.8550560150927726,6.8912103470687764,6.9273646790447794,6.9635190110207823,6.9996733429967852,7.035827674972789,7.071982006948792,null,"Altherma 4 H F 180 8 kW","Altherma 4 H F 230 8 kW",9,0.41]
[null,"Altherma 4 H F",8,{"$f":"'Altherma 4 H'!$P$19","v":3.32},{"$f":"'Altherma 4 H'!$P$20","v":4.46},{"$f":"'Altherma 4 H'!$P$21","v":5.01},72,0,0,0,0,0,0,0,0,0,0,4.7580412812700432,4.8426235926939203,4.9272059041177982,5.0117882155416762,5.0963705269655533,5.1809528383894303,5.2655351498133083,5.3501174612371862,5.4346997726610633,5.5192820840849404,5.6038643955088183,5.6884467069326963,5.7730290183565733,5.8576113297804504,5.9421936412043284,6.0267759526282063,6.1113582640520834,6.1710474986067387,6.2307367331613941,6.2904259677160494,6.3501152022707048,6.4098044368253611,6.4694936713800164,6.5291829059346718,6.5888721404893271,6.6485613750439825,6.7082506095986378,6.6403244942178361,6.5723983788370344,6.5044722634562326,6.4365461480754309,6.3686200326946301,6.3006939173138283,6.2327678019330266,6.1648416865522249,6.135339176691998,6.1058366668317712,6.0763341569715443,6.0468316471113175,6.0173291372510906,5.9878266273908629,5.9583241175306361,5.9288216076704092,5.8993190978101824,5.8698165879499555,0,0,0,0,0,0,0,0,0,0,0,0,0,0,0,0,0,0,0,0,0,0,0,0,0,0,null,"Altherma 4 H F 180 8 kW","Altherma 4 H F 230 8 kW",9,0.41]
[null,"Altherma 4 H W",8,{"$f":"'Altherma 4 H'!$P$19","v":3.32},{"$f":"'Altherma 4 H'!$P$20","v":4.46},{"$f":"'Altherma 4 H'!$P$21","v":5.01},34,0,0,0,0,0,0,0,0,0,0,6.4870716496172021,6.5620427941092965,6.63701393860139,6.7119850830934844,6.7869562275855788,6.8619273720776723,6.9368985165697667,7.0118696610618603,7.0868408055539547,7.1618119500460491,7.2367830945381426,7.311754239030237,7.3867253835223305,7.461696528014425,7.5366676725065194,7.6116388169986138,7.6866099614907073,7.6116013348280065,7.5365927081653066,7.4615840815026058,7.3865754548399059,7.311566828177205,7.2365582015145042,7.1615495748518043,7.0865409481891035,7.0115323215264036,6.9365236948637028,6.8098880669059438,6.683252438948184,6.556616810990425,6.4299811830326661,6.3033455550749071,6.1767099271171482,6.0500742991593883,5.9234386712016294,6.0745501284380117,6.225661585674394,6.3767730429107763,6.5278845001471586,6.6789959573835418,6.8301074146199241,6.9812188718563064,7.1323303290926887,7.283441786329071,7.4345532435654533,7.3097164881392791,7.1848797327131049,7.0600429772869306,6.9352062218607564,6.8103694664345822,6.685532711008408,6.5606959555822337,6.4358592001560595,6.3110224447298853,{"$f":"BT2352","v":6.186185689303711},6.25668262448837,6.327179559673028,6.397676494857687,6.4681734300423459,6.538670365227004,6.6091673004116629,6.6512330821888357,6.6932988639660085,6.7353646457431813,6.7774304275203541,6.819496209297526,6.8615619910746988,6.9036277728518716,6.9456935546290444,6.9877593364062172,7.02982511818339,null,"Altherma 4 H W 8 kW","Altherma 4 H W 8 kW",9,0.42]
[null,"Altherma 4 H W",8,{"$f":"'Altherma 4 H'!$P$19","v":3.32},{"$f":"'Altherma 4 H'!$P$20","v":4.46},{"$f":"'Altherma 4 H'!$P$21","v":5.01},43,5.510382978210453,{"$f":"I2361","v":5.6293115489947496},5.7482401197790471,5.8671686905633438,5.9860972613476413,6.1050258321319379,6.2239544029162346,6.3428829737005321,6.4618115444848288,6.5807401152691263,6.6996686860534229,6.7746373945273737,6.8496061030013236,6.9245748114752743,6.9995435199492242,7.074512228423175,7.1494809368971257,7.2244496453710756,7.2994183538450264,7.3743870623189771,7.449355770792927,7.5243244792668778,7.5992931877408285,7.6742618962147784,7.7492306046887292,7.8241993131626799,7.8991680216366298,7.7764724719445537,7.6537769222524776,7.5310813725604016,7.4083858228683255,7.2856902731762494,7.1629947234841733,7.0402991737920972,6.9176036241000212,6.7949080744079451,6.672212524715869,6.6164721928163877,6.5607318609169063,6.5049915290174258,6.4492511971179445,6.3935108652184631,6.3377705333189827,6.2820302014195013,6.2262898695200199,6.3623034461356465,6.498317022751273,6.6343305993668995,6.770344175982526,6.9063577525981525,7.0423713292137791,7.1783849058294056,7.3143984824450321,7.4504120590606586,7.5864256356762851,7.4179431623168472,7.2494606889574094,7.0809782155979715,6.9124957422385327,6.7440132688790948,6.5755307955196569,6.407048322160219,6.2385658488007802,6.0700833754413424,5.9016009020819045,5.9704374725817537,6.0392740430816021,6.1081106135814514,6.1769471840813006,6.245783754581149,6.3146203250809982,6.3664372920717831,6.4182542590625671,6.4700712260533519,6.5218881930441368,6.5737051600349208,6.6255221270257056,6.6773390940164905,6.7291560610072754,6.7809730279980593,6.8327899949888442,null,"Altherma 4 H W 8 kW","Altherma 4 H W 8 kW",9,0.42]
[null,"Altherma 4 H W",8,{"$f":"'Altherma 4 H'!$P$19","v":3.32},{"$f":"'Altherma 4 H'!$P$20","v":4.46},{"$f":"'Altherma 4 H'!$P$21","v":5.01},51,5.3550049652058229,{"$f":"I2369","v":5.5083688516404692},5.6617327380751155,5.8150966245097617,5.968460510944408,6.1218243973790543,6.2751882838137014,6.4285521702483477,6.581916056682994,6.7352799431176402,6.8886438295522865,6.9542724374748079,7.0199010453973294,7.0855296533198517,7.1511582612423732,7.2167868691648946,7.2824154770874161,7.3480440850099376,7.4136726929324599,7.4793013008549813,7.5449299087775028,7.6105585167000243,7.6761871246225457,7.7418157325450672,7.8074443404675895,7.873072948390111,7.9387015563126324,7.8827950982864987,7.8268886402603659,7.7709821822342331,7.7150757242080994,7.6591692661819657,7.6032628081558329,7.5473563501297001,7.4914498921035664,7.4355434340774327,7.3796369760512999,7.2708479270042226,7.1620588779571452,7.0532698289100679,6.9444807798629906,6.8356917308159133,6.726902681768836,6.6181136327217587,6.5093245836746814,6.627406591502262,6.7454885993298426,6.8635706071574232,6.9816526149850038,7.0997346228125835,7.217816630640165,7.3358986384677447,7.4539806462953253,7.5720626541229059,7.6901446619504865,7.4932877955270571,7.2964309291036287,7.0995740626801993,6.9027171962567708,6.7058603298333415,6.509003463409913,6.3121465969864836,6.1152897305630542,5.9184328641396258,5.7215759977161964,5.7767801300057871,5.8319842622953777,5.8871883945849683,5.942392526874559,5.9975966591641496,6.0528007914537403,6.1052939933691377,6.1577871952845351,6.2102803971999325,6.2627735991153299,6.3152668010307274,6.3677600029461248,6.4202532048615222,6.4727464067769196,6.525239608692317,6.5777328106077144,null,"Altherma 4 H W 8 kW","Altherma 4 H W 8 kW",9,0.42]
[null,"Altherma 4 H W",8,{"$f":"'Altherma 4 H'!$P$19","v":3.32},{"$f":"'Altherma 4 H'!$P$20","v":4.46},{"$f":"'Altherma 4 H'!$P$21","v":5.01},69,4.8336205112767816,4.9038449784872373,4.974069445697693,5.0442939129081479,5.1145183801186036,5.1847428473290593,5.254967314539515,5.3251917817499708,5.3954162489604256,5.4656407161708813,5.535865183381337,5.6045525470312745,5.6732399106812119,5.7419272743311485,5.8106146379810859,5.8793020016310233,5.9479893652809608,6.0166767289308982,6.0853640925808357,6.1540514562307722,6.2227388198807096,6.2914261835306471,6.3601135471805845,6.4288009108305211,6.4974882744804585,6.566175638130396,6.6348630017803334,6.6506576951806977,6.666452388581062,6.6822470819814264,6.6980417753817907,6.713836468782155,6.7296311621825193,6.7454258555828837,6.761220548983248,6.7770152423836123,6.7928099357839766,6.7461085767214213,6.6994072176588659,6.6527058585963106,6.6060044995337552,6.5593031404711999,6.5126017814086445,6.4659004223460892,6.4191990632835338,6.3866977319506821,6.3541964006178313,6.3216950692849796,6.2891937379521279,6.2566924066192762,6.2241910752864253,6.1916897439535736,6.1591884126207219,6.1266870812878711,6.0941857499550194,6.1178740484395142,6.1415623469240082,6.165250645408503,6.1889389438929978,6.2126272423774918,6.2363155408619866,6.2600038393464814,6.2836921378309762,6.3073804363154702,6.331068734799965,6.4383155590249306,6.5455623832498953,6.6528092074748608,6.7600560316998264,6.8673028559247911,6.9745496801497566,7.0131782631117341,7.0518068460737116,7.0904354290356899,7.1290640119976674,7.1676925949596448,7.2063211779216223,7.2449497608835998,7.2835783438455781,7.3222069268075556,7.360835509769533,null,"Altherma 4 H W 8 kW","Altherma 4 H W 8 kW",9,0.42]
[null,"Altherma 4 H W",8,{"$f":"'Altherma 4 H'!$P$19","v":3.32},{"$f":"'Altherma 4 H'!$P$20","v":4.46},{"$f":"'Altherma 4 H'!$P$21","v":5.01},72,0,0,0,0,0,0,0,0,0,0,4.7580412812700432,4.8426235926939203,4.9272059041177982,5.0117882155416762,5.0963705269655533,5.1809528383894303,5.2655351498133083,5.3501174612371862,5.4346997726610633,5.5192820840849404,5.6038643955088183,5.6884467069326963,5.7730290183565733,5.8576113297804504,5.9421936412043284,6.0267759526282063,6.1113582640520834,6.1710474986067387,6.2307367331613941,6.2904259677160494,6.3501152022707048,6.4098044368253611,6.4694936713800164,6.5291829059346718,6.5888721404893271,6.6485613750439825,6.7082506095986378,6.6403244942178361,6.5723983788370344,6.5044722634562326,6.4365461480754309,6.3686200326946301,6.3006939173138283,6.2327678019330266,6.1648416865522249,6.135339176691998,6.1058366668317712,6.0763341569715443,6.0468316471113175,6.0173291372510906,5.9878266273908629,5.9583241175306361,5.9288216076704092,5.8993190978101824,5.8698165879499555,0,0,0,0,0,0,0,0,0,0,0,0,0,0,0,0,0,0,0,0,0,0,0,0,0,0,null,"Altherma 4 H W 8 kW","Altherma 4 H W 8 kW",9,0.42]
[null,"Altherma 4 H ECH2O",10,{"$f":"'Altherma 4 H'!$P$30","v":2.85},{"$f":"'Altherma 4 H'!$P$31","v":4.46},{"$f":"'Altherma 4 H'!$P$32","v":4.9400000000000004},33,null,null,null,null,null,null,null,null,null,null,{"$f":"R2501-((R2501-R2506)/5*$A$6)","v":7.7955509870199586},7.8589131679447615,7.9222753488695652,7.985637529794368,8.0489997107191709,8.1123618916439746,8.1757240725687783,8.239086253493582,8.302448434418384,8.3658106153431877,8.4291727962679914,8.4925349771927934,8.5558971581175971,8.6192593390424008,8.6826215199672045,8.7459837008920065,{"$f":"AH2501-((AH2501-AH2506)/5*$A$6)","v":8.8093458818168102},8.6915400917585615,8.5737343017003127,8.4559285116420639,8.3381227215838134,8.2203169315255646,8.1025111414673159,7.9847053514090671,7.8668995613508184,7.7490937712925687,{"$f":"AR2501-((AR2501-AR2506)/5*$A$6)","v":7.63128798123432},7.542287803740602,7.4532876262468841,7.3642874487531662,7.2752872712594474,7.1862870937657295,7.0972869162720116,7.0082867387782937,{"$f":"AZ2501-((AZ2501-AZ2506)/5*$A$6)","v":6.9192865612845758},7.1855935649695875,7.4519005686545992,7.71820757233961,7.9845145760246217,8.2508215797096334,8.5171285833946442,8.7834355870796568,9.0497425907646676,9.3160495944496802,{"$f":"BJ2501-((BJ2501-BJ2506)/5*$A$6)","v":9.582356598134691},9.4366102388575044,9.290863879580316,9.1451175203031294,8.9993711610259428,8.8536248017487544,8.7078784424715678,8.5621320831943812,8.4163857239171946,8.2706393646400063,{"$f":"BT2501-((BT2501-BT2506)/5*$A$6)","v":8.1248930053628197},8.1251697656062074,8.1254465258495951,8.1257232860929811,8.1260000463363689,8.1262768065797566,{"$f":"BZ2501-((BZ2501-BZ2506)/5*$A$6)","v":8.1265535668231443},8.1772718024547473,8.2279900380863502,8.2787082737179531,8.3294265093495561,8.380144744981159,8.4308629806127602,8.4815812162443631,8.5322994518759661,8.583017687507569,{"$f":"CJ2501-((CJ2501-CJ2506)/5*$A$6)","v":8.6337359231391719},null,"Altherma 4 H ECH2O 300 10 kW","Altherma 4 H ECH2O 500 10 kW",9,0.3]
[null,"Altherma 4 H ECH2O",10,{"$f":"'Altherma 4 H'!$P$30","v":2.85},{"$f":"'Altherma 4 H'!$P$31","v":4.46},{"$f":"'Altherma 4 H'!$P$32","v":4.9400000000000004},50,{"$f":"'Altherma 4 H'!H29","v":5.3834501359530558},5.6730937437372821,5.9627373515215094,6.2523809593057358,6.5420245670899622,6.8316681748741885,7.1213117826584158,7.4109553904426422,7.7005989982268694,7.9902426060110958,{"$f":"'Altherma 4 H'!H30","v":8.2798862137953222},8.3478441276006432,8.4158020414059642,8.483759955211287,8.551717869016608,8.619675782821929,8.6876336966272518,8.7555916104325728,8.8235495242378938,8.8915074380432149,8.9594653518485359,9.0274232656538587,9.0953811794591797,9.1633390932645007,9.2312970070698235,9.2992549208751445,{"$f":"'Altherma 4 H'!H31","v":9.3672128346804655},9.2642117012365812,9.1612105677926987,9.0582094343488144,8.9552083009049301,8.8522071674610459,8.7492060340171633,8.6462049005732791,8.5432037671293948,8.4402026336855123,{"$f":"'Altherma 4 H'!H32","v":8.337201500241628},8.2557979207438308,8.1743943412460336,8.0929907617482364,8.0115871822504392,7.930183602752642,7.8487800232548448,7.7673764437570476,{"$f":"'Altherma 4 H'!H33","v":7.6859728642592504},7.9133340362548878,8.1406952082505253,8.3680563802461627,8.5954175522418002,8.8227787242374376,9.050139896233075,9.2775010682287125,9.5048622402243499,9.7322234122199873,{"$f":"'Altherma 4 H'!H34","v":9.9595845842156248},9.713321172421244,9.4670577606268651,9.2207943488324844,8.9745309370381054,8.7282675252437247,8.4820041134493458,8.2357407016549651,7.9894772898605853,7.7432138780662054,{"$f":"'Altherma 4 H'!H35","v":7.4969504662718256},7.4884291851252343,7.479907903978642,7.4713866228320498,7.4628653416854585,7.4543440605388671,{"$f":"'Altherma 4 H'!H36","v":7.4458227793922749},7.5092992702518231,7.5727757611113713,7.6362522519709195,7.6997287428304677,7.7632052336900159,7.8266817245495641,7.8901582154091123,7.9536347062686605,8.0171111971282087,{"$f":"'Altherma 4 H'!H37","v":8.080587687987757},null,"Altherma 4 H ECH2O 300 10 kW","Altherma 4 H ECH2O 500 10 kW",9,0.3]
[null,"Altherma 4 H ECH2O",10,{"$f":"'Altherma 4 H'!$P$30","v":2.85},{"$f":"'Altherma 4 H'!$P$31","v":4.46},{"$f":"'Altherma 4 H'!$P$32","v":4.9400000000000004},60,{"$f":"'Altherma 4 H'!J29","v":5.0989984284807264},5.3137700225751336,5.5285416166695418,5.7433132107639491,5.9580848048583563,6.1728563989527636,6.3876279930471718,6.602399587141579,6.8171711812359863,7.0319427753303945,{"$f":"'Altherma 4 H'!J30","v":7.2467143694248017},7.3792683224532176,7.5118222754816326,7.6443762285100485,7.7769301815384635,7.9094841345668794,8.0420380875952944,8.1745920406237111,8.3071459936521261,8.4396999466805411,8.5722538997089561,8.7048078527373729,8.8373618057657879,8.9699157587942029,9.1024697118226179,9.2350236648510347,{"$f":"'Altherma 4 H'!J31","v":9.3675776178794496},9.2225738862350628,9.077570154590676,8.9325664229462891,8.7875626913019023,8.6425589596575154,8.4975552280131286,8.3525514963687417,8.2075477647243549,8.062544033079968,{"$f":"'Altherma 4 H'!J32","v":7.9175403014355812},7.8916354666955986,7.8657306319556168,7.8398257972156351,7.8139209624756525,7.7880161277356699,7.7621112929956881,7.7362064582557064,{"$f":"'Altherma 4 H'!J33","v":7.7103016235157238},7.8672927707446618,8.0242839179735999,8.1812750652025379,8.3382662124314759,8.495257359660414,8.6522485068893502,8.8092396541182882,8.9662308013472263,9.1232219485761643,{"$f":"'Altherma 4 H'!J34","v":9.2802130958051023},9.0766414930093351,8.8730698902135678,8.6694982874178024,8.4659266846220351,8.2623550818262679,8.0587834790305006,7.8552118762347343,7.651640273438967,7.4480686706432007,{"$f":"'Altherma 4 H'!J35","v":7.2444970678474334},7.2442962430359703,7.2440954182245081,7.243894593413045,7.2436937686015819,7.2434929437901197,{"$f":"'Altherma 4 H'!J36","v":7.2432921189786565},7.2944835444000713,7.3456749698214869,7.3968663952429017,7.4480578206643173,7.4992492460857321,7.5504406715071468,7.6016320969285625,7.6528235223499772,7.7040149477713928,{"$f":"'Altherma 4 H'!J37","v":7.7552063731928076},null,"Altherma 4 H ECH2O 300 10 kW","Altherma 4 H ECH2O 500 10 kW",9,0.3]
[null,"Altherma 4 H ECH2O",10,{"$f":"'Altherma 4 H'!$P$30","v":2.85},{"$f":"'Altherma 4 H'!$P$31","v":4.46},{"$f":"'Altherma 4 H'!$P$32","v":4.9400000000000004},65,{"$f":"'Altherma 4 H'!K29","v":4.9567725747445612},5.0682044160468465,5.1796362573491308,5.2910680986514151,5.4024999399537004,5.5139317812559856,5.6253636225582699,5.7367954638605543,5.8482273051628395,5.9596591464651247,{"$f":"'Altherma 4 H'!K30","v":6.0710909877674091},6.1382377995160491,6.20538461126469,6.27253142301333,6.3396782347619709,6.4068250465106109,6.4739718582592518,6.5411186700078918,6.6082654817565327,6.6754122935051727,6.7425591052538127,6.8097059170024536,6.8768527287510937,6.9439995404997346,7.0111463522483746,7.0782931639970155,{"$f":"'Altherma 4 H'!K31","v":7.1454399757456555},7.1991125341575213,7.2527850925693871,7.306457650981252,7.3601302093931178,7.4138027678049836,7.4674753262168494,7.5211478846287152,7.5748204430405801,7.6284930014524459,{"$f":"'Altherma 4 H'!K32","v":7.6821655598643117},7.6849748112340741,7.6877840626038365,7.6905933139735989,7.6934025653433613,7.6962118167131237,7.6990210680828861,7.7018303194526485,{"$f":"'Altherma 4 H'!K33","v":7.7046395708224109},7.7858501237006381,7.8670606765788653,7.9482712294570925,8.0294817823353206,8.1106923352135478,8.191902888091775,8.2731134409700022,8.3543239938482294,8.4355345467264566,{"$f":"'Altherma 4 H'!K34","v":8.5167450996046838},8.3768976265077395,8.2370501534107952,8.0972026803138508,7.9573552072169056,7.8175077341199604,7.677660261023016,7.5378127879260717,7.3979653148291273,7.2581178417321821,{"$f":"'Altherma 4 H'!K35","v":7.1182703686352378},7.1387213732034827,7.1591723777717267,7.1796233823399715,7.2000743869082164,7.2205253914764604,{"$f":"'Altherma 4 H'!K36","v":7.2409763960447053},7.276130328019768,7.3112842599948307,7.3464381919698933,7.381592123944956,7.4167460559200187,7.4518999878950813,7.487053919870144,7.5222078518452067,7.5573617838202694,{"$f":"'Altherma 4 H'!K37","v":7.592515715795332},null,"Altherma 4 H ECH2O 300 10 kW","Altherma 4 H ECH2O 500 10 kW",9,0.3]
[null,"Altherma 4 H F",10,{"$f":"'Altherma 4 H'!$P$30","v":2.85},{"$f":"'Altherma 4 H'!$P$31","v":4.46},{"$f":"'Altherma 4 H'!$P$32","v":4.9400000000000004},30,0,{"$f":"I2501","v":0},0,0,0,0,0,0,0,0,7.7100800646478351,7.7507066372603415,7.7913332098728478,7.8319597824853533,7.8725863550978596,7.913212927710366,7.9538395003228715,7.9944660729353778,8.0350926455478842,8.0757192181603905,8.1163457907728969,8.1569723633854032,8.1975989359979096,8.2382255086104141,8.2788520812229205,8.3194786538354268,8.3601052264479332,8.2730351209924073,8.1859650155368815,8.0988949100813556,8.011824804625828,7.9247546991703022,7.8376845937147763,7.7506144882592505,7.6635443828037246,7.5764742773481979,7.489404171892672,7.4198722374930188,7.3503403030933647,7.2808083686937115,7.2112764342940583,7.1417444998944051,7.0722125654947519,7.0026806310950978,6.9331486966954445,7.1793287174326812,7.4255087381699179,7.6716887589071545,7.9178687796443912,8.1640488003816269,8.4102288211188636,8.6564088418561003,8.9025888625933369,9.1487688833305736,9.3949489040678102,9.2804862101942813,9.1660235163207524,9.0515608224472235,8.9370981285736946,8.8226354347001639,8.7081727408266349,8.593710046953106,8.4792473530795771,8.3647846592060482,8.2503219653325193,{"$f":"BU2501","v":8.2497153926622566},8.249108819991994,8.2485022473217313,8.2478956746514704,8.2472891019812078,8.2466825293109451,8.2951493081376171,8.3436160869642872,8.3920828657909592,8.4405496446176294,8.4890164234443013,8.5374832022709732,8.5859499810976434,8.6344167599243153,8.6828835387509855,8.7313503175776574,null,"Altherma 4 H F 180 10 kW","Altherma 4 H F 230 10 kW",9,0.31]
[null,"Altherma 4 H F",10,{"$f":"'Altherma 4 H'!$P$30","v":2.85},{"$f":"'Altherma 4 H'!$P$31","v":4.46},{"$f":"'Altherma 4 H'!$P$32","v":4.9400000000000004},40,5.487443460992302,{"$f":"I2511","v":5.73819742881523},5.9889513966381571,6.2397053644610851,6.4904593322840132,6.7412133001069403,6.9919672679298683,7.2427212357527964,7.4934752035757235,7.7442291713986506,7.9949831392215787,8.0699387663469295,8.1448943934722795,8.2198500205976295,8.2948056477229812,8.3697612748483312,8.4447169019736812,8.5196725290990329,8.5946281562243829,8.6695837833497329,8.7445394104750829,8.8194950376004346,8.8944506647257846,8.9694062918511346,9.0443619189764846,9.1193175461018363,9.1942731732271863,9.0614812158817877,8.9286892585363908,8.7958973011909922,8.6631053438455936,8.5303133865001968,8.3975214291547982,8.2647294718093995,8.1319375144640027,7.9991455571186041,7.8663535997732064,7.7774160136581303,7.6884784275430542,7.5995408414279781,7.510603255312903,7.4216656691978269,7.3327280830827508,7.2437904969676747,7.1548529108525987,7.4185067766309229,7.6821606424092463,7.9458145081875706,8.209468373965894,8.4731222397442174,8.7367761055225426,9.000429971300866,9.2640838370791911,9.5277377028575145,9.7913915686358379,9.5954749549822722,9.3995583413287083,9.2036417276751425,9.0077251140215768,8.8118085003680129,8.6158918867144472,8.4199752730608814,8.2240586594073175,8.0281420457537518,7.832225432100187,{"$f":"BU2511","v":7.8345633024754244},7.836901172850661,7.8392390432258985,7.841576913601136,7.8439147839763725,7.84625265435161,7.9022242891947201,7.9581959240378293,8.0141675588809402,8.0701391937240494,8.1261108285671586,8.1820824634102696,8.2380540982533788,8.2940257330964879,8.3499973679395989,8.4059690027827081,null,"Altherma 4 H F 180 10 kW","Altherma 4 H F 230 10 kW",9,0.31]
[null,"Altherma 4 H F",10,{"$f":"'Altherma 4 H'!$P$30","v":2.85},{"$f":"'Altherma 4 H'!$P$31","v":4.46},{"$f":"'Altherma 4 H'!$P$32","v":4.9400000000000004},47,5.4687856481947543,{"$f":"I2518","v":5.7413486125175988},6.0139115768404432,6.2864745411632876,6.559037505486133,6.8316004698089774,7.1041634341318218,7.3767263984546663,7.6492893627775107,7.9218523271003551,8.1944152914231996,8.2644594610231312,8.3345036306230611,8.4045478002229927,8.4745919698229226,8.5446361394228543,8.6146803090227841,8.6847244786227158,8.7547686482226474,8.8248128178225773,8.894856987422509,8.9649011570224388,9.0349453266223705,9.1049894962223004,9.175033665822232,9.2450778354221619,9.3151220050220935,9.1612550623762186,9.0073881197303436,8.8535211770844686,8.6996542344385919,8.5457872917927169,8.3919203491468419,8.238053406500967,8.084186463855092,7.9303195212092161,7.7764525785633412,7.7446782974339987,7.7129040163046572,7.6811297351753147,7.6493554540459723,7.6175811729166307,7.5858068917872883,7.5540326106579467,7.5222583295286043,7.7609451645299128,7.9996319995312213,8.2383188345325298,8.4770056695338383,8.7156925045351468,8.9543793395364553,9.1930661745377638,9.4317530095390723,9.6704398445403807,9.9091266795416892,9.6754826601674342,9.4418386407931791,9.2081946214189259,8.9745506020446708,8.7409065826704158,8.5072625632961625,8.2736185439219074,8.0399745245476524,7.8063305051733973,7.5726864857991432,{"$f":"BU2518","v":7.5715640284792984},7.5704415711594537,7.5693191138396099,7.5681966565197651,7.5670741991999204,7.5659517418800757,7.632353267428317,7.6987547929765583,7.7651563185247987,7.83155784407304,7.8979593696212813,7.9643608951695226,8.0307624207177639,8.0971639462660043,8.1635654718142465,8.2299669973624869,null,"Altherma 4 H F 180 10 kW","Altherma 4 H F 230 10 kW",9,0.31]
[null,"Altherma 4 H F",10,{"$f":"'Altherma 4 H'!$P$30","v":2.85},{"$f":"'Altherma 4 H'!$P$31","v":4.46},{"$f":"'Altherma 4 H'!$P$32","v":4.9400000000000004},55,5.2412242822168906,{"$f":"I2526","v":5.5593356291034208},5.877446975989951,6.1955583228764812,6.5136696697630123,6.8317810166495425,7.1498923635360727,7.4680037104226038,7.786115057309134,8.1042264041956642,8.4223377510821944,8.4886121513161363,8.55488655155008,8.6211609517840238,8.6874353520179657,8.7537097522519076,8.8199841524858513,8.886258552719795,8.952532952953737,9.0188073531876789,9.0850817534216226,9.1513561536555663,9.2176305538895082,9.2839049541234502,9.3501793543573939,9.4164537545913376,9.4827281548252795,9.3474633238615805,9.2121984928978797,9.0769336619341807,8.9416688309704799,8.8064040000067809,8.6711391690430819,8.5358743380793811,8.4006095071156821,8.2653446761519813,8.1300798451882823,8.0752843144623387,8.0204887837363934,7.9656932530104489,7.9108977222845045,7.8561021915585609,7.8013066608326165,7.746511130106672,7.6917155993807276,7.9269121486432068,8.1621086979056852,8.3973052471681644,8.6325017964306436,8.8676983456931229,9.1028948949556021,9.3380914442180813,9.5732879934805606,9.8084845427430398,10.043681092005519,9.7763853595109307,9.5090896270163405,9.2417938945217522,8.9744981620271638,8.7072024295325754,8.4399066970379852,8.1726109645433969,7.9053152320488076,7.6380194995542183,7.3707237670596299,{"$f":"BU2526","v":7.3498711128684597},7.3290184586772895,7.3081658044861193,7.2873131502949482,7.266460496103778,7.2456078419126078,7.3128367607803755,7.3800656796481423,7.44729459851591,7.5145235173836777,7.5817524362514455,7.6489813551192123,7.71621027398698,7.7834391928547477,7.8506681117225146,7.9178970305902823,null,"Altherma 4 H F 180 10 kW","Altherma 4 H F 230 10 kW",9,0.31]
[null,"Altherma 4 H F",10,{"$f":"'Altherma 4 H'!$P$30","v":2.85},{"$f":"'Altherma 4 H'!$P$31","v":4.46},{"$f":"'Altherma 4 H'!$P$32","v":4.9400000000000004},72,0,{"$f":"I2543","v":0},0,0,0,0,0,0,0,0,4.851015744209306,4.9464368193854193,5.0418578945615327,5.1372789697376469,5.2327000449137602,5.3281211200898735,5.4235421952659868,5.5189632704421001,5.6143843456182143,5.7098054207943276,5.8052264959704409,5.9006475711465542,5.9960686463226676,6.0914897214987818,6.1869107966748942,6.2823318718510084,6.3777529470271217,6.4498408358669357,6.5219287247067497,6.5940166135465637,6.6661045023863776,6.7381923912261916,6.8102802800660056,6.8823681689058196,6.9544560577456336,7.0265439465854476,7.0986318354252615,7.1024745137578815,7.1063171920905006,7.1101598704231197,7.1140025487557397,7.1178452270883596,7.1216879054209787,7.1255305837535978,7.1293732620862178,7.1100251548443998,7.0906770476025827,7.0713289403607646,7.0519808331189475,7.0326327258771295,7.0132846186353115,6.9939365113934944,6.9745884041516764,6.9552402969098592,6.9358921896680412,0,0,0,0,0,0,0,0,0,0,{"$f":"BU2543","v":0},0,0,0,0,0,0,0,0,0,0,0,0,0,0,0,null,"Altherma 4 H F 180 10 kW","Altherma 4 H F 230 10 kW",9,0.31]
[null,"Altherma 4 H W",10,{"$f":"'Altherma 4 H'!$P$30","v":2.85},{"$f":"'Altherma 4 H'!$P$31","v":4.46},{"$f":"'Altherma 4 H'!$P$32","v":4.9400000000000004},29,0,{"$f":"I2500","v":0},0,0,0,0,0,0,0,0,0,0,0,0,0,0,0,0,0,0,0,0,0,0,0,0,7.8240412944773325,7.7861346804122133,7.7482280663470942,7.710321452281975,7.6724148382168558,7.6345082241517357,7.5966016100866165,7.5586949960214973,7.5207883819563781,7.4828817678912589,7.4449751538261397,7.3815727978344201,7.3181704418427014,7.2547680858509818,7.1913657298592621,7.1279633738675434,7.0645610178758238,7.0011586618841051,6.9377563058923855,7.1772286425743657,7.416700979256345,7.6561733159383252,7.8956456526203045,8.1351179893022838,8.3745903259842649,8.6140626626662442,8.8535349993482235,9.0930073360302046,9.3324796727121839,9.2263451911749357,9.1202107096376892,9.014076228100441,8.9079417465631927,8.8018072650259462,8.695672783488698,8.5895383019514497,8.4834038204142015,8.377269338876955,8.2711348573397068,{"$f":"BU2500","v":8.2737333005842348},8.2763317438287647,8.2789301870732928,8.2815286303178208,8.2841270735623507,8.2867255168068787,8.3203027215299059,8.3538799262529331,8.3874571309759602,8.4210343356989874,8.4546115404220146,8.4881887451450435,8.5217659498680707,8.5553431545910978,8.588920359314125,8.6224975640371522,null,"Altherma 4 H W 10 kW","Altherma 4 H W 10 kW",9,0.32]
[null,"Altherma 4 H W",10,{"$f":"'Altherma 4 H'!$P$30","v":2.85},{"$f":"'Altherma 4 H'!$P$31","v":4.46},{"$f":"'Altherma 4 H'!$P$32","v":4.9400000000000004},36,5.4568574380347679,{"$f":"I2507","v":5.6992738851704994},5.9416903323062309,6.1841067794419615,6.426523226577693,6.6689396737134246,6.9113561208491561,7.1537725679848876,7.3961890151206191,7.6386054622563506,7.8810219093920812,7.9588284373235521,8.0366349652550237,8.1144414931864954,8.1922480211179654,8.270054549049437,8.3478610769809087,8.4256676049123804,8.5034741328438503,8.581280660775322,8.6590871887067937,8.7368937166382636,8.8147002445697353,8.892506772501207,8.9703133004326787,9.0481198283641486,9.1259263562956203,8.9887309676584888,8.851535579021359,8.7143401903842275,8.5771448017470959,8.4399494131099644,8.3027540244728328,8.1655586358357031,8.0283632471985715,7.89116785856144,7.7539724699243093,7.6546017477228183,7.5552310255213282,7.4558603033198372,7.3564895811183462,7.2571188589168552,7.1577481367153641,7.058377414513874,6.959006692312383,7.235517459321537,7.512028226330691,7.788538993339845,8.0650497603489981,8.341560527358153,8.6180712943673061,8.894582061376461,9.1710928283856141,9.4476035953947672,9.7241143624039221,9.5516493307028423,9.3791842990017606,9.2067192673006808,9.0342542355996009,8.8617892038985211,8.6893241721974412,8.5168591404963596,8.3443941087952798,8.1719290770941999,7.9994640453931192,{"$f":"BU2507","v":8.0006241385501564},8.0017842317071946,8.0029443248642309,8.004104418021269,8.0052645111783054,8.0064246043353435,8.0593942967718775,8.1123639892084132,8.1653336816449471,8.218303374081481,8.2712730665180167,8.3242427589545507,8.3772124513910846,8.4301821438276185,8.4831518362641543,8.5361215287006882,null,"Altherma 4 H W 10 kW","Altherma 4 H W 10 kW",9,0.32]
[null,"Altherma 4 H W",10,{"$f":"'Altherma 4 H'!$P$30","v":2.85},{"$f":"'Altherma 4 H'!$P$31","v":4.46},{"$f":"'Altherma 4 H'!$P$32","v":4.9400000000000004},46,5.4972308189419872,{"$f":"I2517","v":5.7641002354443707},6.0309696519467551,6.2978390684491385,6.564708484951522,6.8315779014539064,7.0984473179562899,7.3653167344586734,7.6321861509610578,7.8990555674634413,8.1659249839658248,8.2366645721639582,8.3074041603620934,8.3781437485602268,8.4488833367583602,8.5196229249564954,8.5903625131546288,8.6611021013527623,8.7318416895508975,8.8025812777490309,8.8733208659471643,8.9440604541452977,9.0148000423434329,9.0855396305415663,9.1562792187396997,9.2270188069378349,9.2977583951359684,9.1269361827560953,8.956113970376224,8.785291757996351,8.6144695456164797,8.4436473332366067,8.2728251208567354,8.1020029084768623,7.9311806960969902,7.760358483717118,7.5895362713372458,7.5743050896640556,7.5590739079908653,7.5438427263176751,7.5286115446444839,7.5133803629712936,7.4981491812981034,7.4829179996249131,7.4676868179517228,7.710148873954922,7.9526109299581202,8.1950729859613194,8.4375350419645176,8.6799970979677177,8.9224591539709159,9.1649212099741142,9.4073832659773124,9.6498453219805125,9.8923073779837107,9.6628698227494976,9.4334322675152844,9.203994712281073,8.9745571570468599,8.7451196018126467,8.5156820465784335,8.2862444913442204,8.0568069361100072,7.8273693808757949,7.5979318256415818,{"$f":"BU2517","v":7.5992756429306532},7.6006194602197246,7.601963277508796,7.6033070947978665,7.6046509120869379,7.6059947293760093,7.6733712664871483,7.7407478035982873,7.8081243407094254,7.8755008778205644,7.9428774149317034,8.0102539520428415,8.0776304891539805,8.1450070262651195,8.2123835633762585,8.2797601004873975,null,"Altherma 4 H W 10 kW","Altherma 4 H W 10 kW",9,0.32]
[null,"Altherma 4 H W",10,{"$f":"'Altherma 4 H'!$P$30","v":2.85},{"$f":"'Altherma 4 H'!$P$31","v":4.46},{"$f":"'Altherma 4 H'!$P$32","v":4.9400000000000004},58,5.1558887699751921,{"$f":"I2529","v":5.4119962651864491},5.6681037603977051,5.9242112556089621,6.1803187508202182,6.4364262460314752,6.6925337412427321,6.9486412364539891,7.2047487316652452,7.4608562268765013,7.7169637220877583,7.8230058539983851,7.9290479859090111,8.035090117819637,8.1411322497302638,8.2471743816408907,8.3532165135515175,8.4592586454621443,8.5653007773727694,8.6713429092833962,8.7773850411940231,8.8834271731046499,8.9894693050152767,9.0955114369259036,9.2015535688365286,9.3075957007471555,9.4136378326577823,9.2725296612856702,9.1314214899135582,8.9903133185414461,8.849205147169334,8.708096975797222,8.5669888044251099,8.4258806330529978,8.2847724616808858,8.1436642903087737,8.0025561189366616,7.9650950058022945,7.9276338926679273,7.8901727795335601,7.8527116663991929,7.8152505532648266,7.7777894401304595,7.7403283269960923,7.7028672138617251,7.8911405219040791,8.079413829946434,8.2676871379887888,8.4559604460311419,8.6442337540734968,8.8325070621158517,9.0207803701582066,9.2090536782005614,9.3973269862429145,9.5856002942852694,9.3565390396099737,9.127477784934678,8.8984165302593823,8.6693552755840866,8.4402940209087909,8.2112327662334952,7.9821715115581995,7.7531102568829038,7.5240490022076081,7.2949877475323124,{"$f":"BU2529","v":7.2865261909689663},7.278064634405621,7.2696030778422749,7.2611415212789288,7.2526799647155835,7.2442184081522374,7.3018248309521931,7.3594312537521498,7.4170376765521056,7.4746440993520613,7.5322505221520171,7.5898569449519737,7.6474633677519295,7.7050697905518852,7.7626762133518419,7.8202826361517976,null,"Altherma 4 H W 10 kW","Altherma 4 H W 10 kW",9,0.32]
[null,"Altherma 4 H W",10,{"$f":"'Altherma 4 H'!$P$30","v":2.85},{"$f":"'Altherma 4 H'!$P$31","v":4.46},{"$f":"'Altherma 4 H'!$P$32","v":4.9400000000000004},73,0,{"$f":"I2544","v":0},0,0,0,0,0,0,0,0,4.4367601287125522,4.5366427287670019,4.6365253288214507,4.7364079288759005,4.8362905289303502,4.936173128984799,5.0360557290392487,5.1359383290936984,5.2358209291481472,5.3357035292025969,5.4355861292570467,5.5354687293114964,5.6353513293659452,5.7352339294203949,5.8351165294748437,5.9349991295292934,6.0348817295837431,6.1242134554586372,6.2135451813335312,6.3028769072084243,6.3922086330833183,6.4815403589582123,6.5708720848331064,6.6602038107080004,6.7495355365828935,6.8388672624577875,6.9281989883326816,6.9169349670340328,6.9056709457353831,6.8944069244367334,6.8831429031380846,6.8718788818394358,6.8606148605407862,6.8493508392421365,6.8380868179434877,6.8069981094291316,6.7759094009147764,6.7448206924004204,6.7137319838860643,6.6826432753717082,6.651554566857353,6.6204658583429969,6.5893771498286409,6.5582884413142857,6.5271997327999296,0,0,0,0,0,0,0,0,0,0,{"$f":"BU2544","v":0},0,0,0,0,0,0,0,0,0,0,0,0,0,0,0,null,"Altherma 4 H W 10 kW","Altherma 4 H W 10 kW",9,0.32]
[null,"Altherma 4 H ECH2O",12,{"$f":"'Altherma 4 H'!$P$41","v":3.49},{"$f":"'Altherma 4 H'!$P$42","v":4.0599999999999996},{"$f":"'Altherma 4 H'!$P$43","v":5.5},33,{"$f":"H2654-((H2654-H2659)/5*$A$6)","v":8.5962066666666672},8.7172020000000003,8.8381973333333335,8.9591926666666666,9.0801879999999997,9.2011833333333328,9.3221786666666677,9.4431740000000008,9.564169333333334,9.6851646666666671,{"$f":"R2654-((R2654-R2659)/5*$A$6)","v":9.8061600000000002},9.8309705146324298,9.8557810292648576,9.8805915438972871,9.9054020585297167,9.9302125731621445,9.955023087794574,9.9798336024270018,10.004644117059431,10.029454631691861,10.054265146324289,10.079075660956718,10.103886175589146,10.128696690221576,10.153507204854005,10.178317719486433,{"$f":"AH2654-((AH2654-AH2659)/5*$A$6)","v":10.203128234118862},10.132573990460369,10.062019746801875,9.991465503143381,9.9209112594848872,9.8503570158263933,9.7798027721678977,9.7092485285094039,9.6386942848509101,9.5681400411924162,{"$f":"AR2654-((AR2654-AR2659)/5*$A$6)","v":9.4975857975339224},9.4579787520882164,9.4183717066425121,9.3787646611968061,9.3391576157511018,9.2995505703053958,9.2599435248596897,9.2203364794139855,{"$f":"AZ2654-((AZ2654-AZ2659)/5*$A$6)","v":9.1807294339682795},9.4781112731801471,9.7754931123920148,10.072874951603882,10.37025679081575,10.667638630027618,10.965020469239485,11.262402308451353,11.559784147663221,11.857165986875088,{"$f":"BJ2654-((BJ2654-BJ2659)/5*$A$6)","v":12.154547826086956},11.962738134387351,11.770928442687747,11.579118750988142,11.387309059288537,11.195499367588933,11.003689675889328,10.811879984189723,10.620070292490118,10.428260600790514,{"$f":"BT2654-((BT2654-BT2659)/5*$A$6)","v":10.236450909090909},10.348806666666666,10.461162424242424,10.573518181818182,10.685873939393939,10.798229696969697,{"$f":"BZ2654-((BZ2654-BZ2659)/5*$A$6)","v":10.910585454545455},11.023933454545455,11.137281454545455,11.250629454545455,11.363977454545456,11.477325454545454,11.590673454545454,11.704021454545455,11.817369454545455,11.930717454545455,{"$f":"CJ2654-((CJ2654-CJ2659)/5*$A$6)","v":12.044065454545455},null,"Altherma 4 H ECH2O 500 12 kW","Altherma 4 H ECH2O 500 12 kW",9,0.2]
[null,"Altherma 4 H ECH2O",12,{"$f":"'Altherma 4 H'!$P$41","v":3.49},{"$f":"'Altherma 4 H'!$P$42","v":4.0599999999999996},{"$f":"'Altherma 4 H'!$P$43","v":5.5},43,{"$f":"H2664-((H2664-H2669)/5*$A$6)","v":9.0243400000000005},9.1190512096219933,9.2137624192439862,9.3084736288659791,9.4031848384879719,9.4978960481099648,9.5926072577319594,9.6873184673539523,9.7820296769759452,9.876740886597938,{"$f":"R2664-((R2664-R2669)/5*$A$6)","v":9.9714520962199309},10.039119245863651,10.106786395507369,10.174453545151088,10.242120694794808,10.309787844438526,10.377454994082246,10.445122143725966,10.512789293369686,10.580456443013404,10.648123592657123,10.715790742300843,10.783457891944561,10.851125041588281,10.918792191232001,10.986459340875719,{"$f":"AH2664-((AH2664-AH2669)/5*$A$6)","v":11.054126490519439},10.982276404077268,10.910426317635096,10.838576231192924,10.766726144750754,10.694876058308584,10.623025971866412,10.551175885424239,10.479325798982069,10.407475712539899,{"$f":"AR2664-((AR2664-AR2669)/5*$A$6)","v":10.335625626097727},10.15191835670703,9.9682110873163321,9.7845038179256356,9.6007965485349374,9.4170892791442409,9.2333820097535444,9.0496747403628461,{"$f":"AZ2664-((AZ2664-AZ2669)/5*$A$6)","v":8.8659674709721497},9.1865436707348387,9.5071198704975259,9.827696070260215,10.148272270022902,10.468848469785591,10.789424669548279,11.110000869310968,11.430577069073657,11.751153268836344,{"$f":"BJ2664-((BJ2664-BJ2669)/5*$A$6)","v":12.071729468599033},11.838879188405796,11.60602890821256,11.373178628019323,11.140328347826086,10.90747806763285,10.674627787439613,10.441777507246377,10.20892722705314,9.9760769468599033,{"$f":"BT2664-((BT2664-BT2669)/5*$A$6)","v":9.7432266666666667},9.8680309090909084,9.9928351515151519,10.117639393939394,10.242443636363635,10.367247878787879,{"$f":"BZ2664-((BZ2664-BZ2669)/5*$A$6)","v":10.49205212121212},10.599484363636364,10.706916606060606,10.814348848484848,10.921781090909091,11.029213333333335,11.136645575757576,11.244077818181818,11.351510060606062,11.458942303030305,{"$f":"CJ2664-((CJ2664-CJ2669)/5*$A$6)","v":11.566374545454547},null,"Altherma 4 H ECH2O 500 12 kW","Altherma 4 H ECH2O 500 12 kW",9,0.2]
[null,"Altherma 4 H ECH2O",12,{"$f":"'Altherma 4 H'!$P$41","v":3.49},{"$f":"'Altherma 4 H'!$P$42","v":4.0599999999999996},{"$f":"'Altherma 4 H'!$P$43","v":5.5},55,{"$f":"'Altherma 4 H'!I40","v":9.5493666666666659},9.5754966666666661,9.6016266666666663,9.6277566666666665,9.6538866666666667,9.6800166666666669,9.7061466666666671,9.7322766666666674,9.7584066666666676,9.7845366666666678,{"$f":"'Altherma 4 H'!I41","v":9.810666666666668},9.9568125000000016,10.102958333333333,10.249104166666667,10.395250000000001,10.541395833333334,10.687541666666668,10.8336875,10.979833333333334,11.125979166666667,11.272124999999999,11.418270833333333,11.564416666666666,11.7105625,11.856708333333334,12.002854166666665,{"$f":"'Altherma 4 H'!I42","v":12.148999999999999},11.955482890901866,11.761965781803733,11.5684486727056,11.374931563607467,11.181414454509333,10.987897345411202,10.794380236313069,10.600863127214936,10.407346018116803,{"$f":"'Altherma 4 H'!I43","v":10.21382890901867},9.9879766464397619,9.7621243838608525,9.5362721212819448,9.3104198587030353,9.0845675961241277,8.85871533354522,8.6328630709663106,{"$f":"'Altherma 4 H'!I44","v":8.4070108083874029},8.7827928193361018,9.1585748302848007,9.5343568412334996,9.9101388521822003,10.285920863130899,10.661702874079598,11.037484885028297,11.413266895976996,11.789048906925697,{"$f":"'Altherma 4 H'!I45","v":12.164830917874395},11.865941765480896,11.567052613087395,11.268163460693895,10.969274308300395,10.670385155906896,10.371496003513395,10.072606851119895,9.7737176987263936,9.4748285463328941,{"$f":"'Altherma 4 H'!I46","v":9.1759393939393945},9.3115848484848485,9.4472303030303042,9.5828757575757582,9.7185212121212121,9.8541666666666679,{"$f":"'Altherma 4 H'!I47","v":9.9898121212121218},10.10883090909091,10.227849696969697,10.346868484848486,10.465887272727274,10.584906060606063,10.703924848484849,10.822943636363638,10.941962424242426,11.060981212121213,{"$f":"'Altherma 4 H'!I48","v":11.180000000000001},null,"Altherma 4 H ECH2O 500 12 kW","Altherma 4 H ECH2O 500 12 kW",9,0.2]
[null,"Altherma 4 H ECH2O",12,{"$f":"'Altherma 4 H'!$P$41","v":3.49},{"$f":"'Altherma 4 H'!$P$42","v":4.0599999999999996},{"$f":"'Altherma 4 H'!$P$43","v":5.5},65,{"$f":"'Altherma 4 H'!K40","v":9.298916049382715},9.3728876543209871,9.4468592592592593,9.5208308641975297,9.5948024691358018,9.668774074074074,9.7427456790123461,9.8167172839506183,9.8906888888888886,9.9646604938271608,{"$f":"'Altherma 4 H'!K41","v":10.038632098765433},10.112603703703705,10.186575308641975,10.260546913580248,10.33451851851852,10.40849012345679,10.482461728395062,10.556433333333334,10.630404938271607,10.704376543209877,10.778348148148149,10.852319753086421,10.926291358024692,11.000262962962964,11.074234567901236,11.148206172839506,{"$f":"'Altherma 4 H'!K42","v":11.222177777777778},11.17046,11.118742222222222,11.067024444444446,11.015306666666667,10.963588888888889,10.911871111111111,10.860153333333333,10.808435555555556,10.756717777777778,{"$f":"'Altherma 4 H'!K43","v":10.705},10.512218952734283,10.319437905468568,10.126656858202852,9.9338758109371348,9.7410947636714198,9.548313716405703,9.355532669139988,{"$f":"'Altherma 4 H'!K44","v":9.1627516218742713},9.4707180055805633,9.7786843892868571,10.086650772993149,10.394617156699441,10.702583540405733,11.010549924112027,11.318516307818319,11.626482691524611,11.934449075230905,{"$f":"'Altherma 4 H'!K45","v":12.242415458937197},11.888493913043478,11.534572367149758,11.180650821256037,10.826729275362318,10.472807729468599,10.11888618357488,9.7649646376811603,9.411043091787441,9.05712154589372,{"$f":"'Altherma 4 H'!K46","v":8.7032000000000007},8.8478797979797985,8.9925595959595963,9.1372393939393941,9.2819191919191919,9.4265989898989897,{"$f":"'Altherma 4 H'!K47","v":9.5712787878787875},9.6873266666666673,9.8033745454545453,9.9194224242424234,10.035470303030303,10.151518181818183,10.267566060606061,10.383613939393939,10.499661818181819,10.615709696969699,{"$f":"'Altherma 4 H'!K48","v":10.731757575757577},null,"Altherma 4 H ECH2O 500 12 kW","Altherma 4 H ECH2O 500 12 kW",9,0.2]
[null,"Altherma 4 H ECH2O",12,{"$f":"'Altherma 4 H'!$P$41","v":3.49},{"$f":"'Altherma 4 H'!$P$42","v":4.0599999999999996},{"$f":"'Altherma 4 H'!$P$43","v":5.5},72,null,null,null,null,null,null,null,null,null,null,{"$f":"R2694-((R2694-R2699)/5*$A$5)","v":9.6273999999999997},9.6951122058823529,{"$f":"$R2696-(($R2696-$AH2696)/$AH$3*T$3)","v":9.7628244117647061},9.8305366176470592,9.8982488235294106,9.9659610294117638,10.033673235294117,10.10138544117647,10.169097647058823,10.236809852941176,10.30452205882353,10.372234264705883,10.439946470588236,10.507658676470587,10.57537088235294,10.643083088235294,{"$f":"AH2694-((AH2694-AH2699)/5*$A$5)","v":10.710795294117647},10.555511051643075,10.400226809168503,10.244942566693931,10.089658324219359,9.934374081744787,9.779089839270215,9.6238055967956431,9.4685213543210711,9.3132371118464992,{"$f":"AR2694-((AR2694-AR2699)/5*$A$5)","v":9.1579528693719272},9.0814372637531804,9.0049216581344353,8.9284060525156885,8.8518904468969417,8.7753748412781967,8.6988592356594499,8.6223436300407048,{"$f":"AZ2694-((AZ2694-AZ2699)/5*$A$5)","v":8.545828024421958},{"$error":"#VALUE!"},{"$error":"#VALUE!"},{"$error":"#VALUE!"},{"$error":"#VALUE!"},{"$error":"#VALUE!"},{"$error":"#VALUE!"},{"$error":"#VALUE!"},{"$error":"#VALUE!"},{"$error":"#VALUE!"},{"$f":"BJ2694-((BJ2694-BJ2699)/5*$A$5)","v":{"$error":"#VALUE!"}},null,null,null,null,null,null,null,null,null,null,null,null,null,null,null,null,null,null,null,null,null,null,null,null,null,null,null,"Altherma 4 H ECH2O 500 12 kW","Altherma 4 H ECH2O 500 12 kW",9,0.2]
[null,"Altherma 4 H F",12,{"$f":"'Altherma 4 H'!$P$41","v":3.49},{"$f":"'Altherma 4 H'!$P$42","v":4.0599999999999996},{"$f":"'Altherma 4 H'!$P$43","v":5.5},29,0,{"$f":"I2653","v":0},0,0,0,0,0,0,0,0,9.7555466666666675,9.760419414793617,9.7652921629205665,9.7701649110475142,9.7750376591744637,9.7799104073014131,9.7847831554283626,9.7896559035553121,9.7945286516822598,9.7994013998092093,9.8042741479361588,9.8091468960631083,9.8140196441900578,9.8188923923170073,9.823765140443955,9.8286378885709045,9.833510636697854,9.7891616687590073,9.7448127008201624,9.7004637328813157,9.6561147649424708,9.6117657970036241,9.5674168290647774,9.5230678611259325,9.4787188931870858,9.4343699252482409,9.3900209573093942,9.3962308683592823,9.4024407794091687,9.4086506904590568,9.4148606015089449,9.421070512558833,9.4272804236087211,9.4334903346586074,9.4397002457084955,9.6888676685429758,9.938035091377456,10.187202514211936,10.436369937046416,10.685537359880897,10.934704782715375,11.183872205549855,11.433039628384336,11.682207051218816,11.931374474053296,11.781516299375239,11.631658124697182,11.481799950019125,11.331941775341068,11.182083600663013,11.032225425984956,10.882367251306899,10.732509076628842,10.582650901950785,10.432792727272728,{"$f":"BU2653","v":10.541215303030304},10.64963787878788,10.758060454545454,10.86648303030303,10.974905606060606,11.083328181818182,11.195007,11.306685818181819,11.418364636363636,11.530043454545455,11.641722272727273,11.753401090909092,11.865079909090911,11.976758727272728,12.088437545454546,12.200116363636365,null,"Altherma 4 H F 180 12 kW","Altherma 4 H F 230 12 kW",9,0.21]
[null,"Altherma 4 H F",12,{"$f":"'Altherma 4 H'!$P$41","v":3.49},{"$f":"'Altherma 4 H'!$P$42","v":4.0599999999999996},{"$f":"'Altherma 4 H'!$P$43","v":5.5},42,8.9845600000000019,{"$f":"I2666","v":9.0806919175257743},9.1768238350515485,9.272955752577321,9.3690876701030934,9.4652195876288658,9.5613515051546401,9.6574834226804125,9.7536153402061849,9.8497472577319591,9.9458791752577316,10.01131754631615,10.076755917374568,10.142194288432988,10.207632659491406,10.273071030549824,10.338509401608242,10.40394777266666,10.469386143725078,10.534824514783498,10.600262885841916,10.665701256900334,10.731139627958752,10.79657799901717,10.86201637007559,10.927454741134008,10.992893112192426,10.905547644887843,10.81820217758326,10.730856710278676,10.643511242974093,10.556165775669509,10.468820308364926,10.381474841060342,10.294129373755759,10.206783906451175,10.119438439146592,9.9643957479729153,9.8093530567992389,9.6543103656255624,9.499267674451886,9.3442249832782096,9.1891822921045332,9.0341396009308568,8.8790969097571804,9.197584320230737,9.5160717307042955,9.8345591411778521,10.153046551651411,10.471533962124967,10.790021372598524,11.108508783072082,11.426996193545639,11.745483604019197,12.063971014492754,11.836623973649539,11.609276932806324,11.381929891963109,11.154582851119894,10.927235810276681,10.699888769433464,10.472541728590251,10.245194687747036,10.017847646903821,9.7905006060606059,{"$f":"BU2666","v":9.9144014141414143},10.038302222222223,10.162203030303029,10.286103838383838,10.410004646464646,10.533905454545454,10.642671999999999,10.751438545454546,10.860205090909091,10.968971636363637,11.077738181818182,11.186504727272727,11.295271272727273,11.404037818181818,11.512804363636365,11.621570909090909,null,"Altherma 4 H F 180 12 kW","Altherma 4 H F 230 12 kW",9,0.21]
[null,"Altherma 4 H F",12,{"$f":"'Altherma 4 H'!$P$41","v":3.49},{"$f":"'Altherma 4 H'!$P$42","v":4.0599999999999996},{"$f":"'Altherma 4 H'!$P$43","v":5.5},55,9.5493666666666659,{"$f":"I2679","v":9.5754966666666661},9.6016266666666663,9.6277566666666665,9.6538866666666667,9.6800166666666669,9.7061466666666671,9.7322766666666674,9.7584066666666676,9.7845366666666678,9.810666666666668,9.9568125000000016,10.102958333333333,10.249104166666667,10.395250000000001,10.541395833333334,10.687541666666668,10.8336875,10.979833333333334,11.125979166666667,11.272124999999999,11.418270833333333,11.564416666666666,11.7105625,11.856708333333334,12.002854166666665,12.148999999999999,11.955482890901866,11.761965781803733,11.5684486727056,11.374931563607467,11.181414454509333,10.987897345411202,10.794380236313069,10.600863127214936,10.407346018116803,10.21382890901867,9.9879766464397619,9.7621243838608525,9.5362721212819448,9.3104198587030353,9.0845675961241277,8.85871533354522,8.6328630709663106,8.4070108083874029,8.7827928193361018,9.1585748302848007,9.5343568412334996,9.9101388521822003,10.285920863130899,10.661702874079598,11.037484885028297,11.413266895976996,11.789048906925697,12.164830917874395,11.865941765480896,11.567052613087395,11.268163460693895,10.969274308300395,10.670385155906896,10.371496003513395,10.072606851119895,9.7737176987263936,9.4748285463328941,9.1759393939393945,{"$f":"BU2679","v":9.3115848484848485},9.4472303030303042,9.5828757575757582,9.7185212121212121,9.8541666666666679,9.9898121212121218,10.10883090909091,10.227849696969697,10.346868484848486,10.465887272727274,10.584906060606063,10.703924848484849,10.822943636363638,10.941962424242426,11.060981212121213,11.180000000000001,null,"Altherma 4 H F 180 12 kW","Altherma 4 H F 230 12 kW",9,0.21]
[null,"Altherma 4 H F",12,{"$f":"'Altherma 4 H'!$P$41","v":3.49},{"$f":"'Altherma 4 H'!$P$42","v":4.0599999999999996},{"$f":"'Altherma 4 H'!$P$43","v":5.5},61,9.6965298765432095,{"$f":"I2685","v":9.7383179753086413},9.7801060740740731,9.8218941728395066,9.8636822716049384,9.9054703703703701,9.9472584691358019,9.9890465679012337,10.030834666666667,10.072622765432099,10.114410864197531,10.191258518518518,10.268106172839506,10.344953827160493,10.421801481481481,10.498649135802468,10.575496790123456,10.652344444444443,10.729192098765431,10.80603975308642,10.882887407407408,10.959735061728395,11.036582716049383,11.11343037037037,11.190278024691358,11.267125679012345,11.343973333333333,11.347539159337158,11.351104985340983,11.35467081134481,11.358236637348636,11.361802463352461,11.365368289356287,11.368934115360112,11.372499941363939,11.376065767367765,11.37963159337159,11.067965730504692,10.756299867637793,10.444634004770895,10.132968141903998,9.8213022790370985,9.5096364161702009,9.1979705533033034,8.886304690436404,9.2188123856439717,9.5513200808515393,9.8838277760591051,10.216335471266673,10.54884316647424,10.881350861681808,11.213858556889376,11.546366252096941,11.878873947304509,12.211381642512077,11.879473054018444,11.547564465524813,11.215655877031182,10.883747288537549,10.551838700043916,10.219930111550285,9.8880215230566542,9.5561129345630214,9.2242043460693885,8.8922957575757575,{"$f":"BU2685","v":9.0333618181818185},9.1744278787878795,9.3154939393939387,9.4565599999999996,9.5976260606060606,9.7386921212121216,9.8469635151515149,9.95523490909091,10.063506303030303,10.171777696969698,10.280049090909092,10.388320484848485,10.49659187878788,10.604863272727274,10.713134666666669,10.821406060606062,null,"Altherma 4 H F 180 12 kW","Altherma 4 H F 230 12 kW",9,0.21]
[null,"Altherma 4 H F",12,{"$f":"'Altherma 4 H'!$P$41","v":3.49},{"$f":"'Altherma 4 H'!$P$42","v":4.0599999999999996},{"$f":"'Altherma 4 H'!$P$43","v":5.5},71,0,{"$f":"I2695","v":0},0,0,0,0,0,0,0,0,9.9400333333333339,9.9994290196078435,10.058824705882353,10.118220392156863,10.177616078431374,10.237011764705883,10.296407450980393,10.355803137254902,10.415198823529412,10.474594509803921,10.533990196078431,10.593385882352941,10.65278156862745,10.712177254901961,10.771572941176471,10.83096862745098,10.89036431372549,10.73863986987112,10.586915426016748,10.435190982162379,10.283466538308009,10.131742094453639,9.980017650599267,9.8282932067448971,9.6765687628905273,9.5248443190361556,9.3731198751817857,9.2559803962926583,9.138840917403531,9.0217014385144036,8.9045619596252763,8.7874224807361472,8.6702830018470198,8.5531435229578925,8.4360040440687651,{"$error":"#VALUE!"},{"$error":"#VALUE!"},{"$error":"#VALUE!"},{"$error":"#VALUE!"},{"$error":"#VALUE!"},{"$error":"#VALUE!"},{"$error":"#VALUE!"},{"$error":"#VALUE!"},{"$error":"#VALUE!"},{"$error":"#VALUE!"},0,0,0,0,0,0,0,0,0,0,{"$f":"BU2695","v":0},0,0,0,0,0,0,0,0,0,0,0,0,0,0,0,null,"Altherma 4 H F 180 12 kW","Altherma 4 H F 230 12 kW",9,0.21]
[null,"Altherma 4 H W",12,{"$f":"'Altherma 4 H'!$P$41","v":3.49},{"$f":"'Altherma 4 H'!$P$42","v":4.0599999999999996},{"$f":"'Altherma 4 H'!$P$43","v":5.5},36,8.7285466666666682,{"$f":"I2660","v":8.840104000000002},8.9516613333333339,9.0632186666666676,9.1747759999999996,9.2863333333333333,9.3978906666666671,9.509447999999999,9.6210053333333327,9.7325626666666647,9.8441199999999984,9.8865428294442292,9.9289656588884583,9.9713884883326891,10.01381131777692,10.056234147221149,10.09865697666538,10.141079806109609,10.18350263555384,10.22592546499807,10.268348294442299,10.31077112388653,10.353193953330759,10.39561678277499,10.438039612219221,10.48046244166345,10.522885271107681,10.428454829660561,10.334024388213439,10.23959394676632,10.1451635053192,10.05073306387208,9.9563026224249587,9.8618721809778389,9.7674417395307191,9.6730112980835976,9.5785808566364778,9.5010137165681456,9.4234465764998134,9.3458794364314812,9.268312296363149,9.1907451562948168,9.1131780162264846,9.0356108761581524,8.9580437360898202,9.2853684446064424,9.6126931531230646,9.940017861639685,10.267342570156307,10.594667278672929,10.921991987189552,11.249316695706174,11.576641404222794,11.903966112739417,12.231290821256039,12.015576163372859,11.79986150548968,11.584146847606499,11.36843218972332,11.152717531840141,10.937002873956962,10.721288216073782,10.505573558190601,10.289858900307422,10.074144242424243,{"$f":"BU2660","v":10.192624444444444},10.311104646464647,10.429584848484849,10.54806505050505,10.666545252525253,10.785025454545455,10.900526060606062,11.016026666666667,11.131527272727272,11.247027878787879,11.362528484848486,11.478029090909091,11.593529696969696,11.709030303030303,11.82453090909091,11.940031515151516,null,"Altherma 4 H W 12 kW","Altherma 4 H W 12 kW",9,0.22]
[null,"Altherma 4 H W",12,{"$f":"'Altherma 4 H'!$P$41","v":3.49},{"$f":"'Altherma 4 H'!$P$42","v":4.0599999999999996},{"$f":"'Altherma 4 H'!$P$43","v":5.5},41,8.9447800000000015,{"$f":"I2665","v":9.0423326254295553},9.1398852508591073,9.2374378762886593,9.3349905017182131,9.4325431271477669,9.5300957525773189,9.6276483780068709,9.7252010034364247,9.8227536288659785,9.9203062542955305,9.9835158467686487,10.046725439241765,10.109935031714883,10.173144624188001,10.236354216661118,10.299563809134236,10.362773401607354,10.425982994080471,10.489192586553589,10.552402179026707,10.615611771499825,10.678821363972942,10.74203095644606,10.805240548919178,10.868450141392294,10.931659733865413,10.828818885698418,10.725978037531421,10.623137189364424,10.52029634119743,10.417455493030435,10.314614644863438,10.211773796696441,10.108932948529446,10.006092100362451,9.9032512521954548,9.7768731392387984,9.6504950262821438,9.5241169133254893,9.3977388003688329,9.2713606874121766,9.144982574455522,9.0186044614988674,8.8922263485422111,9.2086249697266371,9.5250235909110632,9.8414222120954893,10.157820833279915,10.474219454464343,10.790618075648769,11.107016696833195,11.423415318017621,11.739813939202048,12.056212560386474,11.83436875889328,11.612524957400089,11.390681155906895,11.168837354413702,10.94699355292051,10.725149751427317,10.503305949934123,10.28146214844093,10.059618346947738,9.8377745454545451,{"$f":"BU2665","v":9.9607719191919184},10.083769292929292,10.206766666666667,10.32976404040404,10.452761414141413,10.575758787878787,10.685859636363634,10.795960484848484,10.906061333333334,11.016162181818181,11.126263030303029,11.236363878787879,11.346464727272728,11.456565575757576,11.566666424242424,11.676767272727274,null,"Altherma 4 H W 12 kW","Altherma 4 H W 12 kW",9,0.22]
[null,"Altherma 4 H W",12,{"$f":"'Altherma 4 H'!$P$41","v":3.49},{"$f":"'Altherma 4 H'!$P$42","v":4.0599999999999996},{"$f":"'Altherma 4 H'!$P$43","v":5.5},51,9.3521133333333335,{"$f":"I2675","v":9.4059910406504059},9.4598687479674801,9.5137464552845525,9.5676241626016267,9.6215018699186992,9.6753795772357716,9.7292572845528458,9.7831349918699182,9.8370126991869924,9.8908904065040648,9.993926824510341,10.096963242516617,10.199999660522893,10.303036078529169,10.406072496535446,10.509108914541722,10.612145332547998,10.715181750554276,10.818218168560552,10.921254586566828,11.024291004573104,11.127327422579381,11.230363840585657,11.333400258591933,11.436436676598209,11.539473094604485,11.410408809750466,11.281344524896445,11.152280240042426,11.023215955188405,10.894151670334386,10.765087385480367,10.636023100626346,10.506958815772327,10.377894530918306,10.248830246064287,10.045954965601236,9.8430796851381857,9.640204404675135,9.4373291242120843,9.2344538437490336,9.0315785632859829,8.8287032828229322,8.6258280023598815,8.9766249122688215,9.3274218221777598,9.6782187320866999,10.029015641995638,10.379812551904578,10.730609461813518,11.081406371722457,11.432203281631397,11.783000191540335,12.133797101449275,11.856920906455862,11.580044711462451,11.303168516469038,11.026292321475626,10.749416126482213,10.4725399314888,10.195663736495389,9.9187875415019757,9.6419113465085644,9.3650351515151513,{"$f":"BU2675","v":9.4970668686868684},9.6290985858585856,9.7611303030303027,9.8931620202020198,10.025193737373737,10.157225454545454,10.274221939393939,10.391218424242425,10.50821490909091,10.625211393939395,10.74220787878788,10.859204363636364,10.976200848484849,11.093197333333334,11.210193818181819,11.327190303030305,null,"Altherma 4 H W 12 kW","Altherma 4 H W 12 kW",9,0.22]
[null,"Altherma 4 H W",12,{"$f":"'Altherma 4 H'!$P$41","v":3.49},{"$f":"'Altherma 4 H'!$P$42","v":4.0599999999999996},{"$f":"'Altherma 4 H'!$P$43","v":5.5},68,9.5646914197530855,{"$f":"I2692","v":9.6249275617283949},9.6851637037037026,9.7453998456790121,9.8056359876543198,9.8658721296296292,9.9261082716049387,9.9863444135802464,10.046580555555556,10.106816697530864,10.167052839506173,10.227288981481482,10.28752512345679,10.3477612654321,10.407997407407407,10.468233549382717,10.528469691358024,10.588705833333334,10.648941975308642,10.709178117283951,10.769414259259261,10.829650401234568,10.889886543209878,10.950122685185185,11.010358827160495,11.070594969135803,11.130831111111112,11.021245212859499,10.911659314607887,10.802073416356274,10.692487518104661,10.58290161985305,10.473315721601438,10.363729823349825,10.254143925098212,10.1445580268466,10.034972128594987,9.8632016983929951,9.6914312681910033,9.5196608379890115,9.3478904077870197,9.176119977585028,9.0043495473830362,8.8325791171810444,8.6608086869790526,9.0212969004067514,9.3817851138344501,9.7422733272621471,10.102761540689846,10.463249754117545,10.823737967545243,11.184226180972942,11.544714394400639,11.905202607828338,12.265690821256037,12.013045123745817,11.760399426235599,11.50775372872538,11.25510803121516,11.002462333704941,10.749816636194723,10.497170938684503,10.244525241174284,9.9918795436640657,9.7392338461538461,{"$f":"BU2692","v":9.8830211499611504},10.026808453768453,10.170595757575757,10.314383061383062,10.458170365190364,10.601957668997668,10.734292205128204,10.866626741258742,10.998961277389277,11.131295813519813,11.263630349650349,11.395964885780886,11.528299421911422,11.660633958041958,11.792968494172495,11.925303030303031,null,"Altherma 4 H W 12 kW","Altherma 4 H W 12 kW",9,0.22]
[null,"Altherma 4 H ECH2O",14,{"$f":"'Altherma 4 H'!$P$52","v":3.49},{"$f":"'Altherma 4 H'!$P$53","v":4.0599999999999996},{"$f":"'Altherma 4 H'!$P$54","v":5.5},26,null,null,null,null,null,null,null,null,null,null,{"$f":"R2802-((R2802-R2807)/5*$A$4)","v":11.212600000000002},{"$f":"$R2803-(($R2803-$AH2803)/$AH$3*S$3)","v":11.358202479549032},11.50380495909806,11.649407438647088,11.795009918196119,11.940612397745149,12.086214877294177,12.231817356843205,12.377419836392235,12.523022315941265,12.668624795490294,12.814227275039322,12.959829754588352,13.105432234137382,13.25103471368641,13.396637193235438,{"$f":"AH2802-((AH2802-AH2807)/5*$A$4)","v":13.542239672784468},{"$f":"$AH2803-(($AH2803-$AR2803)/$AR$3*AI$3)","v":13.442033328653954},13.34182698452344,13.241620640392927,13.141414296262413,13.041207952131899,12.941001608001384,12.84079526387087,12.740588919740357,12.640382575609843,{"$f":"AR2802-((AR2802-AR2807)/5*$A$4)","v":12.540176231479329},{"$f":"$AR2803-(($AR2803-$AZ2803)/$AZ$3*AS$3)","v":12.339304202544412},12.138432173609496,11.937560144674581,11.736688115739664,11.535816086804747,11.334944057869832,11.134072028934916,{"$f":"AZ2802-((AZ2802-AZ2807)/5*$A$4)","v":10.933199999999999},{"$f":"$AZ2803-(($AZ2803-$BJ2803)/$BJ$3*BA$3)","v":10.912165495684748},10.891130991369495,10.870096487054244,10.849061982738991,10.82802747842374,10.806992974108489,10.785958469793236,10.764923965477985,10.743889461162732,{"$f":"BJ2802-((BJ2802-BJ2807)/5*$A$4)","v":10.722854956847481},{"$f":"$BJ2803-(($BJ2803-$BT2803)/$BT$3*BK$3)","v":10.986009461162734},11.249163965477985,11.512318469793236,11.775472974108489,12.038627478423741,12.301781982738992,12.564936487054243,12.828090991369496,13.091245495684749,{"$f":"BT2802-((BT2802-BT2807)/5*$A$4)","v":13.3544},{"$f":"$BT2803-(($BT2803-$BZ2803)/$BZ$3*BU$3)","v":13.521566666666667},13.688733333333333,13.8559,14.023066666666667,14.190233333333333,{"$f":"BZ2802-((BZ2802-BZ2807)/5*$A$4)","v":14.3574},{"$f":"$BZ2803-(($BZ2803-$CJ2803)/$CJ$3*CA$3)","v":14.512080000000001},14.66676,14.821440000000001,14.97612,15.130800000000001,15.285480000000002,15.440160000000001,15.594840000000001,15.74952,{"$f":"CJ2802-((CJ2802-CJ2807)/5*$A$4)","v":15.904200000000001},null,"Altherma 4 H ECH2O 500 14 kW","Altherma 4 H ECH2O 500 14 kW",9,0.1]
[null,"Altherma 4 H ECH2O",14,{"$f":"'Altherma 4 H'!$P$52","v":3.49},{"$f":"'Altherma 4 H'!$P$53","v":4.0599999999999996},{"$f":"'Altherma 4 H'!$P$54","v":5.5},32,{"$f":"H2807-((H2807-H2812)/5*$A$5)","v":9.8678000000000008},10.011040000000001,10.15428,10.29752,10.440760000000001,10.584,10.72724,10.870480000000001,11.013720000000001,11.15696,{"$f":"R2807-((R2807-R2812)/5*$A$5)","v":11.3002},11.449382438647088,11.598564877294177,11.747747315941265,11.896929754588353,12.046112193235439,12.195294631882527,12.344477070529615,12.493659509176704,12.642841947823792,12.79202438647088,12.941206825117968,13.090389263765054,13.239571702412142,13.388754141059231,13.537936579706319,{"$f":"AH2807-((AH2807-AH2812)/5*$A$5)","v":13.687119018353407},13.59480045605728,13.502481893761152,13.410163331465025,13.317844769168897,13.22552620687277,13.133207644576643,13.040889082280515,12.948570519984388,12.85625195768826,{"$f":"AR2807-((AR2807-AR2812)/5*$A$5)","v":12.763933395392133},12.563091720968117,12.3622500465441,12.161408372120082,11.960566697696066,11.75972502327205,11.558883348848033,11.358041674424015,{"$f":"AZ2807-((AZ2807-AZ2812)/5*$A$5)","v":11.1572},11.17544,11.193680000000001,11.211919999999999,11.23016,11.2484,11.266640000000001,11.284880000000001,11.30312,11.32136,{"$f":"BJ2807-((BJ2807-BJ2812)/5*$A$5)","v":11.339600000000001},11.497960000000001,11.656320000000001,11.814680000000001,11.973040000000001,12.131399999999999,12.289759999999999,12.448119999999999,12.606479999999999,12.76484,{"$f":"BT2807-((BT2807-BT2812)/5*$A$5)","v":12.9232},13.104155555555556,13.28511111111111,13.466066666666666,13.647022222222223,13.827977777777777,{"$f":"BZ2807-((BZ2807-BZ2812)/5*$A$5)","v":14.008933333333333},14.151886666666666,14.294840000000001,14.437793333333333,14.580746666666666,14.723700000000001,14.866653333333334,15.009606666666667,15.152559999999999,15.295513333333334,{"$f":"CJ2807-((CJ2807-CJ2812)/5*$A$5)","v":15.438466666666667},null,"Altherma 4 H ECH2O 500 14 kW","Altherma 4 H ECH2O 500 14 kW",9,0.1]
[null,"Altherma 4 H ECH2O",14,{"$f":"'Altherma 4 H'!$P$52","v":3.49},{"$f":"'Altherma 4 H'!$P$53","v":4.0599999999999996},{"$f":"'Altherma 4 H'!$P$54","v":5.5},50,{"$f":"'Altherma 4 H'!H51","v":10.734},10.963000000000001,11.192,11.420999999999999,11.65,11.879000000000001,12.108000000000001,12.337,12.566000000000001,12.795000000000002,{"$f":"'Altherma 4 H'!H52","v":13.024000000000001},13.029625178792493,13.035250357584985,13.040875536377477,13.046500715169969,13.05212589396246,13.057751072754952,13.063376251547444,13.069001430339936,13.074626609132428,13.08025178792492,13.085876966717413,13.091502145509903,13.097127324302395,13.102752503094887,13.108377681887379,{"$f":"'Altherma 4 H'!H53","v":13.114002860679872},13.129302574611884,13.144602288543897,13.15990200247591,13.175201716407923,13.190501430339935,13.205801144271948,13.221100858203961,13.236400572135974,13.251700286067987,{"$f":"'Altherma 4 H'!H54","v":13.266999999999999},12.978687465786759,12.690374931573517,12.402062397360277,12.113749863147035,11.825437328933795,11.537124794720555,11.248812260507314,{"$f":"'Altherma 4 H'!H55","v":10.960499726294072},11.385716420331331,11.810933114368591,12.23614980840585,12.66136650244311,13.086583196480369,13.511799890517629,13.937016584554888,14.362233278592146,14.787449972629407,{"$f":"'Altherma 4 H'!H56","v":15.212666666666665},14.895299999999999,14.577933333333332,14.260566666666666,13.943199999999999,13.625833333333333,13.308466666666666,12.991099999999999,12.673733333333333,12.356366666666666,{"$f":"'Altherma 4 H'!H57","v":12.039},12.206722222222222,12.374444444444444,12.542166666666667,12.709888888888889,12.877611111111111,{"$f":"'Altherma 4 H'!H58","v":13.045333333333334},13.194333333333333,13.343333333333334,13.492333333333335,13.641333333333334,13.790333333333333,13.939333333333334,14.088333333333335,14.237333333333334,14.386333333333333,{"$f":"'Altherma 4 H'!H59","v":14.535333333333334},null,"Altherma 4 H ECH2O 500 14 kW","Altherma 4 H ECH2O 500 14 kW",9,0.1]
[null,"Altherma 4 H ECH2O",14,{"$f":"'Altherma 4 H'!$P$52","v":3.49},{"$f":"'Altherma 4 H'!$P$53","v":4.0599999999999996},{"$f":"'Altherma 4 H'!$P$54","v":5.5},58,{"$f":"H2832-((H2832-H2837)/5*$A$6)","v":11.1892},11.31518,11.44116,11.56714,11.69312,11.819099999999999,11.945079999999999,12.071059999999999,12.197039999999999,12.32302,{"$f":"R2832-((R2832-R2837)/5*$A$6)","v":12.449},12.4956,12.542199999999999,12.588799999999999,12.635400000000001,12.682,12.7286,12.7752,12.8218,12.868399999999999,12.914999999999999,12.961599999999999,13.008199999999999,13.0548,13.1014,13.148,{"$f":"AH2832-((AH2832-AH2837)/5*$A$6)","v":13.194599999999999},13.124243055959617,13.053886111919235,12.983529167878851,12.913172223838469,12.842815279798087,12.772458335757705,12.702101391717322,12.631744447676938,12.561387503636556,{"$f":"AR2832-((AR2832-AR2837)/5*$A$6)","v":12.491030559596174},12.25031656854399,12.009602577491808,11.768888586439624,11.528174595387441,11.287460604335259,11.046746613283075,10.806032622230893,{"$f":"AZ2832-((AZ2832-AZ2837)/5*$A$6)","v":10.565318631178709},11.03784010139417,11.510361571609634,11.982883041825096,12.455404512040559,12.927925982256021,13.400447452471482,13.872968922686946,14.345490392902407,14.818011863117871,{"$f":"BJ2832-((BJ2832-BJ2837)/5*$A$6)","v":15.290533333333332},14.917006666666666,14.543479999999999,14.169953333333332,13.796426666666665,13.422899999999998,13.049373333333332,12.675846666666667,12.30232,11.928793333333333,{"$f":"BT2832-((BT2832-BT2837)/5*$A$6)","v":11.555266666666666},11.732233333333333,11.9092,12.086166666666667,12.263133333333332,12.440099999999999,{"$f":"BZ2832-((BZ2832-BZ2837)/5*$A$6)","v":12.617066666666666},12.75956,12.902053333333333,13.044546666666667,13.18704,13.329533333333334,13.472026666666668,13.614520000000001,13.757013333333335,13.899506666666667,{"$f":"CJ2832-((CJ2832-CJ2837)/5*$A$6)","v":14.042000000000002},null,"Altherma 4 H ECH2O 500 14 kW","Altherma 4 H ECH2O 500 14 kW",9,0.1]
[null,"Altherma 4 H ECH2O",14,{"$f":"'Altherma 4 H'!$P$52","v":3.49},{"$f":"'Altherma 4 H'!$P$53","v":4.0599999999999996},{"$f":"'Altherma 4 H'!$P$54","v":5.5},67,{"$f":"H2842-((H2842-H2847)/5*$A$5)","v":10.93396111111111},11.008747222222221,11.083533333333332,11.158319444444444,11.233105555555555,11.307891666666666,11.382677777777777,11.457463888888888,11.532250000000001,11.607036111111112,{"$f":"R2842-((R2842-R2847)/5*$A$5)","v":11.681822222222223},11.756608333333334,11.831394444444445,11.906180555555556,11.980966666666667,12.055752777777778,12.130538888888889,12.205325,12.280111111111111,12.354897222222222,12.429683333333333,12.504469444444444,12.579255555555555,12.654041666666666,12.728827777777777,12.803613888888888,{"$f":"AH2842-((AH2842-AH2847)/5*$A$5)","v":12.878399999999999},12.624219980915683,{"$f":"$AH2844-(($AH2844-$AR2844)/$AR$3*AJ$3)","v":12.370039961831365},12.115859942747049,11.861679923662731,11.607499904578415,11.353319885494098,11.09913986640978,10.844959847325464,10.590779828241146,{"$f":"AR2842-((AR2842-AR2847)/5*$A$5)","v":10.33659980915683},10.352207332149264,10.367814855141699,10.383422378134133,10.399029901126568,10.414637424119004,10.430244947111438,10.445852470103873,{"$f":"AZ2842-((AZ2842-AZ2847)/5*$A$5)","v":10.461459993096307},10.95312732712001,{"$f":"$AZ2844-(($AZ2844-$BJ2844)/$BJ$3*BB$3)","v":11.444794661143712},11.936461995167415,12.428129329191117,12.919796663214818,13.411463997238521,13.903131331262223,14.394798665285926,14.886465999309628,{"$f":"BJ2842-((BJ2842-BJ2847)/5*$A$5)","v":15.378133333333331},14.941426666666665,{"$f":"$BJ2844-(($BJ2844-$BT2844)/$BT$3*BL$3)","v":14.504719999999997},14.068013333333331,13.631306666666665,13.194599999999998,12.757893333333332,12.321186666666666,11.88448,11.447773333333332,{"$f":"BT2842-((BT2842-BT2847)/5*$A$5)","v":11.011066666666666},11.198433333333334,11.3858,11.573166666666665,11.760533333333333,11.947900000000001,{"$f":"BZ2842-((BZ2842-BZ2847)/5*$A$5)","v":12.135266666666666},12.28294,12.430613333333334,12.578286666666667,12.725960000000001,12.873633333333334,13.021306666666666,13.168979999999999,13.316653333333333,13.464326666666667,{"$f":"CJ2842-((CJ2842-CJ2847)/5*$A$5)","v":13.612},null,"Altherma 4 H ECH2O 500 14 kW","Altherma 4 H ECH2O 500 14 kW",9,0.1]
[null,"Altherma 4 H F",14,{"$f":"'Altherma 4 H'!$P$52","v":3.49},{"$f":"'Altherma 4 H'!$P$53","v":4.0599999999999996},{"$f":"'Altherma 4 H'!$P$54","v":5.5},29,0,{"$f":"I2806","v":0},0,0,0,0,0,0,0,0,11.256400000000001,11.404559918196119,11.552719836392235,11.700879754588353,11.849039672784469,11.997199590980587,12.145359509176703,12.293519427372821,12.441679345568939,12.589839263765056,12.737999181961174,12.88615910015729,13.034319018353408,13.182478936549524,13.330638854745642,13.478798772941758,13.626958691137876,13.529442227811071,13.431925764484268,13.334409301157462,13.236892837830659,13.139376374503854,13.041859911177049,12.944343447850246,12.846826984523441,12.749310521196637,12.651794057869832,12.451669800636104,12.251545543402374,12.051421286168646,11.851297028934916,11.651172771701187,11.451048514467459,11.250924257233729,11.050800000000001,11.094141373921188,11.137482747842375,11.18082412176356,11.224165495684748,11.267506869605935,11.310848243527122,11.354189617448309,11.397530991369495,11.440872365290682,11.484213739211869,11.637752365290682,11.791290991369495,11.944829617448308,12.098368243527121,12.251906869605934,12.405445495684747,12.55898412176356,12.712522747842373,12.866061373921186,13.019599999999999,{"$f":"BU2806","v":13.212391666666665},13.405183333333332,13.597974999999998,13.790766666666666,13.983558333333333,14.176349999999999,14.319194999999999,14.46204,14.604884999999999,14.747730000000001,14.890575,15.03342,15.176265000000001,15.31911,15.461955000000001,15.604800000000001,null,"Altherma 4 H F 180 14 kW","Altherma 4 H F 230 14 kW",9,0.11]
[null,"Altherma 4 H F",14,{"$f":"'Altherma 4 H'!$P$52","v":3.49},{"$f":"'Altherma 4 H'!$P$53","v":4.0599999999999996},{"$f":"'Altherma 4 H'!$P$54","v":5.5},33,9.9186999999999994,{"$f":"I2810","v":10.058309999999999},10.19792,10.337529999999999,10.47714,10.61675,10.756359999999999,10.89597,11.03558,11.175190000000001,11.3148,11.464067459098059,11.613334918196117,11.762602377294176,11.911869836392235,12.061137295490292,12.210404754588351,12.359672213686411,12.508939672784468,12.658207131882527,12.807474590980586,12.956742050078645,13.106009509176703,13.255276968274762,13.404544427372819,13.553811886470879,13.703079345568938,13.612911420320865,13.52274349507279,13.432575569824717,13.342407644576642,13.252239719328569,13.162071794080497,13.071903868832422,12.981735943584349,12.891568018336274,12.801400093088201,12.600075081452175,12.398750069816151,12.197425058180126,11.9961000465441,11.794775034908074,11.59345002327205,11.392125011636026,11.190799999999999,11.18576,11.180719999999999,11.17568,11.170639999999999,11.1656,11.16056,11.155519999999999,11.15048,11.145439999999999,11.1404,11.31944,11.498479999999999,11.677519999999999,11.85656,12.035599999999999,12.214639999999999,12.39368,12.57272,12.751759999999999,12.9308,{"$f":"BU2810","v":13.101566666666667},13.272333333333332,13.443099999999999,13.613866666666667,13.784633333333332,13.955399999999999,14.100379999999999,14.24536,14.39034,14.53532,14.680299999999999,14.825279999999999,14.97026,15.11524,15.26022,15.405200000000001,null,"Altherma 4 H F 180 14 kW","Altherma 4 H F 230 14 kW",9,0.11]
[null,"Altherma 4 H F",14,{"$f":"'Altherma 4 H'!$P$52","v":3.49},{"$f":"'Altherma 4 H'!$P$53","v":4.0599999999999996},{"$f":"'Altherma 4 H'!$P$54","v":5.5},44,10.458600000000001,{"$f":"I2821","v":10.638200000000001},10.8178,10.997400000000001,11.177,11.3566,11.536200000000001,11.7158,11.8954,12.074999999999999,12.2546,12.334711606664882,12.414823213329765,12.494934819994647,12.575046426659529,12.655158033324412,12.735269639989294,12.815381246654177,12.895492853319059,12.97560445998394,13.055716066648822,13.135827673313704,13.215939279978587,13.296050886643469,13.376162493308351,13.456274099973234,13.536385706638116,13.484834959091897,13.433284211545676,13.381733463999456,13.330182716453237,13.278631968907018,13.227081221360796,13.175530473814577,13.123979726268358,13.072428978722137,13.020878231175917,12.781389966033803,12.541901700891689,12.302413435749575,12.062925170607461,11.823436905465345,11.58394864032323,11.344460375181116,11.104972110039002,11.487893178729099,11.870814247419196,12.253735316109292,12.636656384799389,13.019577453489486,13.402498522179581,13.785419590869678,14.168340659559775,14.551261728249871,14.934182796939968,14.680944517245971,14.427706237551975,14.174467957857978,13.92122967816398,13.667991398469983,13.414753118775987,13.16151483908199,12.908276559387993,12.655038279693997,12.4018,{"$f":"BU2821","v":12.562588888888889},12.723377777777777,12.884166666666665,13.044955555555555,13.205744444444445,13.366533333333333,13.50224,13.637946666666666,13.773653333333334,13.90936,14.045066666666667,14.180773333333335,14.31648,14.452186666666668,14.587893333333334,14.723600000000001,null,"Altherma 4 H F 180 14 kW","Altherma 4 H F 230 14 kW",9,0.11]
[null,"Altherma 4 H F",14,{"$f":"'Altherma 4 H'!$P$52","v":3.49},{"$f":"'Altherma 4 H'!$P$53","v":4.0599999999999996},{"$f":"'Altherma 4 H'!$P$54","v":5.5},54,10.961599999999999,{"$f":"I2831","v":11.212639999999999},11.46368,11.71472,11.96576,12.216799999999999,12.467840000000001,12.71888,12.969920000000002,13.220960000000002,13.472000000000001,13.458925035758499,13.445850071516999,13.432775107275496,13.419700143033994,13.406625178792494,13.393550214550991,13.380475250309489,13.367400286067987,13.354325321826487,13.341250357584984,13.328175393343482,13.315100429101982,13.302025464860479,13.288950500618977,13.275875536377477,13.262800572135975,13.226586594915219,13.190372617694461,13.154158640473705,13.117944663252947,13.081730686032191,13.045516708811435,13.009302731590678,12.973088754369922,12.936874777149164,12.900660799928408,12.64529069309471,12.38992058626101,12.134550479427311,11.879180372593613,11.623810265759912,11.368440158926214,11.113070052092514,10.857699945258815,11.297089950732934,11.736479956207052,12.175869961681171,12.615259967155289,13.054649972629408,13.494039978103526,13.933429983577645,14.372819989051763,14.812209994525881,15.2516,14.906153333333332,14.560706666666666,14.215260000000001,13.869813333333333,13.524366666666666,13.17892,12.833473333333334,12.488026666666666,12.142579999999999,11.797133333333333,{"$f":"BU2831","v":11.969477777777778},12.141822222222222,12.314166666666667,12.486511111111112,12.658855555555556,12.831200000000001,12.982786666666668,13.134373333333334,13.285960000000001,13.437546666666668,13.589133333333333,13.74072,13.892306666666666,14.043893333333333,14.19548,14.347066666666667,null,"Altherma 4 H F 180 14 kW","Altherma 4 H F 230 14 kW",9,0.11]
[null,"Altherma 4 H F",14,{"$f":"'Altherma 4 H'!$P$52","v":3.49},{"$f":"'Altherma 4 H'!$P$53","v":4.0599999999999996},{"$f":"'Altherma 4 H'!$P$54","v":5.5},65,10.729518518518518,{"$f":"I2842","v":10.81487037037037},10.900222222222222,10.985574074074073,11.070925925925925,11.156277777777778,11.24162962962963,11.326981481481482,11.412333333333333,11.497685185185185,11.583037037037037,11.66838888888889,11.75374074074074,11.839092592592593,11.924444444444445,12.009796296296296,12.095148148148148,12.1805,12.265851851851853,12.351203703703703,12.436555555555556,12.521907407407408,12.607259259259258,12.692611111111111,12.777962962962963,12.863314814814814,12.948666666666666,12.712395822665162,12.476124978663659,12.239854134662155,12.00358329066065,11.767312446659147,11.531041602657643,11.294770758656139,11.058499914654634,10.822229070653131,10.585958226651627,10.619963448320174,10.653968669988721,10.687973891657267,10.721979113325814,10.755984334994361,10.789989556662906,10.823994778331453,10.858000000000001,11.308066666666667,11.758133333333333,12.2082,12.658266666666666,13.108333333333333,13.558399999999999,14.008466666666665,14.458533333333332,14.908599999999998,15.358666666666664,14.935999999999998,14.513333333333332,14.090666666666666,13.667999999999999,13.245333333333331,12.822666666666667,12.399999999999999,11.977333333333332,11.554666666666666,11.132,{"$f":"BU2842","v":11.317055555555555},11.502111111111111,11.687166666666666,11.872222222222222,12.057277777777777,12.242333333333333,12.390766666666666,12.539199999999999,12.687633333333332,12.836066666666666,12.984500000000001,13.132933333333334,13.281366666666667,13.4298,13.578233333333333,13.726666666666667,null,"Altherma 4 H F 180 14 kW","Altherma 4 H F 230 14 kW",9,0.11]
[null,"Altherma 4 H F",14,{"$f":"'Altherma 4 H'!$P$52","v":3.49},{"$f":"'Altherma 4 H'!$P$53","v":4.0599999999999996},{"$f":"'Altherma 4 H'!$P$54","v":5.5},66,10.831739814814814,{"$f":"I2843","v":10.911808796296295},10.991877777777777,11.071946759259259,11.15201574074074,11.232084722222222,11.312153703703704,11.392222685185185,11.472291666666667,11.552360648148149,11.63242962962963,11.712498611111112,11.792567592592594,11.872636574074075,11.952705555555557,12.032774537037037,12.112843518518519,12.1929125,12.272981481481482,12.353050462962964,12.433119444444445,12.513188425925927,12.593257407407407,12.673326388888889,12.75339537037037,12.833464351851852,12.913533333333334,12.668307901790422,12.423082470247513,12.177857038704602,11.932631607161692,11.687406175618781,11.44218074407587,11.19695531253296,10.951729880990049,10.70650444944714,10.461279017904229,10.486085390234718,10.51089176256521,10.5356981348957,10.560504507226192,10.585310879556681,10.610117251887171,10.634923624217663,10.659729996548153,11.130596996893338,11.601463997238522,12.072330997583705,12.543197997928891,13.014064998274076,13.48493199861926,13.955798998964443,14.426665999309629,14.897532999654814,15.368399999999998,14.938713333333331,14.509026666666665,14.079339999999998,13.649653333333331,13.219966666666664,12.790279999999999,12.360593333333332,11.930906666666665,11.50122,11.071533333333333,{"$f":"BU2843","v":11.257744444444445},11.443955555555554,11.630166666666666,11.816377777777777,12.002588888888887,12.188799999999999,12.336853333333332,12.484906666666665,12.632959999999999,12.781013333333332,12.929066666666666,13.077119999999999,13.225173333333332,13.373226666666666,13.521279999999999,13.669333333333332,null,"Altherma 4 H F 180 14 kW","Altherma 4 H F 230 14 kW",9,0.11]
[null,"Altherma 4 H F",14,{"$f":"'Altherma 4 H'!$P$52","v":3.49},{"$f":"'Altherma 4 H'!$P$53","v":4.0599999999999996},{"$f":"'Altherma 4 H'!$P$54","v":5.5},67,10.93396111111111,{"$f":"I2844","v":11.008747222222221},11.083533333333332,11.158319444444444,11.233105555555555,11.307891666666666,11.382677777777777,11.457463888888888,11.532250000000001,11.607036111111112,11.681822222222223,11.756608333333334,11.831394444444445,11.906180555555556,11.980966666666667,12.055752777777778,12.130538888888889,12.205325,12.280111111111111,12.354897222222222,12.429683333333333,12.504469444444444,12.579255555555555,12.654041666666666,12.728827777777777,12.803613888888888,12.878399999999999,12.624219980915683,12.370039961831365,12.115859942747049,11.861679923662731,11.607499904578415,11.353319885494098,11.09913986640978,10.844959847325464,10.590779828241146,10.33659980915683,10.352207332149264,10.367814855141699,10.383422378134133,10.399029901126568,10.414637424119004,10.430244947111438,10.445852470103873,10.461459993096307,10.95312732712001,11.444794661143712,11.936461995167415,12.428129329191117,12.919796663214818,13.411463997238521,13.903131331262223,14.394798665285926,14.886465999309628,15.378133333333331,14.941426666666665,14.504719999999997,14.068013333333331,13.631306666666665,13.194599999999998,12.757893333333332,12.321186666666666,11.88448,11.447773333333332,11.011066666666666,{"$f":"BU2844","v":11.198433333333334},11.3858,11.573166666666665,11.760533333333333,11.947900000000001,12.135266666666666,12.28294,12.430613333333334,12.578286666666667,12.725960000000001,12.873633333333334,13.021306666666666,13.168979999999999,13.316653333333333,13.464326666666667,13.612,null,"Altherma 4 H F 180 14 kW","Altherma 4 H F 230 14 kW",9,0.11]
[null,"Altherma 4 H F",14,{"$f":"'Altherma 4 H'!$P$52","v":3.49},{"$f":"'Altherma 4 H'!$P$53","v":4.0599999999999996},{"$f":"'Altherma 4 H'!$P$54","v":5.5},68,11.036182407407408,{"$f":"I2845","v":11.105685648148148},11.175188888888888,11.24469212962963,11.314195370370371,11.383698611111111,11.453201851851851,11.522705092592592,11.592208333333334,11.661711574074074,11.731214814814814,11.800718055555555,11.870221296296297,11.939724537037037,12.009227777777777,12.078731018518518,12.148234259259258,12.2177375,12.28724074074074,12.356743981481481,12.426247222222223,12.495750462962963,12.565253703703704,12.634756944444444,12.704260185185184,12.773763425925926,12.843266666666667,12.580132060040944,12.316997453415221,12.053862846789496,11.790728240163773,11.52759363353805,11.264459026912327,11.001324420286604,10.738189813660881,10.475055207035156,10.211920600409433,10.218329274063812,10.224737947718189,10.231146621372568,10.237555295026947,10.243963968681324,10.250372642335703,10.25678131599008,10.263189989644459,10.775657657346681,11.288125325048901,11.80059299275112,12.313060660453342,12.825528328155563,13.337995995857783,13.850463663560003,14.362931331262224,14.875398998964446,15.387866666666666,14.944139999999999,14.500413333333332,14.056686666666666,13.612959999999999,13.169233333333333,12.725506666666666,12.281779999999999,11.838053333333333,11.394326666666666,10.9506,{"$f":"BU2845","v":11.139122222222221},11.327644444444443,11.516166666666667,11.704688888888889,11.893211111111111,12.081733333333332,12.229026666666666,12.37632,12.523613333333332,12.670906666666665,12.818199999999999,12.965493333333333,13.112786666666667,13.260079999999999,13.407373333333332,13.554666666666666,null,"Altherma 4 H F 180 14 kW","Altherma 4 H F 230 14 kW",9,0.11]
[null,"Altherma 4 H F",14,{"$f":"'Altherma 4 H'!$P$52","v":3.49},{"$f":"'Altherma 4 H'!$P$53","v":4.0599999999999996},{"$f":"'Altherma 4 H'!$P$54","v":5.5},69,11.138403703703704,{"$f":"I2846","v":11.202624074074073},11.266844444444445,11.331064814814814,11.395285185185186,11.459505555555555,11.523725925925925,11.587946296296296,11.652166666666666,11.716387037037038,11.780607407407407,11.844827777777777,11.909048148148148,11.973268518518518,12.037488888888888,12.101709259259259,12.165929629629629,12.23015,12.29437037037037,12.358590740740739,12.422811111111111,12.48703148148148,12.551251851851852,12.615472222222222,12.679692592592591,12.743912962962963,12.808133333333332,12.536044139166203,12.263954944999073,11.991865750831943,11.719776556664813,11.447687362497684,11.175598168330554,10.903508974163424,10.631419779996294,10.359330585829165,10.087241391662035,10.084451215978357,10.08166104029468,10.078870864611002,10.076080688927323,10.073290513243647,10.070500337559968,10.067710161876292,10.064919986192614,10.598187987573352,11.131455988954091,11.66472399033483,12.197991991715568,12.731259993096305,13.264527994477044,13.797795995857783,14.331063997238521,14.86433199861926,15.397599999999999,14.946853333333332,14.496106666666666,14.045359999999999,13.594613333333333,13.143866666666666,12.69312,12.242373333333333,11.791626666666666,11.340879999999999,10.890133333333333,{"$f":"BU2846","v":11.079811111111111},11.269488888888889,11.459166666666667,11.648844444444444,11.838522222222222,12.0282,12.175113333333334,12.322026666666666,12.46894,12.615853333333334,12.762766666666668,12.90968,13.056593333333334,13.203506666666668,13.35042,13.497333333333334,null,"Altherma 4 H F 180 14 kW","Altherma 4 H F 230 14 kW",9,0.11]
[null,"Altherma 4 H F",14,{"$f":"'Altherma 4 H'!$P$52","v":3.49},{"$f":"'Altherma 4 H'!$P$53","v":4.0599999999999996},{"$f":"'Altherma 4 H'!$P$54","v":5.5},70,11.240625,{"$f":"I2847","v":11.2995625},11.358499999999999,11.4174375,11.476374999999999,11.5353125,11.594250000000001,11.6531875,11.712125,11.771062499999999,11.83,11.888937500000001,11.947875,12.006812500000001,12.06575,12.1246875,12.183624999999999,12.2425625,12.301500000000001,12.3604375,12.419375,12.478312499999999,12.53725,12.596187499999999,12.655125,12.714062499999999,12.773,12.491956218291463,12.210912436582927,11.92986865487439,11.648824873165854,11.367781091457317,11.086737309748781,10.805693528040246,10.524649746331709,10.243605964623173,9.9625621829146365,9.9505731578929026,9.9385841328711688,9.926595107849435,9.9146060828277012,9.9026170578059673,9.8906280327842335,9.8786390077624997,9.8666499827407659,10.420718317800022,10.974786652859279,11.528854987918535,12.082923322977791,12.636991658037049,13.191059993096305,13.745128328155563,14.299196663214818,14.853264998274074,15.407333333333332,14.949566666666666,14.4918,14.034033333333333,13.576266666666665,13.118499999999999,12.660733333333333,12.202966666666667,11.745200000000001,11.287433333333333,10.829666666666666,{"$f":"BU2847","v":11.0205},11.211333333333332,11.402166666666666,11.593,11.783833333333332,11.974666666666666,12.1212,12.267733333333332,12.414266666666666,12.560799999999999,12.707333333333333,12.853866666666667,13.000399999999999,13.146933333333333,13.293466666666665,13.44,null,"Altherma 4 H F 180 14 kW","Altherma 4 H F 230 14 kW",9,0.11]
[null,"Altherma 4 H F",14,{"$f":"'Altherma 4 H'!$P$52","v":3.49},{"$f":"'Altherma 4 H'!$P$53","v":4.0599999999999996},{"$f":"'Altherma 4 H'!$P$54","v":5.5},71,0,{"$f":"I2848","v":0},0,0,0,0,0,0,0,0,11.2019,11.267582352941176,11.333264705882353,11.398947058823529,11.464629411764706,11.530311764705882,11.595994117647059,11.661676470588235,11.727358823529411,11.793041176470588,11.858723529411764,11.924405882352941,11.990088235294117,12.055770588235294,12.12145294117647,12.187135294117647,12.252817647058823,11.994789894024958,11.736762140991095,11.47873438795723,11.220706634923365,10.962678881889502,10.704651128855637,10.446623375821773,10.188595622787908,9.9305678697540447,9.6725401167201799,9.6720200995412728,9.671500082362364,9.670980065183457,9.6704600480045499,9.6699400308256429,9.6694200136467359,9.6688999964678271,9.66837997928892,{"$error":"#VALUE!"},{"$error":"#VALUE!"},{"$error":"#VALUE!"},{"$error":"#VALUE!"},{"$error":"#VALUE!"},{"$error":"#VALUE!"},{"$error":"#VALUE!"},{"$error":"#VALUE!"},{"$error":"#VALUE!"},{"$error":"#VALUE!"},0,0,0,0,0,0,0,0,0,0,{"$f":"BU2848","v":0},0,0,0,0,0,0,0,0,0,0,0,0,0,0,0,null,"Altherma 4 H F 180 14 kW","Altherma 4 H F 230 14 kW",9,0.11]
[null,"Altherma 4 H F",14,{"$f":"'Altherma 4 H'!$P$52","v":3.49},{"$f":"'Altherma 4 H'!$P$53","v":4.0599999999999996},{"$f":"'Altherma 4 H'!$P$54","v":5.5},72,0,{"$f":"I2849","v":0},0,0,0,0,0,0,0,0,10.5738,10.646227205882353,10.718654411764707,10.791081617647059,10.863508823529411,10.935936029411765,11.008363235294118,11.080790441176472,11.153217647058824,11.225644852941176,11.29807205882353,11.370499264705883,11.442926470588237,11.515353676470589,11.587780882352941,11.660208088235295,11.732635294117648,11.497623569758455,11.262611845399263,11.02760012104007,10.792588396680879,10.557576672321686,10.322564947962494,10.087553223603301,9.8525414992441078,9.6175297748849164,9.3825180505257233,9.3934670411896413,9.404416031853561,9.415365022517479,9.4263140131813969,9.4372630038453167,9.4482119945092347,9.4591609851731544,9.4701099758370724,{"$error":"#VALUE!"},{"$error":"#VALUE!"},{"$error":"#VALUE!"},{"$error":"#VALUE!"},{"$error":"#VALUE!"},{"$error":"#VALUE!"},{"$error":"#VALUE!"},{"$error":"#VALUE!"},{"$error":"#VALUE!"},{"$error":"#VALUE!"},0,0,0,0,0,0,0,0,0,0,{"$f":"BU2849","v":0},0,0,0,0,0,0,0,0,0,0,0,0,0,0,0,null,"Altherma 4 H F 180 14 kW","Altherma 4 H F 230 14 kW",9,0.11]
[null,"Altherma 4 H F",14,{"$f":"'Altherma 4 H'!$P$52","v":3.49},{"$f":"'Altherma 4 H'!$P$53","v":4.0599999999999996},{"$f":"'Altherma 4 H'!$P$54","v":5.5},73,0,{"$f":"I2850","v":0},0,0,0,0,0,0,0,0,9.9457000000000004,10.024872058823529,10.10404411764706,10.183216176470589,10.262388235294118,10.341560294117647,10.420732352941176,10.499904411764707,10.579076470588236,10.658248529411765,10.737420588235295,10.816592647058824,10.895764705882353,10.974936764705882,11.054108823529411,11.133280882352942,11.212452941176471,11.000457245491951,10.78846154980743,10.57646585412291,10.364470158438388,10.152474462753869,9.9404787670693473,9.7284830713848276,9.5164873757003079,9.3044916800157864,9.0924959843312667,9.1149139828380115,9.1373319813447562,9.159749979851501,9.1821679783582475,9.2045859768649922,9.227003975371737,9.2494219738784818,9.2718399723852265,{"$error":"#VALUE!"},{"$error":"#VALUE!"},{"$error":"#VALUE!"},{"$error":"#VALUE!"},{"$error":"#VALUE!"},{"$error":"#VALUE!"},{"$error":"#VALUE!"},{"$error":"#VALUE!"},{"$error":"#VALUE!"},{"$error":"#VALUE!"},0,0,0,0,0,0,0,0,0,0,{"$f":"BU2850","v":0},0,0,0,0,0,0,0,0,0,0,0,0,0,0,0,null,"Altherma 4 H F 180 14 kW","Altherma 4 H F 230 14 kW",9,0.11]
[null,"Altherma 4 H F",14,{"$f":"'Altherma 4 H'!$P$52","v":3.49},{"$f":"'Altherma 4 H'!$P$53","v":4.0599999999999996},{"$f":"'Altherma 4 H'!$P$54","v":5.5},74,0,{"$f":"I2851","v":0},0,0,0,0,0,0,0,0,9.3176000000000005,9.4035169117647062,9.4894338235294118,9.5753507352941192,9.6612676470588248,9.7471845588235304,9.833101470588236,9.9190183823529416,10.004935294117647,10.090852205882355,10.17676911764706,10.262686029411766,10.348602941176472,10.434519852941179,10.520436764705885,10.60635367647059,10.692270588235296,10.503290921225448,10.314311254215598,10.12533158720575,9.9363519201959019,9.7473722531860538,9.558392586176204,9.369412919166356,9.180433252156508,8.9914535851466582,8.8024739181368101,8.8363609244863817,8.8702479308359514,8.904134937185523,8.9380219435350945,8.971908949884666,9.0057959562342376,9.0396829625838073,9.0735699689333789,{"$error":"#VALUE!"},{"$error":"#VALUE!"},{"$error":"#VALUE!"},{"$error":"#VALUE!"},{"$error":"#VALUE!"},{"$error":"#VALUE!"},{"$error":"#VALUE!"},{"$error":"#VALUE!"},{"$error":"#VALUE!"},{"$error":"#VALUE!"},0,0,0,0,0,0,0,0,0,0,{"$f":"BU2851","v":0},0,0,0,0,0,0,0,0,0,0,0,0,0,0,0,null,"Altherma 4 H F 180 14 kW","Altherma 4 H F 230 14 kW",9,0.11]
[null,"Altherma 4 H F",14,{"$f":"'Altherma 4 H'!$P$52","v":3.49},{"$f":"'Altherma 4 H'!$P$53","v":4.0599999999999996},{"$f":"'Altherma 4 H'!$P$54","v":5.5},75,"",{"$f":"I2852","v":0},0,0,0,0,0,0,0,0,8.6895000000000007,8.7821617647058829,8.8748235294117652,8.9674852941176475,9.0601470588235298,9.1528088235294121,9.2454705882352943,9.3381323529411766,9.4307941176470607,9.5234558823529429,9.6161176470588252,9.7087794117647075,9.8014411764705898,9.894102941176472,9.9867647058823543,10.079426470588237,10.172088235294119,10.006124596958943,9.8401609586237662,9.6741973202885898,9.5082336819534135,9.3422700436182353,9.176306405283059,9.0103427669478826,8.8443791286127063,8.6784154902775299,8.5124518519423535,8.5578078661347519,8.6031638803271484,8.6485198945195449,8.6938759087119433,8.7392319229043416,8.7845879370967381,8.8299439512891347,8.875299965481533,{"$error":"#VALUE!"},{"$error":"#VALUE!"},{"$error":"#VALUE!"},{"$error":"#VALUE!"},{"$error":"#VALUE!"},{"$error":"#VALUE!"},{"$error":"#VALUE!"},{"$error":"#VALUE!"},{"$error":"#VALUE!"},"",0,0,0,0,0,0,0,0,0,"",{"$f":"BU2852","v":0},0,0,0,0,"",0,0,0,0,0,0,0,0,0,"",null,"Altherma 4 H F 180 14 kW","Altherma 4 H F 230 14 kW",9,0.11]
[null,"Altherma 4 H W",14,{"$f":"'Altherma 4 H'!$P$52","v":3.49},{"$f":"'Altherma 4 H'!$P$53","v":4.0599999999999996},{"$f":"'Altherma 4 H'!$P$54","v":5.5},25,{"$f":"H2802","v":0},{"$f":"I2802","v":0},0,0,0,0,0,0,0,0,11.198000000000002,11.342750000000002,11.487500000000002,11.632250000000001,11.777000000000001,11.921750000000001,12.066500000000001,12.211250000000001,12.356000000000002,12.50075,12.6455,12.79025,12.935,13.079750000000001,13.224499999999999,13.369249999999999,13.513999999999999,13.412897028934916,13.311794057869832,13.210691086804747,13.109588115739664,13.00848514467458,12.907382173609497,12.806279202544413,12.705176231479328,12.604073260414244,12.502970289349161,12.301849003180516,12.100727717011871,11.899606430843226,11.698485144674581,11.497363858505935,11.29624257233729,11.095121286168645,10.894,10.851506869605934,10.809013739211871,10.766520608817805,10.724027478423741,10.681534348029675,10.63904121763561,10.596548087241546,10.55405495684748,10.511561826453416,10.469068696059351,10.768761826453416,11.06845495684748,11.368148087241545,11.66784121763561,11.967534348029675,12.26722747842374,12.566920608817805,12.86661373921187,13.166306869605934,13.465999999999999,{"$f":"BU2802","v":13.624625},13.783249999999999,13.941875,14.1005,14.259124999999999,14.41775,14.576375000000001,14.734999999999999,14.893625,15.052250000000001,15.210875000000001,15.3695,15.528125000000001,15.686750000000002,15.845375000000001,16.004000000000001,null,"Altherma 4 H W 14 kW","Altherma 4 H W 14 kW",9,0.13]
[null,"Altherma 4 H W",14,{"$f":"'Altherma 4 H'!$P$52","v":3.49},{"$f":"'Altherma 4 H'!$P$53","v":4.0599999999999996},{"$f":"'Altherma 4 H'!$P$54","v":5.5},26,{"$f":"H2803","v":0},0,0,0,0,0,0,0,0,0,11.212600000000002,11.358202479549032,11.50380495909806,11.649407438647088,11.795009918196119,11.940612397745149,12.086214877294177,12.231817356843205,12.377419836392235,12.523022315941265,12.668624795490294,12.814227275039322,12.959829754588352,13.105432234137382,13.25103471368641,13.396637193235438,13.542239672784468,13.442033328653954,13.34182698452344,13.241620640392927,13.141414296262413,13.041207952131899,12.941001608001384,12.84079526387087,12.740588919740357,12.640382575609843,12.540176231479329,12.339304202544412,12.138432173609496,11.937560144674581,11.736688115739664,11.535816086804747,11.334944057869832,11.134072028934916,10.933199999999999,10.912165495684748,10.891130991369495,10.870096487054244,10.849061982738991,10.82802747842374,10.806992974108489,10.785958469793236,10.764923965477985,10.743889461162732,10.722854956847481,10.986009461162734,11.249163965477985,11.512318469793236,11.775472974108489,12.038627478423741,12.301781982738992,12.564936487054243,12.828090991369496,13.091245495684749,13.3544,13.521566666666667,13.688733333333333,13.8559,14.023066666666667,14.190233333333333,14.3574,14.512080000000001,14.66676,14.821440000000001,14.97612,15.130800000000001,15.285480000000002,15.440160000000001,15.594840000000001,15.74952,15.904200000000001,null,"Altherma 4 H W 14 kW","Altherma 4 H W 14 kW",9,0.13]
[null,"Altherma 4 H W",14,{"$f":"'Altherma 4 H'!$P$52","v":3.49},{"$f":"'Altherma 4 H'!$P$53","v":4.0599999999999996},{"$f":"'Altherma 4 H'!$P$54","v":5.5},27,0,{"$f":"I2804","v":0},0,0,0,0,0,0,0,0,11.227200000000002,11.37365495909806,11.520109918196118,11.666564877294178,11.813019836392236,11.959474795490294,12.105929754588352,12.252384713686411,12.398839672784469,12.545294631882529,12.691749590980587,12.838204550078645,12.984659509176703,13.131114468274763,13.277569427372821,13.424024386470879,13.570479345568938,13.471169628372994,13.371859911177049,13.272550193981106,13.173240476785161,13.073930759589217,12.974621042393274,12.875311325197329,12.776001608001385,12.67669189080544,12.577382173609497,12.376759401908309,12.176136630207122,11.975513858505936,11.774891086804748,11.574268315103561,11.373645543402375,11.173022771701188,10.9724,10.972824121763562,10.973248243527122,10.973672365290684,10.974096487054243,10.974520608817805,10.974944730581367,10.975368852344927,10.975792974108488,10.976217095872048,10.97664121763561,11.203257095872049,11.429872974108488,11.656488852344927,11.883104730581366,12.109720608817804,12.336336487054243,12.562952365290682,12.789568243527121,13.01618412176356,13.242799999999999,13.418508333333332,13.594216666666666,13.769925000000001,13.945633333333333,14.121341666666666,14.29705,14.447785,14.598520000000001,14.749255000000002,14.899990000000001,15.050725,15.201460000000001,15.352195000000002,15.502930000000001,15.653665,15.804400000000001,null,"Altherma 4 H W 14 kW","Altherma 4 H W 14 kW",9,0.13]
[null,"Altherma 4 H W",14,{"$f":"'Altherma 4 H'!$P$52","v":3.49},{"$f":"'Altherma 4 H'!$P$53","v":4.0599999999999996},{"$f":"'Altherma 4 H'!$P$54","v":5.5},28,0,0,0,0,0,0,0,0,0,0,11.241800000000001,11.389107438647089,11.536414877294177,11.683722315941266,11.831029754588354,11.97833719323544,12.125644631882528,12.272952070529616,12.420259509176704,12.567566947823792,12.71487438647088,12.862181825117968,13.009489263765055,13.156796702412143,13.304104141059231,13.451411579706319,13.598719018353407,13.500305928092033,13.401892837830658,13.303479747569284,13.20506665730791,13.106653567046536,13.008240476785161,12.909827386523787,12.811414296262413,12.713001206001039,12.614588115739664,12.414214601272207,12.213841086804749,12.013467572337291,11.813094057869833,11.612720543402373,11.412347028934915,11.211973514467457,11.0116,11.033482747842374,11.055365495684748,11.077248243527121,11.099130991369496,11.12101373921187,11.142896487054244,11.164779234896619,11.186661982738991,11.208544730581366,11.23042747842374,11.420504730581367,11.610581982738992,11.800659234896617,11.990736487054244,12.180813739211871,12.370890991369496,12.560968243527121,12.751045495684748,12.941122747842375,13.1312,13.31545,13.499699999999999,13.683949999999999,13.8682,14.052449999999999,14.236699999999999,14.383489999999998,14.530279999999999,14.677070000000001,14.82386,14.970649999999999,15.11744,15.264230000000001,15.411020000000001,15.55781,15.704600000000001,null,"Altherma 4 H W 14 kW","Altherma 4 H W 14 kW",9,0.13]
[null,"Altherma 4 H W",14,{"$f":"'Altherma 4 H'!$P$52","v":3.49},{"$f":"'Altherma 4 H'!$P$53","v":4.0599999999999996},{"$f":"'Altherma 4 H'!$P$54","v":5.5},29,0,0,0,0,0,0,0,0,0,0,11.256400000000001,11.404559918196119,11.552719836392235,11.700879754588353,11.849039672784469,11.997199590980587,12.145359509176703,12.293519427372821,12.441679345568939,12.589839263765056,12.737999181961174,12.88615910015729,13.034319018353408,13.182478936549524,13.330638854745642,13.478798772941758,13.626958691137876,13.529442227811071,13.431925764484268,13.334409301157462,13.236892837830659,13.139376374503854,13.041859911177049,12.944343447850246,12.846826984523441,12.749310521196637,12.651794057869832,12.451669800636104,12.251545543402374,12.051421286168646,11.851297028934916,11.651172771701187,11.451048514467459,11.250924257233729,11.050800000000001,11.094141373921188,11.137482747842375,11.18082412176356,11.224165495684748,11.267506869605935,11.310848243527122,11.354189617448309,11.397530991369495,11.440872365290682,11.484213739211869,11.637752365290682,11.791290991369495,11.944829617448308,12.098368243527121,12.251906869605934,12.405445495684747,12.55898412176356,12.712522747842373,12.866061373921186,13.019599999999999,13.212391666666665,13.405183333333332,13.597974999999998,13.790766666666666,13.983558333333333,14.176349999999999,14.319194999999999,14.46204,14.604884999999999,14.747730000000001,14.890575,15.03342,15.176265000000001,15.31911,15.461955000000001,15.604800000000001,null,"Altherma 4 H W 14 kW","Altherma 4 H W 14 kW",9,0.13]
[null,"Altherma 4 H W",14,{"$f":"'Altherma 4 H'!$P$52","v":3.49},{"$f":"'Altherma 4 H'!$P$53","v":4.0599999999999996},{"$f":"'Altherma 4 H'!$P$54","v":5.5},30,9.766,9.9164999999999992,10.067,10.217500000000001,10.368,10.5185,10.669,10.819500000000001,10.97,11.1205,11.271000000000001,11.420012397745147,11.569024795490293,11.718037193235441,11.867049590980587,12.016061988725733,12.165074386470881,12.314086784216027,12.463099181961173,12.612111579706319,12.761123977451465,12.910136375196613,13.059148772941759,13.208161170686905,13.357173568432053,13.506185966177199,13.655198363922345,13.558578527530111,13.461958691137877,13.365338854745641,13.268719018353407,13.172099181961173,13.075479345568938,12.978859509176704,12.882239672784468,12.785619836392234,12.689,12.489125,12.289249999999999,12.089375,11.8895,11.689624999999999,11.489750000000001,11.289875,11.09,11.1548,11.2196,11.2844,11.3492,11.414,11.4788,11.5436,11.6084,11.6732,11.738,11.855,11.972,12.088999999999999,12.206,12.323,12.44,12.556999999999999,12.673999999999999,12.791,{"$f":"BT2807","v":12.907999999999999},13.109333333333332,13.310666666666666,13.512,13.713333333333333,13.914666666666665,14.116,14.254899999999999,14.393800000000001,14.5327,14.6716,14.810500000000001,14.949400000000001,15.0883,15.2272,15.366100000000001,15.505000000000001,null,"Altherma 4 H W 14 kW","Altherma 4 H W 14 kW",9,0.13]
[null,"Altherma 4 H W",14,{"$f":"'Altherma 4 H'!$P$52","v":3.49},{"$f":"'Altherma 4 H'!$P$53","v":4.0599999999999996},{"$f":"'Altherma 4 H'!$P$54","v":5.5},31,9.8169000000000004,{"$f":"I2808","v":9.9637700000000002},10.11064,10.25751,10.40438,10.55125,10.698120000000001,10.844990000000001,10.991860000000001,11.138730000000001,11.285600000000001,11.434697418196118,11.583794836392235,11.732892254588352,11.881989672784469,12.031087090980586,12.180184509176703,12.329281927372822,12.478379345568939,12.627476763765056,12.776574181961173,12.92567160015729,13.074769018353408,13.223866436549525,13.372963854745642,13.522061272941759,13.671158691137876,13.576689491793696,13.482220292449513,13.387751093105333,13.293281893761153,13.198812694416972,13.10434349507279,13.00987429572861,12.915405096384429,12.820935897040247,12.726466697696067,12.526108360484058,12.32575002327205,12.125391686060041,11.925033348848032,11.724675011636025,11.524316674424016,11.323958337212009,11.1236,11.16512,11.20664,11.24816,11.289680000000001,11.331199999999999,11.372719999999999,11.414239999999999,11.45576,11.49728,11.5388,11.67648,11.814159999999999,11.951840000000001,12.08952,12.2272,12.364879999999999,12.502559999999999,12.64024,12.77792,12.9156,13.106744444444445,13.297888888888888,13.489033333333332,13.680177777777777,13.871322222222222,14.062466666666666,14.203393333333333,14.34432,14.485246666666667,14.626173333333334,14.767099999999999,14.908026666666666,15.048953333333333,15.18988,15.330806666666668,15.471733333333335,null,"Altherma 4 H W 14 kW","Altherma 4 H W 14 kW",9,0.13]
[null,"Altherma 4 H W",14,{"$f":"'Altherma 4 H'!$P$52","v":3.49},{"$f":"'Altherma 4 H'!$P$53","v":4.0599999999999996},{"$f":"'Altherma 4 H'!$P$54","v":5.5},32,9.8678000000000008,10.011040000000001,10.15428,10.29752,10.440760000000001,10.584,10.72724,10.870480000000001,11.013720000000001,11.15696,11.3002,11.449382438647088,11.598564877294177,11.747747315941265,11.896929754588353,12.046112193235439,12.195294631882527,12.344477070529615,12.493659509176704,12.642841947823792,12.79202438647088,12.941206825117968,13.090389263765054,13.239571702412142,13.388754141059231,13.537936579706319,13.687119018353407,13.59480045605728,13.502481893761152,13.410163331465025,13.317844769168897,13.22552620687277,13.133207644576643,13.040889082280515,12.948570519984388,12.85625195768826,12.763933395392133,12.563091720968117,12.3622500465441,12.161408372120082,11.960566697696066,11.75972502327205,11.558883348848033,11.358041674424015,11.1572,11.17544,11.193680000000001,11.211919999999999,11.23016,11.2484,11.266640000000001,11.284880000000001,11.30312,11.32136,11.339600000000001,11.497960000000001,11.656320000000001,11.814680000000001,11.973040000000001,12.131399999999999,12.289759999999999,12.448119999999999,12.606479999999999,12.76484,12.9232,13.104155555555556,13.28511111111111,13.466066666666666,13.647022222222223,13.827977777777777,14.008933333333333,14.151886666666666,14.294840000000001,14.437793333333333,14.580746666666666,14.723700000000001,14.866653333333334,15.009606666666667,15.152559999999999,15.295513333333334,15.438466666666667,null,"Altherma 4 H W 14 kW","Altherma 4 H W 14 kW",9,0.13]
[null,"Altherma 4 H W",14,{"$f":"'Altherma 4 H'!$P$52","v":3.49},{"$f":"'Altherma 4 H'!$P$53","v":4.0599999999999996},{"$f":"'Altherma 4 H'!$P$54","v":5.5},33,9.9186999999999994,10.058309999999999,10.19792,10.337529999999999,10.47714,10.61675,10.756359999999999,10.89597,11.03558,11.175190000000001,11.3148,11.464067459098059,11.613334918196117,11.762602377294176,11.911869836392235,12.061137295490292,12.210404754588351,12.359672213686411,12.508939672784468,12.658207131882527,12.807474590980586,12.956742050078645,13.106009509176703,13.255276968274762,13.404544427372819,13.553811886470879,13.703079345568938,13.612911420320865,13.52274349507279,13.432575569824717,13.342407644576642,13.252239719328569,13.162071794080497,13.071903868832422,12.981735943584349,12.891568018336274,12.801400093088201,12.600075081452175,12.398750069816151,12.197425058180126,11.9961000465441,11.794775034908074,11.59345002327205,11.392125011636026,11.190799999999999,11.18576,11.180719999999999,11.17568,11.170639999999999,11.1656,11.16056,11.155519999999999,11.15048,11.145439999999999,11.1404,11.31944,11.498479999999999,11.677519999999999,11.85656,12.035599999999999,12.214639999999999,12.39368,12.57272,12.751759999999999,12.9308,13.101566666666667,13.272333333333332,13.443099999999999,13.613866666666667,13.784633333333332,13.955399999999999,14.100379999999999,14.24536,14.39034,14.53532,14.680299999999999,14.825279999999999,14.97026,15.11524,15.26022,15.405200000000001,null,"Altherma 4 H W 14 kW","Altherma 4 H W 14 kW",9,0.13]
[null,"Altherma 4 H W",14,{"$f":"'Altherma 4 H'!$P$52","v":3.49},{"$f":"'Altherma 4 H'!$P$53","v":4.0599999999999996},{"$f":"'Altherma 4 H'!$P$54","v":5.5},34,9.9695999999999998,10.10558,10.24156,10.37754,10.51352,10.6495,10.78548,10.92146,11.05744,11.19342,11.3294,11.47875247954903,11.628104959098058,11.777457438647087,11.926809918196117,12.076162397745147,12.225514877294176,12.374867356843204,12.524219836392234,12.673572315941264,12.822924795490293,12.972277275039321,13.121629754588351,13.270982234137382,13.42033471368641,13.569687193235438,13.719039672784469,13.631022384584448,13.543005096384428,13.454987808184409,13.366970519984388,13.278953231784367,13.190935943584348,13.102918655384329,13.014901367184308,12.926884078984287,12.838866790784268,12.637058441936235,12.4352500930882,12.233441744240167,12.031633395392134,11.8298250465441,11.628016697696067,11.426208348848032,11.224399999999999,11.196079999999998,11.167759999999999,11.13944,11.11112,11.082799999999999,11.05448,11.026160000000001,10.99784,10.969519999999999,10.9412,11.140919999999999,11.34064,11.54036,11.740080000000001,11.9398,12.139520000000001,12.33924,12.538959999999999,12.73868,{"$f":"BT2811","v":12.9384},13.098977777777778,13.259555555555556,13.420133333333332,13.580711111111111,13.741288888888889,13.901866666666667,14.048873333333333,14.195880000000001,14.342886666666667,14.489893333333333,14.636900000000001,14.783906666666667,14.930913333333333,15.077919999999999,15.224926666666667,15.371933333333333,null,"Altherma 4 H W 14 kW","Altherma 4 H W 14 kW",9,0.13]
[null,"Altherma 4 H W",14,{"$f":"'Altherma 4 H'!$P$52","v":3.49},{"$f":"'Altherma 4 H'!$P$53","v":4.0599999999999996},{"$f":"'Altherma 4 H'!$P$54","v":5.5},35,10.0205,{"$f":"I2812","v":10.152850000000001},10.2852,10.41755,10.549899999999999,10.68225,10.8146,10.946949999999999,11.0793,11.211649999999999,11.343999999999999,11.493437499999999,11.642875,11.7923125,11.941749999999999,12.0911875,12.240625,12.390062499999999,12.5395,12.6889375,12.838374999999999,12.9878125,13.13725,13.286687499999999,13.436125000000001,13.5855625,13.734999999999999,13.649133348848032,13.563266697696067,13.4774000465441,13.391533395392134,13.305666744240167,13.2198000930882,13.133933441936234,13.048066790784267,12.962200139632301,12.876333488480334,12.674041802420293,12.471750116360251,12.269458430300208,12.067166744240167,11.864875058180125,11.662583372120082,11.460291686060041,11.257999999999999,11.206399999999999,11.1548,11.103199999999999,11.051600000000001,11,10.948399999999999,10.896800000000001,10.8452,10.793600000000001,10.742000000000001,10.962400000000001,11.1828,11.4032,11.6236,11.844000000000001,12.064399999999999,12.284800000000001,12.5052,12.7256,12.946,13.096388888888889,13.246777777777778,13.397166666666667,13.547555555555554,13.697944444444444,13.848333333333333,13.997366666666666,14.1464,14.295433333333333,14.444466666666667,14.593499999999999,14.742533333333332,14.891566666666666,15.0406,15.189633333333333,15.338666666666667,null,"Altherma 4 H W 14 kW","Altherma 4 H W 14 kW",9,0.13]
[null,"Altherma 4 H W",14,{"$f":"'Altherma 4 H'!$P$52","v":3.49},{"$f":"'Altherma 4 H'!$P$53","v":4.0599999999999996},{"$f":"'Altherma 4 H'!$P$54","v":5.5},36,10.071400000000001,10.20012,10.32884,10.457560000000001,10.58628,10.715,10.843719999999999,10.972439999999999,11.10116,11.22988,11.358599999999999,11.506905229523554,11.655210459047108,11.803515688570663,11.951820918094217,12.100126147617772,12.248431377141326,12.396736606664881,12.545041836188435,12.69334706571199,12.841652295235546,12.989957524759101,13.138262754282655,13.28656798380621,13.434873213329764,13.583178442853319,13.731483672376873,13.647969807335205,13.564455942293536,13.480942077251866,13.397428212210198,13.313914347168529,13.230400482126861,13.146886617085192,13.063372752043522,12.979858887001853,12.896345021960185,12.689423407970036,12.482501793979889,12.275580179989742,12.068658565999593,11.861736952009444,11.654815338019297,11.44789372402915,11.240972110039001,11.256533178729098,11.272094247419195,11.287655316109291,11.303216384799388,11.318777453489485,11.334338522179582,11.349899590869679,11.365460659559774,11.381021728249872,11.396582796939969,11.545477850579305,11.694372904218641,11.843267957857979,11.992163011497315,12.141058065136651,12.289953118775987,12.438848172415323,12.587743226054661,12.736638279693997,12.885533333333333,13.037077777777778,13.188622222222222,13.340166666666665,13.49171111111111,13.643255555555555,13.794799999999999,13.942533333333332,14.090266666666665,14.238,14.385733333333333,14.533466666666666,14.681199999999999,14.828933333333332,14.976666666666667,15.1244,15.272133333333333,null,"Altherma 4 H W 14 kW","Altherma 4 H W 14 kW",9,0.13]
[null,"Altherma 4 H W",14,{"$f":"'Altherma 4 H'!$P$52","v":3.49},{"$f":"'Altherma 4 H'!$P$53","v":4.0599999999999996},{"$f":"'Altherma 4 H'!$P$54","v":5.5},37,10.122300000000001,10.247390000000001,10.372480000000001,10.49757,10.62266,10.74775,10.87284,10.99793,11.123019999999999,11.248109999999999,11.373199999999999,11.520372959047108,11.667545918094218,11.814718877141326,11.961891836188435,12.109064795235545,12.256237754282655,12.403410713329764,12.550583672376874,12.697756631423982,12.844929590471091,12.992102549518201,13.13927550856531,13.28644846761242,13.433621426659528,13.580794385706637,13.727967344753747,13.646806265822375,13.565645186891004,13.484484107959632,13.403323029028261,13.322161950096891,13.24100087116552,13.159839792234148,13.078678713302777,12.997517634371405,12.916356555440034,12.704805013519779,12.493253471599527,12.281701929679272,12.070150387759018,11.858598845838765,11.647047303918511,11.435495761998258,11.223944220078003,11.306666357458196,11.389388494838389,11.472110632218584,11.554832769598777,11.63755490697897,11.720277044359163,11.802999181739356,11.885721319119551,11.968443456499744,12.051165593879936,12.128555701158609,12.205945808437283,12.283335915715956,12.360726022994628,12.438116130273301,12.515506237551975,12.592896344830647,12.67028645210932,12.747676559387994,12.825066666666666,12.977766666666666,13.130466666666667,13.283166666666666,13.435866666666666,13.588566666666667,13.741266666666666,13.887699999999999,14.034133333333333,14.180566666666667,14.327,14.473433333333332,14.619866666666667,14.766300000000001,14.912733333333334,15.059166666666666,15.2056,null,"Altherma 4 H W 14 kW","Altherma 4 H W 14 kW",9,0.13]
[null,"Altherma 4 H W",14,{"$f":"'Altherma 4 H'!$P$52","v":3.49},{"$f":"'Altherma 4 H'!$P$53","v":4.0599999999999996},{"$f":"'Altherma 4 H'!$P$54","v":5.5},38,10.1732,10.29466,10.416119999999999,10.537579999999998,10.659039999999999,10.7805,10.901959999999999,11.023419999999998,11.144879999999999,11.26634,11.387799999999999,11.533840688570663,11.679881377141326,11.825922065711991,11.971962754282654,12.118003442853318,12.264044131423981,12.410084819994646,12.556125508565309,12.702166197135973,12.848206885706638,12.994247574277301,13.140288262847966,13.286328951418628,13.432369639989293,13.578410328559958,13.724451017130621,13.645642724309546,13.566834431488473,13.488026138667401,13.409217845846326,13.330409553025252,13.251601260204179,13.172792967383106,13.093984674562032,13.015176381740957,12.936368088919885,12.720186619069525,12.504005149219164,12.287823679368806,12.071642209518446,11.855460739668086,11.639279269817727,11.423097799967367,11.206916330117007,11.356799536187298,11.506682742257587,11.656565948327877,11.806449154398166,11.956332360468457,12.106215566538747,12.256098772609036,12.405981978679327,12.555865184749615,12.705748390819906,12.711633551737915,12.717518712655925,12.723403873573934,12.729289034491943,12.735174195409954,12.741059356327963,12.746944517245971,12.75282967816398,12.758714839081991,{"$f":"BT2815","v":12.7646},12.918455555555555,13.072311111111111,13.226166666666666,13.380022222222221,13.533877777777777,13.687733333333332,13.832866666666666,13.978,14.123133333333332,14.268266666666666,14.413399999999999,14.558533333333333,14.703666666666667,14.848799999999999,14.993933333333333,15.139066666666666,null,"Altherma 4 H W 14 kW","Altherma 4 H W 14 kW",9,0.13]
[null,"Altherma 4 H W",14,{"$f":"'Altherma 4 H'!$P$52","v":3.49},{"$f":"'Altherma 4 H'!$P$53","v":4.0599999999999996},{"$f":"'Altherma 4 H'!$P$54","v":5.5},39,10.2241,{"$f":"I2816","v":10.34193},10.459759999999999,10.577589999999999,10.695419999999999,10.81325,10.93108,11.048909999999999,11.166739999999999,11.284569999999999,11.402399999999998,11.547308418094216,11.692216836188436,11.837125254282654,11.982033672376872,12.126942090471092,12.27185050856531,12.416758926659528,12.561667344753747,12.706575762847965,12.851484180942183,12.996392599036401,13.141301017130621,13.286209435224839,13.431117853319058,13.576026271413276,13.720934689507494,13.644479182796719,13.568023676085943,13.491568169375165,13.41511266266439,13.338657155953614,13.262201649242838,13.185746142532063,13.109290635821285,13.032835129110509,12.956379622399734,12.735568224619268,12.514756826838802,12.293945429058336,12.073134031277871,11.852322633497407,11.631511235716941,11.410699837936475,11.189888440156009,11.406932714916396,11.623976989676782,11.841021264437169,12.058065539197555,12.275109813957942,12.492154088718328,12.709198363478714,12.926242638239101,13.143286912999487,13.360331187759874,13.294711402317219,13.229091616874566,13.163471831431911,13.097852045989258,13.032232260546603,12.966612475103949,12.900992689661296,12.835372904218641,12.769753118775988,12.704133333333333,12.859144444444444,13.014155555555556,13.169166666666666,13.324177777777777,13.479188888888888,13.6342,13.778033333333333,13.921866666666666,14.0657,14.209533333333333,14.353366666666666,14.497200000000001,14.641033333333334,14.784866666666668,14.928700000000001,15.072533333333334,null,"Altherma 4 H W 14 kW","Altherma 4 H W 14 kW",9,0.13]
[null,"Altherma 4 H W",14,{"$f":"'Altherma 4 H'!$P$52","v":3.49},{"$f":"'Altherma 4 H'!$P$53","v":4.0599999999999996},{"$f":"'Altherma 4 H'!$P$54","v":5.5},40,10.275,10.389200000000001,10.503399999999999,10.617599999999999,10.7318,10.846,10.960199999999999,11.074399999999999,11.188599999999999,11.302799999999998,11.416999999999998,11.560776147617771,11.704552295235544,11.848328442853317,11.99210459047109,12.135880738088863,12.279656885706636,12.423433033324411,12.567209180942182,12.710985328559957,12.85476147617773,12.998537623795503,13.142313771413276,13.286089919031049,13.429866066648822,13.573642214266595,13.717418361884368,13.643315641283889,13.569212920683411,13.495110200082934,13.421007479482455,13.346904758881976,13.272802038281498,13.198699317681019,13.124596597080542,13.050493876480063,12.976391155879584,12.750949830169013,12.525508504458442,12.30006717874787,12.074625853037297,11.849184527326726,11.623743201616154,11.398301875905583,11.172860550195011,11.457065893645494,11.741271237095978,12.02547658054646,12.309681923996944,12.593887267447426,12.878092610897909,13.162297954348393,13.446503297798875,13.730708641249359,14.014913984699842,13.877789252896523,13.740664521093207,13.60353978928989,13.466415057486572,13.329290325683253,13.192165593879936,13.05504086207662,12.917916130273301,12.780791398469983,12.643666666666666,12.799833333333332,12.956,13.112166666666667,13.268333333333333,13.424499999999998,13.580666666666666,13.723199999999999,13.865733333333333,14.008266666666666,14.1508,14.293333333333333,14.435866666666666,14.5784,14.720933333333333,14.863466666666667,15.006,null,"Altherma 4 H W 14 kW","Altherma 4 H W 14 kW",9,0.13]
[null,"Altherma 4 H W",14,{"$f":"'Altherma 4 H'!$P$52","v":3.49},{"$f":"'Altherma 4 H'!$P$53","v":4.0599999999999996},{"$f":"'Altherma 4 H'!$P$54","v":5.5},41,10.3209,10.451449999999999,10.581999999999999,10.71255,10.8431,10.973649999999999,11.104199999999999,11.234749999999998,11.3653,11.495849999999999,11.626399999999999,11.754260012379548,11.8821200247591,12.00998003713865,12.1378400495182,12.26570006189775,12.3935600742773,12.521420086656851,12.649280099036401,12.777140111415951,12.905000123795503,13.032860136175053,13.160720148554603,13.288580160934153,13.416440173313703,13.544300185693254,13.672160198072804,13.603695470735891,13.535230743398976,13.466766016062063,13.398301288725149,13.329836561388236,13.261371834051323,13.192907106714408,13.124442379377495,13.05597765204058,12.987512924703667,12.75855986413521,12.529606803566752,12.300653742998295,12.071700682429839,11.842747621861381,11.613794561292924,11.384841500724466,11.155888440156009,11.464772714916394,11.773656989676782,12.082541264437168,12.391425539197554,12.70030981395794,13.009194088718328,13.318078363478714,13.6269626382391,13.935846912999487,14.244731187759873,14.078578068983886,13.912424950207898,13.746271831431912,13.580118712655924,13.413965593879936,13.247812475103949,13.081659356327961,12.915506237551975,12.749353118775987,12.5832,12.740522222222221,12.897844444444443,13.055166666666665,13.212488888888888,13.36981111111111,13.527133333333332,13.667959999999999,13.808786666666665,13.949613333333332,14.090439999999999,14.231266666666667,14.372093333333332,14.512919999999999,14.653746666666667,14.794573333333332,14.9354,null,"Altherma 4 H W 14 kW","Altherma 4 H W 14 kW",9,0.13]
[null,"Altherma 4 H W",14,{"$f":"'Altherma 4 H'!$P$52","v":3.49},{"$f":"'Altherma 4 H'!$P$53","v":4.0599999999999996},{"$f":"'Altherma 4 H'!$P$54","v":5.5},42,10.3668,10.5137,10.660599999999999,10.807499999999999,10.9544,11.101299999999998,11.248199999999999,11.395099999999999,11.542,11.688899999999999,11.835799999999999,11.947743877141328,12.059687754282654,12.171631631423981,12.28357550856531,12.395519385706638,12.507463262847965,12.619407139989292,12.731351017130621,12.843294894271949,12.955238771413276,13.067182648554603,13.179126525695931,13.29107040283726,13.403014279978587,13.514958157119914,13.626902034261242,13.564075300187893,13.501248566114544,13.438421832041195,13.375595097967846,13.312768363894495,13.249941629821146,13.187114895747797,13.124288161674448,13.061461427601099,12.99863469352775,12.766169898101406,12.533705102675064,12.301240307248721,12.068775511822377,11.836310716396035,11.603845920969691,11.371381125543349,11.138916330117006,11.472479536187295,11.806042742257585,12.139605948327876,12.473169154398166,12.806732360468455,13.140295566538745,13.473858772609034,13.807421978679326,14.140985184749615,14.474548390819905,14.279366885071248,14.084185379322591,13.889003873573934,13.693822367825277,13.49864086207662,13.303459356327963,13.108277850579304,12.913096344830647,12.71791483908199,{"$f":"BT2819","v":12.522733333333333},12.681211111111111,12.839688888888888,12.998166666666666,13.156644444444444,13.315122222222222,13.473599999999999,13.612719999999999,13.75184,13.89096,14.03008,14.1692,14.30832,14.44744,14.58656,14.725680000000001,14.864800000000001,null,"Altherma 4 H W 14 kW","Altherma 4 H W 14 kW",9,0.13]
[null,"Altherma 4 H W",14,{"$f":"'Altherma 4 H'!$P$52","v":3.49},{"$f":"'Altherma 4 H'!$P$53","v":4.0599999999999996},{"$f":"'Altherma 4 H'!$P$54","v":5.5},43,10.412700000000001,{"$f":"I2820","v":10.575950000000001},10.7392,10.90245,11.0657,11.228950000000001,11.392200000000001,11.55545,11.7187,11.88195,12.045199999999999,12.141227741903105,12.237255483806209,12.333283225709314,12.42931096761242,12.525338709515523,12.621366451418629,12.717394193321734,12.813421935224838,12.909449677127943,13.005477419031049,13.101505160934153,13.197532902837258,13.293560644740364,13.389588386643469,13.485616128546573,13.581643870449678,13.524455129639893,13.46726638883011,13.410077648020325,13.352888907210541,13.295700166400756,13.238511425590971,13.181322684781188,13.124133943971403,13.06694520316162,13.009756462351834,12.773779932067606,12.537803401783377,12.301826871499149,12.065850341214919,11.829873810930691,11.593897280646463,11.357920750362233,11.121944220078005,11.480186357458198,11.838428494838391,12.196670632218584,12.554912769598777,12.913154906978971,13.271397044359164,13.629639181739357,13.98788131911955,14.346123456499743,14.704365593879936,14.48015570115861,14.255945808437282,14.031735915715956,13.807526022994628,13.583316130273301,13.359106237551973,13.134896344830647,12.910686452109321,12.686476559387993,12.462266666666666,12.6219,12.781533333333332,12.941166666666666,13.1008,13.260433333333332,13.420066666666665,13.557479999999998,13.694893333333333,13.832306666666666,13.969719999999999,14.107133333333334,14.244546666666666,14.381959999999999,14.519373333333332,14.656786666666667,14.7942,null,"Altherma 4 H W 14 kW","Altherma 4 H W 14 kW",9,0.13]
[null,"Altherma 4 H W",14,{"$f":"'Altherma 4 H'!$P$52","v":3.49},{"$f":"'Altherma 4 H'!$P$53","v":4.0599999999999996},{"$f":"'Altherma 4 H'!$P$54","v":5.5},44,10.458600000000001,10.638200000000001,10.8178,10.997400000000001,11.177,11.3566,11.536200000000001,11.7158,11.8954,12.074999999999999,12.2546,12.334711606664882,12.414823213329765,12.494934819994647,12.575046426659529,12.655158033324412,12.735269639989294,12.815381246654177,12.895492853319059,12.97560445998394,13.055716066648822,13.135827673313704,13.215939279978587,13.296050886643469,13.376162493308351,13.456274099973234,13.536385706638116,13.484834959091897,13.433284211545676,13.381733463999456,13.330182716453237,13.278631968907018,13.227081221360796,13.175530473814577,13.123979726268358,13.072428978722137,13.020878231175917,12.781389966033803,12.541901700891689,12.302413435749575,12.062925170607461,11.823436905465345,11.58394864032323,11.344460375181116,11.104972110039002,11.487893178729099,11.870814247419196,12.253735316109292,12.636656384799389,13.019577453489486,13.402498522179581,13.785419590869678,14.168340659559775,14.551261728249871,14.934182796939968,14.680944517245971,14.427706237551975,14.174467957857978,13.92122967816398,13.667991398469983,13.414753118775987,13.16151483908199,12.908276559387993,12.655038279693997,12.4018,12.562588888888889,12.723377777777777,12.884166666666665,13.044955555555555,13.205744444444445,13.366533333333333,13.50224,13.637946666666666,13.773653333333334,13.90936,14.045066666666667,14.180773333333335,14.31648,14.452186666666668,14.587893333333334,14.723600000000001,null,"Altherma 4 H W 14 kW","Altherma 4 H W 14 kW",9,0.13]
[null,"Altherma 4 H W",14,{"$f":"'Altherma 4 H'!$P$52","v":3.49},{"$f":"'Altherma 4 H'!$P$53","v":4.0599999999999996},{"$f":"'Altherma 4 H'!$P$54","v":5.5},45,10.5045,10.70045,10.8964,11.09235,11.2883,11.484249999999999,11.680199999999999,11.876150000000001,12.072100000000001,12.268050000000001,12.464,12.52819547142666,12.592390942853319,12.656586414279978,12.720781885706639,12.784977357133299,12.849172828559958,12.913368299986617,12.977563771413276,13.041759242839936,13.105954714266595,13.170150185693254,13.234345657119913,13.298541128546574,13.362736599973234,13.426932071399893,13.491127542826552,13.445214788543897,13.399302034261241,13.353389279978586,13.307476525695931,13.261563771413275,13.215651017130622,13.169738262847966,13.123825508565311,13.077912754282655,13.032,12.789,12.545999999999999,12.302999999999999,12.059999999999999,11.817,11.574,11.331,11.087999999999999,11.4956,11.9032,12.3108,12.718399999999999,13.125999999999999,13.5336,13.9412,14.348800000000001,14.756399999999999,15.164,14.881733333333333,14.599466666666666,14.3172,14.034933333333333,13.752666666666666,13.4704,13.188133333333333,12.905866666666666,12.6236,12.341333333333333,12.503277777777777,12.665222222222221,12.827166666666667,12.989111111111111,13.151055555555555,13.312999999999999,13.446999999999999,13.581,13.715,13.849,13.983000000000001,14.116999999999999,14.250999999999999,14.385,14.519,14.653,null,"Altherma 4 H W 14 kW","Altherma 4 H W 14 kW",9,0.13]
[null,"Altherma 4 H W",14,{"$f":"'Altherma 4 H'!$P$52","v":3.49},{"$f":"'Altherma 4 H'!$P$53","v":4.0599999999999996},{"$f":"'Altherma 4 H'!$P$54","v":5.5},46,10.5504,10.75296,10.95552,11.15808,11.36064,11.5632,11.76576,11.96832,12.17088,12.37344,12.576000000000001,12.628481412899827,12.680962825799652,12.733444238699478,12.785925651599305,12.83840706449913,12.890888477398956,12.943369890298783,12.995851303198609,13.048332716098434,13.100814128998261,13.153295541898087,13.205776954797912,13.258258367697739,13.310739780597565,13.36322119349739,13.415702606397216,13.382032345757494,13.348362085117774,13.314691824478052,13.28102156383833,13.247351303198609,13.213681042558887,13.180010781919165,13.146340521279443,13.112670260639723,13.079000000000001,12.826937493157352,12.574874986314704,12.322812479472056,12.070749972629407,11.818687465786759,11.566624958944111,11.314562452101462,11.062499945258814,11.473623284066266,11.884746622873719,12.29586996168117,12.706993300488621,13.118116639296073,13.529239978103526,13.940363316910977,14.351486655718428,14.762609994525882,15.173733333333333,14.884446666666665,14.59516,14.305873333333333,14.016586666666667,13.7273,13.438013333333334,13.148726666666667,12.859439999999999,12.570153333333334,{"$f":"BT2823","v":12.280866666666666},12.443966666666666,12.607066666666666,12.770166666666666,12.933266666666666,13.096366666666666,13.259466666666667,13.396466666666667,13.533466666666667,13.670466666666666,13.807466666666667,13.944466666666667,14.081466666666667,14.218466666666668,14.355466666666667,14.492466666666667,14.629466666666668,null,"Altherma 4 H W 14 kW","Altherma 4 H W 14 kW",9,0.13]
[null,"Altherma 4 H W",14,{"$f":"'Altherma 4 H'!$P$52","v":3.49},{"$f":"'Altherma 4 H'!$P$53","v":4.0599999999999996},{"$f":"'Altherma 4 H'!$P$54","v":5.5},47,10.596299999999999,{"$f":"I2824","v":10.80547},11.01464,11.22381,11.432980000000001,11.642150000000001,11.851320000000001,12.06049,12.26966,12.47883,12.688000000000001,12.728767354372993,12.769534708745987,12.810302063118979,12.851069417491971,12.891836771864963,12.932604126237955,12.973371480610949,13.014138834983941,13.054906189356933,13.095673543729927,13.136440898102919,13.177208252475911,13.217975606848903,13.258742961221895,13.299510315594889,13.340277669967881,13.318849902971092,13.297422135974305,13.275994368977516,13.254566601980729,13.23313883498394,13.211711067987151,13.190283300990364,13.168855533993575,13.147427766996788,13.125999999999999,12.864874986314703,12.603749972629407,12.342624958944111,12.081499945258814,11.820374931573518,11.559249917888222,11.298124904202925,11.036999890517629,11.451646568132533,11.866293245747437,12.28093992336234,12.695586600977244,13.110233278592148,13.524879956207052,13.939526633821956,14.35417331143686,14.768819989051762,15.183466666666666,14.88716,14.590853333333333,14.294546666666665,13.998239999999999,13.701933333333333,13.405626666666667,13.10932,12.813013333333334,12.516706666666666,12.2204,12.384655555555556,12.54891111111111,12.713166666666666,12.877422222222222,13.041677777777776,13.205933333333332,13.345933333333333,13.485933333333334,13.625933333333332,13.765933333333333,13.905933333333333,14.045933333333334,14.185933333333335,14.325933333333333,14.465933333333334,14.605933333333335,null,"Altherma 4 H W 14 kW","Altherma 4 H W 14 kW",9,0.13]
[null,"Altherma 4 H W",14,{"$f":"'Altherma 4 H'!$P$52","v":3.49},{"$f":"'Altherma 4 H'!$P$53","v":4.0599999999999996},{"$f":"'Altherma 4 H'!$P$54","v":5.5},48,10.642200000000001,10.857980000000001,11.07376,11.289540000000001,11.505320000000001,11.7211,11.93688,12.152660000000001,12.368440000000001,12.58422,12.8,12.82905329584616,12.858106591692319,12.887159887538477,12.916213183384636,12.945266479230796,12.974319775076953,13.003373070923113,13.032426366769272,13.061479662615431,13.090532958461591,13.119586254307748,13.148639550153908,13.177692846000067,13.206746141846224,13.235799437692384,13.264852733538543,13.255667460184689,13.246482186830834,13.23729691347698,13.228111640123126,13.218926366769271,13.209741093415417,13.200555820061563,13.191370546707709,13.182185273353854,13.173,12.902812479472056,12.63262495894411,12.362437438416165,12.092249917888221,11.822062397360277,11.551874876832333,11.281687356304387,11.011499835776442,11.429669852198797,11.847839868621154,12.266009885043509,12.684179901465866,13.102349917888221,13.520519934310578,13.938689950732932,14.356859967155287,14.775029983577644,15.193199999999999,14.889873333333332,14.586546666666665,14.28322,13.979893333333333,13.676566666666666,13.373239999999999,13.069913333333332,12.766586666666665,12.46326,12.159933333333333,12.325344444444443,12.490755555555555,12.656166666666667,12.821577777777778,12.986988888888888,13.1524,13.295400000000001,13.4384,13.5814,13.724399999999999,13.8674,14.010400000000001,14.1534,14.2964,14.439399999999999,14.5824,null,"Altherma 4 H W 14 kW","Altherma 4 H W 14 kW",9,0.13]
[null,"Altherma 4 H W",14,{"$f":"'Altherma 4 H'!$P$52","v":3.49},{"$f":"'Altherma 4 H'!$P$53","v":4.0599999999999996},{"$f":"'Altherma 4 H'!$P$54","v":5.5},49,10.6881,10.910490000000001,11.13288,11.355270000000001,11.57766,11.800050000000001,12.02244,12.24483,12.467220000000001,12.68961,12.912000000000001,12.929339237319326,12.946678474638652,12.964017711957977,12.981356949277302,12.998696186596629,13.016035423915953,13.033374661235278,13.050713898554605,13.06805313587393,13.085392373193255,13.10273161051258,13.120070847831906,13.137410085151231,13.154749322470556,13.172088559789882,13.189427797109207,13.192485017398287,13.195542237687366,13.198599457976444,13.201656678265524,13.204713898554603,13.207771118843683,13.210828339132762,13.21388555942184,13.216942779710919,13.219999999999999,12.940749972629407,12.661499945258814,12.38224991788822,12.102999890517628,11.823749863147036,11.544499835776442,11.26524980840585,10.985999781035257,11.407693136265065,11.829386491494873,12.25107984672468,12.672773201954488,13.094466557184294,13.516159912414103,13.937853267643909,14.359546622873717,14.781239978103525,15.202933333333332,14.892586666666666,14.582239999999999,14.271893333333333,13.961546666666665,13.651199999999999,13.340853333333332,13.030506666666666,12.72016,12.409813333333332,12.099466666666666,12.266033333333333,12.432599999999999,12.599166666666665,12.765733333333333,12.9323,13.098866666666666,13.244866666666667,13.390866666666666,13.536866666666667,13.682866666666666,13.828866666666666,13.974866666666667,14.120866666666666,14.266866666666667,14.412866666666666,14.558866666666667,null,"Altherma 4 H W 14 kW","Altherma 4 H W 14 kW",9,0.13]
[null,"Altherma 4 H W",14,{"$f":"'Altherma 4 H'!$P$52","v":3.49},{"$f":"'Altherma 4 H'!$P$53","v":4.0599999999999996},{"$f":"'Altherma 4 H'!$P$54","v":5.5},50,10.734,10.963000000000001,11.192,11.420999999999999,11.65,11.879000000000001,12.108000000000001,12.337,12.566000000000001,12.795000000000002,13.024000000000001,13.029625178792493,13.035250357584985,13.040875536377477,13.046500715169969,13.05212589396246,13.057751072754952,13.063376251547444,13.069001430339936,13.074626609132428,13.08025178792492,13.085876966717413,13.091502145509903,13.097127324302395,13.102752503094887,13.108377681887379,13.114002860679872,13.129302574611884,13.144602288543897,13.15990200247591,13.175201716407923,13.190501430339935,13.205801144271948,13.221100858203961,13.236400572135974,13.251700286067987,13.266999999999999,12.978687465786759,12.690374931573517,12.402062397360277,12.113749863147035,11.825437328933795,11.537124794720555,11.248812260507314,10.960499726294072,11.385716420331331,11.810933114368591,12.23614980840585,12.66136650244311,13.086583196480369,13.511799890517629,13.937016584554888,14.362233278592146,14.787449972629407,15.212666666666665,14.895299999999999,14.577933333333332,14.260566666666666,13.943199999999999,13.625833333333333,13.308466666666666,12.991099999999999,12.673733333333333,12.356366666666666,{"$f":"BT2827","v":12.039},12.206722222222222,12.374444444444444,12.542166666666667,12.709888888888889,12.877611111111111,13.045333333333334,13.194333333333333,13.343333333333334,13.492333333333335,13.641333333333334,13.790333333333333,13.939333333333334,14.088333333333335,14.237333333333334,14.386333333333333,14.535333333333334,null,"Altherma 4 H W 14 kW","Altherma 4 H W 14 kW",9,0.13]
[null,"Altherma 4 H W",14,{"$f":"'Altherma 4 H'!$P$52","v":3.49},{"$f":"'Altherma 4 H'!$P$53","v":4.0599999999999996},{"$f":"'Altherma 4 H'!$P$54","v":5.5},51,10.790900000000001,{"$f":"I2828","v":11.025410000000001},11.259920000000001,11.494430000000001,11.728940000000001,11.963450000000002,12.197960000000002,12.43247,12.666980000000001,12.901490000000001,13.136000000000001,13.136950143033994,13.137900286067989,13.138850429101982,13.139800572135975,13.140750715169968,13.141700858203961,13.142651001237956,13.143601144271949,13.144551287305942,13.145501430339937,13.14645157337393,13.147401716407924,13.148351859441917,13.14930200247591,13.150252145509905,13.151202288543898,13.153623579687718,13.156044870831538,13.158466161975358,13.160887453119178,13.163308744262999,13.165730035406821,13.168151326550641,13.170572617694461,13.172993908838281,13.175415199982101,12.895338272613746,12.61526134524539,12.335184417877034,12.055107490508679,11.775030563140325,11.494953635771969,11.214876708403613,10.934799781035258,11.363559802931732,11.792319824828207,12.221079846724681,12.649839868621154,13.078599890517628,13.507359912414103,13.936119934310577,14.364879956207051,14.793639978103524,15.222399999999999,14.898013333333331,14.573626666666666,14.249239999999999,13.924853333333333,13.600466666666666,13.27608,12.951693333333333,12.627306666666666,12.30292,11.978533333333333,12.147411111111111,12.316288888888888,12.485166666666666,12.654044444444445,12.822922222222221,12.9918,13.141446666666667,13.291093333333333,13.44074,13.590386666666667,13.740033333333333,13.88968,14.039326666666668,14.188973333333335,14.338620000000001,14.488266666666668,null,"Altherma 4 H W 14 kW","Altherma 4 H W 14 kW",9,0.13]
[null,"Altherma 4 H W",14,{"$f":"'Altherma 4 H'!$P$52","v":3.49},{"$f":"'Altherma 4 H'!$P$53","v":4.0599999999999996},{"$f":"'Altherma 4 H'!$P$54","v":5.5},52,10.847799999999999,11.087819999999999,11.32784,11.56786,11.807880000000001,12.0479,12.28792,12.527940000000001,12.76796,13.007980000000002,13.248000000000001,13.244275107275497,13.240550214550991,13.236825321826487,13.233100429101981,13.229375536377477,13.225650643652973,13.221925750928467,13.218200858203963,13.214475965479458,13.210751072754952,13.207026180030448,13.203301287305944,13.199576394581438,13.195851501856934,13.192126609132428,13.188401716407924,13.177944584763551,13.167487453119179,13.157030321474808,13.146573189830436,13.136116058186063,13.125658926541691,13.115201794897319,13.104744663252948,13.094287531608575,13.083830399964203,12.811989079440734,12.540147758917263,12.268306438393793,11.996465117870322,11.724623797346853,11.452782476823383,11.180941156299912,10.909099835776443,11.341403185532132,11.77370653528782,12.20600988504351,12.638313234799199,13.070616584554887,13.502919934310576,13.935223284066264,14.367526633821953,14.799829983577643,15.232133333333332,14.900726666666666,14.569319999999999,14.237913333333331,13.906506666666665,13.575099999999999,13.243693333333333,12.912286666666667,12.580880000000001,12.249473333333333,11.918066666666666,12.088100000000001,12.258133333333333,12.428166666666666,12.5982,12.768233333333335,12.938266666666667,13.088560000000001,13.238853333333333,13.389146666666667,13.539440000000001,13.689733333333333,13.840026666666667,13.990320000000001,14.140613333333334,14.290906666666666,14.4412,null,"Altherma 4 H W 14 kW","Altherma 4 H W 14 kW",9,0.13]
[null,"Altherma 4 H W",14,{"$f":"'Altherma 4 H'!$P$52","v":3.49},{"$f":"'Altherma 4 H'!$P$53","v":4.0599999999999996},{"$f":"'Altherma 4 H'!$P$54","v":5.5},53,10.9047,11.150230000000001,11.395760000000001,11.64129,11.88682,12.132350000000001,12.377880000000001,12.623410000000002,12.86894,13.114470000000001,13.360000000000001,13.351600071516998,13.343200143033995,13.334800214550992,13.326400286067988,13.318000357584985,13.309600429101982,13.301200500618979,13.292800572135974,13.284400643652971,13.276000715169967,13.267600786686964,13.259200858203961,13.250800929720958,13.242401001237955,13.234001072754952,13.225601144271948,13.202265589839385,13.17893003540682,13.155594480974255,13.132258926541692,13.108923372109128,13.085587817676563,13.062252263243998,13.038916708811435,13.015581154378872,12.992245599946306,12.728639886267722,12.465034172589137,12.201428458910552,11.937822745231969,11.674217031553384,11.4106113178748,11.147005604196215,10.88339989051763,11.319246568132534,11.755093245747437,12.190939923362341,12.626786600977244,13.062633278592148,13.498479956207053,13.934326633821955,14.37017331143686,14.806019989051762,15.241866666666667,14.90344,14.565013333333333,14.226586666666666,13.888159999999999,13.549733333333332,13.211306666666665,12.87288,12.534453333333333,12.196026666666667,11.8576,12.028788888888888,12.199977777777777,12.371166666666667,12.542355555555556,12.713544444444445,12.884733333333333,13.035673333333333,13.186613333333334,13.337553333333334,13.488493333333334,13.639433333333333,13.790373333333333,13.941313333333333,14.092253333333334,14.243193333333334,14.394133333333334,null,"Altherma 4 H W 14 kW","Altherma 4 H W 14 kW",9,0.13]
[null,"Altherma 4 H W",14,{"$f":"'Altherma 4 H'!$P$52","v":3.49},{"$f":"'Altherma 4 H'!$P$53","v":4.0599999999999996},{"$f":"'Altherma 4 H'!$P$54","v":5.5},54,10.961599999999999,11.212639999999999,11.46368,11.71472,11.96576,12.216799999999999,12.467840000000001,12.71888,12.969920000000002,13.220960000000002,13.472000000000001,13.458925035758499,13.445850071516999,13.432775107275496,13.419700143033994,13.406625178792494,13.393550214550991,13.380475250309489,13.367400286067987,13.354325321826487,13.341250357584984,13.328175393343482,13.315100429101982,13.302025464860479,13.288950500618977,13.275875536377477,13.262800572135975,13.226586594915219,13.190372617694461,13.154158640473705,13.117944663252947,13.081730686032191,13.045516708811435,13.009302731590678,12.973088754369922,12.936874777149164,12.900660799928408,12.64529069309471,12.38992058626101,12.134550479427311,11.879180372593613,11.623810265759912,11.368440158926214,11.113070052092514,10.857699945258815,11.297089950732934,11.736479956207052,12.175869961681171,12.615259967155289,13.054649972629408,13.494039978103526,13.933429983577645,14.372819989051763,14.812209994525881,15.2516,14.906153333333332,14.560706666666666,14.215260000000001,13.869813333333333,13.524366666666666,13.17892,12.833473333333334,12.488026666666666,12.142579999999999,{"$f":"BT2831","v":11.797133333333333},11.969477777777778,12.141822222222222,12.314166666666667,12.486511111111112,12.658855555555556,12.831200000000001,12.982786666666668,13.134373333333334,13.285960000000001,13.437546666666668,13.589133333333333,13.74072,13.892306666666666,14.043893333333333,14.19548,14.347066666666667,null,"Altherma 4 H W 14 kW","Altherma 4 H W 14 kW",9,0.13]
[null,"Altherma 4 H W",14,{"$f":"'Altherma 4 H'!$P$52","v":3.49},{"$f":"'Altherma 4 H'!$P$53","v":4.0599999999999996},{"$f":"'Altherma 4 H'!$P$54","v":5.5},55,11.0185,{"$f":"I2832","v":11.27505},11.531599999999999,11.78815,12.044700000000001,12.30125,12.5578,12.814350000000001,13.070900000000002,13.327450000000001,13.584000000000001,13.566250000000002,13.548500000000001,13.530750000000001,13.513000000000002,13.49525,13.477500000000001,13.459750000000001,13.442,13.424250000000001,13.406500000000001,13.388750000000002,13.371,13.353250000000001,13.335500000000001,13.31775,13.3,13.250907599991052,13.201815199982102,13.152722799973153,13.103630399964205,13.054537999955254,13.005445599946306,12.956353199937357,12.907260799928409,12.858168399919458,12.80907599991051,12.561941499921696,12.314806999932882,12.067672499944068,11.820537999955256,11.573403499966442,11.326268999977628,11.079134499988815,10.832000000000001,11.274933333333333,11.717866666666668,12.1608,12.603733333333334,13.046666666666667,13.489599999999999,13.932533333333334,14.375466666666666,14.8184,15.261333333333333,14.908866666666666,14.5564,14.203933333333334,13.851466666666667,13.498999999999999,13.146533333333334,12.794066666666666,12.441599999999999,12.089133333333333,11.736666666666666,11.910166666666667,12.083666666666666,12.257166666666667,12.430666666666667,12.604166666666666,12.777666666666667,12.9299,13.082133333333333,13.234366666666666,13.3866,13.538833333333333,13.691066666666668,13.843300000000001,13.995533333333334,14.147766666666667,14.3,null,"Altherma 4 H W 14 kW","Altherma 4 H W 14 kW",9,0.13]
[null,"Altherma 4 H W",14,{"$f":"'Altherma 4 H'!$P$52","v":3.49},{"$f":"'Altherma 4 H'!$P$53","v":4.0599999999999996},{"$f":"'Altherma 4 H'!$P$54","v":5.5},56,11.0754,11.288426666666666,11.501453333333334,11.71448,11.927506666666668,12.140533333333334,12.353560000000002,12.566586666666668,12.779613333333334,12.992640000000002,13.205666666666668,13.209366666666668,13.213066666666668,13.216766666666667,13.220466666666667,13.224166666666667,13.227866666666667,13.231566666666668,13.235266666666668,13.238966666666666,13.242666666666667,13.246366666666667,13.250066666666667,13.253766666666667,13.257466666666666,13.261166666666666,13.264866666666666,13.208686085313905,13.152505503961146,13.096324922608385,13.040144341255626,12.983963759902865,12.927783178550104,12.871602597197345,12.815422015844584,12.759241434491825,12.703060853139064,12.458066522795795,12.213072192452524,11.968077862109254,11.723083531765983,11.478089201422714,11.233094871079444,10.988100540736173,10.743106210392904,11.195902256020281,11.648698301647656,12.101494347275032,12.554290392902409,13.007086438529786,13.459882484157161,13.912678529784538,14.365474575411913,14.818270621039289,15.271066666666666,14.911579999999999,14.552093333333334,14.192606666666666,13.833119999999999,13.473633333333332,13.114146666666667,12.754659999999999,12.395173333333332,12.035686666666667,11.6762,11.850855555555555,12.025511111111111,12.200166666666666,12.374822222222221,12.549477777777778,12.724133333333333,12.87312,13.022106666666666,13.171093333333333,13.320079999999999,13.469066666666667,13.618053333333334,13.76704,13.916026666666667,14.065013333333333,14.214,null,"Altherma 4 H W 14 kW","Altherma 4 H W 14 kW",9,0.13]
[null,"Altherma 4 H W",14,{"$f":"'Altherma 4 H'!$P$52","v":3.49},{"$f":"'Altherma 4 H'!$P$53","v":4.0599999999999996},{"$f":"'Altherma 4 H'!$P$54","v":5.5},57,11.132300000000001,11.301803333333334,11.471306666666667,11.64081,11.810313333333333,11.979816666666668,12.149319999999999,12.318823333333334,12.488326666666667,12.657830000000001,12.827333333333334,12.852483333333334,12.877633333333334,12.902783333333334,12.927933333333334,12.953083333333334,12.978233333333334,13.003383333333334,13.028533333333334,13.053683333333334,13.078833333333334,13.103983333333334,13.129133333333334,13.154283333333334,13.179433333333334,13.204583333333334,13.229733333333334,13.166464570636762,13.103195807940191,13.039927045243619,12.976658282547048,12.913389519850476,12.850120757153904,12.786851994457333,12.723583231760761,12.66031446906419,12.597045706367618,12.354191545669892,12.111337384972165,11.868483224274438,11.625629063576712,11.382774902878985,11.139920742181259,10.897066581483532,10.654212420785806,11.116871178707225,11.579529936628644,12.042188694550063,12.504847452471482,12.967506210392902,13.430164968314322,13.892823726235742,14.355482484157161,14.81814124207858,15.280799999999999,14.914293333333333,14.547786666666665,14.181279999999999,13.814773333333333,13.448266666666665,13.081759999999999,12.715253333333333,12.348746666666667,11.982239999999999,11.615733333333333,11.791544444444444,11.967355555555555,12.143166666666666,12.318977777777778,12.494788888888889,12.6706,12.81634,12.96208,13.10782,13.25356,13.3993,13.54504,13.69078,13.83652,13.98226,14.128,null,"Altherma 4 H W 14 kW","Altherma 4 H W 14 kW",9,0.13]
[null,"Altherma 4 H W",14,{"$f":"'Altherma 4 H'!$P$52","v":3.49},{"$f":"'Altherma 4 H'!$P$53","v":4.0599999999999996},{"$f":"'Altherma 4 H'!$P$54","v":5.5},58,11.1892,11.31518,11.44116,11.56714,11.69312,11.819099999999999,11.945079999999999,12.071059999999999,12.197039999999999,12.32302,12.449,12.4956,12.542199999999999,12.588799999999999,12.635400000000001,12.682,12.7286,12.7752,12.8218,12.868399999999999,12.914999999999999,12.961599999999999,13.008199999999999,13.0548,13.1014,13.148,13.194599999999999,13.124243055959617,13.053886111919235,12.983529167878851,12.913172223838469,12.842815279798087,12.772458335757705,12.702101391717322,12.631744447676938,12.561387503636556,12.491030559596174,12.25031656854399,12.009602577491808,11.768888586439624,11.528174595387441,11.287460604335259,11.046746613283075,10.806032622230893,10.565318631178709,11.03784010139417,11.510361571609634,11.982883041825096,12.455404512040559,12.927925982256021,13.400447452471482,13.872968922686946,14.345490392902407,14.818011863117871,15.290533333333332,14.917006666666666,14.543479999999999,14.169953333333332,13.796426666666665,13.422899999999998,13.049373333333332,12.675846666666667,12.30232,11.928793333333333,{"$f":"BT2835","v":11.555266666666666},11.732233333333333,11.9092,12.086166666666667,12.263133333333332,12.440099999999999,12.617066666666666,12.75956,12.902053333333333,13.044546666666667,13.18704,13.329533333333334,13.472026666666668,13.614520000000001,13.757013333333335,13.899506666666667,14.042000000000002,null,"Altherma 4 H W 14 kW","Altherma 4 H W 14 kW",9,0.13]
[null,"Altherma 4 H W",14,{"$f":"'Altherma 4 H'!$P$52","v":3.49},{"$f":"'Altherma 4 H'!$P$53","v":4.0599999999999996},{"$f":"'Altherma 4 H'!$P$54","v":5.5},59,11.2461,{"$f":"I2836","v":11.328556666666667},11.411013333333333,11.49347,11.575926666666666,11.658383333333333,11.74084,11.823296666666666,11.905753333333333,11.988209999999999,12.070666666666666,12.138716666666665,12.206766666666667,12.274816666666666,12.342866666666666,12.410916666666667,12.478966666666667,12.547016666666666,12.615066666666667,12.683116666666667,12.751166666666666,12.819216666666666,12.887266666666667,12.955316666666667,13.023366666666666,13.091416666666667,13.159466666666667,13.082021541282472,13.00457641589828,12.927131290514085,12.849686165129892,12.772241039745698,12.694795914361503,12.61735078897731,12.539905663593116,12.462460538208923,12.385015412824728,12.146441591418089,11.90786777001145,11.669293948604809,11.430720127198169,11.19214630579153,10.953572484384889,10.71499866297825,10.47642484157161,10.958809024081116,11.441193206590622,11.923577389100128,12.405961571609632,12.888345754119138,13.370729936628644,13.85311411913815,14.335498301647654,14.81788248415716,15.300266666666666,14.919719999999998,14.539173333333332,14.158626666666667,13.778079999999999,13.397533333333332,13.016986666666666,12.63644,12.255893333333333,11.875346666666665,11.4948,11.672922222222223,11.851044444444444,12.029166666666667,12.20728888888889,12.385411111111111,12.563533333333334,12.702780000000001,12.842026666666667,12.981273333333334,13.120520000000001,13.259766666666668,13.399013333333334,13.538260000000001,13.677506666666668,13.816753333333335,13.956000000000001,null,"Altherma 4 H W 14 kW","Altherma 4 H W 14 kW",9,0.13]
[null,"Altherma 4 H W",14,{"$f":"'Altherma 4 H'!$P$52","v":3.49},{"$f":"'Altherma 4 H'!$P$53","v":4.0599999999999996},{"$f":"'Altherma 4 H'!$P$54","v":5.5},60,11.303000000000001,11.341933333333333,11.380866666666668,11.4198,11.458733333333333,11.497666666666667,11.5366,11.575533333333333,11.614466666666665,11.6534,11.692333333333332,11.781833333333331,11.871333333333332,11.960833333333332,12.050333333333333,12.139833333333332,12.229333333333333,12.318833333333332,12.408333333333331,12.497833333333332,12.587333333333332,12.676833333333333,12.766333333333332,12.855833333333333,12.945333333333332,13.034833333333331,13.124333333333333,13.039800026605327,12.955266719877322,12.870733413149317,12.786200106421312,12.701666799693307,12.617133492965303,12.532600186237298,12.448066879509293,12.363533572781288,12.279000266053282,12.042566614292186,11.806132962531091,11.569699310769995,11.333265659008898,11.096832007247801,10.860398355486705,10.62396470372561,10.387531051964514,10.879777946768062,11.37202484157161,11.864271736375159,12.356518631178707,12.848765525982255,13.341012420785805,13.833259315589354,14.325506210392902,14.81775310519645,15.309999999999999,14.922433333333332,14.534866666666666,14.1473,13.759733333333333,13.372166666666665,12.9846,12.597033333333332,12.209466666666666,11.821899999999999,11.434333333333333,11.61361111111111,11.792888888888889,11.972166666666666,12.151444444444444,12.330722222222223,12.51,12.646000000000001,12.782,12.917999999999999,13.054,13.190000000000001,13.326000000000001,13.462,13.598000000000001,13.734000000000002,13.870000000000001,null,"Altherma 4 H W 14 kW","Altherma 4 H W 14 kW",9,0.13]
[null,"Altherma 4 H W",14,{"$f":"'Altherma 4 H'!$P$52","v":3.49},{"$f":"'Altherma 4 H'!$P$53","v":4.0599999999999996},{"$f":"'Altherma 4 H'!$P$54","v":5.5},61,11.188303703703705,11.236520740740742,11.284737777777778,11.332954814814816,11.381171851851851,11.429388888888889,11.477605925925927,11.525822962962962,11.57404,11.622257037037036,11.670474074074074,11.759144444444445,11.847814814814814,11.936485185185184,12.025155555555555,12.113825925925926,12.202496296296296,12.291166666666665,12.379837037037037,12.468507407407408,12.557177777777778,12.645848148148147,12.734518518518518,12.82318888888889,12.911859259259259,13.000529629629629,13.0892,12.974319185817295,12.859438371634591,12.744557557451886,12.629676743269181,12.514795929086475,12.39991511490377,12.285034300721065,12.170153486538361,12.055272672355656,11.940391858172951,11.758045981097784,11.575700104022616,11.393354226947448,11.21100834987228,11.028662472797114,10.846316595721946,10.663970718646778,10.481624841571611,10.965435690747782,11.449246539923955,11.933057389100128,12.416868238276299,12.90067908745247,13.384489936628643,13.868300785804816,14.352111634980988,14.835922484157159,15.319733333333332,14.925146666666665,14.530559999999999,14.135973333333332,13.741386666666665,13.346799999999998,12.952213333333333,12.557626666666666,12.163039999999999,11.768453333333333,11.373866666666666,11.5543,11.734733333333333,11.915166666666666,12.095599999999999,12.276033333333332,12.456466666666666,12.594953333333333,12.73344,12.871926666666667,13.010413333333334,13.148900000000001,13.287386666666666,13.425873333333334,13.564360000000001,13.702846666666668,13.841333333333335,null,"Altherma 4 H W 14 kW","Altherma 4 H W 14 kW",9,0.13]
[null,"Altherma 4 H W",14,{"$f":"'Altherma 4 H'!$P$52","v":3.49},{"$f":"'Altherma 4 H'!$P$53","v":4.0599999999999996},{"$f":"'Altherma 4 H'!$P$54","v":5.5},62,11.073607407407408,11.131108148148149,11.18860888888889,11.246109629629631,11.303610370370372,11.361111111111111,11.418611851851852,11.476112592592592,11.533613333333333,11.591114074074074,11.648614814814815,11.736455555555555,11.824296296296296,11.912137037037038,11.999977777777778,12.087818518518517,12.175659259259259,12.263500000000001,12.35134074074074,12.43918148148148,12.527022222222222,12.614862962962963,12.702703703703703,12.790544444444443,12.878385185185184,12.966225925925926,13.054066666666666,12.908838345029261,12.763610023391857,12.618381701754451,12.473153380117047,12.327925058479643,12.182696736842239,12.037468415204835,11.892240093567429,11.747011771930024,11.60178345029262,11.473525347903381,11.345267245514142,11.217009143124903,11.088751040735664,10.960492938346425,10.832234835957186,10.703976733567947,10.575718631178708,11.051093434727504,11.5264682382763,12.001843041825095,12.477217845373891,12.952592648922685,13.427967452471481,13.903342256020277,14.378717059569073,14.854091863117869,15.329466666666665,14.927859999999999,14.526253333333331,14.124646666666665,13.723039999999999,13.321433333333331,12.919826666666665,12.518219999999999,12.116613333333333,11.715006666666666,{"$f":"BT2839","v":11.3134},11.494988888888889,11.676577777777778,11.858166666666666,12.039755555555555,12.221344444444444,12.402933333333333,12.543906666666667,12.68488,12.825853333333333,12.966826666666666,13.107800000000001,13.248773333333334,13.389746666666667,13.530720000000001,13.671693333333334,13.812666666666667,null,"Altherma 4 H W 14 kW","Altherma 4 H W 14 kW",9,0.13]
[null,"Altherma 4 H W",14,{"$f":"'Altherma 4 H'!$P$52","v":3.49},{"$f":"'Altherma 4 H'!$P$53","v":4.0599999999999996},{"$f":"'Altherma 4 H'!$P$54","v":5.5},63,10.95891111111111,{"$f":"I2840","v":11.025695555555554},11.092479999999998,11.159264444444444,11.226048888888888,11.292833333333332,11.359617777777776,11.426402222222221,11.493186666666666,11.559971111111111,11.626755555555555,11.713766666666666,11.800777777777776,11.887788888888888,11.974799999999998,12.06181111111111,12.148822222222222,12.235833333333332,12.322844444444444,12.409855555555556,12.496866666666666,12.583877777777777,12.670888888888889,12.757899999999999,12.844911111111111,12.931922222222221,13.018933333333333,12.843357504241229,12.667781675149124,12.49220584605702,12.316630016964915,12.141054187872811,11.965478358780707,11.789902529688602,11.614326700596498,11.438750871504393,11.263175042412289,11.189004714708979,11.114834387005669,11.040664059302358,10.966493731599048,10.892323403895737,10.818153076192427,10.743982748489117,10.669812420785806,11.136751178707225,11.603689936628644,12.070628694550063,12.537567452471484,13.004506210392902,13.471444968314321,13.93838372623574,14.405322484157161,14.872261242078579,15.339199999999998,14.930573333333331,14.521946666666665,14.113319999999998,13.704693333333331,13.296066666666665,12.887439999999998,12.478813333333333,12.070186666666666,11.66156,11.252933333333333,11.435677777777776,11.618422222222222,11.801166666666667,11.983911111111111,12.166655555555554,12.349399999999999,12.49286,12.63632,12.779779999999999,12.92324,13.066700000000001,13.21016,13.353619999999999,13.49708,13.640540000000001,13.784000000000001,null,"Altherma 4 H W 14 kW","Altherma 4 H W 14 kW",9,0.13]
[null,"Altherma 4 H W",14,{"$f":"'Altherma 4 H'!$P$52","v":3.49},{"$f":"'Altherma 4 H'!$P$53","v":4.0599999999999996},{"$f":"'Altherma 4 H'!$P$54","v":5.5},64,10.844214814814814,10.920282962962961,10.99635111111111,11.072419259259259,11.148487407407407,11.224555555555554,11.300623703703703,11.376691851851852,11.45276,11.528828148148147,11.604896296296296,11.691077777777778,11.777259259259258,11.863440740740741,11.949622222222221,12.035803703703703,12.121985185185185,12.208166666666665,12.294348148148147,12.380529629629629,12.46671111111111,12.552892592592592,12.639074074074074,12.725255555555554,12.811437037037036,12.897618518518517,12.983799999999999,12.777876663453196,12.571953326906391,12.366029990359586,12.160106653812782,11.954183317265979,11.748259980719174,11.542336644172369,11.336413307625566,11.130489971078763,10.924566634531958,10.904484081514576,10.884401528497195,10.864318975479813,10.84423642246243,10.824153869445048,10.804071316427667,10.783988763410285,10.763906210392904,11.222408922686947,11.680911634980989,12.139414347275032,12.597917059569074,13.056419771863117,13.514922484157161,13.973425196451203,14.431927908745246,14.89043062103929,15.348933333333331,14.933286666666664,14.517639999999998,14.101993333333333,13.686346666666665,13.270699999999998,12.855053333333332,12.439406666666667,12.023759999999999,11.608113333333332,11.192466666666666,11.376366666666666,11.560266666666667,11.744166666666667,11.928066666666666,12.111966666666667,12.295866666666667,12.441813333333334,12.587759999999999,12.733706666666667,12.879653333333334,13.025600000000001,13.171546666666666,13.317493333333333,13.46344,13.609386666666666,13.755333333333333,null,"Altherma 4 H W 14 kW","Altherma 4 H W 14 kW",9,0.13]
[null,"Altherma 4 H W",14,{"$f":"'Altherma 4 H'!$P$52","v":3.49},{"$f":"'Altherma 4 H'!$P$53","v":4.0599999999999996},{"$f":"'Altherma 4 H'!$P$54","v":5.5},65,10.729518518518518,10.81487037037037,10.900222222222222,10.985574074074073,11.070925925925925,11.156277777777778,11.24162962962963,11.326981481481482,11.412333333333333,11.497685185185185,11.583037037037037,11.66838888888889,11.75374074074074,11.839092592592593,11.924444444444445,12.009796296296296,12.095148148148148,12.1805,12.265851851851853,12.351203703703703,12.436555555555556,12.521907407407408,12.607259259259258,12.692611111111111,12.777962962962963,12.863314814814814,12.948666666666666,12.712395822665162,12.476124978663659,12.239854134662155,12.00358329066065,11.767312446659147,11.531041602657643,11.294770758656139,11.058499914654634,10.822229070653131,10.585958226651627,10.619963448320174,10.653968669988721,10.687973891657267,10.721979113325814,10.755984334994361,10.789989556662906,10.823994778331453,10.858000000000001,11.308066666666667,11.758133333333333,12.2082,12.658266666666666,13.108333333333333,13.558399999999999,14.008466666666665,14.458533333333332,14.908599999999998,15.358666666666664,14.935999999999998,14.513333333333332,14.090666666666666,13.667999999999999,13.245333333333331,12.822666666666667,12.399999999999999,11.977333333333332,11.554666666666666,11.132,11.317055555555555,11.502111111111111,11.687166666666666,11.872222222222222,12.057277777777777,12.242333333333333,12.390766666666666,12.539199999999999,12.687633333333332,12.836066666666666,12.984500000000001,13.132933333333334,13.281366666666667,13.4298,13.578233333333333,13.726666666666667,null,"Altherma 4 H W 14 kW","Altherma 4 H W 14 kW",9,0.13]
[null,"Altherma 4 H W",14,{"$f":"'Altherma 4 H'!$P$52","v":3.49},{"$f":"'Altherma 4 H'!$P$53","v":4.0599999999999996},{"$f":"'Altherma 4 H'!$P$54","v":5.5},66,10.831739814814814,10.911808796296295,10.991877777777777,11.071946759259259,11.15201574074074,11.232084722222222,11.312153703703704,11.392222685185185,11.472291666666667,11.552360648148149,11.63242962962963,11.712498611111112,11.792567592592594,11.872636574074075,11.952705555555557,12.032774537037037,12.112843518518519,12.1929125,12.272981481481482,12.353050462962964,12.433119444444445,12.513188425925927,12.593257407407407,12.673326388888889,12.75339537037037,12.833464351851852,12.913533333333334,12.668307901790422,12.423082470247513,12.177857038704602,11.932631607161692,11.687406175618781,11.44218074407587,11.19695531253296,10.951729880990049,10.70650444944714,10.461279017904229,10.486085390234718,10.51089176256521,10.5356981348957,10.560504507226192,10.585310879556681,10.610117251887171,10.634923624217663,10.659729996548153,11.130596996893338,11.601463997238522,12.072330997583705,12.543197997928891,13.014064998274076,13.48493199861926,13.955798998964443,14.426665999309629,14.897532999654814,15.368399999999998,14.938713333333331,14.509026666666665,14.079339999999998,13.649653333333331,13.219966666666664,12.790279999999999,12.360593333333332,11.930906666666665,11.50122,{"$f":"BT2843","v":11.071533333333333},11.257744444444445,11.443955555555554,11.630166666666666,11.816377777777777,12.002588888888887,12.188799999999999,12.336853333333332,12.484906666666665,12.632959999999999,12.781013333333332,12.929066666666666,13.077119999999999,13.225173333333332,13.373226666666666,13.521279999999999,13.669333333333332,null,"Altherma 4 H W 14 kW","Altherma 4 H W 14 kW",9,0.13]
[null,"Altherma 4 H W",14,{"$f":"'Altherma 4 H'!$P$52","v":3.49},{"$f":"'Altherma 4 H'!$P$53","v":4.0599999999999996},{"$f":"'Altherma 4 H'!$P$54","v":5.5},67,10.93396111111111,{"$f":"I2844","v":11.008747222222221},11.083533333333332,11.158319444444444,11.233105555555555,11.307891666666666,11.382677777777777,11.457463888888888,11.532250000000001,11.607036111111112,11.681822222222223,11.756608333333334,11.831394444444445,11.906180555555556,11.980966666666667,12.055752777777778,12.130538888888889,12.205325,12.280111111111111,12.354897222222222,12.429683333333333,12.504469444444444,12.579255555555555,12.654041666666666,12.728827777777777,12.803613888888888,12.878399999999999,12.624219980915683,12.370039961831365,12.115859942747049,11.861679923662731,11.607499904578415,11.353319885494098,11.09913986640978,10.844959847325464,10.590779828241146,10.33659980915683,10.352207332149264,10.367814855141699,10.383422378134133,10.399029901126568,10.414637424119004,10.430244947111438,10.445852470103873,10.461459993096307,10.95312732712001,11.444794661143712,11.936461995167415,12.428129329191117,12.919796663214818,13.411463997238521,13.903131331262223,14.394798665285926,14.886465999309628,15.378133333333331,14.941426666666665,14.504719999999997,14.068013333333331,13.631306666666665,13.194599999999998,12.757893333333332,12.321186666666666,11.88448,11.447773333333332,11.011066666666666,11.198433333333334,11.3858,11.573166666666665,11.760533333333333,11.947900000000001,12.135266666666666,12.28294,12.430613333333334,12.578286666666667,12.725960000000001,12.873633333333334,13.021306666666666,13.168979999999999,13.316653333333333,13.464326666666667,13.612,null,"Altherma 4 H W 14 kW","Altherma 4 H W 14 kW",9,0.13]
[null,"Altherma 4 H W",14,{"$f":"'Altherma 4 H'!$P$52","v":3.49},{"$f":"'Altherma 4 H'!$P$53","v":4.0599999999999996},{"$f":"'Altherma 4 H'!$P$54","v":5.5},68,11.036182407407408,11.105685648148148,11.175188888888888,11.24469212962963,11.314195370370371,11.383698611111111,11.453201851851851,11.522705092592592,11.592208333333334,11.661711574074074,11.731214814814814,11.800718055555555,11.870221296296297,11.939724537037037,12.009227777777777,12.078731018518518,12.148234259259258,12.2177375,12.28724074074074,12.356743981481481,12.426247222222223,12.495750462962963,12.565253703703704,12.634756944444444,12.704260185185184,12.773763425925926,12.843266666666667,12.580132060040944,12.316997453415221,12.053862846789496,11.790728240163773,11.52759363353805,11.264459026912327,11.001324420286604,10.738189813660881,10.475055207035156,10.211920600409433,10.218329274063812,10.224737947718189,10.231146621372568,10.237555295026947,10.243963968681324,10.250372642335703,10.25678131599008,10.263189989644459,10.775657657346681,11.288125325048901,11.80059299275112,12.313060660453342,12.825528328155563,13.337995995857783,13.850463663560003,14.362931331262224,14.875398998964446,15.387866666666666,14.944139999999999,14.500413333333332,14.056686666666666,13.612959999999999,13.169233333333333,12.725506666666666,12.281779999999999,11.838053333333333,11.394326666666666,10.9506,11.139122222222221,11.327644444444443,11.516166666666667,11.704688888888889,11.893211111111111,12.081733333333332,12.229026666666666,12.37632,12.523613333333332,12.670906666666665,12.818199999999999,12.965493333333333,13.112786666666667,13.260079999999999,13.407373333333332,13.554666666666666,null,"Altherma 4 H W 14 kW","Altherma 4 H W 14 kW",9,0.13]
[null,"Altherma 4 H W",14,{"$f":"'Altherma 4 H'!$P$52","v":3.49},{"$f":"'Altherma 4 H'!$P$53","v":4.0599999999999996},{"$f":"'Altherma 4 H'!$P$54","v":5.5},69,11.138403703703704,11.202624074074073,11.266844444444445,11.331064814814814,11.395285185185186,11.459505555555555,11.523725925925925,11.587946296296296,11.652166666666666,11.716387037037038,11.780607407407407,11.844827777777777,11.909048148148148,11.973268518518518,12.037488888888888,12.101709259259259,12.165929629629629,12.23015,12.29437037037037,12.358590740740739,12.422811111111111,12.48703148148148,12.551251851851852,12.615472222222222,12.679692592592591,12.743912962962963,12.808133333333332,12.536044139166203,12.263954944999073,11.991865750831943,11.719776556664813,11.447687362497684,11.175598168330554,10.903508974163424,10.631419779996294,10.359330585829165,10.087241391662035,10.084451215978357,10.08166104029468,10.078870864611002,10.076080688927323,10.073290513243647,10.070500337559968,10.067710161876292,10.064919986192614,10.598187987573352,11.131455988954091,11.66472399033483,12.197991991715568,12.731259993096305,13.264527994477044,13.797795995857783,14.331063997238521,14.86433199861926,15.397599999999999,14.946853333333332,14.496106666666666,14.045359999999999,13.594613333333333,13.143866666666666,12.69312,12.242373333333333,11.791626666666666,11.340879999999999,10.890133333333333,11.079811111111111,11.269488888888889,11.459166666666667,11.648844444444444,11.838522222222222,12.0282,12.175113333333334,12.322026666666666,12.46894,12.615853333333334,12.762766666666668,12.90968,13.056593333333334,13.203506666666668,13.35042,13.497333333333334,null,"Altherma 4 H W 14 kW","Altherma 4 H W 14 kW",9,0.13]
[null,"Altherma 4 H W",14,{"$f":"'Altherma 4 H'!$P$52","v":3.49},{"$f":"'Altherma 4 H'!$P$53","v":4.0599999999999996},{"$f":"'Altherma 4 H'!$P$54","v":5.5},70,11.240625,11.2995625,11.358499999999999,11.4174375,11.476374999999999,11.5353125,11.594250000000001,11.6531875,11.712125,11.771062499999999,11.83,11.888937500000001,11.947875,12.006812500000001,12.06575,12.1246875,12.183624999999999,12.2425625,12.301500000000001,12.3604375,12.419375,12.478312499999999,12.53725,12.596187499999999,12.655125,12.714062499999999,12.773,12.491956218291463,12.210912436582927,11.92986865487439,11.648824873165854,11.367781091457317,11.086737309748781,10.805693528040246,10.524649746331709,10.243605964623173,9.9625621829146365,9.9505731578929026,9.9385841328711688,9.926595107849435,9.9146060828277012,9.9026170578059673,9.8906280327842335,9.8786390077624997,9.8666499827407659,10.420718317800022,10.974786652859279,11.528854987918535,12.082923322977791,12.636991658037049,13.191059993096305,13.745128328155563,14.299196663214818,14.853264998274074,15.407333333333332,14.949566666666666,14.4918,14.034033333333333,13.576266666666665,13.118499999999999,12.660733333333333,12.202966666666667,11.745200000000001,11.287433333333333,{"$f":"BT2847","v":10.829666666666666},11.0205,11.211333333333332,11.402166666666666,11.593,11.783833333333332,11.974666666666666,12.1212,12.267733333333332,12.414266666666666,12.560799999999999,12.707333333333333,12.853866666666667,13.000399999999999,13.146933333333333,13.293466666666665,13.44,null,"Altherma 4 H W 14 kW","Altherma 4 H W 14 kW",9,0.13]
[null,"Altherma 4 H W",14,{"$f":"'Altherma 4 H'!$P$52","v":3.49},{"$f":"'Altherma 4 H'!$P$53","v":4.0599999999999996},{"$f":"'Altherma 4 H'!$P$54","v":5.5},71,0,{"$f":"I2848","v":0},0,0,0,0,0,0,0,0,11.2019,11.267582352941176,11.333264705882353,11.398947058823529,11.464629411764706,11.530311764705882,11.595994117647059,11.661676470588235,11.727358823529411,11.793041176470588,11.858723529411764,11.924405882352941,11.990088235294117,12.055770588235294,12.12145294117647,12.187135294117647,12.252817647058823,11.994789894024958,11.736762140991095,11.47873438795723,11.220706634923365,10.962678881889502,10.704651128855637,10.446623375821773,10.188595622787908,9.9305678697540447,9.6725401167201799,9.6720200995412728,9.671500082362364,9.670980065183457,9.6704600480045499,9.6699400308256429,9.6694200136467359,9.6688999964678271,9.66837997928892,{"$error":"#VALUE!"},{"$error":"#VALUE!"},{"$error":"#VALUE!"},{"$error":"#VALUE!"},{"$error":"#VALUE!"},{"$error":"#VALUE!"},{"$error":"#VALUE!"},{"$error":"#VALUE!"},{"$error":"#VALUE!"},{"$error":"#VALUE!"},0,0,0,0,0,0,0,0,0,0,0,0,0,0,0,0,0,0,0,0,0,0,0,0,0,0,null,"Altherma 4 H W 14 kW","Altherma 4 H W 14 kW",9,0.13]
[null,"Altherma 4 H W",14,{"$f":"'Altherma 4 H'!$P$52","v":3.49},{"$f":"'Altherma 4 H'!$P$53","v":4.0599999999999996},{"$f":"'Altherma 4 H'!$P$54","v":5.5},72,0,0,0,0,0,0,0,0,0,0,10.5738,10.646227205882353,10.718654411764707,10.791081617647059,10.863508823529411,10.935936029411765,11.008363235294118,11.080790441176472,11.153217647058824,11.225644852941176,11.29807205882353,11.370499264705883,11.442926470588237,11.515353676470589,11.587780882352941,11.660208088235295,11.732635294117648,11.497623569758455,11.262611845399263,11.02760012104007,10.792588396680879,10.557576672321686,10.322564947962494,10.087553223603301,9.8525414992441078,9.6175297748849164,9.3825180505257233,9.3934670411896413,9.404416031853561,9.415365022517479,9.4263140131813969,9.4372630038453167,9.4482119945092347,9.4591609851731544,9.4701099758370724,{"$error":"#VALUE!"},{"$error":"#VALUE!"},{"$error":"#VALUE!"},{"$error":"#VALUE!"},{"$error":"#VALUE!"},{"$error":"#VALUE!"},{"$error":"#VALUE!"},{"$error":"#VALUE!"},{"$error":"#VALUE!"},{"$error":"#VALUE!"},0,0,0,0,0,0,0,0,0,0,0,0,0,0,0,0,0,0,0,0,0,0,0,0,0,0,null,"Altherma 4 H W 14 kW","Altherma 4 H W 14 kW",9,0.13]
[null,"Altherma 4 H W",14,{"$f":"'Altherma 4 H'!$P$52","v":3.49},{"$f":"'Altherma 4 H'!$P$53","v":4.0599999999999996},{"$f":"'Altherma 4 H'!$P$54","v":5.5},73,0,0,0,0,0,0,0,0,0,0,9.9457000000000004,10.024872058823529,10.10404411764706,10.183216176470589,10.262388235294118,10.341560294117647,10.420732352941176,10.499904411764707,10.579076470588236,10.658248529411765,10.737420588235295,10.816592647058824,10.895764705882353,10.974936764705882,11.054108823529411,11.133280882352942,11.212452941176471,11.000457245491951,10.78846154980743,10.57646585412291,10.364470158438388,10.152474462753869,9.9404787670693473,9.7284830713848276,9.5164873757003079,9.3044916800157864,9.0924959843312667,9.1149139828380115,9.1373319813447562,9.159749979851501,9.1821679783582475,9.2045859768649922,9.227003975371737,9.2494219738784818,9.2718399723852265,{"$error":"#VALUE!"},{"$error":"#VALUE!"},{"$error":"#VALUE!"},{"$error":"#VALUE!"},{"$error":"#VALUE!"},{"$error":"#VALUE!"},{"$error":"#VALUE!"},{"$error":"#VALUE!"},{"$error":"#VALUE!"},{"$error":"#VALUE!"},0,0,0,0,0,0,0,0,0,0,0,0,0,0,0,0,0,0,0,0,0,0,0,0,0,0,null,"Altherma 4 H W 14 kW","Altherma 4 H W 14 kW",9,0.13]
[null,"Altherma 4 H W",14,{"$f":"'Altherma 4 H'!$P$52","v":3.49},{"$f":"'Altherma 4 H'!$P$53","v":4.0599999999999996},{"$f":"'Altherma 4 H'!$P$54","v":5.5},74,0,0,0,0,0,0,0,0,0,0,9.3176000000000005,9.4035169117647062,9.4894338235294118,9.5753507352941192,9.6612676470588248,9.7471845588235304,9.833101470588236,9.9190183823529416,10.004935294117647,10.090852205882355,10.17676911764706,10.262686029411766,10.348602941176472,10.434519852941179,10.520436764705885,10.60635367647059,10.692270588235296,10.503290921225448,10.314311254215598,10.12533158720575,9.9363519201959019,9.7473722531860538,9.558392586176204,9.369412919166356,9.180433252156508,8.9914535851466582,8.8024739181368101,8.8363609244863817,8.8702479308359514,8.904134937185523,8.9380219435350945,8.971908949884666,9.0057959562342376,9.0396829625838073,9.0735699689333789,{"$error":"#VALUE!"},{"$error":"#VALUE!"},{"$error":"#VALUE!"},{"$error":"#VALUE!"},{"$error":"#VALUE!"},{"$error":"#VALUE!"},{"$error":"#VALUE!"},{"$error":"#VALUE!"},{"$error":"#VALUE!"},{"$error":"#VALUE!"},0,0,0,0,0,0,0,0,0,{"$f":"BT2851","v":0},0,0,0,0,0,0,0,0,0,0,0,0,0,0,0,0,null,"Altherma 4 H W 14 kW","Altherma 4 H W 14 kW",9,0.13]
[null,"Altherma 4 H W",14,{"$f":"'Altherma 4 H'!$P$52","v":3.49},{"$f":"'Altherma 4 H'!$P$53","v":4.0599999999999996},{"$f":"'Altherma 4 H'!$P$54","v":5.5},75,"",{"$f":"I2852","v":0},0,0,0,0,0,0,0,0,8.6895000000000007,8.7821617647058829,8.8748235294117652,8.9674852941176475,9.0601470588235298,9.1528088235294121,9.2454705882352943,9.3381323529411766,9.4307941176470607,9.5234558823529429,9.6161176470588252,9.7087794117647075,9.8014411764705898,9.894102941176472,9.9867647058823543,10.079426470588237,10.172088235294119,10.006124596958943,9.8401609586237662,9.6741973202885898,9.5082336819534135,9.3422700436182353,9.176306405283059,9.0103427669478826,8.8443791286127063,8.6784154902775299,8.5124518519423535,8.5578078661347519,8.6031638803271484,8.6485198945195449,8.6938759087119433,8.7392319229043416,8.7845879370967381,8.8299439512891347,8.875299965481533,{"$error":"#VALUE!"},{"$error":"#VALUE!"},{"$error":"#VALUE!"},{"$error":"#VALUE!"},{"$error":"#VALUE!"},{"$error":"#VALUE!"},{"$error":"#VALUE!"},{"$error":"#VALUE!"},{"$error":"#VALUE!"},"",0,0,0,0,0,0,0,0,0,"",0,0,0,0,0,"",0,0,0,0,0,0,0,0,0,"",null,"Altherma 4 H W 14 kW","Altherma 4 H W 14 kW",9,0.13]

{"sheet":"Altherma 4 H","index":8,"n_rows":59,"n_cols":16,"rows_kept":59,"cut":false,"hidden":true,"merged":[[0,0,0,1],[4,14,4,15]]}
["Leistungsdaten"]
[]
["Heizen"]
[]
["Typ","LWC",25,30,35,40,45,50,55,60,65,70,75,null,"COP-Werte"]
[null,"TA [°C]","HCmax [kW]","HCmax [kW]","HCmax [kW]","HCmax [kW]","HCmax [kW]","HCmax [kW]","HCmax [kW]","HCmax [kW]","HCmax [kW]","HCmax [kW]","HCmax [kW]"]
[6,-20,null,null,4.4938297948150243,4.5253592178313138,4.5568886408476033,4.4395984887405069,4.3223083366334096,4.2050181845263133,4.087728032419216,3.7192666275429831,null,null,"TA [°C]","COP"]
[null,-15,null,4.9503547432268702,5.0418175603928601,5.1332803775588491,5.2247431947248382,5.3162060118908281,5.407668829056818,4.8901845107170558,4.3219089430855435,4.2781727511907306,null,null,-7,3.38]
[null,-7,6.0088787452089498,6.0370151801970691,6.23,6.33,6.43,6.53,6.63,5.5334063138171636,5.185547868112562,5.1260795057317861,null,null,2,4.46]
[null,-2,5.4854084773308829,5.5693120072269613,5.6587401929880699,5.7128846229310968,5.31,6.5161758526522631,6.1950706808509866,5.9605432319722116,5.712425289468217,5.46373497441681,null,null,7,5.19]
[null,2,4.9000091278519449,4.88,4.862774811335508,5.3760206781059017,6.2669331713205727,6.3190487835553784,6.0891480143252084,5.8592472450950384,5.6293464758648701,5.3994457066347001]
[null,7,5.3612585661084911,5.5456295614289157,5.7300005567493422,5.7796408564864326,5.8292811562235229,5.8789214559606116,5.9285617556977019,5.4779035634960671,5.0272453712944314,5.599589019125303]
[null,12,4.9674730096785424,4.87,4.7812978749124264,4.6569989055730847,4.532699936233743,4.4576462231886529,4.3825925101435637,4.3075387970984744,4.2324850840533852,6.5511039785585261]
[null,15,5.3605310846940419,5.2334716051396377,5.1064121255852335,4.9793526460308293,4.8522931664764251,4.7252336869220199,4.5981742073676166,4.5967046139672245,4.5952350205668324,7.2386606731107541]
[null,20,5.1956510797284503,5.5410492400012057,5.4378032458835772,5.3345572517659487,5.2860626099847341,5.1280652635306918,5.0248192694130633,4.9215732752954358,4.8183272811778064,7.6496890125902732]
[]
[]
[8,-20,null,null,5.4492109322953839,5.487443460992302,5.52567598968922,5.3834501359530558,5.2412242822168906,5.0989984284807264,4.9567725747445612,4.8028324954098363,null,null,"TA [°C]","COP"]
[null,-15,null,6.3925840778677703,6.5106935425545602,6.6288030072413493,6.7469124719281384,6.8650219366149283,6.9831314013017183,6.3148839350991901,5.5810477690238516,5.5245695369707084,3.608248897719045,null,-7,3.32]
[null,-7,6.6722946640861176,7.104392645552088,7.8321642904753617,7.8740416224511538,7.9159189544269477,7.9577962864027398,7.8623226359522036,7.7668489855016674,6.696298034413072,6.6195042436221483,5.3491392946969869,null,2,4.46]
[null,-2,6.6553669290652273,6.8071822635363421,6.9688590526955432,7.0655313117896723,6.41,7.4247699387627302,7.1991051252055795,7.0724395232273691,6.9178364943193662,6.7615532961501295,6.6282965797713995,null,7,5.01]
[null,2,5.9611143089633254,5.94,5.9192983390020366,6.1074300807545328,6.305529728697012,6.5144422560724369,6.4888538940836584,6.4727805297481886,6.4387428889819889,6.4143131068589199,5.7906345560921819]
[null,7,7.0011729510357945,7.2419397802189378,7.482706609402082,7.5475310008234588,7.6123553922448357,7.6771797836662108,7.7420041750875876,7.1534975946830999,6.5649910142786112,5.9764844338741216,5.7098148190637055]
[null,12,6.3975031185253943,6.3,6.1577321116296391,5.9976501056623048,5.8375680996949706,5.7409080147126588,5.6442479297303469,5.5475878447480342,5.4509277597657224,6.5511039785585261]
[null,15,6.9037142757423267,6.7400770672252914,6.5764398587082553,6.4128026501912192,6.249165441674184,6.0855282331571479,5.9218910246401117,5.9199983664729405,5.9181057083057684,7.2386606731107541]
[null,20,6.6913688148017929,7.1361997787894316,7.00323145303188,6.8702631272743284,6.8078079067985211,6.6043264757592244,6.4713581500016728,6.3383898242441212,6.2054214984865697,7.6496890125902732]
[]
[]
[10,-20,null,null,5.4492109322953839,5.487443460992302,5.52567598968922,5.3834501359530558,5.2412242822168906,5.0989984284807264,4.9567725747445612,4.814546721008397,null,null,"TA [°C]","COP"]
[null,-15,null,7.7100800646478351,7.8525316019347073,7.9949831392215787,8.13743467650845,8.2798862137953222,8.4223377510821944,7.2467143694248017,6.0710909877674091,5.6795269752028128,3.608248897719045,null,-7,2.85]
[null,-7,7.7196203104189856,8.3601052264479332,9.1088396520627288,9.1942731732271863,9.280394785249845,9.3672128346804655,9.4827281548252795,9.3675776178794496,7.1454399757456555,7.0634953819138779,5.3491392946969869,null,2,4.46]
[null,-2,7.2672590815600087,7.489404171892672,7.7258771874620846,7.8663535997732064,7.4026199641111505,8.337201500241628,8.1300798451882823,7.9175403014355812,7.6821655598643117,7.4394975296104207,6.5873332941475224,null,7,4.9400000000000004]
[null,2,6.9561867426801491,6.9331486966954445,6.9100451376773293,7.1548529108525987,7.4131153063748405,7.6859728642592504,7.6917155993807276,7.7103016235157238,7.7046395708224109,7.7119461503716789,6.2555139296580267]
[null,7,9.0826027472896786,9.3949489040678102,9.7072950608459436,9.7913915686358379,9.8754880764257322,9.9595845842156248,10.043681092005519,9.2802130958051023,8.5167450996046838,7.7532771034042653,5.7098148190637055]
[null,12,8.3543864253684568,8.2503219653325193,8.0412736987163527,7.832225432100187,7.6231771654840212,7.4969504662718256,7.3707237670596299,7.2444970678474334,7.1182703686352378,6.9920436694230421]
[null,15,8.4468974667906114,8.2466825293109451,8.0464675918312771,7.84625265435161,7.6460377168719429,7.4458227793922749,7.2456078419126078,7.2432921189786565,7.2409763960447053,7.2386606731107541]
[null,20,8.1870865498751346,8.7313503175776574,8.5686596601801828,8.4059690027827081,8.3295532036123081,8.080587687987757,7.9178970305902823,7.7552063731928076,7.592515715795332,7.6496890125902732]
[]
[]
[12,-20,"",8.4638666666666662,8.6844333333333346,8.9050000000000011,9.1039000000000012,9.3027999999999995,9.5493666666666659,9.795933333333334,9.298916049382715,9.7418750000000003,"",null,"TA [°C]","COP"]
[null,-15,9.7049333333333347,9.7682000000000002,9.8314666666666657,9.8947333333333312,10.022597938144331,9.9109463414634149,9.810666666666668,10.133355555555555,10.038632098765433,10.252666666666666,8.6895000000000007,null,-7,3.49]
[null,-7,9.7522708423006499,9.8538205852971554,10.436,10.870426355538401,11.176593247173464,11.387091368255607,12.148999999999999,11.374422222222222,11.222177777777778,11.069933333333333,10.172088235294119,null,2,4.0599999999999996]
[null,-2,9.2830071381148542,9.4167744121080297,9.551460054484517,9.6870640652443178,10.768000000000001,10.257580580325691,10.21382890901867,11.548289491714488,10.705,9.5882868809916442,8.5124518519423535,null,7,5.5]
[null,2,9.218501228542479,9.4949999999999992,8.9712157232804657,8.9053557873272418,8.8397085934020883,8.6805323008530006,8.4070108083874029,8.8171929575769372,9.1627516218742713,8.3261800637155741,8.875299965481533]
[null,7,11.773394109396913,11.970869565217392,12.276999999999999,12.048454106280193,12.087246376811594,12.126038647342995,12.164830917874395,12.203623188405796,12.242415458937197,12.281207729468598,""]
[null,12,10.527963636363637,10.409000000000001,10.121418181818182,9.8850484848484843,9.6486787878787883,9.4123090909090905,9.1759393939393945,8.9395696969696967,8.7032000000000007,10.429923076923076,""]
[null,15,11.272059090909091,11.036145454545455,10.826878787878789,10.617612121212121,10.408345454545454,10.199078787878788,9.9898121212121218,9.7805454545454555,9.5712787878787875,11.289076923076923,""]
[null,20,12.512218181818184,12.122090909090911,11.992048484848485,11.731963636363638,11.455981818181819,11.36398787878788,11.180000000000001,10.843818181818182,10.731757575757577,12.721,""]
[]
[]
[14,-20,"",9.766,10.0205,10.275,10.5045,10.734,11.0185,11.303000000000001,10.729518518518518,11.240625,"",null,"TA [°C]","COP"]
[null,-15,11.198000000000002,11.271000000000001,11.343999999999999,11.416999999999998,12.464,13.024000000000001,13.584000000000001,11.692333333333332,11.583037037037037,11.83,8.6895000000000007,null,-7,3.49]
[null,-7,13.513999999999999,13.655198363922345,13.734999999999999,13.717418361884368,13.491127542826552,13.114002860679872,13.3,13.124333333333333,12.948666666666666,12.773,10.172088235294119,null,2,4.0599999999999996]
[null,-2,12.502970289349161,12.689,12.876333488480334,12.976391155879584,13.032,13.266999999999999,12.80907599991051,12.279000266053282,10.585958226651627,9.9625621829146365,8.5124518519423535,null,7,5.5]
[null,2,10.894,11.09,11.257999999999999,11.172860550195011,11.087999999999999,10.960499726294072,10.832000000000001,10.387531051964514,10.858000000000001,9.8666499827407659,8.875299965481533]
[null,7,10.469068696059351,11.738,10.742000000000001,14.014913984699842,15.164,15.212666666666665,15.261333333333333,15.309999999999999,15.358666666666664,15.407333333333332,""]
[null,12,13.465999999999999,12.907999999999999,12.946,12.643666666666666,12.341333333333333,12.039,11.736666666666666,11.434333333333333,11.132,10.829666666666666,""]
[null,15,14.41775,14.116,13.848333333333333,13.580666666666666,13.312999999999999,13.045333333333334,12.777666666666667,12.51,12.242333333333333,11.974666666666666,""]
[null,20,16.004000000000001,15.505000000000001,15.338666666666667,15.006,14.653,14.535333333333334,14.3,13.870000000000001,13.726666666666667,13.44,""]

{"sheet":"Altherma 3 R MT","index":9,"n_rows":37,"n_cols":14,"rows_kept":37,"cut":false,"hidden":true,"merged":[[0,0,0,1],[4,12,4,13]]}
["Leistungsdaten"]
[]
["Heizen"]
[]
["Typ","LWC",25,30,35,40,45,50,55,60,65,null,"COP-Werte"]
[null,"TA [°C]","HCmax [kW]","HCmax [kW]","HCmax [kW]","HCmax [kW]","HCmax [kW]","HCmax [kW]","HCmax [kW]","HCmax [kW]","HCmax [kW]"]
[8,-20,5.38,5.3,5.31,5.37,5.43,5.49,4.9800000000000004,5.31,0,null,"TA [°C]","COP"]
[null,-15,6.7,6.54,6.43,6.46,6.49,6.52,6.54,6.39,6.24,null,-7,3.14]
[null,-7,8.15,7.9,7.49,7.51,7.52,7.54,7.55,7.75,8,null,2,4.2300000000000004]
[null,-2,7.93,7.97,7.95,8.7200000000000006,8.75,8.2899999999999991,8.7100000000000009,8.93,8.68,null,7,5.0999999999999996]
[null,2,6.81,6.68,6.52,7.61,7.46,8.17,8.8699999999999992,8.7899999999999991,9.4499999999999993]
[null,7,8.58,8.26,7.95,7.88,7.82,8.89,9.1199999999999992,8.7200000000000006,8.31]
[null,12,9.2100000000000009,9.0399999999999991,9.02,8.9499999999999993,8.89,8.82,9.17,9.51,8.58]
[null,15,9.6,9.42,9.2899999999999991,9.6300000000000008,9.2799999999999994,8.92,9.43,9.93,9.17]
[null,20,10.23,9.99,9.75,9.51,9.56,9.6199999999999992,9.67,9.3000000000000007,8.94]
[]
[]
[10,-20,5.8,5.72,5.72,5.79,5.86,5.92,5.37,5.73,null,null,"TA [°C]","COP"]
[null,-15,7.2,7.56,7.44,7.47,7.5,7.53,7.57,7.39,6.73,null,-7,3.14]
[null,-7,8.48,8.24,8.84,8.93,9.01,9.06,9.1,9.75,9.25,null,2,4.2300000000000004]
[null,-2,8.8000000000000007,8.85,8.8000000000000007,8.9700000000000006,9.15,8.8000000000000007,9.3800000000000008,9.76,10.029999999999999,null,7,5.0999999999999996]
[null,2,8.48,8.15,8.0500000000000007,8.0399999999999991,8,8.89,9.81,10.28,10.19]
[null,7,9.99,9.6199999999999992,9.25,9.17,9.1,10.34,10.61,10.14,9.68]
[null,12,10.66,10.49,10.43,10.36,10.28,10.210000000000001,10.6,11,9.93]
[null,15,11.1,10.9,10.75,11.14,10.73,10.32,10.91,11.49,10.61]
[null,20,11.84,11.56,11.28,11,11.06,11.13,11.19,10.76,10.34]
[]
[]
[12,-20,5.8,5.72,5.72,5.79,5.86,5.92,5.37,5.73,0,null,"TA [°C]","COP"]
[null,-15,8.0500000000000007,8.7799999999999994,8.64,8.68,8.7200000000000006,8.76,8.7899999999999991,8.59,6.73,null,-7,3.14]
[null,-7,9.31,9.06,10.28,10.37,10.47,10.52,10.58,11.33,10.75,null,2,4.2300000000000004]
[null,-2,8.8800000000000008,8.94,8.84,9.1,9.36,9.09,9.77,10.25,11.66,null,7,5.0999999999999996]
[null,2,8.56,8.41,8.09,8.15,8.19,9.19,10.220000000000001,10.37,11.81]
[null,7,10.77,10.37,9.9700000000000006,9.89,9.81,11.15,11.44,10.93,10.43]
[null,12,11.56,11.39,11.31,11.23,11.15,11.07,11.5,11.93,10.77]
[null,15,12.04,11.82,11.66,12.09,11.64,11.19,11.83,12.47,11.51]
[null,20,12.84,12.54,12.23,11.93,12,12.07,12.14,11.68,11.21]

{"sheet":"Klimadaten","index":10,"n_rows":8210,"n_cols":16,"rows_kept":4500,"cut":true,"hidden":true,"merged":[[8209,2,8209,8],[2,13,2,14],[1,1,4,1],[2,2,2,3],[2,7,4,7],[2,8,4,8],[3,2,4,2],[3,3,4,3],[1,13,1,14],[0,13,0,14],[8205,2,8205,8],[8206,2,8206,8],[8207,2,8207,8],[8208,2,8208,8]],"bounds":{"rows_first":2000,"rows_last":500,"rows_between":2000,"halvings":0}}
[null,null,null,null,null,null,null,null,null,null,null,null,null,"Gradtagszahlen gemäß Excel von:"]
[null,null,1,2,3,4,5,6,7,null,null,null,null,"https://www.iwu.de/publikationen/fachinformationen/energiebilanzen/",null,"Gradtagszahl wird bei 15°C Innen- und 15°C Außentemperatur ermittelt -> Nach Rücksprache mit BWP wird es dort genauso gemacht"]
[null,null,"Referenzort",null,"Auslegungsaußentemperatur2","Jahresmittlere Außentemperatur","Höhe","alte TRY-Region","Anmerkungen",null,null,null,null,"Langjähriges Mittel"]
[null,null,"PLZ1","Ort","θe,Ref","θe,m,Ref","hRef",null,null,null,null,null,null,"Gradtagszahl 2022","Gradtagszahl 2005-2024"]
[null,null,null,null,"[°C]","[°C]","[m]",null,null,null,null,"NAT (-8 bis -16)","(keine Formel mehr für NAT -> Für Formel siehe alten Version)","GTZ 15/15","GTZ 15/15"]
[null,1,1067,"Dresden",-12.3,10.5,112,4,null,null,null,-12,null,null,2229,{"$f":"ROUND(O6*24/(15-E6),0)","v":1960}]
[null,2,1069,"Dresden",-12.4,10.4,115,4,null,null,null,-12,null,null,2223,{"$f":"ROUND(O7*24/(15-E7),0)","v":1947}]
[null,3,1097,"Dresden",-12.1,10.9,115,4,null,null,null,-12,null,null,2218,1964]
[null,4,1099,"Dresden",-14,9.3000000000000007,253,4,null,null,null,-14,null,null,2197,1818]
[null,5,1108,"Dresden",-13.9,9.5,216,9,null,null,null,-14,null,null,2194,1822]
[null,6,1109,"Dresden",-13.8,9.5,212,4,null,null,null,-14,null,null,2209,1841]
[null,7,1127,"Dresden",-12.6,10.3,114,4,null,null,null,-13,null,null,2223,1933]
[null,8,1129,"Dresden",-12.8,10,140,4,null,null,null,-13,null,null,2224,1920]
[null,9,1139,"Dresden",-12.7,10.1,111,4,null,null,null,-13,null,null,2234,1936]
[null,10,1156,"Dresden",-13.8,9.3000000000000007,255,4,null,null,null,-14,null,null,2183,1819]
[null,11,1157,"Dresden",-12.6,10.199999999999999,140,4,null,null,null,-13,null,null,2245,1952]
[null,12,1159,"Dresden",-12.6,10.199999999999999,133,4,null,null,null,-13,null,null,2245,1952]
[null,13,1169,"Dresden",-13.3,9.8000000000000007,212,4,null,null,null,-13,null,null,2254,1912]
[null,14,1187,"Dresden",-12.8,10,169,4,null,null,null,-13,null,null,2245,1938]
[null,15,1189,"Dresden",-13.3,9.6999999999999993,236,4,null,null,null,-13,null,null,2265,1921]
[null,16,1217,"Dresden",-12.9,9.9,158,4,null,null,null,-13,null,null,2230,1918]
[null,17,1219,"Dresden",-12.6,10.3,119,4,null,null,null,-13,null,null,2202,1915]
[null,18,1237,"Dresden",-12.7,10.199999999999999,121,4,null,null,null,-13,null,null,2161,1872]
[null,19,1239,"Dresden",-12.8,10,137,4,null,null,null,-13,null,null,2207,1905]
[null,20,1257,"Dresden",-12.8,10.199999999999999,125,4,null,null,null,-13,null,null,2166,1870]
[null,21,1259,"Dresden",-12.8,10.1,119,4,null,null,null,-13,null,null,2144,1851]
[null,22,1277,"Dresden",-12.7,10.3,115,4,null,null,null,-13,null,null,2162,1873]
[null,23,1279,"Dresden",-13.1,9.9,114,4,null,null,null,-13,null,null,2114,1806]
[null,24,1307,"Dresden",-12.5,10.4,115,4,null,null,null,-13,null,null,2200,1920]
[null,25,1309,"Dresden",-12.6,10.3,116,4,null,null,null,-13,null,null,2181,1897]
[null,26,1324,"Dresden",-13.9,9.4,240,4,null,null,null,-14,null,null,2161,1795]
[null,27,1326,"Dresden",-13.9,9.3000000000000007,247,4,null,null,null,-14,null,null,2139,1776]
[null,28,1328,"Dresden",-13.9,8.9,304,4,null,null,null,-14,null,null,2155,1790]
[null,29,1445,"Radebeul",-12.8,10,122,4,null,null,null,-13,null,null,2191,1892]
[null,30,1454,"Radeberg, Wachau",-14,9.3000000000000007,258,9,null,null,null,-14,null,null,2212,1831]
[null,31,1458,"Ottendorf-Okrilla",-13.6,9.6,160,9,null,null,null,-14,null,null,2182,1831]
[null,32,1465,"Dresden",-13.9,9.5,209,9,null,null,null,-14,null,null,2214,1839]
[null,33,1468,"Moritzburg",-13.8,9.6,178,9,null,null,null,-14,null,null,2194,1828]
[null,34,1471,"Radeburg",-13.6,9.6,156,9,null,null,null,-14,null,null,2190,1838]
[null,35,1477,"Arnsdorf b. Dresden",-14,9.1999999999999993,249,9,null,null,null,-14,null,null,2198,1819]
[null,36,1558,"Großenhain",-13.5,9.6999999999999993,123,4,null,null,null,-14,null,null,2243,1889]
[null,37,1561,"Großenhain, Ebersbach u.a.",-13.6,9.6,132,4,null,null,null,-14,null,null,2245,1884]
[null,38,1587,"Riesa",-13.3,9.6999999999999993,117,4,null,null,null,-13,null,null,2213,1877]
[null,39,1589,"Riesa",-13.3,9.6999999999999993,105,4,null,null,null,-13,null,null,2221,1884]
[null,40,1591,"Riesa",-12.9,9.6999999999999993,99,4,null,null,null,-13,null,null,2209,1900]
[null,41,1594,"Riesa, Stauchitz, Hirschstein",-13.6,9.6,131,4,null,null,null,-14,null,null,2220,1863]
[null,42,1609,"Gröditz, Wülknitz, Röderaue",-13.3,9.6,98,4,null,null,null,-13,null,null,2210,1874]
[null,43,1612,"Nünchritz, Glaubitz",-13.6,9.6999999999999993,109,4,null,null,null,-14,null,null,2226,1868]
[null,44,1616,"Strehla",-13,9.6999999999999993,94,4,null,null,null,-13,null,null,2191,1878]
[null,45,1619,"Zeithain",-13,9.6,97,4,null,null,null,-13,null,null,2196,1882]
[null,46,1623,"Lommatzsch",-13.6,9.6,155,4,null,null,null,-14,null,null,2229,1870]
[null,47,1640,"Coswig",-13,9.9,116,4,null,null,null,-13,null,null,2242,1922]
[null,48,1662,"Meißen",-12.9,10,109,4,null,null,null,-13,null,null,2247,1933]
[null,49,1665,"Käbschütztal, Klipphausen, Diera-Zehren",-13.5,9.5,202,4,null,null,null,-14,null,null,2249,1894]
[null,50,1683,"Nossen",-13.8,9.3000000000000007,245,9,null,null,null,-14,null,null,2264,1887]
[null,51,1689,"Weinböhla",-13.4,9.8000000000000007,138,4,null,null,null,-13,null,null,2242,1895]
[null,52,1705,"Freital",-13.4,9.5,233,4,null,null,null,-13,null,null,2291,1936]
[null,53,1723,"Wilsdruff",-13.8,9,306,4,null,null,null,-14,null,null,2322,1935]
[null,54,1728,"Bannewitz",-13.7,9.1,283,4,null,null,null,-14,null,null,2290,1915]
[null,55,1731,"Kreischa",-13.7,9.3000000000000007,245,4,null,null,null,-14,null,null,2344,1960]
[null,56,1734,"Rabenau",-13.8,8.9,317,4,null,null,null,-14,null,null,2363,1969]
[null,57,1737,"Tharandt u.a.",-13.8,8.6999999999999993,363,9,null,null,null,-14,null,null,2359,1966]
[null,58,1738,"Dorfhain",-13.8,8.6999999999999993,348,9,null,null,null,-14,null,null,2346,1955]
[null,59,1744,"Dippoldiswalde",-13.9,8.1,447,9,null,null,null,-14,null,null,2666,2214]
[null,60,1762,"Hartmannsdorf-Reichenau",-14.6,7.1,605,10,null,null,null,-15,null,null,3031,2458]
[null,61,1768,"Glashütte",-14,8,466,9,null,null,null,-14,null,null,2647,2191]
[null,62,1773,"Altenberg",-15.2,5.8,786,10,null,null,null,-15,null,null,3177,2525]
[null,63,1774,"Klingenberg",-13.9,8.3000000000000007,441,9,null,null,null,-14,null,null,2696,2239]
[null,64,1776,"Hermsdorf",-14.9,6.4,700,10,null,null,null,-15,null,null,3130,2512]
[null,65,1778,"Altenberg",-14.5,7,608,10,null,null,null,-15,null,null,2969,2415]
[null,66,1796,"Pirna, Struppen, Dohma",-13.5,9.3000000000000007,232,9,null,null,null,-14,null,null,2303,{"$f":"ROUND(O71*24/(15-E71),0)","v":1939}]
[null,67,1809,"Heidenau",-13.8,9.3000000000000007,240,4,null,null,null,-14,null,null,2249,1874]
[null,68,1814,"Bad Schandau",-13.7,9,241,10,null,null,null,-14,null,null,2412,2017]
[null,69,1816,"Bad Gottleuba-Berggießhübel",-14.1,8,450,10,null,null,null,-14,null,null,2785,2297]
[null,70,1819,"Bahretal",-13.7,8.6999999999999993,308,9,null,null,null,-14,null,null,2584,2161]
[null,71,1824,"Königstein/Sächs.Schw.",-13.9,8.5,344,10,null,null,null,-14,null,null,2363,1962]
[null,72,1825,"Liebstadt",-14.1,8.3000000000000007,393,9,null,null,null,-14,null,null,2628,2167]
[null,73,1829,"Wehlen",-13.6,9.1999999999999993,232,9,null,null,null,-14,null,null,2307,1936]
[null,74,1833,"Stolpen, Dürrröhrsdorf-Dittersbach",-13.6,9.1,238,9,null,null,null,-14,null,null,2238,1878]
[null,75,1844,"Neustadt i. Sa.",-14.1,8.5,343,10,null,null,null,-14,null,null,2448,2019]
[null,76,1847,"Lohmen",-13.7,9,259,9,null,null,null,-14,null,null,2296,1920]
[null,77,1848,"Hohnstein",-14,8.5,341,9,null,null,null,-14,null,null,2398,1985]
[null,78,1855,"Sebnitz",-13.7,8.8000000000000007,271,10,null,null,null,-14,null,null,2450,2049]
[null,79,1877,"Bischofswerda u.a.",-14.1,8.8000000000000007,293,9,null,null,null,-14,null,null,2432,2006]
[null,80,1896,"Pulsnitz",-14.1,9.1,259,9,null,null,null,-14,null,null,2214,1826]
[null,81,1900,"Großröhrsdorf, Bretnig-Hauswalde",-14,9.1,271,9,null,null,null,-14,null,null,2213,1831]
[null,82,1904,"Neukirch/Lausitz",-14.7,8,429,10,null,null,null,-15,null,null,2458,1986]
[null,83,1906,"Burkau",-14.2,9.1,244,9,null,null,null,-14,null,null,2375,1952]
[null,84,1909,"Großharthau, Frankenthal",-13.9,8.9,287,9,null,null,null,-14,null,null,2235,1856]
[null,85,1917,"Kamenz",-14.1,9.5,173,9,null,null,null,-14,null,null,2255,1860]
[null,86,1920,"Elstra, Oßling u.a.",-14.4,9.4,186,9,null,null,null,-14,null,null,2355,1922]
[null,87,1936,"Königsbrück u.a.",-14.1,9.5,169,9,null,null,null,-14,null,null,2253,1858]
[null,88,1945,"Ruhland",-14.2,9.5,115,4,null,null,null,-14,null,null,2260,1858]
[null,89,1968,"Senftenberg",-14.2,9.5,104,4,null,null,null,-14,null,null,2264,1861]
[null,90,1979,"Lauchhammer",-13.5,9.5,112,4,null,null,null,-14,null,null,2258,1901]
[null,91,1983,"Großräschen",-14.2,9.4,130,4,null,null,null,-14,null,null,2253,1852]
[null,92,1987,"Schwarzheide N.L.",-13.9,9.5,104,4,null,null,null,-14,null,null,2264,1880]
[null,93,1990,"Ortrand",-13.5,9.6,100,4,null,null,null,-14,null,null,2242,1888]
[null,94,1993,"Schipkau",-14.3,9.5,112,4,null,null,null,-14,null,null,2269,1859]
[null,95,1994,"Schipkau",-14.3,9.4,123,4,null,null,null,-14,null,null,2272,1861]
[null,96,1996,"Senftenberg",-14.4,9.5,118,4,null,null,null,-14,null,null,2262,1847]
[null,97,1998,"Schipkau",-14.3,9.4,124,4,null,null,null,-14,null,null,2276,1864]
[null,98,2625,"Bautzen",-14.3,9.1999999999999993,198,9,null,null,null,-14,null,null,2337,1914]
[null,99,2627,"Weißenberg, Hochkirch u.a.",-14.4,9.3000000000000007,156,9,null,null,null,-14,null,null,2300,1878]
[null,100,2633,"Göda",-14.3,9.1999999999999993,213,9,null,null,null,-14,null,null,2415,1978]
[null,101,2681,"Wilthen",-14.3,8.9,258,10,null,null,null,-14,null,null,2500,2048]
[null,102,2689,"Sohland a. d. Spree",-14.3,8.6,311,10,null,null,null,-14,null,null,2534,2076]
[null,103,2692,"Doberschau-Gaußig, Großpostwitz, Obergurig",-14.3,9,239,9,null,null,null,-14,null,null,2406,1971]
[null,104,2694,"Großdubrau, Malschwitz",-14.5,9.4,142,9,null,null,null,-15,null,null,2331,1896]
[null,105,2699,"Königswartha",-14.5,9.4,148,9,null,null,null,-15,null,null,2343,1906]
[null,106,2708,"Löbau, Kottmar u.a.",-14.6,8.8000000000000007,270,9,null,null,null,-15,null,null,2399,1945]
[null,107,2727,"Ebersbach-Neugersdorf",-15.3,7.9,437,10,null,null,null,-15,null,null,2435,1929]
[null,108,2730,"Ebersbach-Neugersdorf",-15.2,8.1999999999999993,379,10,null,null,null,-15,null,null,2434,1934]
[null,109,2733,"Cunewalde",-14.6,8.6,305,9,null,null,null,-15,null,null,2393,1940]
[null,110,2736,"Beiersdorf, Oppach",-14.9,8.4,347,10,null,null,null,-15,null,null,2462,1976]
[null,111,2739,"Kottmar",-15.3,8.1999999999999993,378,10,null,null,null,-15,null,null,2428,1923]
[null,112,2742,"Neusalza-Spremberg",-14.6,8.5,327,10,null,null,null,-15,null,null,2448,1985]
[null,113,2747,"Herrnhut",-15,8.5,317,9,null,null,null,-15,null,null,2445,1956]
[null,114,2748,"Bernstadt",-14.5,8.9,232,9,null,null,null,-15,null,null,2340,1904]
[null,115,2763,"Zittau u.a.",-14.3,8.9,262,10,null,null,null,-14,null,null,2440,1999]
[null,116,2779,"Großschönau",-15.1,8.4,332,10,null,null,null,-15,null,null,2432,1939]
[null,117,2782,"Seifhennersdorf",-15.1,8.3000000000000007,368,10,null,null,null,-15,null,null,2436,1942]
[null,118,2785,"Olbersdorf",-14.9,8.6,307,10,null,null,null,-15,null,null,2439,1958]
[null,119,2788,"Zittau",-15.3,8.3000000000000007,343,9,null,null,null,-15,null,null,2436,1930]
[null,120,2791,"Oderwitz",-15,8.5,325,10,null,null,null,-15,null,null,2429,1943]
[null,121,2794,"Leutersdorf, Spitzkunnersdorf",-15.3,8.1999999999999993,382,10,null,null,null,-15,null,null,2431,1926]
[null,122,2796,"Jonsdorf",-15.5,7.8,464,10,null,null,null,-16,null,null,2461,1937]
[null,123,2797,"Oybin",-15.5,7.9,437,10,null,null,null,-16,null,null,2443,1922]
[null,124,2799,"Großschönau",-15.4,7.7,479,10,null,null,null,-15,null,null,2467,1948]
[null,125,2826,"Görlitz",-13.8,9.3000000000000007,226,9,null,null,null,-14,null,null,2331,1943]
[null,126,2827,"Görlitz",-14.4,9,227,9,null,null,null,-14,null,null,2332,1904]
[null,127,2828,"Görlitz",-14.4,9,217,9,null,null,null,-14,null,null,2330,1902]
[null,128,2829,"Markersdorf, Neißeaue u.a.",-14.4,9,224,9,null,null,null,-14,null,null,2330,1902]
[null,129,2894,"Reichenbach, Vierkirchen",-14.5,9,212,9,null,null,null,-15,null,null,2354,1915]
[null,130,2899,"Östritz, Schönau-Berzdorf",-14.6,8.8000000000000007,264,9,null,null,null,-15,null,null,2343,{"$f":"ROUND(O135*24/(15-E135),0)","v":1900}]
[null,131,2906,"Niesky, Hohendubrau u.a.",-14.6,9.3000000000000007,151,9,null,null,null,-15,null,null,2289,1856]
[null,132,2923,"Hähnichen, Horka, Kodersdorf",-14.4,9.1999999999999993,166,9,null,null,null,-14,null,null,2305,1882]
[null,133,2929,"Rothenburg/O.L.",-14.3,9.1999999999999993,161,9,null,null,null,-14,null,null,2298,1882]
[null,134,2943,"Weißwasser, Boxberg",-14.6,9.4,132,4,null,null,null,-15,null,null,2298,1863]
[null,135,2953,"Bad Muskau, Groß Düben, Gablenz",-14.7,9.3000000000000007,131,4,null,null,null,-15,null,null,2295,1855]
[null,136,2956,"Rietschen",-14.5,9.1999999999999993,157,9,null,null,null,-15,null,null,2296,1868]
[null,137,2957,"Krauschwitz, Weißkeißel",-14.5,9.3000000000000007,131,9,null,null,null,-15,null,null,2308,1878]
[null,138,2959,"Schleife",-14.4,9.3000000000000007,124,4,null,null,null,-14,null,null,2268,1851]
[null,139,2977,"Hoyerswerda",-14.3,9.5,128,4,null,null,null,-14,null,null,2263,1854]
[null,140,2979,"Spreetal, Elsterheide",-14.2,9.5,111,4,null,null,null,-14,null,null,2257,1855]
[null,141,2991,"Lauta",-14.1,9.5,140,4,null,null,null,-14,null,null,2253,1858]
[null,142,2994,"Bernsdorf",-14.5,9.5,149,4,null,null,null,-15,null,null,2259,1838]
[null,143,2997,"Wittichenau",-14.3,9.5,130,4,null,null,null,-14,null,null,2259,1850]
[null,144,2999,"Lohsa",-14.3,9.4,127,4,null,null,null,-14,null,null,2265,1855]
[null,145,3042,"Cottbus",-13.8,9.6999999999999993,69,4,null,null,null,-14,null,null,2197,1831]
[null,146,3044,"Cottbus",-13.4,9.9,69,4,null,null,null,-13,null,null,2177,1840]
[null,147,3046,"Cottbus",-13.3,9.9,74,4,null,null,null,-13,null,null,2179,1848]
[null,148,3048,"Cottbus",-13.9,9.6,68,4,null,null,null,-14,null,null,2192,1820]
[null,149,3050,"Cottbus",-13.5,9.6999999999999993,81,4,null,null,null,-14,null,null,2196,1849]
[null,150,3051,"Cottbus",-13.8,9.5,82,4,null,null,null,-14,null,null,2196,1830]
[null,151,3052,"Cottbus",-14,9.5,66,4,null,null,null,-14,null,null,2216,1834]
[null,152,3053,"Cottbus",-14,9.5,63,4,null,null,null,-14,null,null,2202,1822]
[null,153,3054,"Cottbus",-14,9.5,61,4,null,null,null,-14,null,null,2191,1813]
[null,154,3055,"Cottbus",-14,9.5,71,4,null,null,null,-14,null,null,2181,1805]
[null,155,3058,"Neuhausen/Spree",-13.9,9.5,82,4,null,null,null,-14,null,null,2231,1853]
[null,156,3096,"Burg/Spreewald u.a.",-13.8,9.6,57,4,null,null,null,-14,null,null,2196,1830]
[null,157,3099,"Kolkwitz",-13.8,9.5,74,4,null,null,null,-14,null,null,2195,1829]
[null,158,3103,"Neu-Seeland, Neupetershain",-14.4,9.4,117,4,null,null,null,-14,null,null,2239,1828]
[null,159,3116,"Drebkau",-14.1,9.5,90,4,null,null,null,-14,null,null,2218,1829]
[null,160,3119,"Welzow",-14.6,9.4,114,4,null,null,null,-15,null,null,2242,1818]
[null,161,3130,"Spremberg, Tschernitz u.a.",-14.4,9.3000000000000007,142,4,null,null,null,-14,null,null,2246,1833]
[null,162,3149,"Forst/ Lausitz",-13.7,9.5,75,4,null,null,null,-14,null,null,2246,1878]
[null,163,3159,"Döbern",-14.3,9.3000000000000007,142,4,null,null,null,-14,null,null,2271,1860]
[null,164,3172,"Guben, Schenkendöbern",-13.9,9.5,63,4,null,null,null,-14,null,null,2263,1879]
[null,165,3185,"Peitz",-13.8,9.5,61,4,null,null,null,-14,null,null,2210,1842]
[null,166,3197,"Jänschwalde",-13.8,9.5,76,4,null,null,null,-14,null,null,2242,1868]
[null,167,3205,"Calau, Bronkow",-14,9.4,110,4,null,null,null,-14,null,null,2236,1850]
[null,168,3222,"Lübbenau/ Spreewald",-14,9.6,51,4,null,null,null,-14,null,null,2213,1831]
[null,169,3226,"Vetschau",-14.1,9.5,72,4,null,null,null,-14,null,null,2209,1822]
[null,170,3229,"Altdöbern, Luckaitztal",-13.9,9.5,86,4,null,null,null,-14,null,null,2243,1863]
[null,171,3238,"Finsterwalde",-13.8,9.4,120,4,null,null,null,-14,null,null,2240,1867]
[null,172,3246,"Crinitz",-13.8,9.3000000000000007,135,4,null,null,null,-14,null,null,2234,1862]
[null,173,3249,"Sonnewalde",-13.6,9.4,96,4,null,null,null,-14,null,null,2226,1868]
[null,174,3253,"Doberlug-Kirchhain",-13.8,9.3000000000000007,138,4,null,null,null,-14,null,null,2228,1857]
[null,175,4103,"Leipzig",-12.3,10.199999999999999,124,4,null,null,null,-12,null,null,2138,1880]
[null,176,4105,"Leipzig",-12.6,10,112,4,null,null,null,-13,null,null,2129,1851]
[null,177,4107,"Leipzig",-12.2,10.199999999999999,118,4,null,null,null,-12,null,null,2127,1877]
[null,178,4109,"Leipzig",-11.7,10.9,113,4,null,null,null,-12,null,null,2128,1913]
[null,179,4129,"Leipzig",-12.3,10.199999999999999,122,4,null,null,null,-12,null,null,2137,1879]
[null,180,4155,"Leipzig",-12.3,10.3,105,4,null,null,null,-12,null,null,2130,1873]
[null,181,4157,"Leipzig",-12.4,10.1,118,4,null,null,null,-12,null,null,2140,1874]
[null,182,4158,"Leipzig",-13.6,9.6999999999999993,131,4,null,null,null,-14,null,null,2146,1801]
[null,183,4159,"Leipzig",-13.3,9.8000000000000007,101,4,null,null,null,-13,null,null,2135,1811]
[null,184,4177,"Leipzig",-12.3,10.1,116,4,null,null,null,-12,null,null,2129,1872]
[null,185,4178,"Leipzig",-13.6,9.6999999999999993,110,4,null,null,null,-14,null,null,2132,1789]
[null,186,4179,"Leipzig",-12.5,10.1,113,4,null,null,null,-13,null,null,2131,1860]
[null,187,4205,"Leipzig",-12.7,9.9,117,4,null,null,null,-13,null,null,2128,1844]
[null,188,4207,"Leipzig",-13.1,9.6999999999999993,122,4,null,null,null,-13,null,null,2126,1816]
[null,189,4209,"Leipzig",-12.3,10.199999999999999,119,4,null,null,null,-12,null,null,2128,1871]
[null,190,4229,"Leipzig",-12.3,10.1,116,4,null,null,null,-12,null,null,2127,1870]
[null,191,4249,"Leipzig",-13.3,9.6999999999999993,120,4,null,null,null,-13,null,null,2152,1825]
[null,192,4275,"Leipzig",-12.3,10.199999999999999,122,4,null,null,null,-12,null,null,2141,1882]
[null,193,4277,"Leipzig",-12.7,9.9,113,4,null,null,null,-13,null,null,2141,1855]
[null,194,4279,"Leipzig",-12.7,9.8000000000000007,123,4,null,null,null,-13,null,null,2138,{"$f":"ROUND(O199*24/(15-E199),0)","v":1852}]
[null,195,4288,"Leipzig",-13.1,9.6,136,4,null,null,null,-13,null,null,2139,1827]
[null,196,4289,"Leipzig",-13,9.8000000000000007,147,4,null,null,null,-13,null,null,2132,1827]
[null,197,4299,"Leipzig",-12.6,10.1,140,4,null,null,null,-13,null,null,2130,1852]
[null,198,4315,"Leipzig",-11.6,11.1,117,4,null,null,null,-12,null,null,2127,1919]
[null,199,4316,"Leipzig",-12.9,9.6,131,4,null,null,null,-13,null,null,2129,1831]
[null,200,4317,"Leipzig",-12.2,10.199999999999999,119,4,null,null,null,-12,null,null,2136,1885]
[null,201,4318,"Leipzig",-12.3,10.199999999999999,121,4,null,null,null,-12,null,null,2130,1873]
[null,202,4319,"Leipzig",-13.1,9.6,128,4,null,null,null,-13,null,null,2136,1824]
[null,203,4328,"Leipzig",-12.6,10,127,4,null,null,null,-13,null,null,2134,1856]
[null,204,4329,"Leipzig",-12.9,9.6999999999999993,127,4,null,null,null,-13,null,null,2137,1838]
[null,205,4347,"Leipzig",-12.3,10.199999999999999,125,4,null,null,null,-12,null,null,2134,1876]
[null,206,4349,"Leipzig",-13.1,9.6999999999999993,119,4,null,null,null,-13,null,null,2137,1825]
[null,207,4356,"Leipzig",-13.5,9.6,133,4,null,null,null,-14,null,null,2141,1803]
[null,208,4357,"Leipzig",-12.6,9.9,129,4,null,null,null,-13,null,null,2137,1858]
[null,209,4416,"Markkleeberg",-12.9,9.6999999999999993,120,4,null,null,null,-13,null,null,2145,1845]
[null,210,4420,"Markranstädt",-13.5,9.6999999999999993,121,4,null,null,null,-14,null,null,2123,1788]
[null,211,4425,"Taucha",-13.3,9.6,134,4,null,null,null,-13,null,null,2142,1817]
[null,212,4435,"Schkeuditz",-13.5,9.6999999999999993,134,4,null,null,null,-14,null,null,2143,1805]
[null,213,4442,"Zwenkau",-13.2,9.6999999999999993,120,4,null,null,null,-13,null,null,2156,1835]
[null,214,4451,"Borsdorf",-13.1,9.6,121,4,null,null,null,-13,null,null,2141,1829]
[null,215,4463,"Großpösna",-13.3,9.5,155,4,null,null,null,-13,null,null,2157,1829]
[null,216,4509,"Delitzsch, Krostitz u.a.",-13.6,9.6999999999999993,97,4,null,null,null,-14,null,null,2144,1799]
[null,217,4519,"Rackwitz",-13.6,9.6999999999999993,107,4,null,null,null,-14,null,null,2146,1801]
[null,218,4523,"Pegau, Elstertrebnitz",-13.3,9.6999999999999993,127,4,null,null,null,-13,null,null,2202,1867]
[null,219,4539,"Groitzsch",-13.2,9.6,143,4,null,null,null,-13,null,null,2207,1878]
[null,220,4552,"Borna",-12.9,9.6999999999999993,144,4,null,null,null,-13,null,null,2205,1897]
[null,221,4564,"Böhlen",-13.2,9.6999999999999993,131,4,null,null,null,-13,null,null,2182,1857]
[null,222,4565,"Regis-Breitingen",-13.1,9.6,159,4,null,null,null,-13,null,null,2213,1890]
[null,223,4567,"Kitzscher",-13.3,9.5,165,4,null,null,null,-13,null,null,2223,1885]
[null,224,4571,"Rötha",-12.9,9.6,134,4,null,null,null,-13,null,null,2180,1875]
[null,225,4575,"Neukieritzsch, Deutzen",-13.1,9.6,148,4,null,null,null,-13,null,null,2198,1877]
[null,226,4600,"Altenburg",-13.4,9.5,211,4,null,null,null,-13,null,null,2272,1920]
[null,227,4603,"Nobitz, Göhren, Windischleuba",-13.5,9.4,220,9,null,null,null,-14,null,null,2319,1953]
[null,228,4610,"Meuselwitz",-13.3,9.5,183,4,null,null,null,-13,null,null,2268,1923]
[null,229,4613,"Lucka",-13.1,9.6,159,4,null,null,null,-13,null,null,2218,1894]
[null,230,4617,"Rositz, Starkenberg, Treben",-13.4,9.4,204,4,null,null,null,-13,null,null,2269,1917]
[null,231,4618,"Langenleuba-Niederhain",-13.4,9.4,209,9,null,null,null,-13,null,null,2270,1918]
[null,232,4626,"Schmölln, Altkirchen, Nöbdenitz u.a.",-14.2,9.1,265,9,null,null,null,-14,null,null,2284,1877]
[null,233,4639,"Gößnitz",-13.5,9.4,212,9,null,null,null,-14,null,null,2308,1944]
[null,234,4643,"Geithain",-13.7,9.3000000000000007,220,9,null,null,null,-14,null,null,2335,1953]
[null,235,4651,"Bad Lausick",-13.5,9.5,173,4,null,null,null,-14,null,null,2246,1891]
[null,236,4654,"Frohburg",-13.6,9.4,195,9,null,null,null,-14,null,null,2274,1908]
[null,237,4655,"Kohren-Sahlis",-13.6,9.4,215,9,null,null,null,-14,null,null,2250,1888]
[null,238,4657,"Narsdorf",-13.8,9.1999999999999993,247,9,null,null,null,-14,null,null,2240,1867]
[null,239,4668,"Grimma",-13.7,9.4,185,4,null,null,null,-14,null,null,2219,1856]
[null,240,4680,"Colditz",-13.3,9.6,147,9,null,null,null,-13,null,null,2257,1914]
[null,241,4683,"Naunhof",-13,9.6,144,4,null,null,null,-13,null,null,2170,1860]
[null,242,4687,"Trebsen/Mulde",-13.1,9.6,135,4,null,null,null,-13,null,null,2199,1878]
[null,243,4703,"Leisnig",-13.7,9.4,201,9,null,null,null,-14,null,null,2273,1901]
[null,244,4720,"Döbeln, Großweitzschen u.a.",-13.7,9.5,189,9,null,null,null,-14,null,null,2260,1890]
[null,245,4736,"Waldheim",-13.3,9.5,219,9,null,null,null,-13,null,null,2287,1940]
[null,246,4741,"Roßwein",-13.7,9.3000000000000007,242,9,null,null,null,-14,null,null,2277,1904]
[null,247,4746,"Hartha",-13.8,9,301,9,null,null,null,-14,null,null,2299,1916]
[null,248,4749,"Ostrau",-13.6,9.6,164,4,null,null,null,-14,null,null,2238,1878]
[null,249,4758,"Oschatz",-13.6,9.6,144,4,null,null,null,-14,null,null,2194,1841]
[null,250,4769,"Mügeln",-13.5,9.6,145,4,null,null,null,-14,null,null,2232,1880]
[null,251,4774,"Dahlen",-13.7,9.5,150,4,null,null,null,-14,null,null,2202,1841]
[null,252,4779,"Wermsdorf",-13.8,9.4,213,4,null,null,null,-14,null,null,2209,1841]
[null,253,4808,"Wurzen",-13.5,9.5,147,4,null,null,null,-14,null,null,2161,1820]
[null,254,4821,"Brandis",-13.1,9.6,140,4,null,null,null,-13,null,null,2145,1832]
[null,255,4824,"Brandis",-13.1,9.6,125,4,null,null,null,-13,null,null,2141,1829]
[null,256,4827,"Machern",-13.3,9.5,155,4,null,null,null,-13,null,null,2146,1820]
[null,257,4828,"Bennewitz, Machern",-13,9.6,130,4,null,null,null,-13,null,null,2153,1845]
[null,258,4838,"Eilenburg u.a.",-13.4,9.6999999999999993,97,4,null,null,null,-13,null,null,2154,{"$f":"ROUND(O263*24/(15-E263),0)","v":1820}]
[null,259,4849,"Bad Düben",-13.5,9.5,115,4,null,null,null,-14,null,null,2165,1823]
[null,260,4860,"Torgau, Dreiheide",-13.2,9.5,87,4,null,null,null,-13,null,null,2184,1859]
[null,261,4861,"Torgau",-13,9.5,99,4,null,null,null,-13,null,null,2186,1874]
[null,262,4862,"Mockrehna",-13,9.6,99,4,null,null,null,-13,null,null,2170,1860]
[null,263,4874,"Belgern-Schildau",-13.2,9.6,111,4,null,null,null,-13,null,null,2187,1861]
[null,264,4880,"Dommitzsch",-13.3,9.5,101,4,null,null,null,-13,null,null,2192,1859]
[null,265,4886,"Arzberg, Beilrode",-13.3,9.5,83,4,null,null,null,-13,null,null,2193,1860]
[null,266,4889,"Belgern-Schildau",-13.1,9.6,114,4,null,null,null,-13,null,null,2184,1865]
[null,267,4895,"Falkenberg/ Elster",-13.3,9.5,86,4,null,null,null,-13,null,null,2212,1876]
[null,268,4910,"Elsterwerda",-13.3,9.6,91,4,null,null,null,-13,null,null,2224,1886]
[null,269,4916,"Herzberg/ Elster",-13.5,9.4,78,4,null,null,null,-14,null,null,2241,1887]
[null,270,4924,"Bad Liebenwerda",-13.4,9.6,87,4,null,null,null,-13,null,null,2211,1868]
[null,271,4928,"Plessa, Schraden",-13.5,9.6,90,4,null,null,null,-14,null,null,2241,1887]
[null,272,4931,"Mühlberg, Bad Liebenwerda",-13.1,9.6,93,4,null,null,null,-13,null,null,2188,1869]
[null,273,4932,"Röderland, Großthiemig u.a.",-13.3,9.6,92,4,null,null,null,-13,null,null,2247,1906]
[null,274,4934,"Hohenleipisch",-13.8,9.4,145,4,null,null,null,-14,null,null,2239,1866]
[null,275,4936,"Schlieben",-13.6,9.3000000000000007,122,4,null,null,null,-14,null,null,2235,1876]
[null,276,4938,"Uebigau-Wahrenbrück",-13.4,9.5,83,4,null,null,null,-13,null,null,2214,1871]
[null,277,6108,"Halle/ Saale",-12.8,10.3,78,4,null,null,null,-13,null,null,2087,1802]
[null,278,6110,"Halle/ Saale",-13.1,10.199999999999999,114,4,null,null,null,-13,null,null,2086,1782]
[null,279,6112,"Halle/ Saale",-13.5,9.9,96,4,null,null,null,-14,null,null,2092,1762]
[null,280,6114,"Halle/ Saale",-13,10.199999999999999,91,4,null,null,null,-13,null,null,2090,1791]
[null,281,6116,"Halle/ Saale",-13.8,9.6999999999999993,92,4,null,null,null,-14,null,null,2112,1760]
[null,282,6118,"Halle/ Saale",-14,9.6,106,4,null,null,null,-14,null,null,2096,1735]
[null,283,6120,"Halle/ Saale",-13.7,9.6999999999999993,123,4,null,null,null,-14,null,null,2085,1744]
[null,284,6122,"Halle/ Saale",-13.1,10.199999999999999,78,4,null,null,null,-13,null,null,2141,1829]
[null,285,6124,"Halle/ Saale",-13.4,9.9,77,4,null,null,null,-13,null,null,2134,1803]
[null,286,6126,"Halle/ Saale",-13.3,10,96,4,null,null,null,-13,null,null,2137,1812]
[null,287,6128,"Halle/ Saale",-13.3,10,99,4,null,null,null,-13,null,null,2123,1800]
[null,288,6130,"Halle/ Saale",-13.1,10.1,105,4,null,null,null,-13,null,null,2134,1823]
[null,289,6132,"Halle/ Saale",-13.3,10,95,4,null,null,null,-13,null,null,2127,1804]
[null,290,6179,"Teutschenthal",-13.9,9.6,131,4,null,null,null,-14,null,null,2144,1780]
[null,291,6184,"Kabelsketal",-13.6,9.6999999999999993,103,4,null,null,null,-14,null,null,2118,1777]
[null,292,6188,"Landsberg",-13.8,9.6,104,4,null,null,null,-14,null,null,2128,1773]
[null,293,6193,"Petersberg",-14.3,9.4,150,4,null,null,null,-14,null,null,2081,1705]
[null,294,6198,"Salzatal",-14.1,9.5,139,4,null,null,null,-14,null,null,2175,1794]
[null,295,6217,"Merseburg",-13.1,10.1,104,4,null,null,null,-13,null,null,2103,1796]
[null,296,6231,"Bad Dürrenberg",-13.5,9.8000000000000007,107,4,null,null,null,-14,null,null,2144,1805]
[null,297,6237,"Leuna",-13.6,9.6999999999999993,102,4,null,null,null,-14,null,null,2120,1779]
[null,298,6242,"Braunsbedra",-13.4,9.6999999999999993,140,4,null,null,null,-13,null,null,2161,1826]
[null,299,6246,"Bad Lauchstädt",-13.9,9.6,134,4,null,null,null,-14,null,null,2065,1715]
[null,300,6249,"Mücheln/ Geiseltal",-13.7,9.5,168,4,null,null,null,-14,null,null,2219,1856]
[null,301,6255,"Mücheln",-13.9,9.6,137,4,null,null,null,-14,null,null,2181,1811]
[null,302,6258,"Schkopau",-13.6,9.8000000000000007,85,4,null,null,null,-14,null,null,2109,1770]
[null,303,6259,"Frankleben",-13.5,9.8000000000000007,108,4,null,null,null,-14,null,null,2112,1779]
[null,304,6268,"Querfurt, Obhausen, Mücheln u.a.",-13.8,9.1999999999999993,229,4,null,null,null,-14,null,null,2272,1893]
[null,305,6279,"Schraplau, Farnstädt",-13.5,9.3000000000000007,208,4,null,null,null,-14,null,null,2240,1886]
[null,306,6295,"Eisleben",-13.5,9.6,142,4,null,null,null,-14,null,null,2231,1879]
[null,307,6308,"Klostermansfeld, Benndorf",-13.6,9,254,4,null,null,null,-14,null,null,2335,1959]
[null,308,6311,"Helbra",-13.7,9.1,237,4,null,null,null,-14,null,null,2223,1859]
[null,309,6313,"Hergisdorf",-13.4,9.1,223,4,null,null,null,-13,null,null,2229,1884]
[null,310,6317,"Seegebiet Mansfelder Land",-13.7,9.6999999999999993,83,4,null,null,null,-14,null,null,2207,1846]
[null,311,6333,"Hettstedt, Endorf",-13.5,9,229,4,null,null,null,-14,null,null,2244,1890]
[null,312,6343,"Mansfeld",-14,8.3000000000000007,320,6,null,null,null,-14,null,null,2368,1960]
[null,313,6347,"Gerbstedt",-14.1,9.4,139,4,null,null,null,-14,null,null,2183,1800]
[null,314,6366,"Köthen",-12.8,10,84,4,null,null,null,-13,null,null,2101,1814]
[null,315,6369,"Südliches Anhalt u.a.",-13.5,9.6,84,4,null,null,null,-14,null,null,2105,1773]
[null,316,6385,"Aken (Elbe)",-13.3,9.6999999999999993,53,4,null,null,null,-13,null,null,2108,1788]
[null,317,6386,"Aken, Osternienburger Land, Südliches Anhalt",-13.4,9.6,72,4,null,null,null,-13,null,null,2106,1780]
[null,318,6388,"Südliches Anhalt, Köthen",-13.3,9.6,81,4,null,null,null,-13,null,null,2108,1788]
[null,319,6406,"Bernburg (Saale)",-13.3,9.6,74,4,null,null,null,-13,null,null,2119,1797]
[null,320,6408,"Ilberstedt",-12.8,9.5,79,4,null,null,null,-13,null,null,2120,1830]
[null,321,6420,"Könnern",-13.5,9.5,100,4,null,null,null,-14,null,null,2120,1785]
[null,322,6425,"Alsleben/Saale, Plötzkau",-13.6,9.5,71,4,null,null,null,-14,null,null,2127,{"$f":"ROUND(O327*24/(15-E327),0)","v":1785}]
[null,323,6429,"Nienburg (Saale)",-13,9.6,61,4,null,null,null,-13,null,null,2118,1815]
[null,324,6449,"Aschersleben",-13,9.3000000000000007,146,4,null,null,null,-13,null,null,2129,1825]
[null,325,6456,"Arnstein",-13.7,9.3000000000000007,159,4,null,null,null,-14,null,null,2280,1907]
[null,326,6458,"Hedersleben",-12.9,9.1999999999999993,179,4,null,null,null,-13,null,null,2230,1918]
[null,327,6463,"Falkenstein",-13.3,9.1,167,4,null,null,null,-13,null,null,2268,1923]
[null,328,6464,"Seeland",-13,9.3000000000000007,124,4,null,null,null,-13,null,null,2244,1923]
[null,329,6466,"Seeland",-12.8,9.4,110,4,null,null,null,-13,null,null,2234,1929]
[null,330,6467,"Seeland",-13,9.3000000000000007,130,4,null,null,null,-13,null,null,2252,1930]
[null,331,6469,"Seeland",-13,9.4,109,4,null,null,null,-13,null,null,2243,1923]
[null,332,6484,"Quedlinburg",-13.1,9.4,115,4,null,null,null,-13,null,null,2180,1862]
[null,333,6485,"Quedlinburg, Ballenstedt",-14.6,7.4,448,6,null,null,null,-15,null,null,2505,2031]
[null,334,6493,"Ballenstedt, Harzgerode",-14.4,7.8,376,6,null,null,null,-14,null,null,2594,2118]
[null,335,6502,"Thale, Blankenburg",-14.2,7.8,382,6,null,null,null,-14,null,null,2509,2062]
[null,336,6526,"Sangerhausen",-13.5,8.6999999999999993,267,6,null,null,null,-14,null,null,2390,2013]
[null,337,6528,"Wallhausen, Blankenheim",-13.2,9.6,131,4,null,null,null,-13,null,null,2319,1974]
[null,338,6536,"Südharz, Berga",-14.2,7.9,392,6,null,null,null,-14,null,null,2581,2121]
[null,339,6537,"Kelbra (Kyffhäuser)",-13.3,9.5,160,4,null,null,null,-13,null,null,2342,1986]
[null,340,6542,"Allstedt",-13.6,9.4,177,4,null,null,null,-14,null,null,2307,1936]
[null,341,6543,"Falkenstein, Arnstein",-13.9,8.6999999999999993,249,6,null,null,null,-14,null,null,2377,1974]
[null,342,6556,"Artern/ Unstrut u.a.",-13,9.6999999999999993,120,4,null,null,null,-13,null,null,2192,1879]
[null,343,6567,"Bad Frankenhausen/ Kyffhäuser",-13.2,9.6,142,4,null,null,null,-13,null,null,2228,1896]
[null,344,6571,"Roßleben, Wiehe, Donndorf, Nausitz, Gehofen",-13,9.6999999999999993,118,4,null,null,null,-13,null,null,2244,1923]
[null,345,6577,"Heldrungen",-13.2,9.6,150,4,null,null,null,-13,null,null,2232,1900]
[null,346,6578,"Bilzingsleben Kannawurf Oldisleben",-13.4,8.8000000000000007,296,4,null,null,null,-13,null,null,2211,1868]
[null,347,6618,"Naumburg",-13.6,9.4,225,4,null,null,null,-14,null,null,2258,1895]
[null,348,6628,"Lanitz-Hassel-Tal, Molauer Land",-13.5,9.4,215,4,null,null,null,-14,null,null,2276,1917]
[null,349,6632,"Freyburg, Balgstädt",-13.7,9.4,216,4,null,null,null,-14,null,null,2222,1858]
[null,350,6636,"Laucha an der Unstrut",-13.3,9.6,156,4,null,null,null,-13,null,null,2266,1922]
[null,351,6638,"Karsdorf",-13.1,9.6999999999999993,115,4,null,null,null,-13,null,null,2262,1932]
[null,352,6642,"Nebra, Kaiserpfalz",-13.2,9.5,177,4,null,null,null,-13,null,null,2254,1918]
[null,353,6647,"Bad Bibra, Finne u.a.",-13.6,9,278,4,null,null,null,-14,null,null,2297,1928]
[null,354,6648,"Eckartsberga",-13.5,9.3000000000000007,217,4,null,null,null,-14,null,null,2293,1931]
[null,355,6667,"Weißenfels, Stößen",-13.3,9.8000000000000007,97,4,null,null,null,-13,null,null,2213,1877]
[null,356,6679,"Hohenmölsen",-13.3,9.5,179,4,null,null,null,-13,null,null,2226,1888]
[null,357,6682,"Teuchern",-13.4,9.5,191,4,null,null,null,-13,null,null,2234,1888]
[null,358,6686,"Lützen",-13.5,9.6999999999999993,132,4,null,null,null,-14,null,null,2198,1851]
[null,359,6688,"Weißenfels",-13.6,9.8000000000000007,105,4,null,null,null,-14,null,null,2144,1799]
[null,360,6711,"Zeitz",-13.3,9.6,163,4,null,null,null,-13,null,null,2223,1885]
[null,361,6712,"Zeitz, Gutenborn u.a.",-14,9.1,279,4,null,null,null,-14,null,null,2241,1855]
[null,362,6721,"Meineweh, Osterfeld",-14,9.1999999999999993,269,4,null,null,null,-14,null,null,2228,1844]
[null,363,6722,"Droyßig, Wetterzeube",-13.3,9.6,172,4,null,null,null,-13,null,null,2248,1906]
[null,364,6729,"Elsteraue",-13.1,9.6999999999999993,144,4,null,null,null,-13,null,null,2226,1901]
[null,365,6749,"Bitterfeld-Wolfen",-12.8,10.1,78,4,null,null,null,-13,null,null,2134,1842]
[null,366,6766,"Bitterfeld-Wolfen",-13.6,9.6999999999999993,87,4,null,null,null,-14,null,null,2132,1789]
[null,367,6772,"Gräfenhainichen",-13.3,9.6,94,4,null,null,null,-13,null,null,2137,1812]
[null,368,6773,"Gräfenhainichen",-13.3,9.6,96,4,null,null,null,-13,null,null,2141,1816]
[null,369,6774,"Muldestausee",-13.6,9.5,105,4,null,null,null,-14,null,null,2151,1805]
[null,370,6779,"Raguhn-Jeßnitz",-13.3,9.6,83,4,null,null,null,-13,null,null,2132,1808]
[null,371,6780,"Zörbig",-13.7,9.6,85,4,null,null,null,-14,null,null,2128,1780]
[null,372,6785,"Oranienbaum-Wörlitz",-13.1,9.6,59,4,null,null,null,-13,null,null,2143,1830]
[null,373,6792,"Sandersdorf-Brehna",-13.7,9.6,89,4,null,null,null,-14,null,null,2133,1784]
[null,374,6794,"Sandersdorf-Brehna",-13.8,9.6,90,4,null,null,null,-14,null,null,2133,1778]
[null,375,6796,"Sandersdorf-Brehna",-13.8,9.6,95,4,null,null,null,-14,null,null,2137,1781]
[null,376,6800,"Raguhn-Jeßnitz",-13.6,9.6,79,4,null,null,null,-14,null,null,2136,1792]
[null,377,6803,"Bitterfeld-Wolfen",-12.9,10.1,77,4,null,null,null,-13,null,null,2134,1836]
[null,378,6808,"Bitterfeld-Wolfen",-13.6,9.6999999999999993,82,4,null,null,null,-14,null,null,2135,1792]
[null,379,6809,"Roitzsch, Petersroda",-13.7,9.6999999999999993,88,4,null,null,null,-14,null,null,2136,1786]
[null,380,6842,"Dessau-Roßlau",-13.3,9.6,74,4,null,null,null,-13,null,null,2135,1811]
[null,381,6844,"Dessau-Roßlau",-13.3,9.6999999999999993,59,4,null,null,null,-13,null,null,2133,1809]
[null,382,6846,"Dessau-Roßlau",-13.3,9.6999999999999993,66,4,null,null,null,-13,null,null,2127,1804]
[null,383,6847,"Dessau-Roßlau",-13.3,9.6999999999999993,70,4,null,null,null,-13,null,null,2125,1802]
[null,384,6849,"Dessau-Roßlau",-13.4,9.6,63,4,null,null,null,-13,null,null,2131,1801]
[null,385,6861,"Dessau-Roßlau",-13.1,9.5,83,4,null,null,null,-13,null,null,2175,1858]
[null,386,6862,"Dessau-Roßlau",-13.1,9.5,85,4,null,null,null,-13,null,null,2136,{"$f":"ROUND(O391*24/(15-E391),0)","v":1824}]
[null,387,6868,"Coswig (Anhalt)",-12.8,9.3000000000000007,111,4,null,null,null,-13,null,null,2245,1938]
[null,388,6869,"Coswig (Anhalt)",-13,9.4,123,4,null,null,null,-13,null,null,2215,1899]
[null,389,6886,"Wittenberg",-13,9.6999999999999993,78,4,null,null,null,-13,null,null,2182,1870]
[null,390,6888,"Wittenberg",-13.2,9.6999999999999993,63,4,null,null,null,-13,null,null,2193,1866]
[null,391,6889,"Wittenberg",-13.1,9.1999999999999993,163,4,null,null,null,-13,null,null,2216,1893]
[null,392,6895,"Zahna-Elster",-13.3,9.6,82,4,null,null,null,-13,null,null,2215,1878]
[null,393,6901,"Kemberg",-13.3,9.6,67,4,null,null,null,-13,null,null,2167,1838]
[null,394,6905,"Bad Schmiedeberg",-13.5,9.4,121,4,null,null,null,-14,null,null,2167,1825]
[null,395,6917,"Jessen (Elster)",-13.6,9.4,92,4,null,null,null,-14,null,null,2236,1876]
[null,396,6925,"Annaburg",-13.5,9.5,76,4,null,null,null,-14,null,null,2231,1879]
[null,397,7318,"Saalfeld/Saale, Wittgendorf",-13.6,8.8000000000000007,338,10,null,null,null,-14,null,null,2562,2150]
[null,398,7330,"Probstzella",-14.1,8.3000000000000007,425,10,null,null,null,-14,null,null,2817,2323]
[null,399,7333,"Unterwellenborn",-13.3,9.1999999999999993,274,9,null,null,null,-13,null,null,2331,1977]
[null,400,7334,"Kamsdorf",-13.6,8.9,319,10,null,null,null,-14,null,null,2430,2039]
[null,401,7338,"Kaulsdorf",-14.8,7.8,516,10,null,null,null,-15,null,null,2519,2029]
[null,402,7343,"Wurzbach",-14.7,7.2,613,10,null,null,null,-15,null,null,2772,2240]
[null,403,7349,"Lehesten",-15,6.8,680,10,null,null,null,-15,null,null,2910,2328]
[null,404,7356,"Lobenstein, Neundorf",-14.8,7.3,596,10,null,null,null,-15,null,null,2736,2203]
[null,405,7366,"Blankenstein, Blankenberg u.a.",-14.7,7.6,547,10,null,null,null,-15,null,null,2712,2192]
[null,406,7368,"Remptendorf",-14.8,7.6,543,10,null,null,null,-15,null,null,2585,2082]
[null,407,7381,"Pößneck",-13.1,9.5,221,9,null,null,null,-13,null,null,2388,2040]
[null,408,7387,"Krölpa",-13.7,8.8000000000000007,329,9,null,null,null,-14,null,null,2317,1938]
[null,409,7389,"Ranis",-14.6,8.1,468,10,null,null,null,-15,null,null,2383,1932]
[null,410,7407,"Rudolstadt",-13.8,8.6,359,9,null,null,null,-14,null,null,2343,1953]
[null,411,7422,"Bad Blankenburg, Saalfelder Höhe",-14.6,7.7,527,10,null,null,null,-15,null,null,2518,2042]
[null,412,7426,"Königsee-Rottenbach u.a.",-13.8,8.5,372,10,null,null,null,-14,null,null,2551,2126]
[null,413,7427,"Schwarzburg",-14.1,8.3000000000000007,418,10,null,null,null,-14,null,null,2397,1977]
[null,414,7429,"Döschnitz, Sitzendorf, Rohrbach",-14.7,6.9,643,10,null,null,null,-15,null,null,2556,2065]
[null,415,7545,"Gera",-13.3,9.9,201,9,null,null,null,-13,null,null,2328,1974]
[null,416,7546,"Gera",-13.7,9.5,240,9,null,null,null,-14,null,null,2340,1957]
[null,417,7548,"Gera",-14.2,8.9,312,9,null,null,null,-14,null,null,2314,1902]
[null,418,7549,"Gera",-13.5,9.5,221,9,null,null,null,-14,null,null,2353,1981]
[null,419,7551,"Gera",-14,9,284,9,null,null,null,-14,null,null,2354,1948]
[null,420,7552,"Gera",-13.8,9.3000000000000007,226,9,null,null,null,-14,null,null,2308,1923]
[null,421,7554,"Brahmenau",-14.2,9.1,265,9,null,null,null,-14,null,null,2302,1892]
[null,422,7557,"Gera, Zedlitz u.a.",-14.1,8.8000000000000007,328,9,null,null,null,-14,null,null,2390,1971]
[null,423,7570,"Weida, Harth-Pöllnitz, Wünschendorf",-13.9,9.1,279,9,null,null,null,-14,null,null,2406,1998]
[null,424,7580,"Ronneburg, Braunichswalde, Großenstein u.a.",-14.2,8.9,318,9,null,null,null,-14,null,null,2362,1941]
[null,425,7586,"Bad Köstritz",-14.2,8.9,312,9,null,null,null,-14,null,null,2283,1876]
[null,426,7589,"Münchenbernsdorf, Schwarzbach, Bocka",-13.9,8.8000000000000007,324,9,null,null,null,-14,null,null,2390,1985]
[null,427,7607,"Eisenberg, Gösen, Hainspitz",-13.9,9,315,9,null,null,null,-14,null,null,2291,1903]
[null,428,7613,"Crossen, Heideland u.a.",-14.1,8.9,315,9,null,null,null,-14,null,null,2258,1862]
[null,429,7616,"Bürgel u.a.",-14,8.8000000000000007,332,9,null,null,null,-14,null,null,2186,1809]
[null,430,7619,"Schkölen",-13.8,9.1,274,9,null,null,null,-14,null,null,2214,1845]
[null,431,7629,"Hermsdorf",-14.2,8.6,362,9,null,null,null,-14,null,null,2266,1862]
[null,432,7639,"Bad Klosterlausnitz",-14,8.9,305,9,null,null,null,-14,null,null,2218,1836]
[null,433,7646,"Stadtroda u.a.",-13.7,9,295,9,null,null,null,-14,null,null,2227,1862]
[null,434,7743,"Jena",-12.8,9.6999999999999993,176,9,null,null,null,-13,null,null,2121,1831]
[null,435,7745,"Jena",-12.8,9.6999999999999993,174,9,null,null,null,-13,null,null,2076,1792]
[null,436,7747,"Jena",-12.8,9.6999999999999993,170,9,null,null,null,-13,null,null,2129,1838]
[null,437,7749,"Jena",-13.3,9.3000000000000007,258,9,null,null,null,-13,null,null,2088,1771]
[null,438,7751,"Jena, Bucha, Großpürschütz u.a.",-12.6,9.9,146,9,null,null,null,-13,null,null,2122,1845]
[null,439,7768,"Kahla",-13.1,9.5,189,9,null,null,null,-13,null,null,2222,1898]
[null,440,7774,"Dornburg-Camburg u.a.",-13.3,9.5,177,9,null,null,null,-13,null,null,2221,1884]
[null,441,7778,"Neuengönna u.a.",-13.2,9.6,167,9,null,null,null,-13,null,null,2175,1851]
[null,442,7806,"Neustadt/ Orla",-14,8.8000000000000007,333,9,null,null,null,-14,null,null,2392,1980]
[null,443,7819,"Triptis",-14.1,8.6999999999999993,341,9,null,null,null,-14,null,null,2412,1989]
[null,444,7907,"Schleiz",-14.6,8.1,474,10,null,null,null,-15,null,null,2559,2075]
[null,445,7919,"Kirschkau, Pausa-Mühltroff",-14.6,8.1,469,10,null,null,null,-15,null,null,2537,2057]
[null,446,7922,"Tanna",-14.7,7.5,564,10,null,null,null,-15,null,null,2605,2105]
[null,447,7924,"Ziegenrück",-14.5,8.1,467,10,null,null,null,-15,null,null,2455,1997]
[null,448,7926,"Gefell",-14.9,7.1,614,10,null,null,null,-15,null,null,2690,2159]
[null,449,7927,"Hirschberg",-14.7,7.7,520,10,null,null,null,-15,null,null,2698,2180]
[null,450,7929,"Saalburg-Ebersdorf",-14.8,7.9,500,10,null,null,null,-15,null,null,2690,{"$f":"ROUND(O455*24/(15-E455),0)","v":2166}]
[null,451,7937,"Zeulenroda-Triebes, Langenwolschendorf",-14.6,8.1999999999999993,451,9,null,null,null,-15,null,null,2484,2014]
[null,452,7950,"Zeulenroda-Triebes, Weißendorf",-14.3,8.6,365,9,null,null,null,-14,null,null,2475,2027]
[null,453,7952,"Pausa-Mühltroff",-14.6,8.1,456,10,null,null,null,-15,null,null,2517,2041]
[null,454,7955,"Auma-Weidatal",-14.5,8.4,416,9,null,null,null,-15,null,null,2460,2001]
[null,455,7957,"Langenwetzendorf",-14.2,8.6,368,9,null,null,null,-14,null,null,2484,2042]
[null,456,7958,"Hohenleuben",-14.1,8.6999999999999993,355,9,null,null,null,-14,null,null,2431,2005]
[null,457,7973,"Greiz",-14.4,8.5,385,9,null,null,null,-14,null,null,2468,2015]
[null,458,7980,"Berga/Elster",-13.7,9.3000000000000007,223,9,null,null,null,-14,null,null,2394,2002]
[null,459,7985,"Elsterberg",-13.8,9,277,9,null,null,null,-14,null,null,2506,2088]
[null,460,7987,"Mohlsdorf-Teichwolframsdorf",-14.2,8.6,368,9,null,null,null,-14,null,null,2447,2011]
[null,461,8056,"Zwickau",-13.1,9.6,286,9,null,null,null,-13,null,null,2370,2024]
[null,462,8058,"Zwickau",-13.8,9.1,272,9,null,null,null,-14,null,null,2329,1941]
[null,463,8060,"Zwickau",-13.7,9,318,9,null,null,null,-14,null,null,2364,1977]
[null,464,8062,"Zwickau",-13.3,9.3000000000000007,317,9,null,null,null,-13,null,null,2355,1997]
[null,465,8064,"Zwickau",-13.7,8.6999999999999993,365,9,null,null,null,-14,null,null,2367,1979]
[null,466,8066,"Zwickau",-13.7,9,327,9,null,null,null,-14,null,null,2361,1974]
[null,467,8107,"Kirchberg",-13.8,8.5,422,10,null,null,null,-14,null,null,2414,2012]
[null,468,8112,"Wilkau-Haßlau",-13.6,8.9,319,9,null,null,null,-14,null,null,2388,2004]
[null,469,8115,"Lichtentanne",-14,8.5,388,9,null,null,null,-14,null,null,2356,1950]
[null,470,8118,"Hartenstein",-13.8,8.6,395,9,null,null,null,-14,null,null,2390,1992]
[null,471,8132,"Mülsen",-13.8,9,307,9,null,null,null,-14,null,null,2374,1978]
[null,472,8134,"Langenweißbach, Wildenfels",-13.7,8.6999999999999993,381,9,null,null,null,-14,null,null,2558,2139]
[null,473,8141,"Reinsdorf",-13.7,8.8000000000000007,346,9,null,null,null,-14,null,null,2393,2001]
[null,474,8144,"Hirschfeld",-13.8,8.6,398,9,null,null,null,-14,null,null,2403,2003]
[null,475,8147,"Crinitzberg",-14.7,7.9,504,10,null,null,null,-15,null,null,2429,1963]
[null,476,8209,"Auerbach/Vogtl.",-14.7,7.3,575,10,null,null,null,-15,null,null,2850,2303]
[null,477,8223,"Falkenstein/Vogtl.",-15,6.8,661,10,null,null,null,-15,null,null,2754,2203]
[null,478,8228,"Rodewisch",-14.4,8.1999999999999993,460,10,null,null,null,-14,null,null,2699,2203]
[null,479,8233,"Treuen",-14.7,8.1,452,10,null,null,null,-15,null,null,2538,2051]
[null,480,8236,"Ellefeld",-14.6,7.7,522,10,null,null,null,-15,null,null,2764,2241]
[null,481,8237,"Steinberg",-15,6.8,655,10,null,null,null,-15,null,null,2756,2205]
[null,482,8239,"Bergen",-14.8,7.9,484,10,null,null,null,-15,null,null,2662,2144]
[null,483,8248,"Klingenthal/Sa.",-14.5,6.6,698,11,null,null,null,-15,null,null,3020,2457]
[null,484,8258,"Markneukirchen",-14.5,7.5,539,10,null,null,null,-15,null,null,2932,2385]
[null,485,8261,"Schöneck/Vogtl.",-14.9,6.7,686,11,null,null,null,-15,null,null,2625,2107]
[null,486,8262,"Muldenhammer",-15.1,5.9,818,11,null,null,null,-15,null,null,2999,2391]
[null,487,8267,"Klingenthal",-14.6,6.4,737,11,null,null,null,-15,null,null,2953,2394]
[null,488,8280,"Aue",-13.4,8.9,367,10,null,null,null,-13,null,null,2451,2071]
[null,489,8289,"Schneeberg",-14,8.3000000000000007,459,10,null,null,null,-14,null,null,2586,2140]
[null,490,8294,"Lößnitz",-14.1,8.1,477,10,null,null,null,-14,null,null,2529,2086]
[null,491,8297,"Zwönitz",-14.1,7.9,507,10,null,null,null,-14,null,null,2508,2068]
[null,492,8301,"Schlema",-13.8,8.5,438,10,null,null,null,-14,null,null,2536,2113]
[null,493,8304,"Schönheide",-14.8,6.5,717,10,null,null,null,-15,null,null,2895,2332]
[null,494,8309,"Eibenstock",-15.3,5.6,867,11,null,null,null,-15,null,null,3107,2461]
[null,495,8315,"Lauter-Bernsbach",-13.8,8.3000000000000007,457,10,null,null,null,-14,null,null,2699,2249]
[null,496,8321,"Zschorlau",-14.7,6.8,666,10,null,null,null,-15,null,null,2659,2149]
[null,497,8324,"Bockau",-14.8,7.2,612,10,null,null,null,-15,null,null,2953,2378]
[null,498,8328,"Stützengrün",-14.7,7.4,569,10,null,null,null,-15,null,null,2737,2212]
[null,499,8340,"Schwarzenberg/Erzgeb.",-14.1,8.1,483,10,null,null,null,-14,null,null,3027,2496]
[null,500,8344,"Grünhain",-14.8,6.8,678,10,null,null,null,-15,null,null,2900,2336]
[null,501,8349,"Johanngeorgenstadt",-15.3,5.6,872,11,null,null,null,-15,null,null,3272,2592]
[null,502,8352,"Raschau",-14.8,6.1,786,11,null,null,null,-15,null,null,3214,2588]
[null,503,8359,"Breitenbrunn/Erzgeb.",-14.9,6,794,11,null,null,null,-15,null,null,3219,2584]
[null,504,8371,"Glauchau",-13.9,9.1,294,9,null,null,null,-14,null,null,2334,1938]
[null,505,8373,"Remse",-13.8,9.1999999999999993,257,9,null,null,null,-14,null,null,2333,1944]
[null,506,8393,"Meerane",-14,9.1,284,9,null,null,null,-14,null,null,2310,1912]
[null,507,8396,"Waldenburg",-13.8,9.1,280,9,null,null,null,-14,null,null,2336,1947]
[null,508,8412,"Werdau",-13.8,9,300,9,null,null,null,-14,null,null,2397,1998]
[null,509,8427,"Fraureuth",-13.7,8.8000000000000007,330,9,null,null,null,-14,null,null,2402,2009]
[null,510,8428,"Langenbernsdorf",-14,8.9,306,9,null,null,null,-14,null,null,2373,1964]
[null,511,8451,"Crimmitschau",-14,9.1,270,9,null,null,null,-14,null,null,2315,1916]
[null,512,8459,"Neukirchen/Pleiße",-14,9.1,283,9,null,null,null,-14,null,null,2318,1918]
[null,513,8468,"Reichenbach/Vogtl.",-14.4,8.3000000000000007,431,9,null,null,null,-14,null,null,2469,2016]
[null,514,8485,"Lengenfeld",-14.3,8.4,421,10,null,null,null,-14,null,null,2472,{"$f":"ROUND(O519*24/(15-E519),0)","v":2025}]
[null,515,8491,"Netzschkau, Limbach",-14.7,8.1999999999999993,442,9,null,null,null,-15,null,null,2524,2040]
[null,516,8496,"Neumark",-14,8.6,377,9,null,null,null,-14,null,null,2418,2001]
[null,517,8499,"Mylau",-13.9,8.9,311,9,null,null,null,-14,null,null,2474,2055]
[null,518,8523,"Plauen",-14.3,8.5,421,10,null,null,null,-14,null,null,2482,2033]
[null,519,8525,"Plauen",-14.5,8.3000000000000007,405,10,null,null,null,-15,null,null,2494,2029]
[null,520,8527,"Plauen, Rößnitz",-14.6,8.3000000000000007,406,10,null,null,null,-15,null,null,2481,2012]
[null,521,8529,"Plauen",-14.3,8.6,371,10,null,null,null,-14,null,null,2495,2044]
[null,522,8538,"Weischlitz u.a.",-15,7.8,513,10,null,null,null,-15,null,null,2581,2065]
[null,523,8539,"Rosenbach",-14.8,8,479,10,null,null,null,-15,null,null,2514,2025]
[null,524,8541,"Neuensalz",-14.6,8.3000000000000007,411,10,null,null,null,-15,null,null,2518,2042]
[null,525,8543,"Pöhl",-14.5,8.3000000000000007,398,9,null,null,null,-15,null,null,2516,2047]
[null,526,8547,"Jößnitz",-14.6,8.3000000000000007,423,10,null,null,null,-15,null,null,2502,2029]
[null,527,8548,"Rosenbach",-14.8,8,481,10,null,null,null,-15,null,null,2499,2013]
[null,528,8606,"Oelsnitz",-15,7.8,510,10,null,null,null,-15,null,null,2573,2058]
[null,529,8626,"Adorf",-14.7,7.4,557,10,null,null,null,-15,null,null,2734,2209]
[null,530,8645,"Bad Elster",-14.5,7.6,537,10,null,null,null,-15,null,null,2789,2269]
[null,531,8648,"Bad Brambach",-14.6,7.3,572,10,null,null,null,-15,null,null,2787,2260]
[null,532,9111,"Chemnitz",-13,9.6999999999999993,304,9,null,null,null,-13,null,null,2470,2117]
[null,533,9112,"Chemnitz",-13,9.5,330,9,null,null,null,-13,null,null,2463,2111]
[null,534,9113,"Chemnitz",-13.3,9.1999999999999993,337,9,null,null,null,-13,null,null,2469,2094]
[null,535,9114,"Chemnitz",-13.3,9.4,286,9,null,null,null,-13,null,null,2473,2097]
[null,536,9116,"Chemnitz",-13.1,9.3000000000000007,333,9,null,null,null,-13,null,null,2463,2104]
[null,537,9117,"Chemnitz",-13.5,9.1,334,9,null,null,null,-14,null,null,2464,2075]
[null,538,9119,"Chemnitz",-13.1,9.4,336,9,null,null,null,-13,null,null,2455,2097]
[null,539,9120,"Chemnitz",-13.1,9.5,310,9,null,null,null,-13,null,null,2459,2100]
[null,540,9122,"Chemnitz",-12.9,9.1,373,9,null,null,null,-13,null,null,2427,2088]
[null,541,9123,"Chemnitz",-13.7,8.6999999999999993,409,10,null,null,null,-14,null,null,2493,2085]
[null,542,9125,"Chemnitz",-13.6,8.6999999999999993,401,10,null,null,null,-14,null,null,2482,2083]
[null,543,9126,"Chemnitz",-13.1,9.4,339,9,null,null,null,-13,null,null,2482,2120]
[null,544,9127,"Chemnitz",-13.3,8.9,390,10,null,null,null,-13,null,null,2500,2120]
[null,545,9128,"Chemnitz",-14.3,8,504,10,null,null,null,-14,null,null,2515,2060]
[null,546,9130,"Chemnitz",-13.1,9.5,320,9,null,null,null,-13,null,null,2481,2119]
[null,547,9131,"Chemnitz",-13.5,8.9,357,9,null,null,null,-14,null,null,2486,2093]
[null,548,9212,"Limbach-Oberfrohna",-13.8,9,327,9,null,null,null,-14,null,null,2374,1978]
[null,549,9217,"Burgstädt",-13.6,9.1,305,9,null,null,null,-14,null,null,2357,1978]
[null,550,9221,"Neukirchen/Erzgeb.",-13.5,9,346,9,null,null,null,-14,null,null,2444,2058]
[null,551,9224,"Chemnitz",-13.5,8.8000000000000007,390,9,null,null,null,-14,null,null,2402,2023]
[null,552,9228,"Chemnitz",-13.8,8.9,340,9,null,null,null,-14,null,null,2469,2058]
[null,553,9232,"Hartmannsdorf",-13.8,8.9,344,9,null,null,null,-14,null,null,2394,1995]
[null,554,9235,"Burkhardtsdorf",-13.8,8.6,414,10,null,null,null,-14,null,null,2505,2088]
[null,555,9236,"Claußnitz",-13.6,9.1999999999999993,282,9,null,null,null,-14,null,null,2354,1975]
[null,556,9241,"Mühlau",-13.7,9.1,297,9,null,null,null,-14,null,null,2359,1973]
[null,557,9243,"Niederfrohna",-13.8,8.9,333,9,null,null,null,-14,null,null,2357,1964]
[null,558,9244,"Lichtenau",-13.8,8.8000000000000007,357,9,null,null,null,-14,null,null,2351,1959]
[null,559,9247,"Röhrsdorf",-13.6,9,339,9,null,null,null,-14,null,null,2399,2013]
[null,560,9249,"Taura b. Burgstädt",-13.8,8.9,338,9,null,null,null,-14,null,null,2466,2055]
[null,561,9306,"Rochlitz",-13.3,9.3000000000000007,231,9,null,null,null,-13,null,null,2342,1986]
[null,562,9322,"Penig",-13.8,9.1999999999999993,263,9,null,null,null,-14,null,null,2340,1950]
[null,563,9326,"Geringswalde",-13.5,9.3000000000000007,245,9,null,null,null,-14,null,null,2320,1954]
[null,564,9328,"Lunzenau",-13.5,9.3000000000000007,235,9,null,null,null,-14,null,null,2348,1977]
[null,565,9337,"Callenberg, Hohenstein-Ernstthal, Bernsdorf",-13.8,8.8000000000000007,381,9,null,null,null,-14,null,null,2390,1992]
[null,566,9350,"Lichtenstein",-13.7,8.9,346,9,null,null,null,-14,null,null,2382,1992]
[null,567,9353,"Oberlungwitz",-13.6,9.1,316,9,null,null,null,-14,null,null,2394,2009]
[null,568,9355,"Gersdorf",-13.6,9,334,9,null,null,null,-14,null,null,2391,2006]
[null,569,9356,"St. Egidien",-13.8,9.1,298,9,null,null,null,-14,null,null,2382,1985]
[null,570,9366,"Stollberg/Erzgeb.",-13.5,8.5,442,9,null,null,null,-14,null,null,2396,2018]
[null,571,9376,"Oelsnitz/Erzgebirge",-13.6,8.8000000000000007,384,9,null,null,null,-14,null,null,2391,2006]
[null,572,9380,"Thalheim/Erzgebirge",-13.8,8.5,440,10,null,null,null,-14,null,null,2508,2090]
[null,573,9385,"Lugau/Erzgeb.",-13.7,8.9,367,9,null,null,null,-14,null,null,2396,2004]
[null,574,9387,"Jahnsdorf",-13.6,8.9,358,9,null,null,null,-14,null,null,2469,2072]
[null,575,9390,"Gornsdorf",-14,8.3000000000000007,470,10,null,null,null,-14,null,null,2515,2081]
[null,576,9392,"Auerbach",-14.6,7.4,587,10,null,null,null,-15,null,null,2537,2057]
[null,577,9394,"Hohndorf",-13.6,8.8000000000000007,374,9,null,null,null,-14,null,null,2387,2003]
[null,578,9399,"Niederwürschnitz",-13.6,8.6999999999999993,398,9,null,null,null,-14,null,null,2396,{"$f":"ROUND(O583*24/(15-E583),0)","v":2011}]
[null,579,9405,"Zschopau, Gornau",-13.6,8.6999999999999993,392,10,null,null,null,-14,null,null,2603,2184]
[null,580,9419,"Thum",-14.1,7.9,511,10,null,null,null,-14,null,null,2563,2114]
[null,581,9423,"Gelenau/Erzgeb.",-14,7.9,516,10,null,null,null,-14,null,null,2543,2105]
[null,582,9427,"Ehrenfriedersdorf",-14.6,7.6,549,10,null,null,null,-15,null,null,2582,2094]
[null,583,9429,"Wolkenstein",-14.2,8,492,10,null,null,null,-14,null,null,2895,2379]
[null,584,9430,"Drebach",-13.8,8.3000000000000007,453,10,null,null,null,-14,null,null,2618,2182]
[null,585,9432,"Großolbersdorf",-14,8,497,10,null,null,null,-14,null,null,2684,2221]
[null,586,9434,"Großolbersdorf, Zschopau",-13.9,8.1,490,10,null,null,null,-14,null,null,2763,2295]
[null,587,9437,"Börnichen, Gornau",-14,8.5,418,10,null,null,null,-14,null,null,2791,2310]
[null,588,9439,"Amtsberg",-13.8,8.4,447,10,null,null,null,-14,null,null,2553,2128]
[null,589,9456,"Annaberg-Buchholz, Mildenau",-14.8,7.5,560,10,null,null,null,-15,null,null,3023,2435]
[null,590,9465,"Sehma",-14.8,6.2,766,11,null,null,null,-15,null,null,3344,2693]
[null,591,9468,"Geyer",-15,7.2,613,10,null,null,null,-15,null,null,2551,2041]
[null,592,9471,"Bärenstein",-14.9,6.6,713,11,null,null,null,-15,null,null,3140,2520]
[null,593,9474,"Crottendorf",-14.8,6.7,695,11,null,null,null,-15,null,null,3425,2758]
[null,594,9477,"Jöhstadt",-14.8,6.6,714,11,null,null,null,-15,null,null,3240,2609]
[null,595,9481,"Scheibenberg",-15,7.2,611,10,null,null,null,-15,null,null,2913,2330]
[null,596,9484,"Oberwiesenthal",-16.100000000000001,4.4000000000000004,1089,11,null,null,null,-16,null,null,3812,2942]
[null,597,9487,"Schlettau",-14.5,7.6,548,10,null,null,null,-15,null,null,3057,2487]
[null,598,9488,"Wiesa",-14.2,8,494,10,null,null,null,-14,null,null,2631,2162]
[null,599,9496,"Marienberg",-15.1,6.2,775,11,null,null,null,-15,null,null,3028,2414]
[null,600,9509,"Pockau-Lengefeld (Pockau)",-13.8,8.1999999999999993,461,10,null,null,null,-14,null,null,2842,2368]
[null,601,9514,"Pockau-Lengefeld (Lengefeld)",-13.8,8.4,439,10,null,null,null,-14,null,null,2811,2343]
[null,602,9518,"Großrückerswalde",-14.7,7.6,547,10,null,null,null,-15,null,null,2912,2353]
[null,603,9526,"Olbernhau, Pfaffroda, Heidersdorf",-14.3,7.7,526,10,null,null,null,-14,null,null,3075,2519]
[null,604,9544,"Neuhausen/Erzgeb.",-14.8,7,636,10,null,null,null,-15,null,null,3163,2547]
[null,605,9548,"Seiffen/Erzgeb.",-15.2,6.1,774,10,null,null,null,-15,null,null,3152,2505]
[null,606,9557,"Flöha",-13.4,9.3000000000000007,276,10,null,null,null,-13,null,null,2503,2115]
[null,607,9569,"Oederan",-13.7,8.6,412,10,null,null,null,-14,null,null,2490,2082]
[null,608,9573,"Leubsdorf, Gornau, Augustusburg",-13.6,8.8000000000000007,367,10,null,null,null,-14,null,null,2534,2126]
[null,609,9575,"Eppendorf",-14,8.1999999999999993,464,10,null,null,null,-14,null,null,2800,2317]
[null,610,9577,"Niederwiesa",-13.6,9.1,305,9,null,null,null,-14,null,null,2499,2097]
[null,611,9579,"Grünhainichen",-13.7,8.6999999999999993,367,10,null,null,null,-14,null,null,2779,2324]
[null,612,9599,"Freiberg",-13.3,8.8000000000000007,402,9,null,null,null,-13,null,null,2331,1977]
[null,613,9600,"Weißenborn, Oberschöna",-13.8,8.6,407,9,null,null,null,-14,null,null,2276,1897]
[null,614,9603,"Großschirma",-13.8,8.8000000000000007,350,9,null,null,null,-14,null,null,2269,1891]
[null,615,9618,"Brand-Erbisdorf, Großhartmannsdorf",-14.3,7.6,541,10,null,null,null,-14,null,null,2693,2206]
[null,616,9619,"Dorfchemnitz, Mulda, Sayda",-14.7,7.4,574,10,null,null,null,-15,null,null,3134,2533]
[null,617,9623,"Frauenstein",-14.8,7.2,602,10,null,null,null,-15,null,null,3069,2472]
[null,618,9627,"Bobritzsch",-14.1,8.1999999999999993,453,9,null,null,null,-14,null,null,2360,1946]
[null,619,9629,"Reinsberg",-13.7,8.8000000000000007,339,9,null,null,null,-14,null,null,2303,1926]
[null,620,9633,"Halsbrücke",-13.8,8.6,389,9,null,null,null,-14,null,null,2320,1933]
[null,621,9634,"Reinsberg",-13.7,9.1,282,9,null,null,null,-14,null,null,2283,1909]
[null,622,9638,"Lichtenberg/Erzgeb.",-13.8,8.4,416,10,null,null,null,-14,null,null,2625,2188]
[null,623,9648,"Mittweida, Kriebstein",-13.3,9.4,237,9,null,null,null,-13,null,null,2337,1982]
[null,624,9661,"Hainichen, Rossau, Striegistal",-13.6,9.1999999999999993,275,9,null,null,null,-14,null,null,2282,1915]
[null,625,9669,"Frankenberg",-13.8,8.9,336,9,null,null,null,-14,null,null,2341,1951]
[null,626,10115,"Berlin Mitte",-11.1,11,33,4,null,null,null,-11,null,null,2114,1944]
[null,627,10117,"Berlin Mitte",-11.3,10.9,40,4,null,null,null,-11,null,null,2108,1924]
[null,628,10119,"Berlin Mitte",-11.2,10.8,55,4,null,null,null,-11,null,null,2113,1936]
[null,629,10178,"Berlin Mitte",-11.2,10.9,39,4,null,null,null,-11,null,null,2108,1931]
[null,630,10179,"Berlin Mitte",-11.2,10.9,34,4,null,null,null,-11,null,null,2104,1927]
[null,631,10243,"Berlin Friedrichshain",-11.8,10.4,37,4,null,null,null,-12,null,null,2105,1885]
[null,632,10245,"Berlin Friedrichshain",-11.7,10.5,35,4,null,null,null,-12,null,null,2105,1892]
[null,633,10247,"Berlin Friedrichshain",-11.3,10.8,43,4,null,null,null,-11,null,null,2111,1926]
[null,634,10249,"Berlin Friedrichshain",-11.8,10.4,49,4,null,null,null,-12,null,null,2111,1890]
[null,635,10315,"Berlin Friedrichsfelde",-12,10.1,50,4,null,null,null,-12,null,null,2122,1886]
[null,636,10317,"Berlin Rummelsburg",-12.1,10,32,4,null,null,null,-12,null,null,2113,1871]
[null,637,10318,"Berlin Karlshorst",-12,10.1,39,4,null,null,null,-12,null,null,2124,1888]
[null,638,10319,"Berlin",-11.9,10.3,35,4,null,null,null,-12,null,null,2122,1893]
[null,639,10365,"Berlin Lichtenberg",-12,10.1,51,4,null,null,null,-12,null,null,2117,1882]
[null,640,10367,"Berlin Lichtenberg",-11.9,10.199999999999999,50,4,null,null,null,-12,null,null,2114,1886]
[null,641,10369,"Berlin Lichtenberg",-12,10.199999999999999,50,4,null,null,null,-12,null,null,2116,1881]
[null,642,10405,"Berlin Prenzlauer Berg",-11.2,10.8,49,4,null,null,null,-11,null,null,2114,{"$f":"ROUND(O647*24/(15-E647),0)","v":1936}]
[null,643,10407,"Berlin Prenzlauer Berg",-11.8,10.3,49,4,null,null,null,-12,null,null,2115,1894]
[null,644,10409,"Berlin Prenzlauer Berg",-11.9,10.3,50,4,null,null,null,-12,null,null,2120,1891]
[null,645,10435,"Berlin Prenzlauer Berg",-11.2,10.8,55,4,null,null,null,-11,null,null,2116,1938]
[null,646,10437,"Berlin Prenzlauer Berg",-11.3,10.7,52,4,null,null,null,-11,null,null,2119,1934]
[null,647,10439,"Berlin Prenzlauer Berg",-11.3,10.8,54,4,null,null,null,-11,null,null,2121,1936]
[null,648,10551,"Berlin Moabit",-11.3,10.7,43,4,null,null,null,-11,null,null,2118,1933]
[null,649,10553,"Berlin Moabit",-11.8,10.3,38,4,null,null,null,-12,null,null,2120,1899]
[null,650,10555,"Berlin Moabit",-11.8,10.4,33,4,null,null,null,-12,null,null,2117,1896]
[null,651,10557,"Berlin Moabit",-11.8,10.4,37,4,null,null,null,-12,null,null,2113,1892]
[null,652,10559,"Berlin Moabit",-11.2,10.8,34,4,null,null,null,-11,null,null,2117,1939]
[null,653,10585,"Berlin Charlottenburg",-11.1,10.9,41,4,null,null,null,-11,null,null,2122,1951]
[null,654,10587,"Berlin Charlottenburg",-11.8,10.3,38,4,null,null,null,-12,null,null,2119,1898]
[null,655,10589,"Berlin Charlottenburg",-11.8,10.3,42,4,null,null,null,-12,null,null,2122,1900]
[null,656,10623,"Berlin Charlottenburg",-11.3,10.7,36,4,null,null,null,-11,null,null,2118,1933]
[null,657,10625,"Berlin Charlottenburg",-11.2,10.8,44,4,null,null,null,-11,null,null,2121,1943]
[null,658,10627,"Berlin Charlottenburg",-11.2,10.9,36,4,null,null,null,-11,null,null,2123,1945]
[null,659,10629,"Berlin Charlottenburg",-11.2,10.8,43,4,null,null,null,-11,null,null,2123,1945]
[null,660,10707,"Berlin Wilmersdorf",-11.3,10.7,40,4,null,null,null,-11,null,null,2123,1937]
[null,661,10709,"Berlin Wilmersdorf",-11.8,10.199999999999999,48,4,null,null,null,-12,null,null,2127,1905]
[null,662,10711,"Berlin Halensee",-12,10,44,4,null,null,null,-12,null,null,2129,1892]
[null,663,10713,"Berlin Wilmersdorf",-11.3,10.7,42,4,null,null,null,-11,null,null,2128,1942]
[null,664,10715,"Berlin Wilhelmsdorf",-12,10.1,50,4,null,null,null,-12,null,null,2124,1888]
[null,665,10717,"Berlin Wilmersdorf",-11.8,10.3,43,4,null,null,null,-12,null,null,2122,1900]
[null,666,10719,"Berlin Wilmersdorf",-11.3,10.7,42,4,null,null,null,-11,null,null,2119,1934]
[null,667,10777,"Berlin Wilmersdorf",-11.3,10.7,38,4,null,null,null,-11,null,null,2115,1930]
[null,668,10779,"Berlin Schöneberg",-11.8,10.3,39,4,null,null,null,-12,null,null,2117,1896]
[null,669,10781,"Berlin Schöneberg",-11.3,10.7,38,4,null,null,null,-11,null,null,2112,1927]
[null,670,10783,"Berlin Schöneberg",-11.3,10.7,39,4,null,null,null,-11,null,null,2107,1923]
[null,671,10785,"Berlin Tiergarten",-11.8,10.4,34,4,null,null,null,-12,null,null,2109,1889]
[null,672,10787,"Berlin Tiergarten",-11.8,10.3,36,4,null,null,null,-12,null,null,2114,1893]
[null,673,10789,"Berlin Schöneberg",-11.3,10.7,42,4,null,null,null,-11,null,null,2116,1931]
[null,674,10823,"Berlin-West",-11.8,10.3,39,4,null,null,null,-12,null,null,2112,1891]
[null,675,10825,"Berlin",-11.4,10.6,40,4,null,null,null,-11,null,null,2117,1925]
[null,676,10827,"Berlin",-11.9,10.1,45,4,null,null,null,-12,null,null,2111,1883]
[null,677,10829,"Berlin Schöneberg",-11.9,10.1,45,4,null,null,null,-12,null,null,2105,1878]
[null,678,10961,"Berlin Kreuzberg",-11.3,10.8,37,4,null,null,null,-11,null,null,2095,1912]
[null,679,10963,"Berlin Kreuzberg",-12,10.199999999999999,33,4,null,null,null,-12,null,null,2101,1868]
[null,680,10965,"Berlin Neukölln",-11.1,10.9,58,4,null,null,null,-11,null,null,2084,1916]
[null,681,10967,"Berlin Kreuzberg",-11.1,10.9,37,4,null,null,null,-11,null,null,2093,1925]
[null,682,10969,"Berlin Kreuzberg",-11.8,10.4,37,4,null,null,null,-12,null,null,2099,1880]
[null,683,10997,"Berlin Kreuzberg",-11.8,10.3,36,4,null,null,null,-12,null,null,2102,1882]
[null,684,10999,"Berlin Kreuzberg",-11.3,10.8,39,4,null,null,null,-11,null,null,2098,1915]
[null,685,12043,"Berlin Neukölln",-11.9,10.199999999999999,46,4,null,null,null,-12,null,null,2095,1869]
[null,686,12045,"Berlin Neukölln",-11.4,10.6,42,4,null,null,null,-11,null,null,2096,1905]
[null,687,12047,"Berlin Kreuzberg",-11.1,10.9,37,4,null,null,null,-11,null,null,2095,1926]
[null,688,12049,"Berlin Neukölln",-11.8,10.3,60,4,null,null,null,-12,null,null,2084,1866]
[null,689,12051,"Berlin Neukölln",-12,10.1,41,4,null,null,null,-12,null,null,2088,1856]
[null,690,12053,"Berlin Neukölln",-11.9,10.199999999999999,46,4,null,null,null,-12,null,null,2091,1866]
[null,691,12055,"Berlin Neukölln",-12,10.1,32,4,null,null,null,-12,null,null,2099,1866]
[null,692,12057,"Berlin Neukölln",-12.1,10,35,4,null,null,null,-12,null,null,2106,1865]
[null,693,12059,"Berlin Neukölln",-11.9,10.199999999999999,35,4,null,null,null,-12,null,null,2101,1874]
[null,694,12099,"Berlin Tempelhof",-11.9,10.199999999999999,35,4,null,null,null,-12,null,null,2063,1841]
[null,695,12101,"Berlin Tempelhof",-11.9,10.199999999999999,49,4,null,null,null,-12,null,null,2090,1865]
[null,696,12103,"Berlin Tempelhof",-11.9,10.1,48,4,null,null,null,-12,null,null,2092,1866]
[null,697,12105,"Berlin Mariendorf",-11.9,10.1,40,4,null,null,null,-12,null,null,2106,1879]
[null,698,12107,"Berlin Mariendorf",-11.9,10.199999999999999,48,4,null,null,null,-12,null,null,2110,1883]
[null,699,12109,"Berlin Mariendorf",-12.3,9.9,45,4,null,null,null,-12,null,null,2095,1842]
[null,700,12157,"Berlin Schöneberg",-12.1,9.9,50,4,null,null,null,-12,null,null,2115,1873]
[null,701,12159,"Berlin Friedenau",-12,10,47,4,null,null,null,-12,null,null,2122,1886]
[null,702,12161,"Berlin Friedenau",-12,10,47,4,null,null,null,-12,null,null,2131,1894]
[null,703,12163,"Berlin Steglitz",-12,9.9,53,4,null,null,null,-12,null,null,2138,1900]
[null,704,12165,"Berlin Steglitz",-12,10,44,4,null,null,null,-12,null,null,2147,1908]
[null,705,12167,"Berlin Steglitz",-12,10,45,4,null,null,null,-12,null,null,2136,1899]
[null,706,12169,"Berlin Steglitz",-12.1,9.9,50,4,null,null,null,-12,null,null,2123,{"$f":"ROUND(O711*24/(15-E711),0)","v":1880}]
[null,707,12203,"Berlin Lichtenfelde",-12,9.9,46,4,null,null,null,-12,null,null,2145,1907]
[null,708,12205,"Berlin Lichtenfelde",-12.1,9.9,48,4,null,null,null,-12,null,null,2142,1897]
[null,709,12207,"Berlin Lichtenfelde",-12,10,46,4,null,null,null,-12,null,null,2133,1896]
[null,710,12209,"Berlin Lichtenfelde",-12,10,47,4,null,null,null,-12,null,null,2129,1892]
[null,711,12247,"Berlin Lankwitz",-12,10,43,4,null,null,null,-12,null,null,2128,1892]
[null,712,12249,"Berlin Lankwitz",-12.1,10,45,4,null,null,null,-12,null,null,2123,1880]
[null,713,12277,"Berlin",-12,10.1,46,4,null,null,null,-12,null,null,2121,1885]
[null,714,12279,"Berlin",-12,10,46,4,null,null,null,-12,null,null,2125,1889]
[null,715,12305,"Berlin",-12.2,9.9,46,4,null,null,null,-12,null,null,2124,1874]
[null,716,12307,"Berlin",-13,9.6,42,4,null,null,null,-13,null,null,2128,1824]
[null,717,12309,"Berlin",-12.4,9.8000000000000007,43,4,null,null,null,-12,null,null,2130,1866]
[null,718,12347,"Berlin Britz",-12,10.1,39,4,null,null,null,-12,null,null,2095,1862]
[null,719,12349,"Berlin Buckow",-12.1,10,45,4,null,null,null,-12,null,null,2115,1873]
[null,720,12351,"Berlin Buckow",-12.1,10,45,4,null,null,null,-12,null,null,2117,1875]
[null,721,12353,"Berlin Gropiusstadt",-12.8,9.6999999999999993,42,4,null,null,null,-13,null,null,2122,1832]
[null,722,12355,"Berlin Rudow",-12.1,10,38,4,null,null,null,-12,null,null,2146,1901]
[null,723,12357,"Berlin Rudow",-12.2,9.9,36,4,null,null,null,-12,null,null,2131,1880]
[null,724,12359,"Berlin Britz",-12.1,10,45,4,null,null,null,-12,null,null,2108,1867]
[null,725,12435,"Berlin Alt Treptow",-12.3,9.8000000000000007,40,4,null,null,null,-12,null,null,2108,1853]
[null,726,12437,"Berlin Baumschulenweg",-12,10.1,35,4,null,null,null,-12,null,null,2116,1881]
[null,727,12439,"Berlin Niederschöneweide",-12.3,9.9,36,4,null,null,null,-12,null,null,2130,1873]
[null,728,12459,"Berlin Oberschöneweide",-12.2,9.9,36,4,null,null,null,-12,null,null,2124,1874]
[null,729,12487,"Berlin",-12.1,10,34,4,null,null,null,-12,null,null,2128,1885]
[null,730,12489,"Berlin Teltowkanal III",-12.1,10,37,4,null,null,null,-12,null,null,2138,1893]
[null,731,12524,"Berlin Altglienicke",-12.1,10.1,44,4,null,null,null,-12,null,null,2151,1905]
[null,732,12526,"Berlin Bohnsdorf",-12.6,9.6999999999999993,41,4,null,null,null,-13,null,null,2155,1874]
[null,733,12527,"Berlin Schmöckwitz",-13.3,9.5,45,4,null,null,null,-13,null,null,2148,1822]
[null,734,12529,"Schönefeld",-13.2,9.5,40,4,null,null,null,-13,null,null,2162,1840]
[null,735,12555,"Berlin Köpenik",-12.2,9.9,34,4,null,null,null,-12,null,null,2134,1883]
[null,736,12557,"Berlin",-12.5,9.8000000000000007,33,4,null,null,null,-13,null,null,2142,1869]
[null,737,12559,"Berlin Köpenick",-13.2,9.6,37,4,null,null,null,-13,null,null,2141,1822]
[null,738,12587,"Berlin Wiesengrund",-13.2,9.5,47,4,null,null,null,-13,null,null,2137,1819]
[null,739,12589,"Berlin Rahnsdorf",-13,9.5,54,4,null,null,null,-13,null,null,2139,1833]
[null,740,12619,"Berlin",-12,10,55,4,null,null,null,-12,null,null,2133,1896]
[null,741,12621,"Berlin Kaulsdorf",-12.4,9.9,36,4,null,null,null,-12,null,null,2132,1867]
[null,742,12623,"Berlin Mahlsdorf",-12.2,9.9,48,4,null,null,null,-12,null,null,2133,1882]
[null,743,12627,"Berlin Hellersdorf",-12.1,10.1,55,4,null,null,null,-12,null,null,2135,1891]
[null,744,12629,"Berlin",-12.2,9.9,52,4,null,null,null,-12,null,null,2135,1884]
[null,745,12679,"Berlin",-12.2,10,62,4,null,null,null,-12,null,null,2134,1883]
[null,746,12681,"Berlin",-12.1,10,56,4,null,null,null,-12,null,null,2128,1885]
[null,747,12683,"Berlin Biesdorf",-12.1,10,51,4,null,null,null,-12,null,null,2129,1885]
[null,748,12685,"Berlin",-12.2,10,61,4,null,null,null,-12,null,null,2133,1882]
[null,749,12687,"Berlin",-12.2,9.9,57,4,null,null,null,-12,null,null,2136,1885]
[null,750,12689,"Berlin",-12.2,10,62,4,null,null,null,-12,null,null,2138,1886]
[null,751,13051,"Berlin Neu-Schönhausen",-12.6,9.6999999999999993,46,4,null,null,null,-13,null,null,2139,1860]
[null,752,13053,"Berlin Alt-Hohenschönhausen",-12.1,10,59,4,null,null,null,-12,null,null,2128,1885]
[null,753,13055,"Berlin Alt-Hohenschönhausen",-12,10.1,53,4,null,null,null,-12,null,null,2124,1888]
[null,754,13057,"Berlin Falkenberg",-12.1,10,56,4,null,null,null,-12,null,null,2141,1896]
[null,755,13059,"Berlin Wartenberg",-12.6,9.6999999999999993,52,4,null,null,null,-13,null,null,2139,1860]
[null,756,13086,"Berlin Weißensee",-12.1,10,51,4,null,null,null,-12,null,null,2125,1882]
[null,757,13088,"Berlin Weißensee",-12.1,10,53,4,null,null,null,-12,null,null,2130,1886]
[null,758,13089,"Berlin Heinelsdorf",-12,10.199999999999999,51,4,null,null,null,-12,null,null,2130,1893]
[null,759,13125,"Berlin Buch",-12.8,9.6,50,4,null,null,null,-13,null,null,2159,1864]
[null,760,13127,"Berlin Französisch Buchholz",-12.8,9.6,49,4,null,null,null,-13,null,null,2141,1848]
[null,761,13129,"Berlin Blankenburg",-12.3,9.9,49,4,null,null,null,-12,null,null,2140,1881]
[null,762,13156,"Berlin Niederschönhausen",-11.9,10.199999999999999,48,4,null,null,null,-12,null,null,2129,1899]
[null,763,13158,"Berlin Rosenthal",-12.2,10,42,4,null,null,null,-12,null,null,2131,1880]
[null,764,13159,"Berlin Blankenfelde",-12.9,9.6,48,4,null,null,null,-13,null,null,2137,1838]
[null,765,13187,"Berlin Pankow",-11.8,10.3,46,4,null,null,null,-12,null,null,2125,1903]
[null,766,13189,"Berlin Pankow",-12,10.1,54,4,null,null,null,-12,null,null,2125,1889]
[null,767,13347,"Berlin Wedding",-11.3,10.7,44,4,null,null,null,-11,null,null,2121,1936]
[null,768,13349,"Berlin Wedding",-11.3,10.6,38,4,null,null,null,-11,null,null,2122,1936]
[null,769,13351,"Berlin Wedding",-12,10.3,36,4,null,null,null,-12,null,null,2122,1886]
[null,770,13353,"Berlin Wedding",-11.3,10.7,42,4,null,null,null,-11,null,null,2119,{"$f":"ROUND(O775*24/(15-E775),0)","v":1934}]
[null,771,13355,"Berlin Wedding",-11.8,10.4,46,4,null,null,null,-12,null,null,2117,1896]
[null,772,13357,"Berlin Gesundbrunnen",-11.2,10.8,43,4,null,null,null,-11,null,null,2120,1942]
[null,773,13359,"Berlin Gesundbrunnen",-11.3,10.7,48,4,null,null,null,-11,null,null,2123,1937]
[null,774,13403,"Berlin Reinickendorf",-11.9,10.3,38,4,null,null,null,-12,null,null,2125,1896]
[null,775,13405,"Berlin Wedding",-12.2,10,34,4,null,null,null,-12,null,null,2124,1874]
[null,776,13407,"Berlin-West",-11.8,10.4,41,4,null,null,null,-12,null,null,2125,1903]
[null,777,13409,"Berlin-West",-11.8,10.3,42,4,null,null,null,-12,null,null,2124,1902]
[null,778,13435,"Berlin Märkisches Viertel",-12.1,10.1,45,4,null,null,null,-12,null,null,2129,1885]
[null,779,13437,"Berlin Reinickendorf",-12,10.199999999999999,43,4,null,null,null,-12,null,null,2128,1892]
[null,780,13439,"Berlin Märkisches Viertel",-12,10.1,45,4,null,null,null,-12,null,null,2129,1892]
[null,781,13465,"Berlin Frohnau",-12.4,9.6999999999999993,56,4,null,null,null,-12,null,null,2131,1867]
[null,782,13467,"Berlin Hermsdorf",-12.2,10,45,4,null,null,null,-12,null,null,2130,1879]
[null,783,13469,"Berlin Lübars",-12.3,10,45,4,null,null,null,-12,null,null,2131,1873]
[null,784,13503,"Berlin Tegel",-12.5,9.8000000000000007,38,4,null,null,null,-13,null,null,2128,1857]
[null,785,13505,"Berlin Tegel",-12.8,9.6999999999999993,46,4,null,null,null,-13,null,null,2127,1836]
[null,786,13507,"Berlin Tegel",-12.3,10,33,4,null,null,null,-12,null,null,2126,1869]
[null,787,13509,"Berlin Reinickendorf",-12,10.199999999999999,38,4,null,null,null,-12,null,null,2127,1891]
[null,788,13581,"Berlin Spandau",-12.1,10.1,36,4,null,null,null,-12,null,null,2135,1891]
[null,789,13583,"Berlin Spandau",-12.1,10.1,38,4,null,null,null,-12,null,null,2134,1890]
[null,790,13585,"Berlin Spandau",-12,10.199999999999999,37,4,null,null,null,-12,null,null,2132,1895]
[null,791,13587,"Berlin Hakenfelde",-12.8,9.6999999999999993,45,4,null,null,null,-13,null,null,2127,1836]
[null,792,13589,"Berlin Falkenhagener Feld",-12.5,9.8000000000000007,42,4,null,null,null,-13,null,null,2134,1862]
[null,793,13591,"Berlin Staaken",-12.2,10,34,4,null,null,null,-12,null,null,2137,1886]
[null,794,13593,"Berlin Wilhelmstadt",-12.7,9.6,42,4,null,null,null,-13,null,null,2136,1851]
[null,795,13595,"Berlin Wlhelmstadt",-12.5,9.8000000000000007,28,4,null,null,null,-13,null,null,2135,1863]
[null,796,13597,"Berlin Spandau",-12.1,10.1,31,4,null,null,null,-12,null,null,2132,1888]
[null,797,13599,"Berlin Haselhorst",-12.1,10.1,33,4,null,null,null,-12,null,null,2126,1883]
[null,798,13627,"Berlin Charlottenburg-Nord",-12.1,10.199999999999999,34,4,null,null,null,-12,null,null,2123,1880]
[null,799,13629,"Berlin Siemensstadt",-12.4,9.9,35,4,null,null,null,-12,null,null,2125,1861]
[null,800,14050,"Berlin Westend",-12.1,10,62,4,null,null,null,-12,null,null,2125,1882]
[null,801,14052,"Berlin Westend",-12.2,9.8000000000000007,61,4,null,null,null,-12,null,null,2130,1879]
[null,802,14053,"Berlin Westend",-12.5,9.6,64,4,null,null,null,-13,null,null,2132,1861]
[null,803,14055,"Berlin Westend",-12.7,9.5,60,4,null,null,null,-13,null,null,2132,1847]
[null,804,14057,"Berlin Charlottenburg",-11.5,10.5,45,4,null,null,null,-12,null,null,2125,1925]
[null,805,14059,"Berlin Charlottenburg",-11.8,10.199999999999999,39,4,null,null,null,-12,null,null,2124,1902]
[null,806,14089,"Berlin Gatow",-12.6,9.6,46,4,null,null,null,-13,null,null,2142,1863]
[null,807,14109,"Berlin Wannsee",-12.6,9.5,61,4,null,null,null,-13,null,null,2151,1870]
[null,808,14129,"Berlin Nikolassee",-12.8,9.6,43,4,null,null,null,-13,null,null,2141,1848]
[null,809,14163,"Berlin Zehlendorf",-12.2,9.8000000000000007,44,4,null,null,null,-12,null,null,2140,1888]
[null,810,14165,"Berlin Zehlendorf",-12,9.9,41,4,null,null,null,-12,null,null,2138,1900]
[null,811,14167,"Berlin Zehlendorf",-12.2,9.8000000000000007,47,4,null,null,null,-12,null,null,2138,1886]
[null,812,14169,"Berlin Zehlendorf",-12.5,9.6,50,4,null,null,null,-13,null,null,2141,1869]
[null,813,14193,"Berlin Grunewald",-12.7,9.5,66,4,null,null,null,-13,null,null,2136,1851]
[null,814,14195,"Berlin Dahlem",-12.2,9.8000000000000007,53,4,null,null,null,-12,null,null,2146,1894]
[null,815,14197,"Berlin Wilmersdorf",-12,10,44,4,null,null,null,-12,null,null,2135,1898]
[null,816,14199,"Berlin Schmargendorf",-12,9.9,47,4,null,null,null,-12,null,null,2137,1900]
[null,817,14467,"Potsdam",-12.1,10,34,4,null,null,null,-12,null,null,2171,1923]
[null,818,14469,"Potsdam",-12.6,9.6,41,4,null,null,null,-13,null,null,2162,1880]
[null,819,14471,"Potsdam",-12.5,9.6,50,4,null,null,null,-13,null,null,2166,1890]
[null,820,14473,"Potsdam",-12.6,9.5,69,4,null,null,null,-13,null,null,2175,1891]
[null,821,14476,"Potsdam",-12.7,9.6999999999999993,32,4,null,null,null,-13,null,null,2171,1881]
[null,822,14478,"Potsdam",-12.4,9.8000000000000007,36,4,null,null,null,-12,null,null,2169,1900]
[null,823,14480,"Potsdam",-12.4,9.6999999999999993,34,4,null,null,null,-12,null,null,2158,1890]
[null,824,14482,"Potsdam",-12.2,9.9,39,4,null,null,null,-12,null,null,2165,1910]
[null,825,14513,"Teltow",-12.8,9.6,37,4,null,null,null,-13,null,null,2135,1843]
[null,826,14532,"Kleinmachnow",-12.8,9.6,40,4,null,null,null,-13,null,null,2144,1851]
[null,827,14542,"Werder/ Havel",-12.7,9.6999999999999993,29,4,null,null,null,-13,null,null,2172,1882]
[null,828,14547,"Beelitz",-12.9,9.6,39,4,null,null,null,-13,null,null,2198,1891]
[null,829,14548,"Schwielowswee",-12.8,9.6999999999999993,27,4,null,null,null,-13,null,null,2173,1876]
[null,830,14550,"Groß Kreutz",-12.9,9.6,38,4,null,null,null,-13,null,null,2155,1854]
[null,831,14552,"Michendorf",-12.8,9.6,42,4,null,null,null,-13,null,null,2157,1862]
[null,832,14554,"Seddinger See",-13,9.6,45,4,null,null,null,-13,null,null,2152,1845]
[null,833,14558,"Nuthetal",-12.9,9.6,32,4,null,null,null,-13,null,null,2153,1852]
[null,834,14612,"Falkensee",-12.2,10,33,4,null,null,null,-12,null,null,2167,{"$f":"ROUND(O839*24/(15-E839),0)","v":1912}]
[null,835,14621,"Schönwalde",-12.8,9.6,51,4,null,null,null,-13,null,null,2167,1871]
[null,836,14624,"Dallgow-Döberitz",-12.8,9.6,40,4,null,null,null,-13,null,null,2169,1873]
[null,837,14641,"Nauen",-12.6,9.6,37,4,null,null,null,-13,null,null,2164,1882]
[null,838,14656,"Brieselang",-12.8,9.6999999999999993,33,4,null,null,null,-13,null,null,2167,1871]
[null,839,14662,"Friesack",-13.2,9.4,32,4,null,null,null,-13,null,null,2195,1868]
[null,840,14669,"Ketzin",-12.8,9.6999999999999993,31,4,null,null,null,-13,null,null,2168,1872]
[null,841,14712,"Rathenow",-12.9,9.4,25,4,null,null,null,-13,null,null,2148,1848]
[null,842,14715,"Milower Land, Schollene, Nennhausen u.a.",-12.9,9.5,32,4,null,null,null,-13,null,null,2149,1849]
[null,843,14727,"Premnitz",-12.8,9.5,37,4,null,null,null,-13,null,null,2145,1852]
[null,844,14728,"Rhinow",-12.8,9.3000000000000007,58,4,null,null,null,-13,null,null,2209,1907]
[null,845,14770,"Brandenburg/ Havel",-12.4,9.9,30,4,null,null,null,-12,null,null,2134,1869]
[null,846,14772,"Brandenburg/ Havel",-12.9,9.5,39,4,null,null,null,-13,null,null,2137,1838]
[null,847,14774,"Brandenburg/ Havel",-13,9.5,27,4,null,null,null,-13,null,null,2128,1824]
[null,848,14776,"Brandenburg/ Havel",-12.9,9.6,26,4,null,null,null,-13,null,null,2137,1838]
[null,849,14778,"Beetzsee, Wollin, Wenzlow, Golzow u.a",-12.8,9.6,27,4,null,null,null,-13,null,null,2150,1856]
[null,850,14789,"Wusterwitz, Rosenau, Bensdorf",-13.1,9.4,31,4,null,null,null,-13,null,null,2128,1818]
[null,851,14793,"Ziesar",-13.2,9.3000000000000007,62,4,null,null,null,-13,null,null,2197,1870]
[null,852,14797,"Lehnin",-12.8,9.5,38,4,null,null,null,-13,null,null,2195,1895]
[null,853,14798,"Havelsee",-12.9,9.5,25,4,null,null,null,-13,null,null,2143,1843]
[null,854,14806,"Belzig",-13,9.1,122,4,null,null,null,-13,null,null,2241,1921]
[null,855,14822,"Brück, Borkheide u.a",-13,9.5,44,4,null,null,null,-13,null,null,2214,1898]
[null,856,14823,"Niemegk",-13,9.3000000000000007,101,4,null,null,null,-13,null,null,2256,1934]
[null,857,14827,"Wiesenburg",-13.1,8.9,156,4,null,null,null,-13,null,null,2290,1956]
[null,858,14828,"Görzke",-13.1,9.1,119,4,null,null,null,-13,null,null,2232,1906]
[null,859,14913,"Jüterbog",-13.5,9.5,75,4,null,null,null,-14,null,null,2256,1900]
[null,860,14929,"Treuenbrietzen",-13.2,9.4,85,4,null,null,null,-13,null,null,2253,1917]
[null,861,14943,"Luckenwalde",-13,9.6999999999999993,66,4,null,null,null,-13,null,null,2233,1914]
[null,862,14947,"Nuthe-Urstromtal",-14.1,9.5,44,4,null,null,null,-14,null,null,2246,1852]
[null,863,14959,"Trebbin",-13.2,9.6,34,4,null,null,null,-13,null,null,2191,1865]
[null,864,14974,"Ludwigsfelde",-13,9.5,43,4,null,null,null,-13,null,null,2172,1862]
[null,865,14979,"Großbeeren",-13,9.6,37,4,null,null,null,-13,null,null,2131,1827]
[null,866,15230,"Frankfurt/ Oder",-13.7,9.6,39,4,null,null,null,-14,null,null,2231,1866]
[null,867,15232,"Frankfurt/ Oder",-13.8,9.5,77,4,null,null,null,-14,null,null,2231,1859]
[null,868,15234,"Frankfurt/ Oder",-14.1,9.3000000000000007,92,4,null,null,null,-14,null,null,2232,1841]
[null,869,15236,"Treplin, Jacobsdorf, Frankfurt (Oder)",-13.9,9.4,92,4,null,null,null,-14,null,null,2239,1859]
[null,870,15295,"Brieskow-Finkenheerd",-14.3,9.5,20,4,null,null,null,-14,null,null,2247,1841]
[null,871,15299,"Müllrose",-13.8,9.5,64,4,null,null,null,-14,null,null,2242,1868]
[null,872,15306,"Seelow, Lietzen u.a.",-13.9,9.3000000000000007,49,4,null,null,null,-14,null,null,2234,1855]
[null,873,15320,"Neutrebbin, Neuhardenberg",-13.7,9.4,17,4,null,null,null,-14,null,null,2259,1889]
[null,874,15324,"Letschin",-13.7,9.5,4,4,null,null,null,-14,null,null,2249,1881]
[null,875,15326,"Zeschdorf, Podelzig, Lebus",-14.1,9.3000000000000007,49,4,null,null,null,-14,null,null,2227,1837]
[null,876,15328,"Golzow, Zechin u.a.",-13.8,9.4,9,4,null,null,null,-14,null,null,2217,1848]
[null,877,15344,"Strausberg",-12.8,9.4,74,4,null,null,null,-13,null,null,2253,1945]
[null,878,15345,"Lichtenow, Altlandsberg u.a.",-12.8,9.5,74,4,null,null,null,-13,null,null,2263,1954]
[null,879,15366,"Neuenhagen, Hoppegarten",-12.3,9.6999999999999993,56,4,null,null,null,-12,null,null,2136,1878]
[null,880,15370,"Fredersdorf-Vogelsdorf, Petershagen",-12.6,9.6,51,4,null,null,null,-13,null,null,2209,1921]
[null,881,15374,"Müncheberg",-13.6,9.5,57,4,null,null,null,-14,null,null,2264,1900]
[null,882,15377,"Oberbarnim, Märkische Höhe u.a.",-13.4,9.3000000000000007,98,4,null,null,null,-13,null,null,2266,1915]
[null,883,15378,"Rüdersdorf",-13.1,9.5,46,4,null,null,null,-13,null,null,2248,1920]
[null,884,15517,"Fürstenwalde/ Spree",-12.4,9.9,41,4,null,null,null,-12,null,null,2236,1959]
[null,885,15518,"Briesen, Rauen u.a.",-13.5,9.5,53,4,null,null,null,-14,null,null,2242,1888]
[null,886,15526,"Bad Saarow-Pieskow",-13.3,9.6,58,4,null,null,null,-13,null,null,2229,1890]
[null,887,15528,"Spreenhagen",-13,9.6,39,4,null,null,null,-13,null,null,2226,1908]
[null,888,15537,"Erkner",-13,9.5,53,4,null,null,null,-13,null,null,2225,1907]
[null,889,15562,"Rüdersdorf",-12.8,9.4,81,4,null,null,null,-13,null,null,2204,1903]
[null,890,15566,"Schöneiche bei Berlin",-13.1,9.5,46,4,null,null,null,-13,null,null,2137,1825]
[null,891,15569,"Woltersdorf",-13,9.5,51,4,null,null,null,-13,null,null,2138,1833]
[null,892,15711,"Königs Wusterhausen",-12.6,9.6999999999999993,40,4,null,null,null,-13,null,null,2160,1878]
[null,893,15712,"Königs Wusterhausen",-13.2,9.6,32,4,null,null,null,-13,null,null,2159,1837]
[null,894,15713,"Königs Wusterhausen",-13.2,9.5,45,4,null,null,null,-13,null,null,2142,1823]
[null,895,15732,"Schulzendorf b. Eichenwade",-12.6,9.8000000000000007,39,4,null,null,null,-13,null,null,2152,1871]
[null,896,15738,"Zeuthen",-12.6,9.6999999999999993,36,4,null,null,null,-13,null,null,2148,1868]
[null,897,15741,"Bestensee",-13.7,9.5,35,4,null,null,null,-14,null,null,2168,1813]
[null,898,15745,"Wildau",-12.6,9.6999999999999993,59,4,null,null,null,-13,null,null,2145,{"$f":"ROUND(O903*24/(15-E903),0)","v":1865}]
[null,899,15746,"Groß Köris",-14.1,9.5,42,4,null,null,null,-14,null,null,2210,1823]
[null,900,15748,"Märkisch Buchholz",-13.7,9.5,47,4,null,null,null,-14,null,null,2223,1859]
[null,901,15749,"Mittenwalde",-13.2,9.5,35,4,null,null,null,-13,null,null,2160,1838]
[null,902,15754,"Heidesee",-13.3,9.6,34,4,null,null,null,-13,null,null,2210,1874]
[null,903,15755,"Teupitz",-14.3,9.5,43,4,null,null,null,-14,null,null,2216,1815]
[null,904,15757,"Halbe",-14,9.5,43,4,null,null,null,-14,null,null,2223,1840]
[null,905,15806,"Zossen",-13.8,9.5,44,4,null,null,null,-14,null,null,2179,1816]
[null,906,15827,"Blankenfelde-Mahlow",-13.2,9.5,46,4,null,null,null,-13,null,null,2137,1819]
[null,907,15831,"Blankenfelde-Mahlow u.a.",-13.2,9.5,43,4,null,null,null,-13,null,null,2134,1816]
[null,908,15834,"Rangsdorf",-13.2,9.5,38,4,null,null,null,-13,null,null,2139,1820]
[null,909,15837,"Baruth",-14.1,9.3000000000000007,85,4,null,null,null,-14,null,null,2233,1842]
[null,910,15838,"Am Mellensee",-14.2,9.4,54,4,null,null,null,-14,null,null,2226,1830]
[null,911,15848,"Beeskow",-13.5,9.6,49,4,null,null,null,-14,null,null,2231,1879]
[null,912,15859,"Storkow",-13.2,9.6,38,4,null,null,null,-13,null,null,2210,1881]
[null,913,15864,"Wendisch Rietz",-13.2,9.6,53,4,null,null,null,-13,null,null,2231,1899]
[null,914,15868,"Lieberose",-13.9,9.5,78,4,null,null,null,-14,null,null,2226,1849]
[null,915,15890,"Eisenhüttenstadt",-13.9,9.4,107,4,null,null,null,-14,null,null,2250,1869]
[null,916,15898,"Neuzelle",-14.1,9.4,87,4,null,null,null,-14,null,null,2259,1863]
[null,917,15907,"Lübben/ Spreewald",-13.8,9.6,53,4,null,null,null,-14,null,null,2210,1842]
[null,918,15910,"Schönwalde",-14,9.4,72,4,null,null,null,-14,null,null,2219,1836]
[null,919,15913,"Straupitz",-13.8,9.6,64,4,null,null,null,-14,null,null,2203,1836]
[null,920,15926,"Luckau, Waldrehna, Heideblick, Fürstlich Drehna",-14,9.5,67,4,null,null,null,-14,null,null,2216,1834]
[null,921,15936,"Dahme u.a.",-13.7,9.4,92,4,null,null,null,-14,null,null,2245,1877]
[null,922,15938,"Golßen",-14.2,9.4,63,4,null,null,null,-14,null,null,2221,1825]
[null,923,16225,"Eberswalde",-13.5,9.4,31,4,null,null,null,-14,null,null,2270,1912]
[null,924,16227,"Eberswalde",-13.3,9.5,24,4,null,null,null,-13,null,null,2262,1918]
[null,925,16230,"Melchow, Chorin u.a.",-13.6,9.4,15,4,null,null,null,-14,null,null,2267,1902]
[null,926,16244,"Schorfheide",-13.3,9.1999999999999993,66,4,null,null,null,-13,null,null,2291,1943]
[null,927,16247,"Joachimsthal u.a.",-14,9.1,60,4,null,null,null,-14,null,null,2288,1894]
[null,928,16248,"Oderberg u.a.",-14.1,9,100,4,null,null,null,-14,null,null,2284,1884]
[null,929,16259,"Bad Freienwalde u.a.",-13.5,9.1999999999999993,105,4,null,null,null,-14,null,null,2287,1926]
[null,930,16269,"Wriezen",-13.6,9.4,34,4,null,null,null,-14,null,null,2284,1917]
[null,931,16278,"Angermünde",-14.4,9.1999999999999993,46,4,null,null,null,-14,null,null,2282,1863]
[null,932,16303,"Schwedt",-14.1,9.4,11,4,null,null,null,-14,null,null,2313,1908]
[null,933,16306,"Biesendahlshof, Berkholz-Meyenburg",-14.2,9.1,33,4,null,null,null,-14,null,null,2321,1908]
[null,934,16307,"Gartz (Oder)",-14.1,9,47,2,null,null,null,-14,null,null,2330,1922]
[null,935,16321,"Bernau",-12.6,9.6,72,4,null,null,null,-13,null,null,2179,1895]
[null,936,16341,"Panketal",-12.6,9.6,75,4,null,null,null,-13,null,null,2166,1883]
[null,937,16348,"Wandlitz",-12.7,9.5,62,4,null,null,null,-13,null,null,2243,1943]
[null,938,16356,"Werneuchen",-12.9,9.4,74,4,null,null,null,-13,null,null,2196,1889]
[null,939,16359,"Biesenthal",-12.9,9.5,52,4,null,null,null,-13,null,null,2250,1935]
[null,940,16515,"Oranienburg, Mühlenbecker Land",-12.7,9.6,51,4,null,null,null,-13,null,null,2190,1897]
[null,941,16540,"Hohen Neuendorf",-12.7,9.6,55,4,null,null,null,-13,null,null,2131,1846]
[null,942,16547,"Birkenwerder",-12.7,9.6,47,4,null,null,null,-13,null,null,2169,1879]
[null,943,16548,"Glienicke/Nordbahn",-12.3,9.8000000000000007,42,4,null,null,null,-12,null,null,2132,1874]
[null,944,16552,"Mühlenbecker Land",-12.8,9.6999999999999993,42,4,null,null,null,-13,null,null,2136,1844]
[null,945,16556,"Borgsdorf",-12.5,9.6999999999999993,41,4,null,null,null,-13,null,null,2172,1896]
[null,946,16559,"Liebenwalde",-12.7,9.5,41,4,null,null,null,-13,null,null,2260,1958]
[null,947,16562,"Hohen Neuendorf OT Bergfelde",-12.8,9.5,60,4,null,null,null,-13,null,null,2134,1842]
[null,948,16567,"Mühlenbecker Land",-12.8,9.6,50,4,null,null,null,-13,null,null,2137,1845]
[null,949,16727,"Velten, Oberkrämer",-12.8,9.5,53,4,null,null,null,-13,null,null,2162,1866]
[null,950,16761,"Hennigsdorf",-12.4,9.8000000000000007,31,4,null,null,null,-12,null,null,2129,1865]
[null,951,16766,"Kremmen",-13,9.5,31,4,null,null,null,-13,null,null,2222,1905]
[null,952,16767,"Leegebruch",-12.7,9.6999999999999993,32,4,null,null,null,-13,null,null,2203,1909]
[null,953,16775,"Gransee, Löwenberg",-13.2,9.3000000000000007,63,4,null,null,null,-13,null,null,2332,1985]
[null,954,16792,"Zehdenick",-12.8,9.4,45,4,null,null,null,-13,null,null,2316,1999]
[null,955,16798,"Fürstenberg",-13.3,9.1,54,4,null,null,null,-13,null,null,2364,2005]
[null,956,16816,"Neuruppin",-13,9.4,39,4,null,null,null,-13,null,null,2268,1944]
[null,957,16818,"Fehrbellin, Temnitzquell, Märkisch Linden u.a.",-13.1,9.4,42,4,null,null,null,-13,null,null,2267,1936]
[null,958,16827,"Neuruppin",-13.3,9.3000000000000007,56,4,null,null,null,-13,null,null,2289,1941]
[null,959,16831,"Rheinsberg",-13,9.1999999999999993,60,4,null,null,null,-13,null,null,2345,2010]
[null,960,16833,"Fehrbellin",-13.2,9.4,40,4,null,null,null,-13,null,null,2192,1866]
[null,961,16835,"Lindow u.a.",-13.2,9.3000000000000007,56,4,null,null,null,-13,null,null,2311,1967]
[null,962,16837,"Rheinsberg",-13,9.1,92,4,null,null,null,-13,null,null,2335,{"$f":"ROUND(O967*24/(15-E967),0)","v":2001}]
[null,963,16845,"Neustadt (Dosse) u.a.",-13,9.3000000000000007,38,4,null,null,null,-13,null,null,2224,1906]
[null,964,16866,"Kyritz u.a.",-12.9,9.1999999999999993,53,4,null,null,null,-13,null,null,2252,1937]
[null,965,16868,"Wusterhausen",-13,9.3000000000000007,34,4,null,null,null,-13,null,null,2255,1933]
[null,966,16909,"Wittstock/Dosse, Heiligengrabe",-13,9.1999999999999993,71,4,null,null,null,-13,null,null,2316,1985]
[null,967,16928,"Pritzwalk, Groß Pankow",-12.7,9.1,98,4,null,null,null,-13,null,null,2279,1975]
[null,968,16945,"Meyenburg, Kümmernitztal u.a.",-12.5,9.1,84,4,null,null,null,-13,null,null,2287,1996]
[null,969,16949,"Triglitz, Putlitz",-12.7,9.1999999999999993,56,4,null,null,null,-13,null,null,2279,1975]
[null,970,17033,"Neubrandenburg",-13.2,9.3000000000000007,15,4,null,null,null,-13,null,null,2299,1957]
[null,971,17034,"Neubrandenburg",-12.7,9.6999999999999993,12,4,null,null,null,-13,null,null,2282,1977]
[null,972,17036,"Neubrandenburg",-13,9.1,65,4,null,null,null,-13,null,null,2303,1974]
[null,973,17039,"Sponholz, Neunkirchen u.a.",-13,9.1999999999999993,61,4,null,null,null,-13,null,null,2292,1965]
[null,974,17087,"Altentreptow",-13.1,9.1999999999999993,42,4,null,null,null,-13,null,null,2304,1968]
[null,975,17089,"Burow",-13.1,9.1999999999999993,35,4,null,null,null,-13,null,null,2270,1939]
[null,976,17091,"Rosenow",-13.1,9.1999999999999993,49,4,null,null,null,-13,null,null,2258,1929]
[null,977,17094,"Cölpin",-13.2,9,90,4,null,null,null,-13,null,null,2349,1999]
[null,978,17098,"Friedland",-13.2,9.3000000000000007,16,4,null,null,null,-13,null,null,2280,1940]
[null,979,17099,"Friedland, Galenbeck, Datzetal",-13.3,9.1999999999999993,19,4,null,null,null,-13,null,null,2282,1935]
[null,980,17109,"Demmin",-12.5,9.1999999999999993,13,4,null,null,null,-13,null,null,2312,2018]
[null,981,17111,"Demmin u.a.",-12.7,9.1999999999999993,23,4,null,null,null,-13,null,null,2288,1982]
[null,982,17121,"Loitz",-11.8,9,5,4,null,null,null,-12,null,null,2303,2062]
[null,983,17126,"Jarmen",-12.1,9.1,4,4,null,null,null,-12,null,null,2269,2009]
[null,984,17129,"Bentzin",-12.5,9.1,19,4,null,null,null,-13,null,null,2269,1980]
[null,985,17139,"Malchin",-12.5,9.4,3,4,null,null,null,-13,null,null,2273,1984]
[null,986,17153,"Stavenhagen",-12.7,9.1,71,4,null,null,null,-13,null,null,2258,1956]
[null,987,17154,"Neukalen",-12.4,9.3000000000000007,-2,4,null,null,null,-12,null,null,2281,1998]
[null,988,17159,"Dargun",-12.4,9.1999999999999993,12,4,null,null,null,-12,null,null,2312,2025]
[null,989,17166,"Dahmen, Groß Wokern, Teterow",-12.3,9.1,46,4,null,null,null,-12,null,null,2263,1989]
[null,990,17168,"Jördenstorf, Prebberede u.a.",-12.3,9,37,4,null,null,null,-12,null,null,2285,2009]
[null,991,17179,"Gnoien u.a.",-12.1,9.1,17,4,null,null,null,-12,null,null,2312,2048]
[null,992,17192,"Waren/ Müritz",-12.3,9.1999999999999993,72,4,null,null,null,-12,null,null,2264,1990]
[null,993,17194,"Grabowhöfe, Moltzow u.a.",-12.5,9.1999999999999993,69,4,null,null,null,-13,null,null,2260,1972]
[null,994,17207,"Röbel/ Müritz",-12.6,9.1999999999999993,71,4,null,null,null,-13,null,null,2280,1983]
[null,995,17209,"Wredenhagen",-12.7,9.1,74,4,null,null,null,-13,null,null,2293,1987]
[null,996,17213,"Malchow u.a.",-12.5,9.1999999999999993,65,4,null,null,null,-13,null,null,2280,1990]
[null,997,17214,"Nossentiner Hütte",-12.5,9.1,80,4,null,null,null,-13,null,null,2264,1976]
[null,998,17217,"Penzlin",-13.1,9.1,48,4,null,null,null,-13,null,null,2307,1970]
[null,999,17219,"Möllenhagen",-12.6,9,99,4,null,null,null,-13,null,null,2257,1963]
[null,1000,17235,"Neustrelitz",-13.1,9.1,59,4,null,null,null,-13,null,null,2370,2024]
[null,1001,17237,"Möllenbeck",-13,8.9,106,4,null,null,null,-13,null,null,2373,2034]
[null,1002,17248,"Rechlin",-12.7,9.1,78,4,null,null,null,-13,null,null,2310,2001]
[null,1003,17252,"Mirow",-12.8,9.1,80,4,null,null,null,-13,null,null,2325,2007]
[null,1004,17255,"Wesenberg",-13,9.1999999999999993,53,4,null,null,null,-13,null,null,2372,2033]
[null,1005,17258,"Feldberger Seenlandschaft",-13.2,8.8000000000000007,129,4,null,null,null,-13,null,null,2403,2045]
[null,1006,17268,"Templin, Boitzenburg u.a.",-13.9,8.9,79,4,null,null,null,-14,null,null,2333,1937]
[null,1007,17279,"Lychen",-13.6,9,54,4,null,null,null,-14,null,null,2374,1992]
[null,1008,17291,"Prenzlau u.a.",-14.2,9.1999999999999993,22,4,null,null,null,-14,null,null,2332,1917]
[null,1009,17309,"Pasewalk u.a.",-13.8,9.1999999999999993,6,2,null,null,null,-14,null,null,2323,1936]
[null,1010,17321,"Löcknitz, Rothenklempenow",-13.7,9.1,13,2,null,null,null,-14,null,null,2335,1953]
[null,1011,17322,"Blankensee, Grambow u.a.",-13.8,9.1999999999999993,13,2,null,null,null,-14,null,null,2324,1937]
[null,1012,17326,"Brüssow",-14.1,9.1,34,2,null,null,null,-14,null,null,2332,1923]
[null,1013,17328,"Penkun u.a.",-14.2,9.1,33,2,null,null,null,-14,null,null,2330,1915]
[null,1014,17329,"Nadrensee u.a.",-13.9,9,43,2,null,null,null,-14,null,null,2338,1942]
[null,1015,17335,"Strasburg",-13.8,9,64,4,null,null,null,-14,null,null,2300,1917]
[null,1016,17337,"Uckerland, Groß Luckow, Schönhausen",-13.9,8.9,75,4,null,null,null,-14,null,null,2343,1946]
[null,1017,17348,"Woldegk",-13.3,8.9,107,4,null,null,null,-13,null,null,2356,1998]
[null,1018,17349,"Groß Miltzow",-13.3,9,81,4,null,null,null,-13,null,null,2326,1973]
[null,1019,17358,"Torgelow",-13.2,9.1,3,2,null,null,null,-13,null,null,2298,1956]
[null,1020,17367,"Eggesin",-13.2,9,18,2,null,null,null,-13,null,null,2299,1957]
[null,1021,17373,"Ueckermünde",-13.4,9,-2,2,null,null,null,-13,null,null,2285,1931]
[null,1022,17375,"Vogelsang-Warsin, Meiersberg, Mönkebude u.a.",-13.3,9,0,2,null,null,null,-13,null,null,2310,1959]
[null,1023,17379,"Ferdinandshof u.a.",-13.2,9.1,3,2,null,null,null,-13,null,null,2298,1956]
[null,1024,17389,"Anklam",-12.4,9.1,7,2,null,null,null,-12,null,null,2295,2010]
[null,1025,17390,"Klein Bünzow",-12.3,8.9,25,2,null,null,null,-12,null,null,2297,2019]
[null,1026,17391,"Krien u.a.",-12.8,9.1999999999999993,9,2,null,null,null,-13,null,null,2275,{"$f":"ROUND(O1031*24/(15-E1031),0)","v":1964}]
[null,1027,17392,"Spantekow",-13.2,9.1999999999999993,20,4,null,null,null,-13,null,null,2285,1945]
[null,1028,17398,"Ducherow",-12.9,9.1,3,2,null,null,null,-13,null,null,2298,1977]
[null,1029,17406,"Usedom u.a.",-12.4,9,10,2,null,null,null,-12,null,null,2303,2017]
[null,1030,17419,"Seebad Ahlbeck",-11.8,9,-3,2,null,null,null,-12,null,null,2301,2061]
[null,1031,17424,"Ostseebad Heringsdorf",-11.5,9,0,2,null,null,null,-12,null,null,2305,2088]
[null,1032,17429,"Benz, Heringsdorf u.a.",-11.8,8.8000000000000007,29,2,null,null,null,-12,null,null,2306,2065]
[null,1033,17438,"Wolgast",-11.6,8.8000000000000007,26,2,null,null,null,-12,null,null,2309,2083]
[null,1034,17440,"Kröslin, Krummin, Lassan u.a.",-11.5,9,1,2,2,null,null,-12,null,null,2311,2093]
[null,1035,17449,"Karlshagen",-11.3,9,-1,2,null,null,null,-11,null,null,2329,2125]
[null,1036,17454,"Zinnowitz",-11.5,9,-4,2,null,null,null,-12,null,null,2309,2091]
[null,1037,17459,"Koserow",-11.4,9,2,2,null,null,null,-11,null,null,2295,2086]
[null,1038,17489,"Greifswald",-11.5,9,-1,2,null,null,null,-12,null,null,2266,2052]
[null,1039,17491,"Greifswald",-11.5,9,7,2,null,null,null,-12,null,null,2264,2050]
[null,1040,17493,"Greifswald",-11.8,9,-1,2,null,null,null,-12,null,null,2269,2032]
[null,1041,17495,"Karlsburg",-11.7,8.8000000000000007,42,2,null,null,null,-12,null,null,2291,2059]
[null,1042,17498,"Neuenkirchen",-11.5,9,4,2,null,null,null,-12,null,null,2277,2062]
[null,1043,17506,"Gützkow",-12.1,8.9,21,2,null,null,null,-12,null,null,2287,2025]
[null,1044,17509,"Lubmin",-11.4,8.9,6,2,null,null,null,-11,null,null,2296,2087]
[null,1045,18055,"Rostock",-10.7,9.3000000000000007,0,2,null,null,null,-11,null,null,2236,2088]
[null,1046,18057,"Rostock",-10.199999999999999,9.8000000000000007,15,2,null,null,null,-10,null,null,2206,2101]
[null,1047,18059,"Rostock, Papendorf u.a.",-11.8,9,31,2,null,null,null,-12,null,null,2234,2001]
[null,1048,18069,"Rostock, Lambrechtshagen",-10.4,9.1999999999999993,18,2,null,null,null,-10,null,null,2189,2068]
[null,1049,18106,"Rostock",-10,9.5,5,2,null,null,null,-10,null,null,2174,2087]
[null,1050,18107,"Elmenhorst/Lichtenhagen, Rostock",-10.1,9.4,7,2,null,null,null,-10,null,null,2161,2066]
[null,1051,18109,"Rostock",-10,9.6,5,2,null,null,null,-10,null,null,2141,2055]
[null,1052,18119,"Rostock",-10.199999999999999,9.5,2,2,null,null,null,-10,null,null,2117,2016]
[null,1053,18146,"Rostock",-10.3,9.3000000000000007,4,2,null,null,null,-10,null,null,2181,2069]
[null,1054,18147,"Rostock",-10.199999999999999,9.4,2,2,null,null,null,-10,null,null,2184,2080]
[null,1055,18181,"Rostock, Graal-Müritz",-10.199999999999999,9.4,0,2,null,null,null,-10,null,null,2207,2102]
[null,1056,18182,"Rostock, Gelbensande, Rövershagen u.a.",-10.8,9.1,19,2,null,null,null,-11,null,null,2229,2073]
[null,1057,18184,"Roggentin, Broderstorf u.a.",-11.6,9,33,2,null,null,null,-12,null,null,2279,2056]
[null,1058,18190,"Sanitz",-12,8.9,40,2,null,null,null,-12,null,null,2288,2034]
[null,1059,18195,"Tessin, Grammow u.a.",-12,9,30,2,null,null,null,-12,null,null,2315,2058]
[null,1060,18196,"Dummerstorf",-12,8.9,45,4,null,null,null,-12,null,null,2268,2016]
[null,1061,18198,"Stäbelow, Kritzmow",-11.5,9,41,2,null,null,null,-12,null,null,2213,2004]
[null,1062,18209,"Bad Doberan, Bartenshagen-Parkentin u.a.",-10.199999999999999,9.1,52,2,null,null,null,-10,null,null,2170,2067]
[null,1063,18211,"Retschow, Admannshagen-Bargeshagen u.a.",-10.199999999999999,9.3000000000000007,11,2,null,null,null,-10,null,null,2181,2077]
[null,1064,18225,"Kühlungsborn",-9.5,9.3000000000000007,18,2,null,null,null,-10,null,null,2171,2127]
[null,1065,18230,"Rerik, Bastorf, Biendorf",-10,9.1,28,2,null,null,null,-10,null,null,2149,2063]
[null,1066,18233,"Neubukow, Ravensberg, Westenbrügge u.a.",-10.9,9.1999999999999993,25,2,null,null,null,-11,null,null,2152,1994]
[null,1067,18236,"Kröpelin, Carinerland",-10.9,9.1,33,2,null,null,null,-11,null,null,2175,2015]
[null,1068,18239,"Satow",-11.5,9,43,2,null,null,null,-12,null,null,2222,2012]
[null,1069,18246,"Bützow u.a.",-11.8,9,33,4,null,null,null,-12,null,null,2292,2053]
[null,1070,18249,"Bernitt, Qualitz, Warnow, Zernin u.a.",-11.8,9.1999999999999993,17,4,null,null,null,-12,null,null,2289,2050]
[null,1071,18258,"Schwaan u.a.",-12,9.1,14,4,null,null,null,-12,null,null,2251,2001]
[null,1072,18273,"Güstrow",-12.1,9.1999999999999993,6,4,null,null,null,-12,null,null,2278,2017]
[null,1073,18276,"Reimershagen, Lohmen, Zehna, Hägerfelde u.a.",-12,9.1,28,4,null,null,null,-12,null,null,2275,2022]
[null,1074,18279,"Lalendorf, Langhagen",-12.2,9.1,33,4,null,null,null,-12,null,null,2272,2005]
[null,1075,18292,"Krakow, Dobbin-Linstow u.a.",-12.1,9.1,46,4,null,null,null,-12,null,null,2265,2006]
[null,1076,18299,"Laage, Wardow u.a.",-12,9.1,9,4,null,null,null,-12,null,null,2291,2036]
[null,1077,18311,"Ribnitz-Damgarten",-11.2,9.1,8,2,null,null,null,-11,null,null,2247,2058]
[null,1078,18314,"Löbnitz",-12,8.9,4,2,null,null,null,-12,null,null,2316,2059]
[null,1079,18317,"Saal",-11.6,8.9,7,2,null,null,null,-12,null,null,2317,2091]
[null,1080,18320,"Ahrenshagen-Daskow, Trinwillershagen u.a.",-11.8,8.8000000000000007,19,2,null,null,null,-12,null,null,2319,2077]
[null,1081,18334,"Bad Sülze",-11.6,9.1,-2,2,null,null,null,-12,null,null,2325,2098]
[null,1082,18337,"Marlow",-11.3,8.9,36,2,null,null,null,-11,null,null,2321,2118]
[null,1083,18347,"Dierhagen",-9.9,9.3000000000000007,-2,2,null,null,null,-10,null,null,2235,2154]
[null,1084,18356,"Barth",-12,8.8000000000000007,13,2,null,null,null,-12,null,null,2316,2059]
[null,1085,18374,"Zingst a. Darß",-10.9,9,7,2,null,null,null,-11,null,null,2293,2125]
[null,1086,18375,"Prerow a. Darß",-11.7,8.8000000000000007,15,2,null,null,null,-12,null,null,2320,2085]
[null,1087,18435,"Stralsund",-10.8,8.9,14,2,2,null,null,-11,null,null,2309,2148]
[null,1088,18437,"Stralsund",-10.7,9.1,8,2,null,null,null,-11,null,null,2320,2167]
[null,1089,18439,"Stralsund",-10.8,8.9,14,2,null,null,null,-11,null,null,2339,2176]
[null,1090,18442,"Niepars",-11.5,8.8000000000000007,18,2,null,null,null,-12,null,null,2336,{"$f":"ROUND(O1095*24/(15-E1095),0)","v":2116}]
[null,1091,18445,"Prohn",-11.3,8.8000000000000007,8,2,null,null,null,-11,null,null,2294,2093]
[null,1092,18461,"Franzburg, Richtenberg, u.a.",-11.6,8.8000000000000007,27,2,null,null,null,-12,null,null,2332,2104]
[null,1093,18465,"Tribsees",-11.8,8.9,11,4,null,null,null,-12,null,null,2331,2087]
[null,1094,18469,"Velgast",-11.8,8.8000000000000007,15,2,null,null,null,-12,null,null,2327,2084]
[null,1095,18507,"Grimmen",-11.6,9,6,2,null,null,null,-12,null,null,2319,2092]
[null,1096,18510,"Wittenhagen",-11.5,8.8000000000000007,20,2,null,null,null,-12,null,null,2338,2117]
[null,1097,18513,"Glewitz",-11.8,9,2,4,null,null,null,-12,null,null,2322,2079]
[null,1098,18516,"Rakow",-11.7,8.9,13,2,null,null,null,-12,null,null,2308,2075]
[null,1099,18519,"Miltzow u.a.",-10.8,8.8000000000000007,25,2,null,null,null,-11,null,null,2313,2152]
[null,1100,18528,"Bergen/ Rügen",-9.6,8.8000000000000007,28,2,null,null,null,-10,null,null,2292,2236]
[null,1101,18546,"Sassnitz",-9.5,8.5,108,2,null,null,null,-10,null,null,2286,2239]
[null,1102,18551,"Sagard",-8.6,8.6999999999999993,44,2,null,null,null,-9,null,null,2278,2317]
[null,1103,18556,"Dranske",-7.9,9,4,2,null,null,null,-8,null,null,2263,2372]
[null,1104,18565,"Hiddensee",-8.9,9,0,2,null,null,null,-9,null,null,2214,2223]
[null,1105,18569,"Gingst",-9.5,8.9,12,2,null,null,null,-10,null,null,2268,2222]
[null,1106,18573,"Samtens",-10.5,8.9,1,2,null,null,null,-11,null,null,2302,2167]
[null,1107,18574,"Garz/ Rügen",-10.3,8.9,16,2,null,null,null,-10,null,null,2315,2196]
[null,1108,18581,"Putbus",-10.199999999999999,8.6999999999999993,50,2,null,null,null,-10,null,null,2328,2217]
[null,1109,18586,"Sellin",-9.4,8.8000000000000007,28,2,2,null,null,-9,null,null,2299,2261]
[null,1110,18609,"Binz",-9.3000000000000007,8.9,3,2,null,null,null,-9,null,null,2297,2269]
[null,1111,19053,"Schwerin",-10.8,9.6,65,4,null,null,null,-11,null,null,2208,2054]
[null,1112,19055,"Schwerin",-11.3,9.3000000000000007,42,4,null,null,null,-11,null,null,2206,2013]
[null,1113,19057,"Schwerin",-11.3,9.3000000000000007,48,4,null,null,null,-11,null,null,2207,2014]
[null,1114,19059,"Schwerin",-11.2,9.4,43,4,null,null,null,-11,null,null,2211,2025]
[null,1115,19061,"Schwerin",-11.3,9.1999999999999993,57,4,null,null,null,-11,null,null,2211,2018]
[null,1116,19063,"Schwerin",-11.4,9.3000000000000007,35,4,null,null,null,-11,null,null,2212,2011]
[null,1117,19065,"Pinnow",-11.5,9.1999999999999993,63,4,null,null,null,-12,null,null,2232,2021]
[null,1118,19067,"Leezen",-11.4,9.1999999999999993,50,2,null,null,null,-11,null,null,2196,1996]
[null,1119,19069,"Lübstorf",-11.3,9.1999999999999993,51,4,null,null,null,-11,null,null,2198,2006]
[null,1120,19071,"Brüsewitz",-11.3,9.1999999999999993,60,4,null,null,null,-11,null,null,2200,2008]
[null,1121,19073,"Wittenförden u.a.",-11.3,9.1999999999999993,50,3,null,null,null,-11,null,null,2210,2017]
[null,1122,19075,"Pampow",-11.3,9.3000000000000007,39,4,null,null,null,-11,null,null,2223,2029]
[null,1123,19077,"Rastow",-11.6,9.1999999999999993,52,4,null,null,null,-12,null,null,2219,2002]
[null,1124,19079,"Banzkow, Sukow",-11.6,9.3000000000000007,36,4,null,null,null,-12,null,null,2239,2020]
[null,1125,19086,"Plate",-11.5,9.1999999999999993,55,4,null,null,null,-12,null,null,2233,2022]
[null,1126,19089,"Crivitz",-11.8,9,88,4,null,null,null,-12,null,null,2246,2011]
[null,1127,19205,"Gadebusch",-11.1,9.1999999999999993,42,2,null,null,null,-11,null,null,2216,2038]
[null,1128,19209,"Lützow",-11.3,9.1,69,3,null,null,null,-11,null,null,2215,2021]
[null,1129,19217,"Rehna, Carlow u.a.",-11.2,9,48,2,null,null,null,-11,null,null,2217,2031]
[null,1130,19230,"Hagenow u.a.",-11.4,9.3000000000000007,34,3,null,null,null,-11,null,null,2217,2015]
[null,1131,19243,"Wittenburg u.a.",-11.1,9.3000000000000007,37,3,null,null,null,-11,null,null,2208,2030]
[null,1132,19246,"Zarrentin",-11.1,9.3000000000000007,32,3,null,null,null,-11,null,null,2208,2030]
[null,1133,19249,"Lübtheen",-11.3,9.5,13,3,null,null,null,-11,null,null,2178,1988]
[null,1134,19258,"Boizenburg/ Elbe",-11,9.4,37,3,null,null,null,-11,null,null,2193,2024]
[null,1135,19260,"Vellahn",-11,9.3000000000000007,37,3,null,null,null,-11,null,null,2203,2034]
[null,1136,19273,"Amt Neuhaus, Stapel",-11.2,9.4,19,3,null,null,null,-11,null,null,2180,1997]
[null,1137,19288,"Ludwigslust",-11.8,9.4,27,4,null,null,null,-12,null,null,2218,1986]
[null,1138,19294,"Neu Kaliß",-11.8,9.4,32,4,null,null,null,-12,null,null,2196,1967]
[null,1139,19300,"Grabow u.a.",-12.3,9.3000000000000007,33,4,null,null,null,-12,null,null,2210,1943]
[null,1140,19303,"Dömitz",-11.7,9.4,32,4,null,null,null,-12,null,null,2178,1958]
[null,1141,19306,"Neustadt-Glewe",-12.2,9.3000000000000007,31,4,null,null,null,-12,null,null,2224,1962]
[null,1142,19309,"Lenzen",-11.9,9.4,16,4,null,null,null,-12,null,null,2185,1949]
[null,1143,19322,"Wittenberge, Rühstädt",-12.3,9.4,25,4,null,null,null,-12,null,null,2196,1931]
[null,1144,19336,"Legde/Quitzöbel, Bad Wilsnack",-12.5,9.4,28,4,null,null,null,-13,null,null,2195,1916]
[null,1145,19339,"Plattenburg",-12.5,9.4,32,4,null,null,null,-13,null,null,2223,1940]
[null,1146,19348,"Perleberg, Berge u.a.",-12.3,9.1999999999999993,52,4,null,null,null,-12,null,null,2205,1938]
[null,1147,19357,"Karstädt, Dambeck, Klüß",-12.1,9.4,23,4,null,null,null,-12,null,null,2206,1954]
[null,1148,19370,"Parchim",-11.5,9.6999999999999993,47,4,null,null,null,-12,null,null,2256,2043]
[null,1149,19372,"Spornitz",-12.3,9.1,82,4,null,null,null,-12,null,null,2246,1975]
[null,1150,19374,"Mestlin, Severin u.a.",-12,9.1,69,4,null,null,null,-12,null,null,2257,2006]
[null,1151,19376,"Siggelkow",-12.5,9.1999999999999993,60,4,null,null,null,-13,null,null,2258,1971]
[null,1152,19386,"Lübz, Passow",-12.3,9,98,4,null,null,null,-12,null,null,2278,2003]
[null,1153,19395,"Plau am See",-12.3,9.1,72,4,null,null,null,-12,null,null,2264,1990]
[null,1154,19399,"Goldberg",-12.3,9.1,50,4,null,null,null,-12,null,null,2273,{"$f":"ROUND(O1159*24/(15-E1159),0)","v":1998}]
[null,1155,19406,"Sternberg",-11.9,9.1999999999999993,41,4,null,null,null,-12,null,null,2262,2018]
[null,1156,19412,"Brüel",-11.7,9.1999999999999993,48,4,null,null,null,-12,null,null,2216,1992]
[null,1157,19417,"Warin",-11.5,9.1999999999999993,24,4,null,null,null,-12,null,null,2187,1981]
[null,1158,20095,"Hamburg",-8.1999999999999993,10.6,6,3,null,null,null,-8,null,null,2072,2143]
[null,1159,20097,"Hamburg",-9.3000000000000007,9.8000000000000007,7,3,null,null,null,-9,null,null,2071,2045]
[null,1160,20099,"Hamburg",-9.1,9.9,16,3,null,null,null,-9,null,null,2098,2089]
[null,1161,20144,"Hamburg",-9.1999999999999993,9.8000000000000007,7,3,null,null,null,-9,null,null,2101,2084]
[null,1162,20146,"Hamburg",-9.1999999999999993,9.8000000000000007,22,3,null,null,null,-9,null,null,2100,2083]
[null,1163,20148,"Hamburg",-9,9.9,15,3,null,null,null,-9,null,null,2101,2101]
[null,1164,20149,"Hamburg",-9.1999999999999993,9.8000000000000007,22,3,null,null,null,-9,null,null,2103,2086]
[null,1165,20249,"Hamburg",-9.1999999999999993,9.9,8,3,null,null,null,-9,null,null,2107,2090]
[null,1166,20251,"Hamburg",-9.1999999999999993,9.8000000000000007,20,3,null,null,null,-9,null,null,2107,2090]
[null,1167,20253,"Hamburg",-9.1999999999999993,9.8000000000000007,12,3,null,null,null,-9,null,null,2103,2086]
[null,1168,20255,"Hamburg",-9.1999999999999993,9.8000000000000007,20,3,null,null,null,-9,null,null,2102,2085]
[null,1169,20257,"Hamburg",-9.1999999999999993,9.8000000000000007,20,3,null,null,null,-9,null,null,2100,2083]
[null,1170,20259,"Hamburg",-9.1999999999999993,9.8000000000000007,12,3,null,null,null,-9,null,null,2100,2083]
[null,1171,20354,"Hamburg",-9.1,9.9,13,3,null,null,null,-9,null,null,2096,2087]
[null,1172,20355,"Hamburg",-8.6999999999999993,10.199999999999999,23,3,null,null,null,-9,null,null,2095,2122]
[null,1173,20357,"Hamburg",-9,9.9,14,3,null,null,null,-9,null,null,2097,2097]
[null,1174,20359,"Hamburg",-9,10,19,3,null,null,null,-9,null,null,2068,2068]
[null,1175,20457,"Hamburg",-9.3000000000000007,9.8000000000000007,3,3,null,null,null,-9,null,null,2065,2040]
[null,1176,20459,"Hamburg",-8.9,10,23,3,null,null,null,-9,null,null,2068,2077]
[null,1177,20535,"Hamburg",-9.1999999999999993,9.8000000000000007,16,3,null,null,null,-9,null,null,2101,2084]
[null,1178,20537,"Hamburg",-9.4,9.6999999999999993,3,3,null,null,null,-9,null,null,2073,2039]
[null,1179,20539,"Hamburg",-9.6999999999999993,9.5,4,3,null,null,null,-10,null,null,2067,2008]
[null,1180,21029,"Hamburg",-9.8000000000000007,9.6999999999999993,21,3,null,null,null,-10,null,null,2067,2000]
[null,1181,21031,"Hamburg",-10.3,9.3000000000000007,44,3,null,null,null,-10,null,null,2068,1962]
[null,1182,21033,"Hamburg",-10.199999999999999,9.4,-1,3,null,null,null,-10,null,null,2067,1969]
[null,1183,21035,"Hamburg",-10.199999999999999,9.4,1,3,null,null,null,-10,null,null,2065,1967]
[null,1184,21037,"Hamburg",-10.3,9.4,-2,3,null,null,null,-10,null,null,2062,1956]
[null,1185,21039,"Hamburg",-10.5,9.5,2,3,null,null,null,-11,null,null,2065,1944]
[null,1186,21073,"Hamburg",-9.4,9.6999999999999993,21,3,null,null,null,-9,null,null,2047,2013]
[null,1187,21075,"Hamburg",-9.6999999999999993,9.3000000000000007,34,3,null,null,null,-10,null,null,2040,1982]
[null,1188,21077,"Hamburg",-9.8000000000000007,9.1999999999999993,55,3,null,null,null,-10,null,null,2045,1979]
[null,1189,21079,"Hamburg",-9.3000000000000007,9.8000000000000007,12,3,null,null,null,-9,null,null,2053,2028]
[null,1190,21107,"Hamburg",-9.8000000000000007,9.5,-1,3,null,null,null,-10,null,null,2051,1985]
[null,1191,21109,"Hamburg",-9.9,9.3000000000000007,1,3,null,null,null,-10,null,null,2058,1984]
[null,1192,21129,"Hamburg",-9.8000000000000007,9.3000000000000007,0,1,null,null,null,-10,null,null,2060,1994]
[null,1193,21147,"Hamburg",-9.8000000000000007,9.3000000000000007,0,3,null,null,null,-10,null,null,2039,1973]
[null,1194,21149,"Hamburg",-9.6,9.3000000000000007,32,3,null,null,null,-10,null,null,2039,1989]
[null,1195,21217,"Seevetal",-10.1,9.3000000000000007,2,3,null,null,null,-10,null,null,2057,1967]
[null,1196,21218,"Seevetal",-10.1,9.1999999999999993,28,3,null,null,null,-10,null,null,2053,1963]
[null,1197,21220,"Seevetal",-10.3,9.3000000000000007,19,3,null,null,null,-10,null,null,2056,1950]
[null,1198,21224,"Rosengarten",-10.199999999999999,9,88,3,null,null,null,-10,null,null,2047,1950]
[null,1199,21227,"Bendestorf",-10.3,9.3000000000000007,31,3,null,null,null,-10,null,null,2055,1949]
[null,1200,21228,"Harmstorf",-10.3,9.1999999999999993,41,3,null,null,null,-10,null,null,2055,1949]
[null,1201,21244,"Buchholz in der Nordheide",-10.1,9.3000000000000007,73,3,null,null,null,-10,null,null,2054,1964]
[null,1202,21255,"Tostedt, Kakenstorf u.a.",-10.1,9.1999999999999993,66,3,null,null,null,-10,null,null,2060,1970]
[null,1203,21256,"Handeloh",-10.3,9.1999999999999993,54,3,null,null,null,-10,null,null,2093,1985]
[null,1204,21258,"Heidenau",-10,9.1,42,3,null,null,null,-10,null,null,2064,1981]
[null,1205,21259,"Otter",-10.7,9.1999999999999993,49,3,null,null,null,-11,null,null,2068,1931]
[null,1206,21261,"Welle",-10.5,9.1999999999999993,46,3,null,null,null,-11,null,null,2097,1974]
[null,1207,21266,"Jesteburg",-10.3,9.3000000000000007,46,3,null,null,null,-10,null,null,2054,1948]
[null,1208,21271,"Hanstedt, Asendorf",-10.8,9.1999999999999993,60,3,null,null,null,-11,null,null,2086,1940]
[null,1209,21272,"Eggestorf",-11,9.1,99,3,null,null,null,-11,null,null,2174,2007]
[null,1210,21274,"Undeloh",-10.7,9,103,3,null,null,null,-11,null,null,2102,1963]
[null,1211,21279,"Hollenstedt, Drestedt u.a.",-9.9,9.1,40,3,null,null,null,-10,null,null,2058,1984]
[null,1212,21335,"Lüneburg",-11.1,9.4,32,3,null,null,null,-11,null,null,2194,2017]
[null,1213,21337,"Lüneburg",-10.7,9.6,38,3,null,null,null,-11,null,null,2194,2049]
[null,1214,21339,"Lüneburg",-10.9,9.3000000000000007,42,3,null,null,null,-11,null,null,2183,2023]
[null,1215,21354,"Bleckede",-10.9,9.5,6,3,null,null,null,-11,null,null,2191,2030]
[null,1216,21357,"Bardowick, Wittorf, Barum",-10.6,9.5,5,3,null,null,null,-11,null,null,2179,2043]
[null,1217,21358,"Mechtersen",-10.8,9.5,12,3,null,null,null,-11,null,null,2176,2024]
[null,1218,21360,"Vögelsen",-10.8,9.4,18,3,null,null,null,-11,null,null,2179,{"$f":"ROUND(O1223*24/(15-E1223),0)","v":2027}]
[null,1219,21365,"Adendorf",-11,9.5,30,3,null,null,null,-11,null,null,2197,2028]
[null,1220,21368,"Dahlenburg",-11.2,9.3000000000000007,39,3,null,null,null,-11,null,null,2192,2008]
[null,1221,21369,"Nahrendorf",-11.1,9.1,102,3,null,null,null,-11,null,null,2181,2006]
[null,1222,21371,"Tosterglope",-11.1,9.1,83,3,null,null,null,-11,null,null,2182,2006]
[null,1223,21376,"Salzhausen",-11,9.3000000000000007,43,3,null,null,null,-11,null,null,2201,2032]
[null,1224,21379,"Scharnebeck, Echem, Lüdersburg, Rullstorf",-10.8,9.5,6,3,null,null,null,-11,null,null,2196,2043]
[null,1225,21380,"Artlenburg",-10.8,9.5,3,3,null,null,null,-11,null,null,2197,2044]
[null,1226,21382,"Brietlingen",-10.7,9.5,7,3,null,null,null,-11,null,null,2197,2052]
[null,1227,21385,"Oldendorf (Luhe), Amelinghausen, Rehlingen",-11.3,9,93,3,null,null,null,-11,null,null,2229,2034]
[null,1228,21386,"Betzendorf",-11.3,9,99,3,null,null,null,-11,null,null,2223,2029]
[null,1229,21388,"Soderstorf",-11.1,9.1,75,3,null,null,null,-11,null,null,2215,2037]
[null,1230,21391,"Reppenstedt, Lüneburg",-11.1,9.3000000000000007,48,3,null,null,null,-11,null,null,2182,2006]
[null,1231,21394,"Kirchgellersen, Westergellersen, Südergellersen",-11.2,9.1,86,3,null,null,null,-11,null,null,2204,2019]
[null,1232,21395,"Tespe",-10.6,9.5,0,3,null,null,null,-11,null,null,2199,2062]
[null,1233,21397,"Barendorf, Vastorf",-11.1,9.3000000000000007,55,3,null,null,null,-11,null,null,2194,2017]
[null,1234,21398,"Neetze",-10.9,9.5,12,3,null,null,null,-11,null,null,2195,2034]
[null,1235,21400,"Reinstorf",-11.1,9.1999999999999993,60,3,null,null,null,-11,null,null,2193,2017]
[null,1236,21401,"Thomasburg",-11.2,9.3000000000000007,41,3,null,null,null,-11,null,null,2192,2008]
[null,1237,21403,"Wendisch Evern",-11,9.1999999999999993,67,3,null,null,null,-11,null,null,2196,2027]
[null,1238,21406,"Melbeck, Barnstedt",-11.3,9.3000000000000007,29,3,null,null,null,-11,null,null,2212,2019]
[null,1239,21407,"Deutsch Evern",-11.2,9.4,23,3,null,null,null,-11,null,null,2195,2011]
[null,1240,21409,"Embsen",-11.3,9.3000000000000007,46,3,null,null,null,-11,null,null,2216,2022]
[null,1241,21423,"Winsen",-10.5,9.5,2,3,null,null,null,-11,null,null,2104,1980]
[null,1242,21435,"Stelle",-10.5,9.4,13,3,null,null,null,-11,null,null,2058,1937]
[null,1243,21436,"Marschacht",-10.5,9.5,4,3,null,null,null,-11,null,null,2172,2044]
[null,1244,21438,"Brackel",-10.6,9.1999999999999993,56,3,null,null,null,-11,null,null,2086,1956]
[null,1245,21439,"Marxen",-10.5,9.3000000000000007,34,3,null,null,null,-11,null,null,2075,1953]
[null,1246,21441,"Garstedt",-10.8,9.3000000000000007,31,3,null,null,null,-11,null,null,2108,1961]
[null,1247,21442,"Toppenstedt",-10.8,9.3000000000000007,45,3,null,null,null,-11,null,null,2097,1951]
[null,1248,21444,"Vierhöfen",-10.9,9.4,27,3,null,null,null,-11,null,null,2123,1967]
[null,1249,21445,"Wulfsen",-10.7,9.4,23,3,null,null,null,-11,null,null,2097,1958]
[null,1250,21447,"Handorf",-10.6,9.5,2,3,null,null,null,-11,null,null,2174,2038]
[null,1251,21449,"Radbruch",-10.8,9.4,17,3,null,null,null,-11,null,null,2171,2020]
[null,1252,21465,"Reinbek",-10.5,9.1999999999999993,50,3,null,null,null,-11,null,null,2071,1949]
[null,1253,21481,"Lauenburg/Elbe",-10.9,9.4,34,3,null,null,null,-11,null,null,2196,2035]
[null,1254,21483,"Gülzow",-10.8,9.4,20,3,null,null,null,-11,null,null,2198,2045]
[null,1255,21493,"Fuhlenhagen",-10.8,9.1999999999999993,44,3,null,null,null,-11,null,null,2210,2056]
[null,1256,21502,"Geesthacht",-10.7,9.1999999999999993,72,3,null,null,null,-11,null,null,2200,2054]
[null,1257,21509,"Glinde",-10.3,9.3000000000000007,24,3,null,null,null,-10,null,null,2071,1965]
[null,1258,21514,"Bröthen",-10.8,9.4,21,3,null,null,null,-11,null,null,2211,2057]
[null,1259,21516,"Woltersdorf, Müssen u.a.",-10.7,9.4,21,3,null,null,null,-11,null,null,2203,2057]
[null,1260,21521,"Aumühle",-10.9,9.1999999999999993,55,3,null,null,null,-11,null,null,2178,2018]
[null,1261,21522,"Hohnstorf (Elbe), Hittbergen",-10.8,9.6,4,3,null,null,null,-11,null,null,2193,2040]
[null,1262,21524,"Brunstorf",-10.7,9.3000000000000007,48,3,null,null,null,-11,null,null,2203,2057]
[null,1263,21526,"Hohenhorn",-10.8,9.1999999999999993,61,3,null,null,null,-11,null,null,2202,2048]
[null,1264,21527,"Kollow",-10.8,9.3000000000000007,41,3,null,null,null,-11,null,null,2202,2048]
[null,1265,21529,"Kröppelshagen-Fahrendorf",-10.7,9.1,84,3,null,null,null,-11,null,null,2175,2031]
[null,1266,21614,"Buxtehude",-9.5,9.3000000000000007,7,1,null,null,null,-10,null,null,2067,2025]
[null,1267,21629,"Neu Wulmstorf",-9.9,9.1,49,3,null,null,null,-10,null,null,2050,1976]
[null,1268,21635,"Jork",-9.8000000000000007,9.3000000000000007,-3,1,null,null,null,-10,null,null,2085,2018]
[null,1269,21640,"Horneburg",-9.8000000000000007,9.3000000000000007,5,1,null,null,null,-10,null,null,2086,2019]
[null,1270,21641,"Apensen",-10,9,47,3,null,null,null,-10,null,null,2074,1991]
[null,1271,21643,"Beckdorf",-10,9.1,29,3,null,null,null,-10,null,null,2069,1986]
[null,1272,21644,"Sauensiek",-10.1,9.1,38,3,null,null,null,-10,null,null,2071,1980]
[null,1273,21646,"Halvesbostel",-10,9.1,36,3,null,null,null,-10,null,null,2066,1983]
[null,1274,21647,"Moisburg",-9.8000000000000007,9.1999999999999993,18,3,null,null,null,-10,null,null,2061,1995]
[null,1275,21649,"Regesbostel",-10,9.1,36,3,null,null,null,-10,null,null,2065,1982]
[null,1276,21680,"Stade",-9.6999999999999993,9.3000000000000007,18,1,null,null,null,-10,null,null,2118,2058]
[null,1277,21682,"Stade",-9.8000000000000007,9.4,2,1,null,null,null,-10,null,null,2119,2051]
[null,1278,21683,"Stade",-9.6999999999999993,9.3000000000000007,-2,1,null,null,null,-10,null,null,2120,2060]
[null,1279,21684,"Stade",-9.9,9.1999999999999993,15,3,null,null,null,-10,null,null,2098,2022]
[null,1280,21698,"Harsefeld",-9.8000000000000007,9.1999999999999993,20,3,null,null,null,-10,null,null,2096,2028]
[null,1281,21702,"Ahlerstedt",-10.1,9.1999999999999993,31,3,null,null,null,-10,null,null,2121,2028]
[null,1282,21706,"Drochtersen",-9.8000000000000007,9.3000000000000007,-2,1,null,null,null,-10,null,null,2124,{"$f":"ROUND(O1287*24/(15-E1287),0)","v":2055}]
[null,1283,21709,"Himmelpforten",-9.8000000000000007,9.3000000000000007,6,3,null,null,null,-10,null,null,2125,2056]
[null,1284,21710,"Engelschoff",-9.6999999999999993,9.4,-2,3,null,null,null,-10,null,null,2124,2064]
[null,1285,21712,"Großenwörden",-9.6,9.4,-2,3,null,null,null,-10,null,null,2139,2087]
[null,1286,21714,"Hammah",-9.8000000000000007,9.3000000000000007,10,3,null,null,null,-10,null,null,2122,2054]
[null,1287,21717,"Fredenbeck",-9.8000000000000007,9.1999999999999993,17,3,null,null,null,-10,null,null,2122,2054]
[null,1288,21720,"Gründeich",-9.9,9.3000000000000007,-1,1,null,null,null,-10,null,null,2107,2031]
[null,1289,21723,"Hollern-Twielenfleth",-9.8000000000000007,9.3000000000000007,-1,1,null,null,null,-10,null,null,2108,2040]
[null,1290,21726,"Oldendorf",-10,9.1999999999999993,28,3,null,null,null,-10,null,null,2125,2040]
[null,1291,21727,"Estorf",-9.8000000000000007,9.3000000000000007,7,3,null,null,null,-10,null,null,2135,2066]
[null,1292,21729,"Freiburg (Elbe)",-9.1,9.4,1,1,null,null,null,-9,null,null,2132,2123]
[null,1293,21730,"Balje",-8.8000000000000007,9.5,-2,1,null,null,null,-9,null,null,2143,2161]
[null,1294,21732,"Krummendeich",-9.1,9.4,-1,1,null,null,null,-9,null,null,2133,2124]
[null,1295,21734,"Oederquart",-9.3000000000000007,9.4,-2,1,null,null,null,-9,null,null,2135,2109]
[null,1296,21737,"Wischhafen",-9.1999999999999993,9.4,-3,1,null,null,null,-9,null,null,2137,2119]
[null,1297,21739,"Dollern",-9.6999999999999993,9.1,30,1,null,null,null,-10,null,null,2099,2040]
[null,1298,21745,"Hemmoor",-9.6,9.4,13,1,null,null,null,-10,null,null,2141,2089]
[null,1299,21755,"Hechthausen",-9.6999999999999993,9.3000000000000007,15,3,null,null,null,-10,null,null,2140,2079]
[null,1300,21756,"Osten",-9.6,9.4,-4,3,null,null,null,-10,null,null,2137,2085]
[null,1301,21762,"Otterndorf",-8.5,9.6,2,1,null,null,null,-9,null,null,2093,2138]
[null,1302,21763,"Neuenkirchen",-9.1,9.5,1,1,null,null,null,-9,null,null,2107,2098]
[null,1303,21765,"Nordleda",-9,9.6,-2,1,null,null,null,-9,null,null,2101,2101]
[null,1304,21769,"Lamstedt",-9.6999999999999993,9.1999999999999993,26,3,null,null,null,-10,null,null,2142,2081]
[null,1305,21770,"Mittelstenahe",-9.6999999999999993,9.4,18,1,null,null,null,-10,null,null,2145,2084]
[null,1306,21772,"Stinstedt",-9.5,9.5,6,1,null,null,null,-10,null,null,2150,2106]
[null,1307,21775,"Ihlienworth",-9.3000000000000007,9.5,-3,1,null,null,null,-9,null,null,2146,2120]
[null,1308,21776,"Wanna",-9.3000000000000007,9.5,-2,1,null,null,null,-9,null,null,2120,2094]
[null,1309,21781,"Cadenberge",-9.1999999999999993,9.5,-3,1,null,null,null,-9,null,null,2105,2088]
[null,1310,21782,"Bülkau",-9.1,9.5,-1,1,null,null,null,-9,null,null,2147,2138]
[null,1311,21784,"Geversdorf",-9.1999999999999993,9.5,-1,1,null,null,null,-9,null,null,2120,2102]
[null,1312,21785,"Neuhaus (Oste)",-8.8000000000000007,9.5,0,1,null,null,null,-9,null,null,2097,2115]
[null,1313,21787,"Oberndorf",-9.5,9.4,-3,1,null,null,null,-10,null,null,2140,2096]
[null,1314,21789,"Wingst",-9.9,9.1999999999999993,57,1,null,null,null,-10,null,null,2145,2067]
[null,1315,22041,"Hamburg",-8.8000000000000007,10.199999999999999,15,3,null,null,null,-9,null,null,2104,2122]
[null,1316,22043,"Hamburg",-9.5,9.6999999999999993,19,3,null,null,null,-10,null,null,2104,2061]
[null,1317,22045,"Hamburg",-9.3000000000000007,9.8000000000000007,20,3,null,null,null,-9,null,null,2106,2080]
[null,1318,22047,"Hamburg",-9.3000000000000007,9.8000000000000007,18,3,null,null,null,-9,null,null,2107,2081]
[null,1319,22049,"Hamburg",-9.1999999999999993,9.8000000000000007,14,3,null,null,null,-9,null,null,2106,2089]
[null,1320,22081,"Hamburg",-9.1999999999999993,9.8000000000000007,10,3,null,null,null,-9,null,null,2104,2087]
[null,1321,22083,"Hamburg",-9.3000000000000007,9.8000000000000007,10,3,null,null,null,-9,null,null,2104,2078]
[null,1322,22085,"Hamburg",-9.4,9.6999999999999993,5,3,null,null,null,-9,null,null,2103,2069]
[null,1323,22087,"Hamburg",-9.1,9.9,10,3,null,null,null,-9,null,null,2100,2091]
[null,1324,22089,"Hamburg",-9.1999999999999993,9.9,16,3,null,null,null,-9,null,null,2102,2085]
[null,1325,22111,"Hamburg",-9.1999999999999993,9.8000000000000007,15,3,null,null,null,-9,null,null,2073,2056]
[null,1326,22113,"Hamburg, Oststeinbek",-9.6,9.6,10,3,null,null,null,-10,null,null,2067,2017]
[null,1327,22115,"Hamburg",-10,9.4,30,3,null,null,null,-10,null,null,2070,1987]
[null,1328,22117,"Hamburg",-9.9,9.5,9,3,null,null,null,-10,null,null,2073,1998]
[null,1329,22119,"Hamburg",-9.3000000000000007,9.8000000000000007,18,3,null,null,null,-9,null,null,2075,2049]
[null,1330,22143,"Hamburg",-9.6999999999999993,9.5,29,3,null,null,null,-10,null,null,2109,2049]
[null,1331,22145,"Hamburg",-10.3,9.1,56,3,null,null,null,-10,null,null,2110,2002]
[null,1332,22147,"Hamburg",-9.6,9.6,28,3,null,null,null,-10,null,null,2110,2059]
[null,1333,22149,"Hamburg",-9.6,9.6,24,3,null,null,null,-10,null,null,2107,2056]
[null,1334,22159,"Hamburg",-9.5,9.6,30,3,null,null,null,-10,null,null,2109,2066]
[null,1335,22175,"Hamburg",-9.3000000000000007,9.6999999999999993,40,3,null,null,null,-9,null,null,2112,2086]
[null,1336,22177,"Hamburg",-9.3000000000000007,9.8000000000000007,21,3,null,null,null,-9,null,null,2110,2084]
[null,1337,22179,"Hamburg",-9.5,9.6999999999999993,16,3,null,null,null,-10,null,null,2110,2067]
[null,1338,22297,"Hamburg",-9.3000000000000007,9.8000000000000007,15,3,null,null,null,-9,null,null,2111,2085]
[null,1339,22299,"Hamburg",-9.1999999999999993,9.9,6,3,null,null,null,-9,null,null,2108,2091]
[null,1340,22301,"Hamburg",-9.1999999999999993,9.9,8,3,null,null,null,-9,null,null,2105,2088]
[null,1341,22303,"Hamburg",-9.6999999999999993,9.5,6,3,null,null,null,-10,null,null,2108,2048]
[null,1342,22305,"Hamburg",-9.1,9.9,12,3,null,null,null,-9,null,null,2107,2098]
[null,1343,22307,"Hamburg",-9.3000000000000007,9.8000000000000007,18,3,null,null,null,-9,null,null,2109,2083]
[null,1344,22309,"Hamburg",-9.3000000000000007,9.6999999999999993,27,3,null,null,null,-9,null,null,2110,2084]
[null,1345,22335,"Hamburg",-9.5,9.6,8,3,null,null,null,-10,null,null,2113,2070]
[null,1346,22337,"Hamburg",-9.6999999999999993,9.4,29,3,null,null,null,-10,null,null,2113,{"$f":"ROUND(O1351*24/(15-E1351),0)","v":2053}]
[null,1347,22339,"Hamburg",-9.3000000000000007,9.6999999999999993,17,3,null,null,null,-9,null,null,2115,2089]
[null,1348,22359,"Hamburg",-9.9,9.3000000000000007,44,3,null,null,null,-10,null,null,2114,2038]
[null,1349,22391,"Hamburg",-9.5,9.6,34,3,null,null,null,-10,null,null,2115,2072]
[null,1350,22393,"Hamburg",-9.5,9.6,35,3,null,null,null,-10,null,null,2114,2071]
[null,1351,22395,"Hamburg",-10,9.3000000000000007,28,3,null,null,null,-10,null,null,2117,2032]
[null,1352,22397,"Hamburg",-10.199999999999999,9.1999999999999993,19,3,null,null,null,-10,null,null,2167,2064]
[null,1353,22399,"Hamburg",-9.5,9.6,33,3,null,null,null,-10,null,null,2118,2075]
[null,1354,22415,"Hamburg",-9.3000000000000007,9.6999999999999993,29,3,null,null,null,-9,null,null,2115,2089]
[null,1355,22417,"Hamburg",-9.6999999999999993,9.4,27,3,null,null,null,-10,null,null,2119,2059]
[null,1356,22419,"Hamburg",-9.6,9.4,38,3,null,null,null,-10,null,null,2120,2068]
[null,1357,22453,"Hamburg",-9.5,9.6,13,3,null,null,null,-10,null,null,2111,2068]
[null,1358,22455,"Hamburg",-9.3000000000000007,9.6999999999999993,17,3,null,null,null,-9,null,null,2117,2091]
[null,1359,22457,"Hamburg",-9.4,9.6,17,3,null,null,null,-9,null,null,2121,2086]
[null,1360,22459,"Hamburg",-9.6999999999999993,9.4,11,3,null,null,null,-10,null,null,2114,2054]
[null,1361,22523,"Hamburg",-9.1999999999999993,9.8000000000000007,21,3,null,null,null,-9,null,null,2112,2095]
[null,1362,22525,"Hamburg",-9.4,9.6,19,3,null,null,null,-9,null,null,2103,2069]
[null,1363,22527,"Hamburg",-9.3000000000000007,9.6,23,3,null,null,null,-9,null,null,2108,2082]
[null,1364,22529,"Hamburg",-9.3000000000000007,9.6999999999999993,17,3,null,null,null,-9,null,null,2106,2080]
[null,1365,22547,"Hamburg",-9.3000000000000007,9.6,23,3,null,null,null,-9,null,null,2107,2081]
[null,1366,22549,"Hamburg",-9.4,9.5,30,1,null,null,null,-9,null,null,2102,2068]
[null,1367,22559,"Hamburg",-9.3000000000000007,9.4,29,1,null,null,null,-9,null,null,2083,2057]
[null,1368,22587,"Hamburg",-9.6999999999999993,9.1,75,1,null,null,null,-10,null,null,2077,2018]
[null,1369,22589,"Hamburg",-9.8000000000000007,9.1999999999999993,18,1,null,null,null,-10,null,null,2080,2013]
[null,1370,22605,"Hamburg",-9.3000000000000007,9.5,26,3,null,null,null,-9,null,null,2070,2044]
[null,1371,22607,"Hamburg",-9.1999999999999993,9.6999999999999993,30,3,null,null,null,-9,null,null,2095,2078]
[null,1372,22609,"Hamburg",-9.1999999999999993,9.6,25,1,null,null,null,-9,null,null,2073,2056]
[null,1373,22761,"Hamburg",-9.1999999999999993,9.6999999999999993,26,3,null,null,null,-9,null,null,2095,2078]
[null,1374,22763,"Hamburg",-9.3000000000000007,9.5,42,3,null,null,null,-9,null,null,2088,2062]
[null,1375,22765,"Hamburg",-9.3000000000000007,9.5,31,3,null,null,null,-9,null,null,2090,2064]
[null,1376,22767,"Hamburg",-9.3000000000000007,9.6999999999999993,30,3,null,null,null,-9,null,null,2066,2040]
[null,1377,22769,"Hamburg",-9.1999999999999993,9.8000000000000007,14,3,null,null,null,-9,null,null,2097,2080]
[null,1378,22844,"Norderstedt",-10,9.1,41,3,null,null,null,-10,null,null,2168,2081]
[null,1379,22846,"Norderstedt",-10,9.1,31,3,null,null,null,-10,null,null,2139,2053]
[null,1380,22848,"Norderstedt",-10,9.1999999999999993,18,3,null,null,null,-10,null,null,2123,2038]
[null,1381,22850,"Norderstedt",-9.4,9.6,29,3,null,null,null,-9,null,null,2128,2093]
[null,1382,22851,"Norderstedt",-10,9.1,39,3,null,null,null,-10,null,null,2125,2040]
[null,1383,22869,"Schenefeld",-10,9.1,17,1,null,null,null,-10,null,null,2108,2024]
[null,1384,22880,"Wedel",-9.6999999999999993,9.4,2,1,null,null,null,-10,null,null,2106,2046]
[null,1385,22885,"Barsbüttel",-10.3,9.1999999999999993,43,3,null,null,null,-10,null,null,2106,1998]
[null,1386,22889,"Tangstedt",-10.199999999999999,9,34,3,null,null,null,-10,null,null,2172,2069]
[null,1387,22926,"Ahrensburg",-10.1,9.4,49,3,null,null,null,-10,null,null,2168,2073]
[null,1388,22927,"Großhansdorf",-10.5,9.1,49,3,null,null,null,-11,null,null,2172,2044]
[null,1389,22929,"Hamfelde, Kasseburg, Köthel, Rausdorf, Schönberg",-10.7,9,78,3,null,null,null,-11,null,null,2212,2066]
[null,1390,22941,"Bargteheide, Delingsdorf u.a.",-10.3,9.1,44,3,null,null,null,-10,null,null,2180,2068]
[null,1391,22946,"Trittau",-10.7,9.1,58,3,null,null,null,-11,null,null,2186,2041]
[null,1392,22949,"Ammersbek",-10.3,9.1,25,3,null,null,null,-10,null,null,2170,2058]
[null,1393,22952,"Lütjensee",-10.8,9.1,53,3,null,null,null,-11,null,null,2185,2033]
[null,1394,22955,"Hoisdorf",-10.6,9.1,51,3,null,null,null,-11,null,null,2188,2051]
[null,1395,22956,"Grönwohld",-10.8,9.1,47,3,null,null,null,-11,null,null,2190,2037]
[null,1396,22958,"Kuddewörde",-10.9,9.1999999999999993,32,3,null,null,null,-11,null,null,2183,2023]
[null,1397,22959,"Linau",-10.8,9.1,53,3,null,null,null,-11,null,null,2211,2057]
[null,1398,22961,"Hoisdorf",-10.7,9.1,46,3,null,null,null,-11,null,null,2190,2045]
[null,1399,22962,"Siek",-10.5,9.1,55,3,null,null,null,-11,null,null,2171,2043]
[null,1400,22964,"Steinburg",-10.7,9,50,3,null,null,null,-11,null,null,2225,2078]
[null,1401,22965,"Todendorf",-10.6,9.1,48,3,null,null,null,-11,null,null,2192,2055]
[null,1402,22967,"Tremsbüttel",-10.6,9.1,36,3,null,null,null,-11,null,null,2189,2052]
[null,1403,22969,"Witzhave",-10.8,9.3000000000000007,25,3,null,null,null,-11,null,null,2174,2022]
[null,1404,23552,"Lübeck",-9.6,10.3,5,2,null,null,null,-10,null,null,2196,2142]
[null,1405,23554,"Lübeck St. Lorenz Nord",-9.8000000000000007,9.8000000000000007,14,2,null,null,null,-10,null,null,2192,2121]
[null,1406,23556,"Lübeck",-10.7,9.1999999999999993,21,2,null,null,null,-11,null,null,2217,2070]
[null,1407,23558,"Lübeck",-9.8000000000000007,9.9,11,2,null,null,null,-10,null,null,2197,2126]
[null,1408,23560,"Lübeck",-11,9.1,8,3,null,null,null,-11,null,null,2212,2042]
[null,1409,23562,"Lübeck",-11,9.1,13,2,null,null,null,-11,null,null,2212,2042]
[null,1410,23564,"Lübeck",-10.3,9.4,7,2,null,null,null,-10,null,null,2200,{"$f":"ROUND(O1415*24/(15-E1415),0)","v":2087}]
[null,1411,23566,"Lübeck",-10.199999999999999,9.4,14,2,null,null,null,-10,null,null,2193,2089]
[null,1412,23568,"Lübeck Schlutup/St. Gertrud",-10.5,9.1,20,2,null,null,null,-11,null,null,2188,2059]
[null,1413,23569,"Lübeck",-10.3,9.1,21,2,null,null,null,-10,null,null,2181,2069]
[null,1414,23570,"Lübeck",-9.1,9.1999999999999993,2,2,null,null,null,-9,null,null,2171,2162]
[null,1415,23611,"Bad Schwartau",-10.3,9.1,17,2,null,null,null,-10,null,null,2184,2072]
[null,1416,23617,"Stockelsdorf",-10.8,9,35,2,null,null,null,-11,null,null,2185,2033]
[null,1417,23619,"Zarpen",-10.8,9.1,13,3,null,null,null,-11,null,null,2221,2066]
[null,1418,23623,"Ahrensbök",-10.5,8.8000000000000007,68,3,null,null,null,-11,null,null,2177,2049]
[null,1419,23626,"Ratekau",-9.3000000000000007,9.1999999999999993,0,2,null,null,null,-9,null,null,2175,2148]
[null,1420,23627,"Groß Grönau",-11.1,9,28,2,null,null,null,-11,null,null,2212,2034]
[null,1421,23628,"Krummesse, Klempau",-11,9.1,13,3,null,null,null,-11,null,null,2213,2043]
[null,1422,23629,"Sarkwitz",-10.1,9,19,2,null,null,null,-10,null,null,2174,2079]
[null,1423,23669,"Timmendorfer Strand",-8.6999999999999993,9.1999999999999993,0,2,null,null,null,-9,null,null,2170,2197]
[null,1424,23683,"Scharbeutz",-8.1999999999999993,9.1999999999999993,5,2,null,null,null,-8,null,null,2162,2237]
[null,1425,23684,"Scharbeutz, Süsel",-9.6999999999999993,9.1,18,2,null,null,null,-10,null,null,2169,2108]
[null,1426,23689,"Pansdorf",-9.6999999999999993,9,26,2,null,null,null,-10,null,null,2173,2111]
[null,1427,23701,"Eutin, Süsel",-10.1,8.9,43,2,null,null,null,-10,null,null,2172,2077]
[null,1428,23714,"Malente, Kirchnüchel",-9.6,8.8000000000000007,44,3,null,null,null,-10,null,null,2174,2121]
[null,1429,23715,"Bosau",-10,8.8000000000000007,50,3,null,null,null,-10,null,null,2181,2094]
[null,1430,23717,"Kasseedorf",-9.5,8.9,49,3,null,null,null,-10,null,null,2164,2120]
[null,1431,23719,"Glasau",-10.1,8.9,44,3,null,null,null,-10,null,null,2198,2102]
[null,1432,23730,"Neustadt",-8.3000000000000007,9.1999999999999993,-2,2,null,null,null,-8,null,null,2145,2209]
[null,1433,23738,"Lensahn",-8.6,9.1,14,2,null,null,null,-9,null,null,2149,2185]
[null,1434,23743,"Grömitz",-8.4,9.1,19,2,null,null,null,-8,null,null,2159,2214]
[null,1435,23744,"Schönwalde am Bungsberg",-9.6999999999999993,8.6,105,2,null,null,null,-10,null,null,2151,2090]
[null,1436,23746,"Kellenhusen",-8.5,9.1999999999999993,2,2,null,null,null,-9,null,null,2163,2209]
[null,1437,23747,"Dahme",-8.5,9.1999999999999993,8,2,null,null,null,-9,null,null,2163,2209]
[null,1438,23749,"Grube",-8.4,9.1999999999999993,-1,2,null,null,null,-8,null,null,2162,2217]
[null,1439,23758,"Oldenburg in Holstein",-7.8,9.1999999999999993,4,2,null,null,null,-8,null,null,2142,2255]
[null,1440,23769,"Fehmarn",-7,9.1999999999999993,10,2,null,null,null,-8,null,null,2126,2319]
[null,1441,23774,"Heiligenhafen",-7.3,9.3000000000000007,9,2,null,null,null,-8,null,null,2136,2299]
[null,1442,23775,"Großenbrode",-7.3,9.3000000000000007,-1,2,null,null,null,-8,null,null,2133,2296]
[null,1443,23777,"Heringsdorf",-8.1,9.1,22,2,null,null,null,-8,null,null,2139,2222]
[null,1444,23779,"Neukirchen",-7.8,9.1999999999999993,9,2,null,null,null,-8,null,null,2137,2249]
[null,1445,23795,"Bad Segeberg",-10.4,9,45,3,null,null,null,-10,null,null,2236,2113]
[null,1446,23812,"Wahlstedt",-10.1,8.9,60,3,null,null,null,-10,null,null,2242,2144]
[null,1447,23813,"Nehms",-10.199999999999999,8.8000000000000007,54,3,null,null,null,-10,null,null,2233,2127]
[null,1448,23815,"Geschendorf",-10.8,8.9,57,3,null,null,null,-11,null,null,2233,2077]
[null,1449,23816,"Leezen",-10.5,9,29,3,null,null,null,-11,null,null,2233,2102]
[null,1450,23818,"Neuengörs",-10.7,8.9,41,3,null,null,null,-11,null,null,2233,2085]
[null,1451,23820,"Pronstorf",-10.5,8.9,40,3,null,null,null,-11,null,null,2233,2102]
[null,1452,23821,"Rohlstorf",-10.4,8.9,34,3,null,null,null,-10,null,null,2233,2110]
[null,1453,23823,"Seedorf",-9.8000000000000007,8.9,33,3,null,null,null,-10,null,null,2233,2161]
[null,1454,23824,"Tensfeld",-9.9,8.9,40,3,null,null,null,-10,null,null,2233,2152]
[null,1455,23826,"Bark",-10.4,9,31,3,null,null,null,-10,null,null,2233,2110]
[null,1456,23827,"Wensin",-10.3,8.8000000000000007,53,3,null,null,null,-10,null,null,2233,2118]
[null,1457,23829,"Wittenborn",-10.4,9,38,3,null,null,null,-10,null,null,2233,2110]
[null,1458,23843,"Bad Oldesloe",-10.4,9.1999999999999993,16,3,null,null,null,-10,null,null,2233,2110]
[null,1459,23845,"Seth",-10.5,9,34,3,null,null,null,-11,null,null,2233,2102]
[null,1460,23847,"Lasbek",-10.9,9,53,3,null,null,null,-11,null,null,2233,2069]
[null,1461,23858,"Reinfeld (Holstein)",-10.8,9.1,19,3,null,null,null,-11,null,null,2233,2077]
[null,1462,23860,"Klein Wesenberg",-10.9,9.1,11,3,null,null,null,-11,null,null,2233,2069]
[null,1463,23863,"Bargfeld-Stegen",-10.3,9.1,27,3,null,null,null,-10,null,null,2233,2118]
[null,1464,23866,"Nahe",-10.4,9.1,29,3,null,null,null,-10,null,null,2233,2110]
[null,1465,23867,"Sülfeld",-10.5,9,32,3,null,null,null,-11,null,null,2233,2102]
[null,1466,23869,"Elmenhorst",-10.5,9.1,35,3,null,null,null,-11,null,null,2233,2102]
[null,1467,23879,"Mölln",-10.8,9.3000000000000007,39,3,null,null,null,-11,null,null,2233,2077]
[null,1468,23881,"Breitenfelde, Lankau",-11.1,9.1999999999999993,36,3,null,null,null,-11,null,null,2233,2053]
[null,1469,23883,"Sterley",-11,9.1999999999999993,39,3,null,null,null,-11,null,null,2233,2061]
[null,1470,23896,"Nusse",-11.1,9.1,44,3,null,null,null,-11,null,null,2233,2053]
[null,1471,23898,"Sandesneben u.a.",-11,9.1,39,3,null,null,null,-11,null,null,2233,2061]
[null,1472,23899,"Gudow",-10.9,9.3000000000000007,40,3,null,null,null,-11,null,null,2233,2069]
[null,1473,23909,"Ratzeburg",-10.9,9.1999999999999993,1,3,null,null,null,-11,null,null,2217,2054]
[null,1474,23911,"Ziethen",-11.2,9,48,3,null,null,null,-11,null,null,2217,{"$f":"ROUND(O1479*24/(15-E1479),0)","v":2031}]
[null,1475,23919,"Berkenthin",-11,9.1,15,3,null,null,null,-11,null,null,2217,2046]
[null,1476,23923,"Schönberg",-10.7,9.1,14,2,null,null,null,-11,null,null,2217,2070]
[null,1477,23936,"Grevesmühlen, Stepenitztal, Upahl u.a.",-10.5,9.1,38,2,null,null,null,-11,null,null,2217,2087]
[null,1478,23942,"Dassow",-9.4,9.1,27,2,null,null,null,-9,null,null,2217,2181]
[null,1479,23946,"Boltenhagen",-9.6999999999999993,9.1999999999999993,-1,2,null,null,null,-10,null,null,2217,2154]
[null,1480,23948,"Klütz",-9.6,9.1,17,2,null,null,null,-10,null,null,2217,2163]
[null,1481,23966,"Wismar, Groß Krankow u.a.",-10.6,9,61,2,null,null,null,-11,null,null,2217,2078]
[null,1482,23968,"Barnekow, Gägelow u.a.",-9.8000000000000007,9.1,37,2,null,null,null,-10,null,null,2181,2111]
[null,1483,23970,"Wismar",-10.7,9,46,2,null,null,null,-11,null,null,2178,2034]
[null,1484,23972,"Dorf Mecklenburg, Lübow u.a.",-10.9,9.1999999999999993,28,2,null,null,null,-11,null,null,2184,2024]
[null,1485,23974,"Neuburg-Steinhausen, Hornstorf",-10,9.1999999999999993,16,2,null,null,null,-10,null,null,2172,2085]
[null,1486,23992,"Neukloster",-11.3,9.1,37,2,null,null,null,-11,null,null,2182,1991]
[null,1487,23996,"Bad Kleinen u.a.",-11.2,9,65,4,null,null,null,-11,null,null,2188,2004]
[null,1488,23999,"Insel Poel",-9.6,9.3000000000000007,0,"-",3,null,null,-10,null,null,2163,2110]
[null,1489,24103,"Kiel",-7.9,9.6,31,2,2,null,null,-8,null,null,2137,2240]
[null,1490,24105,"Kiel",-8.1,9.4,25,2,null,null,null,-8,null,null,2137,2220]
[null,1491,24106,"Kiel",-7.9,9.5,19,2,null,null,null,-8,null,null,2135,2238]
[null,1492,24107,"Kiel",-8.6,9,25,2,null,null,null,-9,null,null,2150,2186]
[null,1493,24109,"Melsdorf",-8.5,9.1,33,2,null,null,null,-9,null,null,2149,2195]
[null,1494,24111,"Kiel Russee",-8.6,9.1,16,2,null,null,null,-9,null,null,2175,2212]
[null,1495,24113,"Kiel",-8.6,9.1,22,2,null,null,null,-9,null,null,2177,2214]
[null,1496,24114,"Kiel",-7.9,9.6999999999999993,16,2,null,null,null,-8,null,null,2142,2245]
[null,1497,24116,"Kiel",-8.1,9.5,27,2,null,null,null,-8,null,null,2141,2224]
[null,1498,24118,"Kiel",-7.9,9.6,33,2,null,null,null,-8,null,null,2138,2241]
[null,1499,24119,"Kronshagen",-8.1,9.4,20,2,null,null,null,-8,null,null,2142,2225]
[null,1500,24143,"Kiel",-8,9.6,24,2,null,null,null,-8,null,null,2139,2232]
[null,1501,24145,"Kiel",-8.6,8.9,47,2,null,null,null,-9,null,null,2177,2214]
[null,1502,24146,"Kiel",-8.6999999999999993,9,28,2,null,null,null,-9,null,null,2146,2173]
[null,1503,24147,"Kiel",-8.4,9.1999999999999993,52,2,null,null,null,-8,null,null,2142,2197]
[null,1504,24148,"Kiel",-8.3000000000000007,9.1999999999999993,22,2,null,null,null,-8,null,null,2139,2203]
[null,1505,24149,"Kiel",-8.3000000000000007,9,41,2,null,null,null,-8,null,null,2136,2200]
[null,1506,24159,"Kiel",-7.7,9.3000000000000007,12,2,null,null,null,-8,null,null,2132,2254]
[null,1507,24161,"Altenholz",-8.3000000000000007,9.1,16,2,null,null,null,-8,null,null,2135,2199]
[null,1508,24211,"Preetz",-9.1,8.9,39,2,null,null,null,-9,null,null,2187,2178]
[null,1509,24214,"Gettorf u.a.",-8.1,9.1,18,2,null,null,null,-8,null,null,2162,2246]
[null,1510,24217,"Schönberg (Holstein)",-8.1999999999999993,9.1,12,2,null,null,null,-8,null,null,2118,2191]
[null,1511,24220,"Flintbek",-8.9,8.8000000000000007,48,2,null,null,null,-9,null,null,2185,2194]
[null,1512,24222,"Schwentinental",-8.4,9.1,23,2,null,null,null,-8,null,null,2143,2198]
[null,1513,24223,"Schwentinetal",-8.8000000000000007,8.9,31,2,null,null,null,-9,null,null,2150,2168]
[null,1514,24226,"Heikendorf",-8.3000000000000007,9.1,7,2,null,null,null,-8,null,null,2132,2196]
[null,1515,24229,"Dänischenhagen",-8.3000000000000007,9.1,17,2,null,null,null,-8,null,null,2127,2191]
[null,1516,24232,"Schönkirchen",-8.5,9,21,2,null,null,null,-9,null,null,2144,2190]
[null,1517,24235,"Laboe",-8.3000000000000007,9.1,11,2,null,null,null,-8,null,null,2126,2190]
[null,1518,24238,"Selent",-9.1,8.8000000000000007,46,2,null,null,null,-9,null,null,2176,2167]
[null,1519,24239,"Achterwehr",-8.8000000000000007,9,12,2,null,null,null,-9,null,null,2164,2182]
[null,1520,24241,"Blumenthal",-9.1,8.8000000000000007,50,3,null,null,null,-9,null,null,2204,2195]
[null,1521,24242,"Felde",-8.8000000000000007,9,15,3,null,null,null,-9,null,null,2203,2222]
[null,1522,24244,"Felm",-8.1999999999999993,9.1,19,2,null,null,null,-8,null,null,2140,2214]
[null,1523,24245,"Kirchbarkau",-9.1,8.9,31,3,null,null,null,-9,null,null,2194,2185]
[null,1524,24247,"Mielkendorf",-8.8000000000000007,9,20,2,null,null,null,-9,null,null,2183,2201]
[null,1525,24248,"Mönkeberg",-8.3000000000000007,9,41,2,null,null,null,-8,null,null,2135,2199]
[null,1526,24250,"Nettelsee",-9.1999999999999993,8.8000000000000007,50,3,null,null,null,-9,null,null,2201,2183]
[null,1527,24251,"Osdorf",-8,9.1,13,2,null,null,null,-8,null,null,2144,2237]
[null,1528,24253,"Probsteierhagen",-8.5,9,30,2,null,null,null,-9,null,null,2133,2178]
[null,1529,24254,"Rumohr",-9,8.9,30,2,null,null,null,-9,null,null,2187,2187]
[null,1530,24256,"Fargau-Pratjau",-8.6,8.8000000000000007,54,2,null,null,null,-9,null,null,2145,2181]
[null,1531,24257,"Hohenfelde",-8.1999999999999993,8.9,49,2,null,null,null,-8,null,null,2128,2201]
[null,1532,24259,"Westensee",-9,9,15,3,null,null,null,-9,null,null,2207,2207]
[null,1533,24306,"Plön",-9.3000000000000007,8.9,26,3,null,null,null,-9,null,null,2207,2180]
[null,1534,24321,"Lütjenburg",-8.5,8.6999999999999993,91,2,null,null,null,-9,null,null,2157,2203]
[null,1535,24326,"Ascheberg",-9.5,9,18,3,null,null,null,-10,null,null,2207,2162]
[null,1536,24327,"Blekendorf",-8.6,8.9,41,2,null,null,null,-9,null,null,2164,2201]
[null,1537,24329,"Grebin",-9.3000000000000007,8.8000000000000007,44,3,null,null,null,-9,null,null,2179,2152]
[null,1538,24340,"Eckernförde",-8.1,9.1,12,2,null,null,null,-8,null,null,2238,{"$f":"ROUND(O1543*24/(15-E1543),0)","v":2325}]
[null,1539,24351,"Damp",-7.8,9.1,23,2,null,null,null,-8,null,null,2159,2273]
[null,1540,24354,"Kosel, Rieseby u.a.",-8.6,9,16,2,null,null,null,-9,null,null,2232,2270]
[null,1541,24357,"Fleckeby u.a.",-8.9,8.9,26,2,null,null,null,-9,null,null,2241,2250]
[null,1542,24358,"Ascheffel",-8.8000000000000007,8.8000000000000007,54,2,null,null,null,-9,null,null,2240,2259]
[null,1543,24360,"Barkelsby",-8.1,9,23,2,null,null,null,-8,null,null,2222,2309]
[null,1544,24361,"Groß Wittensee",-8.8000000000000007,8.9,26,2,null,null,null,-9,null,null,2239,2258]
[null,1545,24363,"Holtsee",-8.5,9,22,2,null,null,null,-9,null,null,2207,2254]
[null,1546,24364,"Holzdorf",-7.9,9.1,21,2,null,null,null,-8,null,null,2194,2299]
[null,1547,24366,"Loose",-8.1,9.1,22,2,null,null,null,-8,null,null,2221,2308]
[null,1548,24367,"Osterby",-8.9,9,18,2,null,null,null,-9,null,null,2239,2248]
[null,1549,24369,"Waabs",-7.9,9,34,2,null,null,null,-8,null,null,2147,2250]
[null,1550,24376,"Kappeln",-7.1,9.1,31,2,null,null,null,-8,null,null,2186,2374]
[null,1551,24392,"Süderbrarup",-8.6,8.9,33,3,null,null,null,-9,null,null,2227,2265]
[null,1552,24395,"Gelting",-7.1,9.1999999999999993,4,2,null,null,null,-8,null,null,2206,2396]
[null,1553,24398,"Dörphof",-7.3,9.1999999999999993,5,2,null,null,null,-8,null,null,2175,2341]
[null,1554,24399,"Arnis, Marienhof",-7.5,9.1999999999999993,0,2,null,null,null,-8,null,null,2186,2332]
[null,1555,24401,"Böel",-8.6,8.9,24,3,null,null,null,-9,null,null,2214,2252]
[null,1556,24402,"Esgrus, Schrepperie",-7.8,9,40,2,null,null,null,-8,null,null,2208,2324]
[null,1557,24404,"Maasholm, Schleimünde",-6.8,9.3000000000000007,-2,"-",3,null,null,-8,null,null,2172,2391]
[null,1558,24405,"Mohrkirch, Rügge",-8.6,8.9,39,3,null,null,null,-9,null,null,2211,2248]
[null,1559,24407,"Rabenkirchen-Faulück",-8.5,9,31,2,null,null,null,-9,null,null,2208,2255]
[null,1560,24409,"Stoltebüll",-7.6,9,27,2,null,null,null,-8,null,null,2207,2344]
[null,1561,24534,"Neumünster",-8.8000000000000007,9.4,25,3,null,null,null,-9,null,null,2251,2270]
[null,1562,24536,"Neumünster",-9.1,9,27,3,null,null,null,-9,null,null,2241,2232]
[null,1563,24537,"Neumünster",-8.9,9.1,24,3,null,null,null,-9,null,null,2247,2256]
[null,1564,24539,"Neumünster",-9.1999999999999993,9.1999999999999993,19,3,null,null,null,-9,null,null,2253,2234]
[null,1565,24558,"Henstedt-Ulzburg",-10.1,9,30,3,null,null,null,-10,null,null,2177,2082]
[null,1566,24568,"Kaltenkirchen",-10,9.1,20,3,null,null,null,-10,null,null,2217,2128]
[null,1567,24576,"Bad Bramstedt",-9.6,9.1999999999999993,12,3,null,null,null,-10,null,null,2232,2178]
[null,1568,24582,"Bordesholm",-9,9,29,3,null,null,null,-9,null,null,2242,2242]
[null,1569,24589,"Nortorf",-9.1999999999999993,8.9,29,3,null,null,null,-9,null,null,2240,2221]
[null,1570,24594,"Hohenwestedt",-9.3000000000000007,8.9,54,3,null,null,null,-9,null,null,2204,2177]
[null,1571,24598,"Boostedt",-9.8000000000000007,8.9,54,3,null,null,null,-10,null,null,2246,2174]
[null,1572,24601,"Wankendorf",-9.1999999999999993,8.8000000000000007,43,3,null,null,null,-9,null,null,2230,2212]
[null,1573,24610,"Trappenkamp",-9.8000000000000007,8.9,39,3,null,null,null,-10,null,null,2236,2164]
[null,1574,24613,"Aukrug, Wiedenborstel",-9.3000000000000007,9,17,3,null,null,null,-9,null,null,2222,2195]
[null,1575,24616,"Brokstedt",-9.6,9.1,14,3,null,null,null,-10,null,null,2223,2169]
[null,1576,24619,"Börnhöved",-9.6,8.9,40,3,null,null,null,-10,null,null,2236,2181]
[null,1577,24620,"Bönebüttel",-9.3000000000000007,9,26,3,null,null,null,-9,null,null,2248,2220]
[null,1578,24622,"Gnutz",-9,9,20,3,null,null,null,-9,null,null,2242,2242]
[null,1579,24623,"Großenaspe",-9.6999999999999993,9,31,3,null,null,null,-10,null,null,2250,2186]
[null,1580,24625,"Großharrie",-9.1,8.9,27,3,null,null,null,-9,null,null,2236,2227]
[null,1581,24626,"Groß Kummerfeld",-9.6999999999999993,9,26,3,null,null,null,-10,null,null,2247,2183]
[null,1582,24628,"Hartenholm",-10,9,26,3,null,null,null,-10,null,null,2244,2154]
[null,1583,24629,"Kisdorf",-10,8.9,72,3,null,null,null,-10,null,null,2185,2098]
[null,1584,24631,"Langwedel",-9.1,8.9,25,3,null,null,null,-9,null,null,2209,2200]
[null,1585,24632,"Lentföhrden",-9.9,9,27,3,null,null,null,-10,null,null,2221,2141]
[null,1586,24634,"Padenstedt",-9.6,9.1,14,3,null,null,null,-10,null,null,2245,2190]
[null,1587,24635,"Rickling",-10.199999999999999,8.9,35,3,null,null,null,-10,null,null,2238,2131]
[null,1588,24637,"Schillsdorf",-9.1,8.8000000000000007,48,3,null,null,null,-9,null,null,2235,2226]
[null,1589,24638,"Schmalensee",-9.8000000000000007,8.8000000000000007,51,3,null,null,null,-10,null,null,2229,2157]
[null,1590,24640,"Schmalfeld",-9.9,9,22,3,null,null,null,-10,null,null,2246,2165]
[null,1591,24641,"Sievershütten",-10.3,9.1,24,3,null,null,null,-10,null,null,2231,2116]
[null,1592,24643,"Struvenhütten",-10.1,9.1,21,3,null,null,null,-10,null,null,2231,2133]
[null,1593,24644,"Timmaspe",-9,9,24,3,null,null,null,-9,null,null,2244,2244]
[null,1594,24646,"Warder",-9.1999999999999993,8.9,24,3,null,null,null,-9,null,null,2237,2219]
[null,1595,24647,"Wasbek",-9.3000000000000007,9,17,3,null,null,null,-9,null,null,2234,2206]
[null,1596,24649,"Wiemersdorf",-9.6,9,32,3,null,null,null,-10,null,null,2248,2193]
[null,1597,24768,"Rendsburg",-8.6,9.3000000000000007,7,3,null,null,null,-9,null,null,2242,2280]
[null,1598,24782,"Büdelsdorf, Rickert",-9,9,12,3,null,null,null,-9,null,null,2241,2241]
[null,1599,24783,"Osterrönfeld",-8.9,9,9,3,null,null,null,-9,null,null,2238,2247]
[null,1600,24784,"Westerrönfeld",-8.9,9,5,3,null,null,null,-9,null,null,2242,2251]
[null,1601,24787,"Fockbek",-8.9,9,10,3,null,null,null,-9,null,null,2247,2256]
[null,1602,24790,"Schacht-Audorf",-9,9,16,3,null,null,null,-9,null,null,2233,{"$f":"ROUND(O1607*24/(15-E1607),0)","v":2233}]
[null,1603,24791,"Alt Duvenstedt",-9,9,7,3,null,null,null,-9,null,null,2243,2243]
[null,1604,24793,"Bargstedt, Brammer, Oldenbüttel",-9.1999999999999993,8.9,27,3,null,null,null,-9,null,null,2238,2220]
[null,1605,24794,"Borgstedt",-9,9,14,3,null,null,null,-9,null,null,2238,2238]
[null,1606,24796,"Bredenbek",-8.6,9,12,3,null,null,null,-9,null,null,2217,2255]
[null,1607,24797,"Breiholz, Tackesdorf",-8.9,9.1,1,3,null,null,null,-9,null,null,2230,2239]
[null,1608,24799,"Meggerdorf, Friedrichsholm, Friedrichsgraben u.a.",-9,9.1,-2,3,null,null,null,-9,null,null,2228,2228]
[null,1609,24800,"Elsdorf-Westermühlen",-9,9,11,3,null,null,null,-9,null,null,2235,2235]
[null,1610,24802,"Emkendorf",-9.1,9,11,3,null,null,null,-9,null,null,2237,2228]
[null,1611,24803,"Erfde",-8.9,9,12,3,null,null,null,-9,null,null,2208,2217]
[null,1612,24805,"Hamdorf",-8.8000000000000007,9,4,3,null,null,null,-9,null,null,2228,2247]
[null,1613,24806,"Hohn",-9,9,0,3,null,null,null,-9,null,null,2245,2245]
[null,1614,24808,"Jevenstedt",-8.8000000000000007,9,5,3,null,null,null,-9,null,null,2236,2255]
[null,1615,24809,"Nübbel",-8.9,9,0,3,null,null,null,-9,null,null,2235,2244]
[null,1616,24811,"Owschlag u.a.",-9,9,12,3,null,null,null,-9,null,null,2248,2248]
[null,1617,24813,"Schülp bei Rendsburg",-8.8000000000000007,9.1,-2,3,null,null,null,-9,null,null,2232,2251]
[null,1618,24814,"Sehestedt",-8.6999999999999993,9,10,3,null,null,null,-9,null,null,2234,2262]
[null,1619,24816,"Hamweddel",-8.9,8.9,24,3,null,null,null,-9,null,null,2216,2225]
[null,1620,24817,"Tetenhusen",-9,9,1,3,null,null,null,-9,null,null,2238,2238]
[null,1621,24819,"Todenbüttel",-9.1,8.9,44,3,null,null,null,-9,null,null,2208,2199]
[null,1622,24837,"Schleswig",-8.6999999999999993,9.1,25,3,null,null,null,-9,null,null,2243,2271]
[null,1623,24848,"Kropp u.a.",-9.1,9,11,3,null,null,null,-9,null,null,2249,2240]
[null,1624,24850,"Schuby",-8.8000000000000007,9,20,3,null,null,null,-9,null,null,2246,2265]
[null,1625,24852,"Eggebek, Langstedt, Sollerup, Süderhackstedt",-9,9,12,3,null,null,null,-9,null,null,2225,2225]
[null,1626,24855,"Bollingstedt, Jübek",-8.9,9,13,3,null,null,null,-9,null,null,2235,2244]
[null,1627,24857,"Fahrdorf",-8.8000000000000007,8.9,27,3,null,null,null,-9,null,null,2246,2265]
[null,1628,24860,"Böklund u.a.",-8.6999999999999993,8.8000000000000007,42,3,null,null,null,-9,null,null,2232,2260]
[null,1629,24861,"Bergenhusen",-8.9,9,18,3,null,null,null,-9,null,null,2224,2233]
[null,1630,24863,"Börm",-9.1,9.1,-2,3,null,null,null,-9,null,null,2232,2223]
[null,1631,24864,"Brodersby, Goltoft",-8.8000000000000007,9,14,3,null,null,null,-9,null,null,2241,2260]
[null,1632,24866,"Busdorf",-9,9,23,3,null,null,null,-9,null,null,2247,2247]
[null,1633,24867,"Dannewerk",-9.1999999999999993,9,21,3,null,null,null,-9,null,null,2248,2229]
[null,1634,24869,"Dörpstedt",-9,9.1,-1,3,null,null,null,-9,null,null,2231,2231]
[null,1635,24870,"Ellingstedt",-9.1,9,7,3,null,null,null,-9,null,null,2247,2238]
[null,1636,24872,"Groß Rheide",-9.1999999999999993,9,7,3,null,null,null,-9,null,null,2248,2229]
[null,1637,24873,"Havetoft",-8.6,8.9,25,3,null,null,null,-9,null,null,2227,2265]
[null,1638,24876,"Hollingstedt",-9.1,9.1,0,3,null,null,null,-9,null,null,2234,2225]
[null,1639,24878,"Jagel, Lottorf",-9.1999999999999993,9,15,3,null,null,null,-9,null,null,2249,2230]
[null,1640,24879,"Idstedt",-8.6999999999999993,8.8000000000000007,57,3,null,null,null,-9,null,null,2237,2265]
[null,1641,24881,"Nübel",-8.8000000000000007,8.9,33,3,null,null,null,-9,null,null,2245,2264]
[null,1642,24882,"Schaalby, Geelbek",-9,9.1,1,3,null,null,null,-9,null,null,2246,2246]
[null,1643,24884,"Selk, Geltdorf, Hahnekrug",-9.1,9,19,3,null,null,null,-9,null,null,2247,2238]
[null,1644,24885,"Sieverstedt",-8.6999999999999993,8.9,33,3,null,null,null,-9,null,null,2229,2257]
[null,1645,24887,"Silberstedt, Schwittschau",-9,9,5,3,null,null,null,-9,null,null,2230,2230]
[null,1646,24888,"Steinfeld",-8.6999999999999993,8.9,21,3,null,null,null,-9,null,null,2233,2261]
[null,1647,24890,"Stolk",-8.8000000000000007,8.8000000000000007,43,3,null,null,null,-9,null,null,2235,2254]
[null,1648,24891,"Struxdorf, Schnarup-Thumby",-8.6999999999999993,8.9,30,3,null,null,null,-9,null,null,2229,2257]
[null,1649,24893,"Taarstedt",-8.8000000000000007,9,17,3,null,null,null,-9,null,null,2236,2255]
[null,1650,24894,"Tolk, Twedt",-8.8000000000000007,8.9,22,3,null,null,null,-9,null,null,2237,2256]
[null,1651,24896,"Treia, Ahrenviölfeld",-9,9,4,3,null,null,null,-9,null,null,2224,2224]
[null,1652,24897,"Ulsnis",-8.8000000000000007,9.1,2,3,null,null,null,-9,null,null,2234,2253]
[null,1653,24899,"Wohlde",-8.9,9,17,3,null,null,null,-9,null,null,2228,2237]
[null,1654,24937,"Flensburg",-7.5,9.4,41,2,null,null,null,-8,null,null,2204,2351]
[null,1655,24939,"Flensburg",-7.8,9,46,2,null,null,null,-8,null,null,2203,2319]
[null,1656,24941,"Flensburg",-7.9,9,36,2,null,null,null,-8,null,null,2209,2315]
[null,1657,24943,"Flensburg, Tastrup",-7.9,9,40,2,null,null,null,-8,null,null,2204,2310]
[null,1658,24944,"Flensburg",-8,9,46,2,null,null,null,-8,null,null,2195,2290]
[null,1659,24955,"Harrislee",-8.1,8.8000000000000007,49,3,null,null,null,-8,null,null,2206,2292]
[null,1660,24960,"Glücksburg, Munkbrarup",-8.1,9.1,17,2,null,null,null,-8,null,null,2195,2281]
[null,1661,24963,"Tarp",-8.6999999999999993,8.9,23,3,null,null,null,-9,null,null,2225,2253]
[null,1662,24966,"Sörup",-8.1,8.8000000000000007,53,2,null,null,null,-8,null,null,2207,2293]
[null,1663,24969,"Großenwiehe, Lindewitt",-9.1,8.8000000000000007,28,3,null,null,null,-9,null,null,2200,2191]
[null,1664,24972,"Steinberg, Steinbergkirche",-7.6,9,35,2,null,null,null,-8,null,null,2206,2343]
[null,1665,24975,"Husby",-8,8.9,40,3,null,null,null,-8,null,null,2209,2305]
[null,1666,24976,"Handewitt",-8.1,8.9,37,3,null,null,null,-8,null,null,2214,{"$f":"ROUND(O1671*24/(15-E1671),0)","v":2300}]
[null,1667,24977,"Langballig",-8.1,9,29,2,null,null,null,-8,null,null,2200,2286]
[null,1668,24980,"Schafflund, Meyn u.a",-8.9,8.8000000000000007,14,3,null,null,null,-9,null,null,2206,2215]
[null,1669,24983,"Handewitt",-8.4,8.9,31,3,null,null,null,-8,null,null,2215,2272]
[null,1670,24986,"Mittelangeln",-8.6999999999999993,8.8000000000000007,42,3,null,null,null,-9,null,null,2224,2252]
[null,1671,24988,"Oeversee",-8.6,8.9,35,3,null,null,null,-9,null,null,2220,2258]
[null,1672,24989,"Dollerup",-7.9,9,29,2,null,null,null,-8,null,null,2204,2310]
[null,1673,24991,"Großsolt",-8.6,8.9,30,2,null,null,null,-9,null,null,2219,2257]
[null,1674,24992,"Jörl",-8.9,8.9,26,3,null,null,null,-9,null,null,2218,2227]
[null,1675,24994,"Medelby",-8.9,8.8000000000000007,28,3,null,null,null,-9,null,null,2208,2217]
[null,1676,24996,"Sterup",-8,8.9,41,2,null,null,null,-8,null,null,2208,2304]
[null,1677,24997,"Wanderup",-8.8000000000000007,8.9,22,3,null,null,null,-9,null,null,2200,2218]
[null,1678,24999,"Wees",-8.1,8.9,42,2,null,null,null,-8,null,null,2196,2282]
[null,1679,25335,"Elmshorn",-9.9,9.3000000000000007,-3,1,null,null,null,-10,null,null,2144,2067]
[null,1680,25336,"Elmshorn",-9.9,9.1999999999999993,11,1,null,null,null,-10,null,null,2144,2067]
[null,1681,25337,"Elmshorn",-9.9,9.1999999999999993,13,3,null,null,null,-10,null,null,2152,2074]
[null,1682,25348,"Glückstadt",-9.1,9.4,-1,1,null,null,null,-9,null,null,2146,2137]
[null,1683,25355,"Barmstedt",-9.9,9.1,13,3,null,null,null,-10,null,null,2171,2093]
[null,1684,25358,"Horst",-9.9,9.1999999999999993,3,1,null,null,null,-10,null,null,2181,2102]
[null,1685,25361,"Krempe, Grevenkop, Süderau, Muchelndorf",-9.6999999999999993,9.3000000000000007,-2,1,null,null,null,-10,null,null,2151,2090]
[null,1686,25364,"Brande-Hörnerkirchen",-10,9.1,9,3,null,null,null,-10,null,null,2182,2095]
[null,1687,25365,"Klein Offenseth-Sparrieshoop",-9.8000000000000007,9.1999999999999993,9,3,null,null,null,-10,null,null,2184,2114]
[null,1688,25368,"Kiebitzreihe",-9.9,9.3000000000000007,-2,1,null,null,null,-10,null,null,2164,2086]
[null,1689,25370,"Seester",-9.9,9.3000000000000007,-2,1,null,null,null,-10,null,null,2145,2067]
[null,1690,25371,"Seestermühe",-9.5,9.3000000000000007,0,1,null,null,null,-10,null,null,2139,2095]
[null,1691,25373,"Ellerhoop",-9.9,9.1999999999999993,5,3,null,null,null,-10,null,null,2159,2081]
[null,1692,25376,"Borsfleth",-9.1999999999999993,9.3000000000000007,-3,1,null,null,null,-9,null,null,2148,2130]
[null,1693,25377,"Kollmar, Pagensand",-9.3000000000000007,9.3000000000000007,-3,1,null,null,null,-9,null,null,2140,2114]
[null,1694,25379,"Herzhorn, Kamerlanderdeich",-9.6999999999999993,9.3000000000000007,-4,1,null,null,null,-10,null,null,2135,2074]
[null,1695,25421,"Pinneberg",-9.5,9.3000000000000007,8,3,null,null,null,-10,null,null,2143,2099]
[null,1696,25436,"Uetersen",-9.3000000000000007,9.6,6,1,null,null,null,-9,null,null,2141,2115]
[null,1697,25451,"Quickborn",-10.3,9.1,19,3,null,null,null,-10,null,null,2176,2064]
[null,1698,25462,"Rellingen",-10.1,9.1999999999999993,12,3,null,null,null,-10,null,null,2126,2033]
[null,1699,25469,"Halstenbek",-9.9,9.1999999999999993,17,3,null,null,null,-10,null,null,2119,2042]
[null,1700,25474,"Ellerbek",-10.199999999999999,9.1,13,3,null,null,null,-10,null,null,2138,2036]
[null,1701,25479,"Ellerau",-10.3,9,27,3,null,null,null,-10,null,null,2175,2063]
[null,1702,25482,"Appen",-9.8000000000000007,9.1999999999999993,4,1,null,null,null,-10,null,null,2141,2072]
[null,1703,25485,"Hemdingen",-10.3,9,21,3,null,null,null,-10,null,null,2178,2066]
[null,1704,25486,"Alveslohe",-10.3,9,32,3,null,null,null,-10,null,null,2172,2060]
[null,1705,25488,"Holm",-9.8000000000000007,9.1999999999999993,15,1,null,null,null,-10,null,null,2132,2063]
[null,1706,25489,"Haseldorf",-9.8000000000000007,9.3000000000000007,-1,1,null,null,null,-10,null,null,2130,2061]
[null,1707,25491,"Hetlingen",-9.9,9.3000000000000007,0,1,null,null,null,-10,null,null,2109,2033]
[null,1708,25492,"Heist",-9.8000000000000007,9.1999999999999993,9,1,null,null,null,-10,null,null,2135,2066]
[null,1709,25494,"Borstel-Hohenraden",-10.1,9.1,8,3,null,null,null,-10,null,null,2163,2068]
[null,1710,25495,"Kummerfeld",-9.9,9.1,12,3,null,null,null,-10,null,null,2155,2077]
[null,1711,25497,"Prisdorf",-9.8000000000000007,9.1999999999999993,3,3,null,null,null,-10,null,null,2148,2079]
[null,1712,25499,"Tangstedt",-10.1,9.1999999999999993,5,3,null,null,null,-10,null,null,2159,2064]
[null,1713,25524,"Itzehoe",-9.6999999999999993,9.1,38,1,null,null,null,-10,null,null,2161,2100]
[null,1714,25541,"Brunsbüttel",-8.3000000000000007,9.5,-1,1,null,null,null,-8,null,null,2145,2209]
[null,1715,25548,"Kellinghusen",-9.6,9.1,20,3,null,null,null,-10,null,null,2199,2145]
[null,1716,25551,"Hohenlockstedt",-9.6,9.1,23,3,null,null,null,-10,null,null,2170,2117]
[null,1717,25554,"Wilster",-9.3000000000000007,9.3000000000000007,-3,1,null,null,null,-9,null,null,2151,2124]
[null,1718,25557,"Hanerau-Hademarschen, Seefeld u.a.",-9.1,9,31,1,null,null,null,-9,null,null,2184,2175]
[null,1719,25560,"Schenefeld",-9.6,9.1,24,1,null,null,null,-10,null,null,2175,2122]
[null,1720,25563,"Wrist",-9.8000000000000007,9.1999999999999993,5,3,null,null,null,-10,null,null,2206,2135]
[null,1721,25566,"Lägerdorf",-9.6,9.1999999999999993,2,1,null,null,null,-10,null,null,2173,2120]
[null,1722,25569,"Kremperheide",-9.3000000000000007,9.3000000000000007,-4,1,null,null,null,-9,null,null,2151,2124]
[null,1723,25572,"Sankt Margarethen",-9.1,9.4,-5,1,null,null,null,-9,null,null,2144,2135]
[null,1724,25573,"Beidenfleth, Klein Kampen",-9.1999999999999993,9.3000000000000007,-2,1,null,null,null,-9,null,null,2148,2130]
[null,1725,25575,"Beringstedt",-9.3000000000000007,9,24,1,null,null,null,-9,null,null,2198,2171]
[null,1726,25576,"Brokdorf",-9.1,9.4,-3,1,null,null,null,-9,null,null,2142,2133]
[null,1727,25578,"Dägeling, Neuenbrook",-9.5,9.3000000000000007,-6,1,null,null,null,-10,null,null,2154,2110]
[null,1728,25579,"Fitzbek",-9.6999999999999993,9.1,8,3,null,null,null,-10,null,null,2212,2149]
[null,1729,25581,"Hennstedt",-9.6,8.9,63,3,null,null,null,-10,null,null,2202,2148]
[null,1730,25582,"Hohenaspe",-9.6,9.1,12,1,null,null,null,-10,null,null,2170,{"$f":"ROUND(O1735*24/(15-E1735),0)","v":2117}]
[null,1731,25584,"Holstenniendorf",-9.4,9.1,14,1,null,null,null,-9,null,null,2174,2138]
[null,1732,25585,"Lütjenwestedt, Tackesdorf",-9.1,9,16,3,null,null,null,-9,null,null,2207,2198]
[null,1733,25587,"Münsterdorf",-9.4,9.1999999999999993,6,1,null,null,null,-9,null,null,2157,2122]
[null,1734,25588,"Oldendorf",-9.4,9.1999999999999993,3,1,null,null,null,-9,null,null,2160,2125]
[null,1735,25590,"Osterstedt",-9.4,9.1,10,3,null,null,null,-9,null,null,2174,2138]
[null,1736,25591,"Ottenbüttel",-9.5,9.1,19,1,null,null,null,-10,null,null,2162,2118]
[null,1737,25593,"Reher",-9.6,9,24,1,null,null,null,-10,null,null,2172,2119]
[null,1738,25594,"Vaale",-9.4,9.1999999999999993,0,1,null,null,null,-9,null,null,2161,2126]
[null,1739,25596,"Wacken",-9.3000000000000007,9.1999999999999993,4,1,null,null,null,-9,null,null,2180,2153]
[null,1740,25597,"Westermoor",-9.4,9.1999999999999993,-4,3,null,null,null,-9,null,null,2173,2137]
[null,1741,25599,"Wewelsfleth",-9.1,9.4,-3,1,null,null,null,-9,null,null,2144,2135]
[null,1742,25693,"Sankt Michaelisdonn,Gudendorf,Volsemenhusen,Trennewurth",-9.1,9.3000000000000007,-3,1,null,null,null,-9,null,null,2155,2146]
[null,1743,25704,"Meldorf",-9.1,9.3000000000000007,0,1,null,null,null,-9,null,null,2170,2161]
[null,1744,25709,"Kronprinzenkoog, Marne u.a.",-9,9.4,-1,1,null,null,null,-9,null,null,2107,2107]
[null,1745,25712,"Burg (Dithmarschen)",-9.1999999999999993,9.1,29,1,null,null,null,-9,null,null,2153,2135]
[null,1746,25715,"Eddelak, Averlak, Dingen, Ramhusen",-8.8000000000000007,9.4,-2,1,null,null,null,-9,null,null,2151,2169]
[null,1747,25718,"Friedrichskoog",-9,9.4,0,1,null,null,null,-9,null,null,2105,2105]
[null,1748,25719,"Barlt, Busenwurth",-9.1,9.3000000000000007,-1,1,null,null,null,-9,null,null,2161,2152]
[null,1749,25721,"Eggstedt",-9.3000000000000007,9.1999999999999993,10,1,null,null,null,-9,null,null,2171,2144]
[null,1750,25724,"Neufeld, Schmedeswurth",-8.1999999999999993,9.5,-2,1,null,null,null,-8,null,null,2095,2167]
[null,1751,25725,"Schafstedt, Weidenhof, Bornholt",-9.3000000000000007,9.1,13,1,null,null,null,-9,null,null,2171,2144]
[null,1752,25727,"Süderhastedt",-9.1,9.1999999999999993,5,1,null,null,null,-9,null,null,2157,2148]
[null,1753,25729,"Windbergen",-9.3000000000000007,9.1999999999999993,5,1,null,null,null,-9,null,null,2158,2131]
[null,1754,25746,"Heide u.a.",-8.8000000000000007,9.1,12,1,null,null,null,-9,null,null,2183,2201]
[null,1755,25761,"Büsum",-8.6,9.4,0,1,null,null,null,-9,null,null,2101,2137]
[null,1756,25764,"Wesselburen",-8.8000000000000007,9.3000000000000007,0,1,null,null,null,-9,null,null,2151,2169]
[null,1757,25767,"Albersdorf",-9,8.8000000000000007,57,1,null,null,null,-9,null,null,2217,2217]
[null,1758,25770,"Hemmingstedt",-9.1999999999999993,9.1999999999999993,2,1,null,null,null,-9,null,null,2177,2159]
[null,1759,25774,"Lunden",-8.4,9.1999999999999993,-1,1,null,null,null,-8,null,null,2179,2235]
[null,1760,25776,"Sankt Annen, Rehm-Flehde-Bargen",-8.8000000000000007,9.1,-4,1,null,null,null,-9,null,null,2181,2199]
[null,1761,25779,"Hennstedt",-8.6,9,8,1,null,null,null,-9,null,null,2184,2221]
[null,1762,25782,"Tellingstedt",-8.8000000000000007,9,12,1,null,null,null,-9,null,null,2214,2233]
[null,1763,25785,"Nordhastedt",-8.9,9.1,3,1,null,null,null,-9,null,null,2182,2191]
[null,1764,25786,"Dellstedt",-8.8000000000000007,9.1,-1,3,null,null,null,-9,null,null,2218,2237]
[null,1765,25788,"Delve",-8.8000000000000007,9.1,0,1,null,null,null,-9,null,null,2216,2235]
[null,1766,25791,"Linden, Barkenholm",-8.6999999999999993,9.1,-1,1,null,null,null,-9,null,null,2203,2231]
[null,1767,25792,"Neuenkirchen",-8.5,9.1999999999999993,0,1,null,null,null,-9,null,null,2156,2202]
[null,1768,25794,"Pahlen",-8.8000000000000007,9.1,-2,1,null,null,null,-9,null,null,2215,2234]
[null,1769,25795,"Weddingstedt",-8.8000000000000007,9.1,-1,1,null,null,null,-9,null,null,2180,2198]
[null,1770,25797,"Wöhrden",-9.1,9.1999999999999993,1,1,null,null,null,-9,null,null,2176,2167]
[null,1771,25799,"Wrohm",-8.8000000000000007,9,13,3,null,null,null,-9,null,null,2220,2239]
[null,1772,25813,"Husum, Schwesing u.a.",-8.8000000000000007,9.1,-4,1,null,null,null,-9,null,null,2186,2204]
[null,1773,25821,"Bredstedt, Breklum u.a.",-9,9,0,1,null,null,null,-9,null,null,2177,2177]
[null,1774,25826,"Sankt Peter-Ording",-8,9.4,4,1,null,null,null,-8,null,null,2102,2193]
[null,1775,25832,"Tönning",-8.4,9.3000000000000007,0,1,null,null,null,-8,null,null,2136,2191]
[null,1776,25836,"Garding, Osterhever, Poppenbüll u.a.",-8.1999999999999993,9.3000000000000007,-1,1,null,null,null,-8,null,null,2125,2198]
[null,1777,25840,"Friedrichstadt, Koldenbüttel u.a.",-8.8000000000000007,9.1,0,1,null,null,null,-9,null,null,2197,2215]
[null,1778,25842,"Langenhorn, Ockholm u.a.",-9,8.9,-3,1,null,null,null,-9,null,null,2212,2212]
[null,1779,25845,"Nordstrand, Elisabeth-Sophien-Koog, Südfall",-8.1999999999999993,9.1999999999999993,-1,1,null,null,null,-8,null,null,2164,2239]
[null,1780,25849,"Süderoog, Pellworm",-7,9.4,-2,1,null,null,null,-8,null,null,2153,2349]
[null,1781,25850,"Behrendorf, Bondelum",-8.9,8.9,14,3,null,null,null,-9,null,null,2213,2222]
[null,1782,25852,"Bordelum",-8.8000000000000007,8.9,9,1,null,null,null,-9,null,null,2184,2202]
[null,1783,25853,"Ahrenshöft",-9.1,8.9,8,1,null,null,null,-9,null,null,2194,2185]
[null,1784,25855,"Haselund",-9,8.9,14,3,null,null,null,-9,null,null,2204,2204]
[null,1785,25856,"Hattstedt u.a.",-8.8000000000000007,9.1,-3,1,null,null,null,-9,null,null,2178,2196]
[null,1786,25858,"Högel",-9.1,8.9,6,1,null,null,null,-9,null,null,2199,2190]
[null,1787,25859,"Hallig Hooge",-6.6,9.4,-1,1,null,null,null,-8,null,null,2157,2397]
[null,1788,25860,"Horstedt",-8.9,9,6,1,null,null,null,-9,null,null,2178,2187]
[null,1789,25862,"Joldelund",-9,8.8000000000000007,16,1,null,null,null,-9,null,null,2199,2199]
[null,1790,25863,"Langeneß",-7.3,9.3000000000000007,0,1,2,null,null,-8,null,null,2169,2334]
[null,1791,25864,"Löwenstedt",-9.1,8.8000000000000007,20,3,null,null,null,-9,null,null,2209,2200]
[null,1792,25866,"Mildstedt",-9,9,7,1,null,null,null,-9,null,null,2190,2190]
[null,1793,25867,"Oland",-7.3,9.3000000000000007,0,1,2,null,null,-8,null,null,2181,2347]
[null,1794,25868,"Norderstapel",-8.8000000000000007,9.1,1,3,null,null,null,-9,null,null,2190,{"$f":"ROUND(O1799*24/(15-E1799),0)","v":2208}]
[null,1795,25869,"Habel, Gröde",-7.9,9.1,0,1,null,null,null,-8,null,null,2175,2279]
[null,1796,25870,"Oldenswort",-8.5,9.1999999999999993,2,1,null,null,null,-9,null,null,2153,2199]
[null,1797,25872,"Ostenfeld",-8.8000000000000007,8.8000000000000007,40,3,null,null,null,-9,null,null,2205,2224]
[null,1798,25873,"Rantrum",-9,8.9,15,3,null,null,null,-9,null,null,2196,2196]
[null,1799,25876,"Schwabstedt",-8.9,8.9,32,3,null,null,null,-9,null,null,2203,2212]
[null,1800,25878,"Drage, Seeth",-8.8000000000000007,9,3,1,null,null,null,-9,null,null,2202,2221]
[null,1801,25879,"Süderstapel",-8.9,9.1,0,3,null,null,null,-9,null,null,2221,2230]
[null,1802,25881,"Tating, Westerhever, Tümlauer Koog",-8.1999999999999993,9.3000000000000007,-1,1,null,null,null,-8,null,null,2113,2186]
[null,1803,25882,"Tetenbüll",-8.5,9.3000000000000007,-2,1,null,null,null,-9,null,null,2141,2187]
[null,1804,25884,"Viöl",-9,8.9,7,3,null,null,null,-9,null,null,2197,2197]
[null,1805,25885,"Wester-Ohrstedt",-8.9,8.9,30,3,null,null,null,-9,null,null,2210,2219]
[null,1806,25887,"Winnert",-9,9,4,3,null,null,null,-9,null,null,2204,2204]
[null,1807,25889,"Uelvesbüll, Witzwort",-8.6,9.1999999999999993,-4,1,null,null,null,-9,null,null,2159,2196]
[null,1808,25899,"Niebüll",-8.6,9,-1,1,null,null,null,-9,null,null,2191,2228]
[null,1809,25917,"Leck",-9.1999999999999993,8.8000000000000007,5,1,null,null,null,-9,null,null,2221,2203]
[null,1810,25920,"Risum-Lindholm, Stedesand",-9.1,8.9,0,1,null,null,null,-9,null,null,2211,2202]
[null,1811,25923,"Süderlügum, Braderup u.a.",-9.1,8.8000000000000007,10,1,null,null,null,-9,null,null,2202,2193]
[null,1812,25924,"Rodenäs",-7.6,9.1,0,1,null,null,null,-8,null,null,2162,2296]
[null,1813,25926,"Ladelund",-9,8.8000000000000007,20,3,null,null,null,-9,null,null,2222,2222]
[null,1814,25927,"Neukirchen, Aventoft",-8.5,9,-2,1,null,null,null,-9,null,null,2181,2227]
[null,1815,25938,"Föhr",-7.6,9.1999999999999993,0,1,null,null,null,-8,null,null,2139,2272]
[null,1816,25946,"Amrum",-6.6,9.4,16,1,null,null,null,-8,null,null,2131,2368]
[null,1817,25980,"Sylt",-6.9,9.4,0,1,2,null,null,-8,null,null,2123,2327]
[null,1818,25992,"List",-6.8,9.5,2,1,null,null,null,-8,null,null,2088,2299]
[null,1819,25996,"Wenningstedt-Braderup (Sylt)",-7,9.4,17,1,null,null,null,-8,null,null,2114,2306]
[null,1820,25997,"Hörnum (Sylt)",-7.1,9.3000000000000007,4,1,null,null,null,-8,null,null,2126,2309]
[null,1821,25999,"Kampen (Sylt)",-6.8,9.5,1,1,null,null,null,-8,null,null,2107,2320]
[null,1822,26121,"Oldenburg (Oldenburg)",-8.8000000000000007,10,9,3,null,null,null,-9,null,null,2036,2053]
[null,1823,26122,"Oldenburg",-8.8000000000000007,10,8,3,null,null,null,-9,null,null,2038,2055]
[null,1824,26123,"Oldenburg (Oldenburg)",-8.8000000000000007,9.9,8,3,null,null,null,-9,null,null,2038,2055]
[null,1825,26125,"Oldenburg (Oldenburg)",-9.5,9.5,15,3,null,null,null,-10,null,null,2038,1996]
[null,1826,26127,"Oldenburg (Oldenburg)",-8.8000000000000007,9.8000000000000007,11,3,null,null,null,-9,null,null,2034,2051]
[null,1827,26129,"Oldenburg (Oldenburg)",-9,9.6999999999999993,6,3,null,null,null,-9,null,null,2033,2033]
[null,1828,26131,"Oldenburg (Oldenburg)",-9.1,9.6999999999999993,2,3,null,null,null,-9,null,null,2036,2028]
[null,1829,26133,"Oldenburg (Oldenburg)",-8.8000000000000007,10,4,3,null,null,null,-9,null,null,2042,2059]
[null,1830,26135,"Oldenburg (Oldenburg)",-9.3000000000000007,9.6,4,3,null,null,null,-9,null,null,2043,2018]
[null,1831,26160,"Bad Zwischenahn",-9.5,9.6,8,3,null,null,null,-10,null,null,2020,1979]
[null,1832,26169,"Friesoythe",-9.5,9.6,5,3,null,null,null,-10,null,null,2008,1967]
[null,1833,26180,"Rastede",-9.4,9.6,3,1,null,null,null,-9,null,null,2034,2001]
[null,1834,26188,"Edewecht",-9.5,9.6,3,3,null,null,null,-10,null,null,2010,1969]
[null,1835,26197,"Großenkneten",-9.6,9.4,59,3,null,null,null,-10,null,null,2080,2029]
[null,1836,26203,"Wardenburg",-9.6,9.5,10,3,null,null,null,-10,null,null,2042,1992]
[null,1837,26209,"Hatten",-9.6,9.5,10,3,null,null,null,-10,null,null,2064,2014]
[null,1838,26215,"Wiefelstede",-9.6,9.5,10,1,null,null,null,-10,null,null,2028,1979]
[null,1839,26219,"Bösel",-9.6,9.6,5,3,null,null,null,-10,null,null,2011,1962]
[null,1840,26316,"Varel",-8.9,9.5,15,1,null,null,null,-9,null,null,1969,1977]
[null,1841,26340,"Zetel",-8.6999999999999993,9.5,5,1,null,null,null,-9,null,null,2009,2034]
[null,1842,26345,"Bockhorn",-9,9.6,3,1,null,null,null,-9,null,null,2004,2004]
[null,1843,26349,"Jade",-9,9.6999999999999993,-2,1,null,null,null,-9,null,null,1970,1970]
[null,1844,26382,"Wilhelmshaven",-7.8,9.9,0,1,null,null,null,-8,null,null,1989,2094]
[null,1845,26384,"Wilhelmshaven",-7.9,9.8000000000000007,1,1,null,null,null,-8,null,null,1967,2061]
[null,1846,26386,"Wilhelmshaven",-8.1999999999999993,9.6,2,1,null,null,null,-8,null,null,1985,2053]
[null,1847,26388,"Wilhelmshaven",-8.1999999999999993,9.6,-2,1,null,null,null,-8,null,null,1978,2046]
[null,1848,26389,"Wilhelmshaven",-8,9.6999999999999993,1,1,null,null,null,-8,null,null,1990,2077]
[null,1849,26409,"Wittmund",-8.6,9.6999999999999993,1,1,null,null,null,-9,null,null,2040,2075]
[null,1850,26419,"Schortens",-8.6,9.6,0,1,null,null,null,-9,null,null,1993,2027]
[null,1851,26427,"Esens, Neuharlingersiel u.a.",-8.1999999999999993,9.6999999999999993,0,1,null,null,null,-8,null,null,2021,2091]
[null,1852,26434,"Wangerland",-8.1,9.6,-2,1,null,null,null,-8,null,null,1993,2071]
[null,1853,26441,"Jever",-8.5,9.6,1,1,null,null,null,-9,null,null,2021,2064]
[null,1854,26446,"Friedeburg",-8.6999999999999993,9.5,3,1,null,null,null,-9,null,null,2018,2044]
[null,1855,26452,"Sande",-8.5,9.6,-2,1,null,null,null,-9,null,null,2004,2047]
[null,1856,26465,"Langeoog",-6.9,9.9,-1,1,null,null,null,-8,null,null,1989,2180]
[null,1857,26474,"Spiekeroog",-6.9,9.9,0,1,null,null,null,-8,null,null,1996,2187]
[null,1858,26486,"Wangerooge",-7.9,9.6999999999999993,3,1,null,null,null,-8,null,null,1972,{"$f":"ROUND(O1863*24/(15-E1863),0)","v":2067}]
[null,1859,26487,"Blomberg, Neuschoo",-8.5,9.6999999999999993,3,1,null,null,null,-9,null,null,2031,2074]
[null,1860,26489,"Ochtersum",-8.4,9.6999999999999993,5,1,null,null,null,-8,null,null,2024,2076]
[null,1861,26506,"Norden",-7.5,9.8000000000000007,-1,1,null,null,null,-8,null,null,1963,2094]
[null,1862,26524,"Hage, Halbemond u.a.",-7.5,9.8000000000000007,2,1,null,null,null,-8,null,null,1991,2124]
[null,1863,26529,"Upgant-Schott, Osteel u.a.",-8.6,9.6999999999999993,-3,3,null,null,null,-9,null,null,2008,2042]
[null,1864,26532,"Großheide",-8.4,9.6999999999999993,2,1,null,null,null,-8,null,null,2008,2059]
[null,1865,26548,"Norderney",-7.1,9.9,1,1,null,null,null,-8,null,null,1962,2131]
[null,1866,26553,"Dornum",-7.5,9.9,-2,1,null,null,null,-8,null,null,2007,2141]
[null,1867,26556,"Westerholt, Schweindorf u.a.",-8.3000000000000007,9.6999999999999993,0,1,null,null,null,-8,null,null,2017,2078]
[null,1868,26571,"Juist, Memmert",-7.3,9.9,6,1,2,null,null,-8,null,null,1932,2079]
[null,1869,26579,"Baltrum",-7.3,9.9,0,1,null,null,null,-8,null,null,1993,2145]
[null,1870,26603,"Aurich",-8.4,9.8000000000000007,7,3,null,null,null,-8,null,null,2026,2078]
[null,1871,26605,"Aurich",-8.6999999999999993,9.6,5,3,null,null,null,-9,null,null,2031,2057]
[null,1872,26607,"Aurich",-8.6999999999999993,9.6,6,3,null,null,null,-9,null,null,2030,2056]
[null,1873,26624,"Südbrookmerland",-9,9.6999999999999993,-1,3,null,null,null,-9,null,null,2017,2017]
[null,1874,26629,"Großefehn",-8.9,9.6,5,3,null,null,null,-9,null,null,2040,2049]
[null,1875,26632,"Ihlow",-9.1,9.6,-1,3,null,null,null,-9,null,null,2022,2014]
[null,1876,26639,"Wiesmoor",-8.9,9.5,16,3,null,null,null,-9,null,null,2032,2041]
[null,1877,26655,"Westerstede",-9.5,9.6,8,3,null,null,null,-10,null,null,2018,1977]
[null,1878,26670,"Uplengen",-9.3000000000000007,9.6,7,3,null,null,null,-9,null,null,2030,2005]
[null,1879,26676,"Barßel",-9.4,9.6,1,3,null,null,null,-9,null,null,2003,1970]
[null,1880,26683,"Saterland",-9.5,9.6,4,3,null,null,null,-10,null,null,1983,1943]
[null,1881,26689,"Apen",-9.3000000000000007,9.6,0,3,null,null,null,-9,null,null,2006,1981]
[null,1882,26721,"Emden",-8.9,9.6999999999999993,0,1,null,null,null,-9,null,null,2029,2037]
[null,1883,26723,"Emden",-9.1,9.6999999999999993,-2,1,null,null,null,-9,null,null,2000,1992]
[null,1884,26725,"Emden",-9.3000000000000007,9.6,-2,1,null,null,null,-9,null,null,2025,2000]
[null,1885,26736,"Krummhörn",-8.8000000000000007,9.6999999999999993,-1,1,null,null,null,-9,null,null,1988,2005]
[null,1886,26757,"Borkum","-","-",-2,1,4,null,null,-8,null,null,1931,{"$f":"ROUND(O1891*24/(15-E1891),0)","v":{"$error":"#VALUE!"}}]
[null,1887,26759,"Hinte",-9.3000000000000007,9.6,-1,1,null,null,null,-9,null,null,2023,1998]
[null,1888,26789,"Leer",-8.6999999999999993,9.9,2,3,null,null,null,-9,null,null,2005,2030]
[null,1889,26802,"Moormerland",-9.1,9.6999999999999993,-2,3,null,null,null,-9,null,null,2031,2023]
[null,1890,26810,"Westoverledingen",-9.3000000000000007,9.6,0,3,null,null,null,-9,null,null,2000,1975]
[null,1891,26817,"Rhauderfehn",-9.3000000000000007,9.6,3,3,null,null,null,-9,null,null,1997,1972]
[null,1892,26826,"Weener",-9.1,9.8000000000000007,-1,3,null,null,null,-9,null,null,2003,1995]
[null,1893,26831,"Bunde",-9.3000000000000007,9.6999999999999993,-3,1,null,null,null,-9,null,null,2024,1999]
[null,1894,26835,"Hesel, Neukamperfehn u.a.",-9.3000000000000007,9.5,12,3,null,null,null,-9,null,null,2031,2006]
[null,1895,26842,"Ostrhauderfehn",-9.4,9.6,1,3,null,null,null,-9,null,null,1996,1963]
[null,1896,26844,"Jemgum",-9.3000000000000007,9.6999999999999993,-4,1,null,null,null,-9,null,null,2028,2003]
[null,1897,26845,"Nortmoor",-9.3000000000000007,9.6,0,3,null,null,null,-9,null,null,2028,2003]
[null,1898,26847,"Detern",-9.3000000000000007,9.6,0,3,null,null,null,-9,null,null,1998,1973]
[null,1899,26849,"Filsum",-9.3000000000000007,9.6,3,3,null,null,null,-9,null,null,2026,2001]
[null,1900,26871,"Papenburg",-9.3000000000000007,9.6999999999999993,0,3,null,null,null,-9,null,null,1987,1962]
[null,1901,26892,"Dörpen, Lehe, u.a.",-9.3000000000000007,9.8000000000000007,3,3,null,null,null,-9,null,null,1989,1964]
[null,1902,26897,"Esterwegen u.a.",-9.6,9.6,31,3,null,null,null,-10,null,null,1985,1937]
[null,1903,26899,"Rhede (Ems)",-9.3000000000000007,9.6999999999999993,1,3,null,null,null,-9,null,null,2000,1975]
[null,1904,26901,"Lorup, Rastdorf",-9.4,9.6999999999999993,23,3,null,null,null,-9,null,null,1985,1952]
[null,1905,26903,"Surwold",-9.5,9.6999999999999993,7,3,null,null,null,-10,null,null,1987,1946]
[null,1906,26904,"Börger",-9.6,9.6,40,3,null,null,null,-10,null,null,1992,1943]
[null,1907,26906,"Dersum",-9.3000000000000007,9.8000000000000007,5,3,null,null,null,-9,null,null,1990,1965]
[null,1908,26907,"Walchum",-9.3000000000000007,9.8000000000000007,6,3,null,null,null,-9,null,null,1991,1966]
[null,1909,26909,"Neubörger, Neulehe",-9.4,9.6999999999999993,6,3,null,null,null,-9,null,null,1991,1958]
[null,1910,26919,"Brake",-9.1,9.6999999999999993,1,3,null,null,null,-9,null,null,2040,2032]
[null,1911,26931,"Elsfleth",-9.4,9.6,0,3,null,null,null,-9,null,null,2071,2037]
[null,1912,26935,"Stadland",-9.1,9.6999999999999993,2,1,null,null,null,-9,null,null,1973,1965]
[null,1913,26936,"Stadland",-9,9.6999999999999993,-1,1,null,null,null,-9,null,null,1972,1972]
[null,1914,26937,"Stadland",-8.6,9.6999999999999993,-2,1,null,null,null,-9,null,null,1971,2004]
[null,1915,26939,"Ovelgönne",-9.3000000000000007,9.6999999999999993,-2,3,null,null,null,-9,null,null,1971,1947]
[null,1916,26954,"Nordenham",-8.8000000000000007,9.8000000000000007,1,1,null,null,null,-9,null,null,1973,1990]
[null,1917,26969,"Butjadingen",-8.8000000000000007,9.6999999999999993,-1,1,null,null,null,-9,null,null,1971,1988]
[null,1918,27211,"Bassum",-9.6999999999999993,9.6,45,3,null,null,null,-10,null,null,2089,2030]
[null,1919,27232,"Sulingen",-9.9,9.8000000000000007,44,3,null,null,null,-10,null,null,2053,1979]
[null,1920,27239,"Twistringen",-9.6999999999999993,9.6,48,3,null,null,null,-10,null,null,2085,2026]
[null,1921,27243,"Harpstedt, Groß Ippener, Colnrade u.a.",-9.6,9.5,44,3,null,null,null,-10,null,null,2082,2031]
[null,1922,27245,"Bahrenborstel, Barenburg, Kirchdorf",-10.3,10,46,3,null,null,null,-10,null,null,2045,{"$f":"ROUND(O1927*24/(15-E1927),0)","v":1940}]
[null,1923,27246,"Borstel",-10.3,10,34,3,null,null,null,-10,null,null,2048,1943]
[null,1924,27248,"Ehrenburg",-9.8000000000000007,9.6999999999999993,44,3,null,null,null,-10,null,null,2069,2002]
[null,1925,27249,"Maasen, Mellinghausen",-10.199999999999999,9.9,48,3,null,null,null,-10,null,null,2053,1955]
[null,1926,27251,"Neuenkirchen, Scholen",-10,9.6999999999999993,52,3,null,null,null,-10,null,null,2072,1989]
[null,1927,27252,"Schwaförden",-10.1,9.6999999999999993,55,3,null,null,null,-10,null,null,2068,1977]
[null,1928,27254,"Siedenburg, Staffhorst",-10.3,9.9,45,3,null,null,null,-10,null,null,2058,1952]
[null,1929,27257,"Affinghausen und Sudwalde",-9.8000000000000007,9.6,51,3,null,null,null,-10,null,null,2071,2004]
[null,1930,27259,"Freistatt, Varrel, Wehrbleck",-9.8000000000000007,9.9,39,3,null,null,null,-10,null,null,2055,1989]
[null,1931,27283,"Verden",-10.1,9.6,21,3,null,null,null,-10,null,null,2076,1985]
[null,1932,27299,"Langwedel",-9.8000000000000007,9.5,13,3,null,null,null,-10,null,null,2105,2037]
[null,1933,27305,"Bruchhausen-Vilsen, Süstedt",-10,9.6,57,3,null,null,null,-10,null,null,2066,1983]
[null,1934,27308,"Kirchlinteln",-10.3,9.5,39,3,null,null,null,-10,null,null,2120,2011]
[null,1935,27313,"Dörverden",-10.5,9.6,23,3,null,null,null,-11,null,null,2066,1944]
[null,1936,27318,"Hoya, Hoyerhagen, Hilgermissen",-10.199999999999999,9.6999999999999993,13,3,null,null,null,-10,null,null,2057,1959]
[null,1937,27321,"Thedinghausen, Emtinghausen",-9.6,9.6,6,3,null,null,null,-10,null,null,2087,2036]
[null,1938,27324,"Eystrup, Hassel u.a.",-10.5,9.8000000000000007,17,3,null,null,null,-11,null,null,2038,1918]
[null,1939,27327,"Martfeld, Schwarme",-9.6,9.6999999999999993,12,3,null,null,null,-10,null,null,2063,2013]
[null,1940,27330,"Asendorf",-10.3,9.8000000000000007,51,3,null,null,null,-10,null,null,2059,1953]
[null,1941,27333,"Schweringen, Warpe, Bücken",-10.6,9.8000000000000007,25,3,null,null,null,-11,null,null,2053,1925]
[null,1942,27336,"Rethem (Aller), Häuslingen, Frankenfeld",-10.6,9.8000000000000007,18,3,null,null,null,-11,null,null,2065,1936]
[null,1943,27337,"Blender",-9.8000000000000007,9.6999999999999993,8,3,null,null,null,-10,null,null,2073,2006]
[null,1944,27339,"Riede",-9.5,9.6,7,3,null,null,null,-10,null,null,2083,2040]
[null,1945,27356,"Rotenburg",-10.1,9.4,30,3,null,null,null,-10,null,null,2130,2037]
[null,1946,27367,"Sottrum, Reeßum, Bötersen u.a.",-9.9,9.4,20,3,null,null,null,-10,null,null,2113,2037]
[null,1947,27374,"Visselhövede",-10.5,9.3000000000000007,55,3,null,null,null,-11,null,null,2182,2054]
[null,1948,27383,"Scheeßel",-10.3,9.4,28,3,null,null,null,-10,null,null,2142,2032]
[null,1949,27386,"Bothel, Kirchwalsede u.a.",-10.1,9.4,23,3,null,null,null,-10,null,null,2146,2052]
[null,1950,27389,"Fintel, Lauenbrück u.a.",-10.4,9.3000000000000007,42,3,null,null,null,-10,null,null,2142,2024]
[null,1951,27404,"Zeven, Elsdorf",-10,9.1999999999999993,43,3,null,null,null,-10,null,null,2130,2045]
[null,1952,27412,"Tarmstedt, Breddorf u.a.",-10,9.1999999999999993,52,3,null,null,null,-10,null,null,2133,2048]
[null,1953,27419,"Sittensen u.a.",-10.1,9.1999999999999993,31,3,null,null,null,-10,null,null,2121,2028]
[null,1954,27432,"Bremervörde",-9.6999999999999993,9.3000000000000007,3,3,null,null,null,-10,null,null,2141,2080]
[null,1955,27442,"Gnarrenburg",-9.8000000000000007,9.3000000000000007,6,3,null,null,null,-10,null,null,2134,2065]
[null,1956,27446,"Selsingen",-10.1,9.1999999999999993,38,3,null,null,null,-10,null,null,2130,2037]
[null,1957,27449,"Kutenholz",-10,9.1999999999999993,20,3,null,null,null,-10,null,null,2128,2043]
[null,1958,27472,"Cuxhaven",-7.7,9.8000000000000007,-2,1,null,null,null,-8,null,null,2017,2133]
[null,1959,27474,"Cuxhaven",-7.9,9.6999999999999993,-1,1,null,null,null,-8,null,null,2021,2118]
[null,1960,27476,"Cuxhaven",-8.4,9.6,7,1,null,null,null,-8,null,null,2056,2109]
[null,1961,27478,"Cuxhaven",-8.8000000000000007,9.6,0,1,null,null,null,-9,null,null,2084,2102]
[null,1962,27498,"Helgoland","-","-",0,"-","3, 4",null,null,-8,null,null,1879,{"$error":"#VALUE!"}]
[null,1963,27499,"Neuwerk",-8.3000000000000007,9.6,0,1,2,null,null,-8,null,null,2072,2134]
[null,1964,27568,"Bremerhaven",-8.1,10,1,1,2,null,null,-8,null,null,2002,2080]
[null,1965,27570,"Bremerhaven",-7.8,10.3,2,1,null,null,null,-8,null,null,1985,2089]
[null,1966,27572,"Bremerhaven",-8.6,9.8000000000000007,0,1,null,null,null,-9,null,null,1994,2028]
[null,1967,27574,"Bremerhaven",-8.4,9.9,4,1,null,null,null,-8,null,null,1997,2048]
[null,1968,27576,"Bremerhaven",-8.4,9.9,1,1,null,null,null,-8,null,null,2019,2071]
[null,1969,27578,"Bremerhaven",-8.6,9.8000000000000007,9,1,null,null,null,-9,null,null,2045,2080]
[null,1970,27580,"Bremerhaven",-8.1,10,2,1,null,null,null,-8,null,null,2040,2119]
[null,1971,27607,"Geestland",-9.3000000000000007,9.5,7,1,null,null,null,-9,null,null,2090,2064]
[null,1972,27612,"Loxstedt",-9.1999999999999993,9.6999999999999993,5,1,null,null,null,-9,null,null,2014,1997]
[null,1973,27616,"Beverstedt",-9.4,9.5,6,3,null,null,null,-9,null,null,2080,2046]
[null,1974,27619,"Schiffdorf",-9.3000000000000007,9.6,-3,1,null,null,null,-9,null,null,2055,2030]
[null,1975,27624,"Geestland",-9.6,9.5,9,3,null,null,null,-10,null,null,2105,2054]
[null,1976,27628,"Hagen",-9.4,9.6,7,1,null,null,null,-9,null,null,2048,2014]
[null,1977,27639,"Wurster Nordseeküste",-9.1,9.6,0,1,null,null,null,-9,null,null,2107,2098]
[null,1978,27711,"Osterholz-Scharmbeck",-9.6999999999999993,9.3000000000000007,39,3,null,null,null,-10,null,null,2105,2045]
[null,1979,27721,"Ritterhude",-9.4,9.5,27,3,null,null,null,-9,null,null,2097,2063]
[null,1980,27726,"Worpswede",-9.6,9.5,3,3,null,null,null,-10,null,null,2123,2071]
[null,1981,27729,"Hambergen, Holste u.a.",-9.6999999999999993,9.3000000000000007,24,3,null,null,null,-10,null,null,2137,2076]
[null,1982,27749,"Delmenhorst",-8.9,10,8,3,null,null,null,-9,null,null,2074,2083]
[null,1983,27751,"Delmenhorst",-9.3000000000000007,9.6,5,3,null,null,null,-9,null,null,2081,2055]
[null,1984,27753,"Delmenhorst",-9,9.9,7,3,null,null,null,-9,null,null,2075,2075]
[null,1985,27755,"Delmenhorst",-9.3000000000000007,9.6,9,3,null,null,null,-9,null,null,2075,2049]
[null,1986,27777,"Ganderkesee",-9.4,9.4,34,3,null,null,null,-9,null,null,2077,{"$f":"ROUND(O1991*24/(15-E1991),0)","v":2043}]
[null,1987,27793,"Wildeshausen",-9.6,9.5,38,3,null,null,null,-10,null,null,2081,2030]
[null,1988,27798,"Hude (Oldenburg)",-9.5,9.6,2,3,null,null,null,-10,null,null,2073,2031]
[null,1989,27801,"Dötlingen",-9.6,9.4,38,3,null,null,null,-10,null,null,2080,2029]
[null,1990,27804,"Berne",-9.4,9.6,-1,3,null,null,null,-9,null,null,2070,2036]
[null,1991,27809,"Lemwerder",-9.5,9.6,-1,3,null,null,null,-10,null,null,2089,2046]
[null,1992,28195,"Bremen",-8.6,10.1,17,3,null,null,null,-9,null,null,2074,2109]
[null,1993,28197,"Bremen",-9.3000000000000007,9.6,2,3,null,null,null,-9,null,null,2081,2055]
[null,1994,28199,"Bremen",-8.8000000000000007,10,5,3,null,null,null,-9,null,null,2066,2083]
[null,1995,28201,"Bremen",-9.1,9.8000000000000007,0,3,null,null,null,-9,null,null,2069,2060]
[null,1997,28205,"Bremen",-8.8000000000000007,10,8,3,null,null,null,-9,null,null,2075,2092]
[null,1999,28209,"Bremen",-8.8000000000000007,10,7,3,null,null,null,-9,null,null,2077,2094]
[null,2002,28215,"Bremen",-9,9.9,4,3,null,null,null,-9,null,null,2078,2078]
[null,2006,28239,"Bremen",-8.9,9.9,8,3,null,null,null,-9,null,null,2085,2094]
[null,2009,28279,"Bremen",-9.1,9.8000000000000007,6,3,null,null,null,-9,null,null,2073,2064]
[null,2012,28325,"Bremen",-8.8000000000000007,10,4,3,null,null,null,-9,null,null,2093,2111]
[null,2014,28329,"Bremen",-8.8000000000000007,10,6,3,null,null,null,-9,null,null,2081,2098]
[null,2015,28355,"Bremen",-9.5,9.6,9,3,null,null,null,-10,null,null,2095,2052]
[null,2019,28719,"Bremen",-9,9.6999999999999993,6,3,null,null,null,-9,null,null,2090,2090]
[null,2022,28759,"Bremen",-9,9.8000000000000007,21,3,null,null,null,-9,null,null,2091,2091]
[null,2025,28790,"Schwanewede",-9.4,9.5,8,3,null,null,null,-9,null,null,2098,2064]
[null,2029,28857,"Syke",-9.6999999999999993,9.5,47,3,null,null,null,-10,null,null,2072,2013]
[null,2032,28876,"Oyten",-9.6,9.5,12,3,null,null,null,-10,null,null,2103,2052]
[null,2033,28879,"Grasberg",-9.6,9.5,4,3,null,null,null,-10,null,null,2113,2061]
[null,2035,29223,"Celle",-11.1,9.9,52,3,null,null,null,-11,null,null,2142,1970]
[null,2038,29229,"Celle, Wittbeck",-11.2,9.6,50,3,null,null,null,-11,null,null,2165,1983]
[null,2042,29320,"Hermannsburg",-11.3,9.1999999999999993,59,3,null,null,null,-11,null,null,2221,2027]
[null,2045,29331,"Lachendorf",-11.3,9.6,52,3,null,null,null,-11,null,null,2153,1965]
[null,2048,29342,"Wienhausen",-11.1,9.6999999999999993,39,3,null,null,null,-11,null,null,2144,1971]
[null,2052,29352,"Adelheidsdorf",-11.1,9.8000000000000007,42,3,null,null,null,-11,null,null,2096,1927]
[null,2054,29355,"Beedenbostel",-11.3,9.5,54,3,null,null,null,-11,null,null,2181,1990]
[null,2055,29356,"Bröckel",-11.2,9.6999999999999993,43,3,null,null,null,-11,null,null,2115,1937]
[null,2058,29361,"Höfer",-11.3,9.4,68,3,null,null,null,-11,null,null,2184,1993]
[null,2061,29365,"Sprakensehl",-11.7,9.1,128,3,null,null,null,-12,null,null,2238,2012]
[null,2065,29379,"Wittingen",-11.6,9.4,74,3,null,null,null,-12,null,null,2227,2009]
[null,2068,29392,"Wesendorf",-11.3,9.5,59,3,null,null,null,-11,null,null,2172,1982]
[null,2071,29396,"Schönewörde",-11.5,9.5,60,3,null,null,null,-12,null,null,2227,2017]
[null,2073,29410,"Salzwedel",-11.7,9.6,20,4,null,null,null,-12,null,null,2175,1955]
[null,2077,29451,"Dannenberg",-11.6,9.5,11,4,null,null,null,-12,null,null,2174,1962]
[null,2078,29456,"Hitzacker (Elbe)",-11.6,9.4,27,4,null,null,null,-12,null,null,2176,1963]
[null,2081,29465,"Schnega",-11.8,9.3000000000000007,49,4,null,null,null,-12,null,null,2196,1967]
[null,2084,29472,"Damnatz",-11.6,9.5,10,4,null,null,null,-12,null,null,2176,1963]
[null,2088,29478,"Höhbeck",-12,9.3000000000000007,40,4,null,null,null,-12,null,null,2182,1940]
[null,2091,29482,"Küsten",-11.6,9.4,26,4,null,null,null,-12,null,null,2173,1961]
[null,2094,29487,"Luckau (Wendland)",-11.7,9.4,27,4,null,null,null,-12,null,null,2175,1955]
[null,2097,29491,"Prezelle",-11.8,9.4,20,4,null,null,null,-12,null,null,2177,1950]
[null,2100,29496,"Waddeweitz",-11.7,9.3000000000000007,49,4,null,null,null,-12,null,null,2179,1959]
[null,2101,29497,"Woltersdorf",-11.7,9.4,22,4,null,null,null,-12,null,null,2172,1952]
[null,2104,29549,"Bad Bevensen",-11.6,9.3000000000000007,35,3,null,null,null,-12,null,null,2217,2000]
[null,2107,29559,"Wrestedt",-11.8,9.1,85,3,null,null,null,-12,null,null,2224,1992]
[null,2111,29574,"Ebstorf",-12,9.1,70,3,null,null,null,-12,null,null,2225,1978]
[null,2113,29576,"Barum",-12,9.1,72,3,null,null,null,-12,null,null,2218,1972]
[null,2117,29582,"Hanstedt",-12,9.1,77,3,null,null,null,-12,null,null,2225,1978]
[null,2120,29587,"Natendorf",-11.8,9.1,68,3,null,null,null,-12,null,null,2220,1988]
[null,2123,29591,"Römstedt",-11.6,9.1999999999999993,52,3,null,null,null,-12,null,null,2194,1980]
[null,2124,29593,"Schwienau",-12,9.1999999999999993,55,3,null,null,null,-12,null,null,2233,1985]
[null,2127,29599,"Weste",-11.7,9.1999999999999993,63,3,null,null,null,-12,null,null,2191,1969]
[null,2130,29640,"Schneverdingen, Heimbuch",-10.6,9.1,113,3,null,null,null,-11,null,null,2163,2028]
[null,2134,29664,"Walsrode, Ostenholz",-10.6,9.5,37,3,null,null,null,-11,null,null,2159,2024]
[null,2136,29690,"Schwarmstedt u.a.",-10.8,9.8000000000000007,25,3,null,null,null,-11,null,null,2089,1943]
[null,2140,30161,"Hannover",-10.7,10.4,63,3,null,null,null,-11,null,null,2029,1895]
[null,2143,30167,"Hannover",-10.7,10.3,62,3,null,null,null,-11,null,null,2029,1895]
[null,2146,30173,"Hannover",-10.7,10.4,60,3,null,null,null,-11,null,null,2027,1893]
[null,2147,30175,"Hannover",-10.7,10.3,57,3,null,null,null,-11,null,null,2028,1894]
[null,2150,30419,"Hannover",-11,10.1,54,3,null,null,null,-11,null,null,2032,1876]
[null,2153,30453,"Hannover",-10.6,10.4,58,3,null,null,null,-11,null,null,2027,1900]
[null,2156,30459,"Hannover",-10.7,10.199999999999999,58,3,null,null,null,-11,null,null,2025,1891]
[null,2159,30539,"Hannover",-11.3,9.6999999999999993,100,3,null,null,null,-11,null,null,2048,1869]
[null,2163,30629,"Hannover",-11.3,9.8000000000000007,65,3,null,null,null,-11,null,null,2051,1872]
[null,2166,30659,"Hannover",-11.1,9.9,61,3,null,null,null,-11,null,null,2048,1883]
[null,2169,30826,"Garbsen",-11,10,51,3,null,null,null,-11,null,null,2023,1867]
[null,2170,30827,"Garbsen",-10.9,10,56,3,null,null,null,-11,null,null,2032,1883]
[null,2174,30880,"Laatzen",-11.1,9.8000000000000007,63,3,null,null,null,-11,null,null,2024,1861]
[null,2176,30900,"Wedemark",-11.1,9.8000000000000007,58,3,null,null,null,-11,null,null,2046,1881]
[null,2179,30938,"Burgwedel",-11.1,9.8000000000000007,45,3,null,null,null,-11,null,null,2098,1929]
[null,2182,30974,"Wennigsen (Deister)",-11.1,9.8000000000000007,87,3,null,null,null,-11,null,null,2037,1873]
[null,2186,31020,"Salzhemmendorf",-11.5,9.4,154,3,null,null,null,-12,null,null,2123,1923]
[null,2189,31032,"Betheln",-11.3,9.4,144,3,null,null,null,-11,null,null,2140,1953]
[null,2191,31035,"Despetal",-11.2,9.5,130,3,null,null,null,-11,null,null,2140,1960]
[null,2192,31036,"Eime",-11.1,9.6,105,3,null,null,null,-11,null,null,2148,1975]
[null,2195,31073,"Grünenplan, Delligsen",-12,9.3000000000000007,146,7,null,null,null,-12,null,null,2209,1964]
[null,2199,31087,"Landwehr",-12.2,9.1,189,7,null,null,null,-12,null,null,2200,1941]
[null,2202,31091,"Coppengrave",-12.1,9.1999999999999993,169,7,null,null,null,-12,null,null,2150,1904]
[null,2205,31096,"Weenzen",-12.1,9,199,3,null,null,null,-12,null,null,2150,1904]
[null,2209,31135,"Hildesheim",-11,9.9,93,3,null,null,null,-11,null,null,2163,1997]
[null,2210,31137,"Hildesheim",-10.8,10.1,76,3,null,null,null,-11,null,null,2159,2008]
[null,2212,31141,"Hildesheim",-11,9.6,112,3,null,null,null,-11,null,null,2169,2002]
[null,2215,31167,"Bockenem",-11.7,9.6,123,7,null,null,null,-12,null,null,2189,1968]
[null,2218,31177,"Harsum",-11.2,9.6999999999999993,87,3,null,null,null,-11,null,null,2157,1976]
[null,2222,31191,"Algermissen",-11.2,9.8000000000000007,70,3,null,null,null,-11,null,null,2099,1923]
[null,2225,31199,"Diekholzen",-11.7,9,219,3,null,null,null,-12,null,null,2180,1960]
[null,2228,31228,"Peine",-11.1,9.8000000000000007,70,3,null,null,null,-11,null,null,2070,1903]
[null,2231,31246,"Lahstedt",-11.3,9.6999999999999993,101,3,null,null,null,-11,null,null,2104,1920]
[null,2234,31303,"Burgdorf",-11.2,9.6999999999999993,62,3,null,null,null,-11,null,null,2072,1898]
[null,2235,31311,"Uetze",-11.2,9.6999999999999993,51,3,null,null,null,-11,null,null,2072,1898]
[null,2238,31535,"Neustadt am Rübenberge",-10.8,10,52,3,null,null,null,-11,null,null,2021,1880]
[null,2241,31552,"Apelern, Rodenberg",-10.7,9.9,88,3,null,null,null,-11,null,null,1996,1864]
[null,2245,31558,"Hagenburg",-10.6,10.1,42,3,null,null,null,-11,null,null,1996,1871]
[null,2248,31592,"Stolzenau",-10.6,10.199999999999999,33,3,null,null,null,-11,null,null,1998,1873]
[null,2250,31600,"Uchte",-10.3,10.1,45,3,null,null,null,-10,null,null,2005,1902]
[null,2254,31608,"Marklohe",-10.8,9.9,66,3,null,null,null,-11,null,null,2035,1893]
[null,2257,31618,"Liebenau",-10.6,10.1,33,3,null,null,null,-11,null,null,2011,1885]
[null,2258,31619,"Binnen",-10.8,10,50,3,null,null,null,-11,null,null,2036,1894]
[null,2261,31623,"Drakenburg",-10.7,10,21,3,null,null,null,-11,null,null,2032,1898]
[null,2264,31628,"Landesbergen",-10.6,10.1,27,3,null,null,null,-11,null,null,2007,1882]
[null,2268,31634,"Steimbke",-10.7,9.9,25,3,null,null,null,-11,null,null,2028,1894]
[null,2271,31638,"Stöckse",-11,9.9,67,3,null,null,null,-11,null,null,2027,1871]
[null,2274,31683,"Obernkirchen",-10.8,9.6,204,3,null,null,null,-11,null,null,1967,1830]
[null,2277,31693,"Hespe",-10.5,10.199999999999999,57,3,null,null,null,-11,null,null,1973,1857]
[null,2280,31700,"Heuerßen",-10.6,10.1,72,3,null,null,null,-11,null,null,1992,1868]
[null,2281,31702,"Lüdersfeld",-10.6,10.1,57,3,null,null,null,-11,null,null,1990,1866]
[null,2284,31710,"Buchholz",-10.5,9.9,129,7,null,null,null,-11,null,null,1970,1854]
[null,2287,31714,"Lauenhagen",-10.6,10.1,54,3,null,null,null,-11,null,null,1987,1863]
[null,2290,31718,"Pollhagen",-10.6,10.199999999999999,50,3,null,null,null,-11,null,null,1986,1862]
[null,2293,31749,"Auetal",-10.8,9.6,172,7,null,null,null,-11,null,null,1981,1843]
[null,2297,31812,"Bad Pyrmont",-11.3,9.4,144,6,null,null,null,-11,null,null,2221,2027]
[null,2300,31848,"Bad Münder am Deister",-10.7,9.6999999999999993,120,7,null,null,null,-11,null,null,2038,1903]
[null,2303,31863,"Coppenbrügge",-11.6,8.6999999999999993,277,7,null,null,null,-12,null,null,2056,1855]
[null,2304,31867,"Pohle, Lauenau, Messenkamp, Hülsede etc",-10.8,10,86,3,null,null,null,-11,null,null,2028,1887]
[null,2307,32051,"Herford",-10,9.9,91,6,null,null,null,-10,null,null,2068,1985]
[null,2311,32108,"Bad Salzuflen",-10.199999999999999,9.6,137,5,null,null,null,-10,null,null,2076,1977]
[null,2313,32130,"Enger",-9.9,10,92,6,null,null,null,-10,null,null,2078,2003]
[null,2316,32278,"Kirchlengern",-10.1,9.8000000000000007,123,6,null,null,null,-10,null,null,2060,1970]
[null,2320,32351,"Stemwede",-9.8000000000000007,9.9,43,5,null,null,null,-10,null,null,2045,1979]
[null,2323,32423,"Minden",-10,10.5,42,5,null,null,null,-10,null,null,1997,1917]
[null,2326,32429,"Minden",-10.3,10.199999999999999,55,5,null,null,null,-10,null,null,2015,1911]
[null,2327,32457,"Porta Westfalica",-10.3,9.9,102,5,null,null,null,-10,null,null,2002,1899]
[null,2330,32545,"Bad Oeynhausen",-10.3,9.6999999999999993,140,5,null,null,null,-10,null,null,2049,1944]
[null,2333,32584,"Löhne",-9.8000000000000007,10.3,53,5,null,null,null,-10,null,null,2050,1984]
[null,2336,32657,"Lemgo",-10,10,110,6,null,null,null,-10,null,null,2049,1967]
[null,2339,32689,"Kalletal",-11.3,8.9,282,5,null,null,null,-11,null,null,2024,1847]
[null,2343,32758,"Detmold",-10.3,9.6,150,6,null,null,null,-10,null,null,2143,2033]
[null,2346,32805,"Horn-Bad Meinberg",-11.1,9.1999999999999993,201,6,null,null,null,-11,null,null,2158,1984]
[null,2349,32832,"Augustdorf",-10.6,9.4,209,6,null,null,null,-11,null,null,2077,1947]
[null,2351,33014,"Bad Driburg",-11.5,9.1,205,6,null,null,null,-12,null,null,2209,2001]
[null,2352,33034,"Brakel",-11.4,9.3000000000000007,141,6,null,null,null,-11,null,null,2245,2041]
[null,2356,33102,"Paderborn",-9.6,10.3,110,6,null,null,null,-10,null,null,2114,2062]
[null,2359,33129,"Delbrück",-10.3,10,100,5,null,null,null,-10,null,null,2027,1923]
[null,2362,33161,"Hövelhof",-10.4,9.9,116,5,null,null,null,-10,null,null,2050,1937]
[null,2366,33181,"Wünnenberg",-11.3,8.6999999999999993,338,6,null,null,null,-11,null,null,2310,2108]
[null,2369,33330,"Gütersloh",-9.6999999999999993,10.3,78,5,null,null,null,-10,null,null,2021,1964]
[null,2370,33332,"Gütersloh",-9.5,10.6,81,5,null,null,null,-10,null,null,2018,{"$f":"ROUND(O2375*24/(15-E2375),0)","v":1977}]
[null,2372,33334,"Gütersloh",-9.6999999999999993,10.3,78,5,null,null,null,-10,null,null,2019,1962]
[null,2375,33397,"Rietberg",-10.1,10.199999999999999,75,5,null,null,null,-10,null,null,2004,1916]
[null,2379,33449,"Langenberg",-10.1,10.1,88,5,null,null,null,-10,null,null,1993,1906]
[null,2382,33605,"Bielefeld",-10.1,9.8000000000000007,157,6,null,null,null,-10,null,null,2076,1985]
[null,2385,33611,"Bielefeld",-9.6999999999999993,10.199999999999999,105,6,null,null,null,-10,null,null,2075,2016]
[null,2387,33615,"Bielefeld",-9.5,10.4,118,6,null,null,null,-10,null,null,2075,2033]
[null,2391,33649,"Bielefeld",-10.1,10,99,6,null,null,null,-10,null,null,2067,1976]
[null,2392,33659,"Bielefeld",-10.199999999999999,10,123,6,null,null,null,-10,null,null,2076,1977]
[null,2395,33719,"Bielefeld",-9.9,9.9,93,6,null,null,null,-10,null,null,2076,2001]
[null,2398,33758,"Schloß Holte-Stukenbrock",-10.3,9.8000000000000007,131,6,null,null,null,-10,null,null,2077,1970]
[null,2402,33813,"Oerlinghausen",-11,9,306,6,null,null,null,-11,null,null,2076,1916]
[null,2405,33829,"Borgholzhausen",-10.1,9.6999999999999993,150,6,null,null,null,-10,null,null,2071,1980]
[null,2408,34121,"Kassel",-10.3,10,171,7,null,null,null,-10,null,null,2284,2167]
[null,2411,34127,"Kassel",-10.5,9.9,166,7,null,null,null,-11,null,null,2268,2135]
[null,2414,34131,"Kassel",-12.4,8,453,7,null,null,null,-12,null,null,2298,2013]
[null,2415,34132,"Kassel",-11.5,8.9,281,7,null,null,null,-12,null,null,2297,2080]
[null,2418,34225,"Baunatal",-11.1,9.3000000000000007,206,7,null,null,null,-11,null,null,2286,2102]
[null,2421,34253,"Lohfelden",-11.2,9.1999999999999993,220,7,null,null,null,-11,null,null,2241,2053]
[null,2425,34277,"Fuldabrück",-11.6,9.1999999999999993,191,7,null,null,null,-12,null,null,2295,2071]
[null,2427,34286,"Spangenberg",-12.6,8.1,420,7,null,null,null,-13,null,null,2264,1969]
[null,2431,34298,"Helsa",-12.3,8.3000000000000007,384,7,null,null,null,-12,null,null,2280,2004]
[null,2434,34308,"Bad Emstal",-12.1,8.8000000000000007,291,7,null,null,null,-12,null,null,2288,{"$f":"ROUND(O2439*24/(15-E2439),0)","v":2026}]
[null,2437,34317,"Habichtswald",-12.6,7.7,489,7,null,null,null,-13,null,null,2295,1996]
[null,2438,34320,"Söhrewald",-12.8,7.8,470,7,null,null,null,-13,null,null,2299,1985]
[null,2441,34327,"Körle",-11.7,8.9,253,7,null,null,null,-12,null,null,2287,2056]
[null,2444,34355,"Staufenberg",-11.8,8.8000000000000007,277,7,null,null,null,-12,null,null,2218,1986]
[null,2448,34379,"Calden",-11.5,8.9,239,7,null,null,null,-12,null,null,2287,2071]
[null,2450,34388,"Trendelburg",-11.6,8.9,223,7,null,null,null,-12,null,null,2210,1994]
[null,2454,34414,"Warburg",-11.6,9.1,184,6,null,null,null,-12,null,null,2291,2067]
[null,2457,34439,"Willebadessen",-11.7,8.6,292,6,null,null,null,-12,null,null,2249,2022]
[null,2460,34471,"Volkmarsen",-11.3,9.1,179,7,null,null,null,-11,null,null,2309,2107]
[null,2461,34474,"Diemelstadt",-11.9,8.6,311,6,null,null,null,-12,null,null,2338,2086]
[null,2464,34497,"Korbach",-11.9,8.4,378,6,null,null,null,-12,null,null,2380,2123]
[null,2467,34516,"Vöhl",-11.9,8.5,350,7,null,null,null,-12,null,null,2402,2143]
[null,2470,34549,"Edertal",-12,9.1999999999999993,201,7,null,null,null,-12,null,null,2346,2085]
[null,2473,34582,"Borken",-11.8,9.4,181,7,null,null,null,-12,null,null,2376,2128]
[null,2477,34596,"Bad Zwesten",-12,9.1,227,7,null,null,null,-12,null,null,2408,2140]
[null,2480,34621,"Frielendorf",-12,8.6999999999999993,311,7,null,null,null,-12,null,null,2487,2211]
[null,2483,34630,"Gilserberg",-12.1,8.6,342,7,null,null,null,-12,null,null,2517,2229]
[null,2484,34632,"Jesberg",-11.8,9,248,7,null,null,null,-12,null,null,2474,2216]
[null,2488,35037,"Marburg",-11.5,9.5,202,7,null,null,null,-12,null,null,2196,1989]
[null,2490,35041,"Marburg",-11.5,9.1999999999999993,243,7,null,null,null,-12,null,null,2191,1984]
[null,2493,35075,"Gladenbach",-11.2,9,301,6,null,null,null,-11,null,null,2325,2130]
[null,2496,35085,"Ebsdorfergrund",-11.5,9.3000000000000007,216,7,null,null,null,-12,null,null,2252,2040]
[null,2500,35096,"Weimar (Lahn)",-11.3,9.4,203,7,null,null,null,-11,null,null,2210,2017]
[null,2503,35104,"Lichtenfels",-12,8.1999999999999993,425,6,null,null,null,-12,null,null,2599,2310]
[null,2506,35112,"Fronhausen",-11.1,9.6,168,7,null,null,null,-11,null,null,2212,2034]
[null,2507,35114,"Haina",-12.3,8.1999999999999993,428,7,null,null,null,-12,null,null,2415,2123]
[null,2509,35117,"Münchhausen",-11.6,8.8000000000000007,307,6,null,null,null,-12,null,null,2398,2164]
[null,2513,35236,"Breidenbach",-11.3,8.3000000000000007,441,6,null,null,null,-11,null,null,2562,2338]
[null,2516,35274,"Kirchhain",-11.5,9.3000000000000007,199,7,null,null,null,-12,null,null,2327,2107]
[null,2519,35285,"Gemünden",-11.8,9,259,7,null,null,null,-12,null,null,2428,2174]
[null,2523,35315,"Homberg (Ohm)",-11.6,9.1,253,7,null,null,null,-12,null,null,2381,2148]
[null,2526,35327,"Ulrichstein",-12.7,7.4,589,7,null,null,null,-13,null,null,2804,2429]
[null,2528,35390,"Gießen",-10.5,10.1,163,7,null,null,null,-11,null,null,2158,2031]
[null,2529,35392,"Gießen",-10.9,9.6999999999999993,187,7,null,null,null,-11,null,null,2165,2006]
[null,2532,35398,"Gießen",-11.1,9.6999999999999993,152,7,null,null,null,-11,null,null,2159,1985]
[null,2536,35423,"Lich",-10.9,9.6999999999999993,180,7,null,null,null,-11,null,null,2260,2094]
[null,2539,35440,"Linden",-11.1,9.6,168,7,null,null,null,-11,null,null,2151,1978]
[null,2542,35452,"Heuchelheim",-11.3,9.5,189,7,null,null,null,-11,null,null,2172,1982]
[null,2546,35466,"Rabenau",-11.3,9.1,278,7,null,null,null,-11,null,null,2254,2057]
[null,2547,35469,"Allendorf",-11.2,9.4,198,7,null,null,null,-11,null,null,2236,2048]
[null,2549,35516,"Münzenberg",-10.9,9.8000000000000007,168,7,null,null,null,-11,null,null,2210,2048]
[null,2552,35578,"Wetzlar",-10.8,9.5,240,7,null,null,null,-11,null,null,2169,2018]
[null,2555,35581,"Wetzlar",-11.3,9.3000000000000007,237,7,null,null,null,-11,null,null,2164,1975]
[null,2559,35585,"Wetzlar",-11.2,8.9,327,7,null,null,null,-11,null,null,2208,2023]
[null,2562,35614,"Aßlar",-11.1,9,315,7,null,null,null,-11,null,null,2211,{"$f":"ROUND(O2567*24/(15-E2567),0)","v":2033}]
[null,2566,35633,"Lahnau",-11.3,9.4,208,7,null,null,null,-11,null,null,2171,1981]
[null,2568,35641,"Schöffengrund",-10.8,9.1999999999999993,280,7,null,null,null,-11,null,null,2164,2013]
[null,2571,35649,"Bischoffen",-11.2,9,297,6,null,null,null,-11,null,null,2204,2019]
[null,2572,35683,"Dillenburg",-11,9.4,235,6,null,null,null,-11,null,null,2555,2358]
[null,2575,35686,"Dillenburg",-11.1,8.6,387,6,null,null,null,-11,null,null,2540,2336]
[null,2578,35689,"Dillenburg",-11.3,8.6,378,6,null,null,null,-11,null,null,2570,2345]
[null,2582,35716,"Dietzhölztal",-11.5,7.7,552,6,null,null,null,-12,null,null,2644,2395]
[null,2585,35753,"Greifenstein",-11.1,8.6999999999999993,385,6,null,null,null,-11,null,null,2322,2135]
[null,2588,35764,"Sinn",-11.3,9.4,208,6,null,null,null,-11,null,null,2340,2135]
[null,2591,35781,"Weilburg",-10.8,9.6999999999999993,187,7,null,null,null,-11,null,null,2234,2078]
[null,2594,35794,"Mengerskirchen",-10.9,8.8000000000000007,372,6,null,null,null,-11,null,null,2318,2148]
[null,2595,35796,"Weinbach",-10.8,9.6,199,7,null,null,null,-11,null,null,2213,2059]
[null,2598,36039,"Fulda",-12.3,8.4,412,7,null,null,null,-12,null,null,2481,2181]
[null,2601,36088,"Hünfeld",-12.3,9,260,7,null,null,null,-12,null,null,2344,2061]
[null,2604,36103,"Flieden",-12,8.8000000000000007,316,7,null,null,null,-12,null,null,2398,2132]
[null,2607,36119,"Neuhof",-12.1,8.6,359,7,null,null,null,-12,null,null,2505,2218]
[null,2611,36137,"Großenlüder",-12.1,8.9,284,7,null,null,null,-12,null,null,2472,2189]
[null,2614,36148,"Kalbach",-12.3,8.3000000000000007,441,10,null,null,null,-12,null,null,2517,2213]
[null,2617,36157,"Ebersburg",-12.4,8.4,402,10,null,null,null,-12,null,null,2767,2424]
[null,2618,36160,"Dipperz",-12.3,8.4,390,7,null,null,null,-12,null,null,2882,2534]
[null,2621,36167,"Nüsttal",-12.4,8.6,358,7,null,null,null,-12,null,null,2642,2314]
[null,2625,36205,"Sontra",-12,9,251,7,null,null,null,-12,null,null,2332,2073]
[null,2627,36211,"Alheim",-11.8,9.1999999999999993,185,7,null,null,null,-12,null,null,2415,2163]
[null,2630,36219,"Cornberg",-12.5,8.6,323,7,null,null,null,-13,null,null,2317,2022]
[null,2634,36272,"Niederaula",-12.2,9.1,216,7,null,null,null,-12,null,null,2404,2121]
[null,2637,36280,"Oberaula",-12.5,8.6,328,7,null,null,null,-13,null,null,2486,2170]
[null,2640,36286,"Neuenstein (Hessen)",-12.8,8.1,432,7,null,null,null,-13,null,null,2444,2110]
[null,2641,36287,"Breitenbach am Herzberg",-12.4,8.8000000000000007,290,7,null,null,null,-12,null,null,2423,2122]
[null,2644,36318,"Schwalmtal",-11.8,8.8000000000000007,307,7,null,null,null,-12,null,null,2489,2229]
[null,2647,36325,"Feldatal",-12.1,8.1999999999999993,434,7,null,null,null,-12,null,null,2612,2313]
[null,2650,36341,"Lauterbach",-11.8,8.6999999999999993,349,7,null,null,null,-12,null,null,2525,2261]
[null,2653,36364,"Bad Salzschlirf",-12.1,8.9,262,7,null,null,null,-12,null,null,2492,2207]
[null,2657,36391,"Sinntal",-11.4,9.1999999999999993,262,10,null,null,null,-11,null,null,2331,2119]
[null,2660,36404,"Vacha, Unterbreizbach",-13.3,7.9,475,7,null,null,null,-13,null,null,2369,2009]
[null,2663,36433,"Bad Salzungen",-12.6,8.9,302,7,null,null,null,-13,null,null,2417,2102]
[null,2665,36452,"Kaltennordheim",-13,8.3000000000000007,409,10,null,null,null,-13,null,null,2579,2211]
[null,2666,36456,"Barchfeld-Immelborn",-12.1,9.1999999999999993,245,7,null,null,null,-12,null,null,2540,2249]
[null,2670,36469,"Tiefenort",-12.6,8.6999999999999993,323,7,null,null,null,-13,null,null,2494,2169]
[null,2673,37077,"Göttingen",-12.3,8.6,311,7,null,null,null,-12,null,null,2249,1977]
[null,2676,37083,"Göttingen",-12.1,9.3000000000000007,160,7,null,null,null,-12,null,null,2204,1952]
[null,2680,37124,"Rosdorf",-12.2,9.1,212,7,null,null,null,-12,null,null,2228,1966]
[null,2683,37133,"Friedland",-12.1,9.1,207,7,null,null,null,-12,null,null,2230,1975]
[null,2684,37136,"Seulingen, Waake u.a.",-12,9,221,7,null,null,null,-12,null,null,2275,2022]
[null,2686,37154,"Northeim",-11.7,9.4,117,7,null,null,null,-12,null,null,2294,2062]
[null,2689,37181,"Hardegsen",-12.6,8.4,344,7,null,null,null,-13,null,null,2300,2000]
[null,2693,37197,"Hattorf",-12.1,9.1,177,7,null,null,null,-12,null,null,2410,2134]
[null,2696,37214,"Witzenhausen",-12.3,8.6999999999999993,308,7,null,null,null,-12,null,null,2232,1962]
[null,2699,37217,"Witzenhausen",-12.7,8.1999999999999993,402,7,null,null,null,-13,null,null,2204,1910]
[null,2703,37247,"Großalmerode",-12.8,7.9,463,7,null,null,null,-13,null,null,2236,1930]
[null,2705,37269,"Eschwege",-11.9,9.1,237,7,null,null,null,-12,null,null,2215,1976]
[null,2706,37276,"Meinhard",-12.1,9,249,7,null,null,null,-12,null,null,2214,1961]
[null,2709,37287,"Wehretal",-11.8,9.3000000000000007,183,7,null,null,null,-12,null,null,2264,2027]
[null,2712,37296,"Ringgau",-12.8,8.5,358,7,null,null,null,-13,null,null,2300,1986]
[null,2716,37318,"Arenshausen, Uder u.a.",-12.6,8.4,365,7,null,null,null,-13,null,null,2245,1952]
[null,2719,37345,"Am Ohmberg, Sonnenstein",-12.7,8.8000000000000007,263,7,null,null,null,-13,null,null,2482,2150]
[null,2723,37412,"Herzberg, Elbingerode, Hörden",-12.3,8.9,221,7,null,null,null,-12,null,null,2363,2077]
[null,2724,37431,"Bad Lauterberg",-13.5,7.7,444,6,null,null,null,-14,null,null,2635,2219]
[null,2728,37445,"Walkenried",-13,8.6999999999999993,271,7,null,null,null,-13,null,null,2831,2427]
[null,2729,37447,"Wieda",-13.5,7.9,405,6,null,null,null,-14,null,null,2600,2189]
[null,2732,37539,"Bad Grund",-12.3,9,213,7,null,null,null,-12,null,null,2266,1992]
[null,2735,37586,"Dassel",-11.9,9.1,172,7,null,null,null,-12,null,null,2246,2004]
[null,2739,37620,"Halle",-11.6,9.5,110,7,null,null,null,-12,null,null,2123,1915]
[null,2742,37633,"Dielmissen",-11.7,9.4,117,7,null,null,null,-12,null,null,2121,1907]
[null,2745,37640,"Golmbach",-11.7,9.1999999999999993,142,7,null,null,null,-12,null,null,2142,1925]
[null,2748,37647,"Brevörde, Polle, Vahlbruch",-11.6,9.3000000000000007,132,7,null,null,null,-12,null,null,2197,1982]
[null,2751,37688,"Beverungen",-11.6,8.6999999999999993,277,7,null,null,null,-12,null,null,2278,2055]
[null,2752,37691,"Boffzen, Derental",-12.4,8.3000000000000007,362,7,null,null,null,-12,null,null,2198,1925]
[null,2755,37699,"Fürstenberg",-11.5,8.9,225,7,null,null,null,-12,null,null,2206,1998]
[null,2758,38104,"Braunschweig",-11.5,9.6999999999999993,82,3,null,null,null,-12,null,null,2111,1912]
[null,2762,38112,"Braunschweig",-11.3,9.8000000000000007,65,3,null,null,null,-11,null,null,2091,1908]
[null,2764,38116,"Braunschweig",-11.3,9.8000000000000007,89,3,null,null,null,-11,null,null,2079,1897]
[null,2768,38124,"Braunschweig",-11.2,9.9,75,3,null,null,null,-11,null,null,2105,1928]
[null,2771,38159,"Vechelde",-11.3,9.6999999999999993,79,3,null,null,null,-11,null,null,2093,1910]
[null,2774,38170,"Schöppenstedt",-12,9.6,104,3,null,null,null,-12,null,null,2190,1947]
[null,2775,38173,"Sickte, Dettum u.a.",-11.7,9.6,107,3,null,null,null,-12,null,null,2136,1920]
[null,2778,38226,"Salzgitter",-11,10,92,3,null,null,null,-11,null,null,2116,1953]
[null,2781,38239,"Salzgitter",-11.4,9.6999999999999993,85,3,null,null,null,-11,null,null,2108,1916]
[null,2784,38271,"Baddeckenstedt",-11.5,9.6999999999999993,102,3,null,null,null,-12,null,null,2161,1957]
[null,2787,38275,"Haverlah",-11.8,9.4,155,3,null,null,null,-12,null,null,2137,1914]
[null,2791,38302,"Wolfenbüttel",-11.5,9.6999999999999993,92,3,null,null,null,-12,null,null,2116,1916]
[null,2794,38315,"Schladen-Werla",-12,9.6999999999999993,94,3,null,null,null,-12,null,null,2568,2283]
[null,2797,38322,"Hedeper",-12.1,9.6,107,3,null,null,null,-12,null,null,2133,1889]
[null,2798,38324,"Kissenbrück",-11.8,9.6,101,3,null,null,null,-12,null,null,2100,1881]
[null,2802,38350,"Helmstedt",-11.9,9.6,116,3,null,null,null,-12,null,null,2220,1981]
[null,2804,38368,"Rennau, Querenhorst, Mariental, Grasleben",-12.2,9.3000000000000007,161,4,null,null,null,-12,null,null,2217,1956]
[null,2807,38375,"Räbke",-12.2,9.3000000000000007,155,3,null,null,null,-12,null,null,2206,1946]
[null,2810,38379,"Wolsdorf",-12.1,9.4,123,3,null,null,null,-12,null,null,2212,1959]
[null,2814,38385,"Ingeleben",-12.3,9.5,129,3,null,null,null,-12,null,null,2150,1890]
[null,2817,38440,"Wolfsburg",-11.1,10,61,3,null,null,null,-11,null,null,2178,2003]
[null,2818,38442,"Wolfsburg",-11.5,9.6999999999999993,57,3,null,null,null,-12,null,null,2168,{"$f":"ROUND(O2823*24/(15-E2823),0)","v":1963}]
[null,2821,38448,"Wolfsburg",-11.7,9.6,80,3,null,null,null,-12,null,null,2184,1963]
[null,2823,38459,"Bahrdorf",-12.2,9.4,99,4,null,null,null,-12,null,null,2223,1961]
[null,2827,38465,"Brome",-12,9.4,82,4,null,null,null,-12,null,null,2222,1975]
[null,2830,38470,"Parsau",-11.8,9.5,62,4,null,null,null,-12,null,null,2221,1989]
[null,2833,38474,"Tülau",-11.9,9.5,74,3,null,null,null,-12,null,null,2224,1984]
[null,2837,38486,"Klötze, Apenburg-Winterfeld",-12.2,9.3000000000000007,83,4,null,null,null,-12,null,null,2214,1954]
[null,2840,38524,"Sassenburg",-11.5,9.6,63,3,null,null,null,-12,null,null,2192,1985]
[null,2842,38528,"Adenbüttel",-11.4,9.6999999999999993,70,3,null,null,null,-11,null,null,2104,1913]
[null,2843,38530,"Didderse",-11.3,9.8000000000000007,60,3,null,null,null,-11,null,null,2102,1918]
[null,2846,38536,"Meinersen",-11.2,9.6999999999999993,49,3,null,null,null,-11,null,null,2119,1941]
[null,2850,38547,"Calberlah",-11.5,9.6999999999999993,57,3,null,null,null,-12,null,null,2160,1956]
[null,2853,38553,"Wasbüttel",-11.5,9.6999999999999993,61,3,null,null,null,-12,null,null,2152,1949]
[null,2856,38557,"Osloß",-11.5,9.6,65,3,null,null,null,-12,null,null,2178,1973]
[null,2860,38644,"Goslar",-12.9,8.8000000000000007,324,6,null,null,null,-13,null,null,2611,2246]
[null,2861,38667,"Bad Harzburg, Torfhaus",-13.5,8,403,6,null,null,null,-14,null,null,2452,2065]
[null,2863,38685,"Langelsheim",-12.7,9,267,6,null,null,null,-13,null,null,2521,2184]
[null,2866,38704,"Liebenburg",-12.3,9.3000000000000007,185,3,null,null,null,-12,null,null,2567,2257]
[null,2869,38723,"Seesen",-12.2,9.1999999999999993,216,7,null,null,null,-12,null,null,2198,1939]
[null,2873,38828,"Wegeleben",-12.8,9.4,105,4,null,null,null,-13,null,null,2206,1904]
[null,2876,38836,"Badersleben u.a.",-12.5,9.5,123,3,null,null,null,-13,null,null,2133,1862]
[null,2880,38875,"Oberharz am Brocken",-13.8,7.3,504,6,null,null,null,-14,null,null,3249,2708]
[null,2882,38879,"Wernigerode",-15.6,4.7,979,8,null,null,null,-16,null,null,3642,{"$f":"ROUND(O2887*24/(15-E2887),0)","v":2856}]
[null,2885,38899,"Oberharz am Brocken",-14.2,7.4,495,6,null,null,null,-14,null,null,2882,2369]
[null,2886,39104,"Magdeburg",-12,9.9,41,4,null,null,null,-12,null,null,2077,1846]
[null,2889,39110,"Magdeburg",-12.4,9.5,72,4,null,null,null,-12,null,null,2073,1816]
[null,2892,39116,"Magdeburg",-12.3,9.5,85,4,null,null,null,-12,null,null,2070,1820]
[null,2896,39124,"Magdeburg",-11.8,9.9,54,4,null,null,null,-12,null,null,2090,1872]
[null,2899,39130,"Magdeburg",-12,9.8000000000000007,62,4,null,null,null,-12,null,null,2087,1855]
[null,2901,39167,"Eichenbarleben, Ochtmersleben, Irxleben, Schnarsleben, Wellen etc",-12.5,9.3000000000000007,132,4,null,null,null,-13,null,null,2128,1857]
[null,2905,39217,"Schönebeck (Elbe)",-12.6,9.5,49,4,null,null,null,-13,null,null,2107,1832]
[null,2908,39240,"Calbe, Rosenburg, Lödderitz etc",-12.8,9.5,53,4,null,null,null,-13,null,null,2116,1827]
[null,2909,39245,"Gommern, Dannigkow",-12.5,9.5,52,4,null,null,null,-13,null,null,2113,1844]
[null,2912,39264,"Güterglück, Lübs, Deetz, Jütrichau etc",-12.8,9.4,77,4,null,null,null,-13,null,null,2241,1935]
[null,2915,39291,"Möckern, Schermen, Nedlitz etc",-12.7,9.3000000000000007,76,4,null,null,null,-13,null,null,2154,1866]
[null,2919,39326,"Wolmirstedt u.a.",-12.5,9.5,52,4,null,null,null,-13,null,null,2120,1850]
[null,2922,39345,"Haldensleben, Flechtingen, Bülstringen u.a.",-12.3,9.4,87,4,null,null,null,-12,null,null,2164,1902]
[null,2925,39365,"Harbke, Sommersdorf, Wefensleben, Ummendorf, Eilsleben",-12.3,9.3000000000000007,156,4,null,null,null,-12,null,null,2227,1958]
[null,2928,39397,"Schwanebeck, Gröningen, Kroppenstedt",-12.6,9.5,87,4,null,null,null,-13,null,null,2133,1855]
[null,2931,39439,"Güsten",-12.8,9.5,75,4,null,null,null,-13,null,null,2127,1836]
[null,2932,39443,"Staßfurt",-12.7,9.5,68,4,null,null,null,-13,null,null,2110,1828]
[null,2935,39448,"Börde-Hakel",-12.6,9.5,73,4,null,null,null,-13,null,null,2108,1833]
[null,2939,39576,"Stendal",-12.5,9.4,31,4,null,null,null,-13,null,null,2160,1885]
[null,2941,39590,"Tangermünde",-12.6,9.4,34,4,null,null,null,-13,null,null,2148,1868]
[null,2944,39606,"Osterburg, Altmärkische Höhe",-12.4,9.4,22,4,null,null,null,-12,null,null,2170,1901]
[null,2948,39629,"Bismark",-12.3,9.4,40,4,null,null,null,-12,null,null,2172,1909]
[null,2951,39649,"Gardelegen",-12.2,9.4,55,4,null,null,null,-12,null,null,2210,1950]
[null,2954,40212,"Düsseldorf",-6.9,11.8,43,5,null,null,null,-8,null,null,1838,2014]
[null,2955,40213,"Düsseldorf",-6.9,11.8,43,5,null,null,null,-8,null,null,1837,2013]
[null,2958,40219,"Düsseldorf",-7.8,11.3,38,5,null,null,null,-8,null,null,1820,1916]
[null,2961,40225,"Düsseldorf",-7.7,11.3,43,5,null,null,null,-8,null,null,1848,1954]
[null,2964,40231,"Düsseldorf",-7.7,11.3,45,5,null,null,null,-8,null,null,1849,1955]
[null,2967,40237,"Düsseldorf",-7.5,11.4,44,5,null,null,null,-8,null,null,1837,1959]
[null,2971,40472,"Düsseldorf",-8.1,11,37,5,null,null,null,-8,null,null,1831,1902]
[null,2974,40477,"Düsseldorf",-7.6,11.4,44,5,null,null,null,-8,null,null,1831,1944]
[null,2975,40479,"Düsseldorf",-7.7,11.3,44,5,null,null,null,-8,null,null,1834,1939]
[null,2979,40549,"Düsseldorf",-7.8,11.3,38,5,null,null,null,-8,null,null,1808,1903]
[null,2980,40589,"Düsseldorf",-8,11,38,5,null,null,null,-8,null,null,1858,1939]
[null,2984,40597,"Düsseldorf",-7.6,11.3,45,5,null,null,null,-8,null,null,1867,1983]
[null,2987,40627,"Düsseldorf",-8,11,44,5,null,null,null,-8,null,null,1862,1943]
[null,2990,40668,"Meerbusch",-8.3000000000000007,10.9,35,5,null,null,null,-8,null,null,1789,1843]
[null,2994,40723,"Hilden",-7.7,11.2,53,5,null,null,null,-8,null,null,1879,1987]
[null,2997,40789,"Monheim am Rhein",-8.1,10.9,43,5,null,null,null,-8,null,null,1862,1935]
[null,2998,40822,"Mettmann",-8.4,10.4,140,5,null,null,null,-8,null,null,1882,1930]
[null,3000,40880,"Ratingen",-8.4,10.8,42,5,null,null,null,-8,null,null,1820,1867]
[null,3003,40885,"Ratingen",-8.3000000000000007,10.6,74,5,null,null,null,-8,null,null,1828,1883]
[null,3007,41066,"Mönchengladbach",-7.6,11,41,5,null,null,null,-8,null,null,1792,1903]
[null,3010,41169,"Mönchengladbach",-8.4,10.7,73,5,null,null,null,-8,null,null,1782,{"$f":"ROUND(O3015*24/(15-E3015),0)","v":1828}]
[null,3013,41199,"Mönchengladbach",-8,10.9,65,5,null,null,null,-8,null,null,1771,1848]
[null,3017,41334,"Nettetal",-8.1,10.7,44,5,null,null,null,-8,null,null,1800,1870]
[null,3019,41363,"Jüchen",-8.3000000000000007,10.8,69,5,null,null,null,-8,null,null,1779,1832]
[null,3020,41366,"Schwalmtal",-8.5,10.7,66,5,null,null,null,-9,null,null,1792,1830]
[null,3023,41460,"Neuss",-7.8,11.2,35,5,null,null,null,-8,null,null,1787,1881]
[null,3026,41466,"Neuss",-7.9,11.1,40,5,null,null,null,-8,null,null,1786,1872]
[null,3030,41472,"Neuss",-8.1999999999999993,10.8,53,5,null,null,null,-8,null,null,1786,1848]
[null,3033,41517,"Grevenbroich",-8.4,10.8,64,5,null,null,null,-8,null,null,1810,1856]
[null,3037,41542,"Dormagen",-8.1999999999999993,10.8,39,5,null,null,null,-8,null,null,1840,1903]
[null,3038,41564,"Kaarst",-8.1999999999999993,10.9,38,5,null,null,null,-8,null,null,1788,1850]
[null,3042,41749,"Viersen",-8.1,10.8,36,5,null,null,null,-8,null,null,1800,1870]
[null,3043,41751,"Viersen",-8.1,10.7,60,5,null,null,null,-8,null,null,1796,1866]
[null,3046,41844,"Wegberg",-8.6999999999999993,10.7,79,5,null,null,null,-9,null,null,1781,1804]
[null,3049,42105,"Wuppertal",-8.1,10.7,180,6,null,null,null,-8,null,null,1956,2032]
[null,3053,42113,"Wuppertal",-8.5,10.199999999999999,211,5,null,null,null,-9,null,null,1954,1996]
[null,3056,42119,"Wuppertal",-8.6,10.1,300,6,null,null,null,-9,null,null,1955,1988]
[null,3059,42279,"Wuppertal",-9.1999999999999993,9.6,292,6,null,null,null,-9,null,null,2014,1997]
[null,3062,42285,"Wuppertal",-8.3000000000000007,10.3,248,6,null,null,null,-8,null,null,1963,2022]
[null,3065,42327,"Wuppertal",-8.3000000000000007,10.199999999999999,209,6,null,null,null,-8,null,null,1911,1968]
[null,3066,42329,"Wuppertal",-8.5,10.1,258,6,null,null,null,-9,null,null,1943,1984]
[null,3069,42389,"Wuppertal",-8.5,10.4,208,6,null,null,null,-9,null,null,1994,2036]
[null,3073,42499,"Hückeswagen",-9.6999999999999993,9.4,290,6,null,null,null,-10,null,null,2137,2076]
[null,3076,42553,"Velbert",-8.5,10.3,171,5,null,null,null,-9,null,null,1956,1998]
[null,3078,42579,"Heiligenhaus",-8.3000000000000007,10.5,126,5,null,null,null,-8,null,null,1875,1931]
[null,3082,42657,"Solingen",-8.1,10.6,186,5,null,null,null,-8,null,null,1928,2003]
[null,3085,42699,"Solingen",-8.1,10.7,128,5,null,null,null,-8,null,null,1891,1965]
[null,3088,42799,"Leichlingen",-8.8000000000000007,10.3,173,5,null,null,null,-9,null,null,1879,1895]
[null,3089,42853,"Remscheid",-8.8000000000000007,9.8000000000000007,308,6,null,null,null,-9,null,null,1961,1977]
[null,3092,42859,"Remscheid",-9,10.1,250,6,null,null,null,-9,null,null,1964,1964]
[null,3096,44135,"Dortmund",-7.5,11.4,98,5,null,null,null,-8,null,null,1986,2118]
[null,3099,44141,"Dortmund",-8.1999999999999993,10.8,125,5,null,null,null,-8,null,null,1990,2059]
[null,3101,44145,"Dortmund",-8,11,76,5,null,null,null,-8,null,null,1983,2069]
[null,3105,44227,"Dortmund",-8.6999999999999993,10.4,97,5,null,null,null,-9,null,null,1993,2018]
[null,3108,44265,"Dortmund",-9.1,9.9,194,5,null,null,null,-9,null,null,2007,1999]
[null,3111,44287,"Dortmund",-8.6999999999999993,10.5,118,5,null,null,null,-9,null,null,1995,2020]
[null,3112,44289,"Dortmund",-9,10.199999999999999,150,5,null,null,null,-9,null,null,1977,1977]
[null,3115,44328,"Dortmund",-8.6,10.6,75,5,null,null,null,-9,null,null,1945,1978]
[null,3118,44357,"Dortmund",-8.6,10.4,83,5,null,null,null,-9,null,null,1973,2006]
[null,3121,44379,"Dortmund",-8.1,11,74,5,null,null,null,-8,null,null,1980,2057]
[null,3124,44534,"Lünen",-9,10.4,56,5,null,null,null,-9,null,null,1944,1944]
[null,3128,44579,"Castrop-Rauxel",-8.3000000000000007,10.6,57,5,null,null,null,-8,null,null,1970,2029]
[null,3131,44625,"Herne",-7.6,11.2,64,5,null,null,null,-8,null,null,1930,2050]
[null,3132,44627,"Herne",-8.5,10.5,115,5,null,null,null,-9,null,null,1962,2004]
[null,3135,44649,"Herne",-7.8,11.1,45,5,null,null,null,-8,null,null,1928,2029]
[null,3139,44787,"Bochum",-7.3,11.5,103,5,null,null,null,-8,null,null,1954,2103]
[null,3141,44791,"Bochum",-8,10.8,132,5,null,null,null,-8,null,null,1948,2033]
[null,3144,44797,"Bochum",-8.4,10.5,121,5,null,null,null,-8,null,null,1974,2025]
[null,3147,44803,"Bochum",-8,10.8,119,5,null,null,null,-8,null,null,1966,2051]
[null,3151,44866,"Bochum",-7.8,11.1,75,5,null,null,null,-8,null,null,1949,2052]
[null,3154,44879,"Bochum",-8.1,10.7,102,5,null,null,null,-8,null,null,1960,2036]
[null,3156,44894,"Bochum",-8.1,10.9,102,5,null,null,null,-8,null,null,1973,2050]
[null,3157,45127,"Essen",-7.1,11.6,87,5,null,null,null,-8,null,null,1886,2048]
[null,3160,45131,"Essen",-8,10.7,119,5,null,null,null,-8,null,null,1886,1968]
[null,3164,45138,"Essen",-7.6,11,102,5,null,null,null,-8,null,null,1935,2055]
[null,3167,45143,"Essen",-7.5,11.3,58,5,null,null,null,-8,null,null,1883,2009]
[null,3170,45147,"Essen",-7.7,11,103,5,null,null,null,-8,null,null,1888,1996]
[null,3174,45257,"Essen",-8.3000000000000007,10.6,94,5,null,null,null,-8,null,null,1914,1972]
[null,3175,45259,"Essen",-8,10.8,130,5,null,null,null,-8,null,null,1911,1994]
[null,3177,45277,"Essen",-7.6,11.1,88,5,null,null,null,-8,null,null,1941,2061]
[null,3180,45307,"Essen",-7.9,10.9,82,5,null,null,null,-8,null,null,1945,2038]
[null,3183,45327,"Essen",-7.8,11.1,47,5,null,null,null,-8,null,null,1885,1984]
[null,3187,45357,"Essen",-7.8,11,70,5,null,null,null,-8,null,null,1874,1973]
[null,3190,45470,"Mülheim an der Ruhr",-8.1999999999999993,10.6,81,5,null,null,null,-8,null,null,1867,1931]
[null,3194,45476,"Mülheim an der Ruhr",-7.5,11.3,34,5,null,null,null,-8,null,null,1838,1961]
[null,3196,45479,"Mülheim an der Ruhr",-8.3000000000000007,10.7,87,5,null,null,null,-8,null,null,1834,1889]
[null,3199,45527,"Hattingen",-8.6,10.3,159,5,null,null,null,-9,null,null,1989,2023]
[null,3200,45529,"Hattingen",-8.6999999999999993,10,217,5,null,null,null,-9,null,null,1978,2003]
[null,3203,45659,"Recklinghausen",-8.1999999999999993,10.7,98,5,null,null,null,-8,null,null,1933,2000]
[null,3206,45665,"Recklinghausen",-8.5,10.5,78,5,null,null,null,-9,null,null,1943,1984]
[null,3210,45721,"Haltern am See",-8.5,10.4,46,5,null,null,null,-9,null,null,1931,1972]
[null,3213,45768,"Marl",-8.3000000000000007,10.5,49,5,null,null,null,-8,null,null,1933,1991]
[null,3215,45772,"Marl",-8.1999999999999993,10.7,39,5,null,null,null,-8,null,null,1934,2001]
[null,3219,45884,"Gelsenkirchen Rotthausen",-7.7,11.1,51,5,null,null,null,-8,null,null,1946,2057]
[null,3222,45889,"Gelsenkirchen",-7.4,11.3,40,5,null,null,null,-8,null,null,1926,2064]
[null,3223,45891,"Gelsenkirchen",-8.1,11,49,5,null,null,null,-8,null,null,1926,2001]
[null,3226,45896,"Gelsenkirchen",-8,10.9,64,5,null,null,null,-8,null,null,1875,1957]
[null,3230,45966,"Gladbeck",-8.1,10.8,64,5,null,null,null,-8,null,null,1869,1942]
[null,3233,46047,"Oberhausen",-7.4,11.3,46,5,null,null,null,-8,null,null,1839,1970]
[null,3236,46119,"Oberhausen",-7.9,11,72,5,null,null,null,-8,null,null,1858,1947]
[null,3239,46149,"Oberhausen",-7.7,11.2,31,5,null,null,null,-8,null,null,1825,1930]
[null,3242,46240,"Bottrop",-8.1,10.8,46,5,null,null,null,-8,null,null,1865,1938]
[null,3245,46282,"Dorsten",-8.1999999999999993,10.6,37,5,null,null,null,-8,null,null,1875,1940]
[null,3246,46284,"Dorsten",-8.3000000000000007,10.5,37,5,null,null,null,-8,null,null,1877,1933]
[null,3249,46342,"Velen",-8.8000000000000007,10.1,71,5,null,null,null,-9,null,null,1922,1938]
[null,3253,46395,"Bocholt",-8.3000000000000007,10.5,22,5,null,null,null,-8,null,null,1883,1940]
[null,3255,46399,"Bocholt",-8.4,10.4,22,5,null,null,null,-8,null,null,1928,1977]
[null,3258,46446,"Emmerich am Rhein",-8.1,10.6,26,5,null,null,null,-8,null,null,1893,1967]
[null,3262,46487,"Wesel",-8.1999999999999993,10.5,19,5,null,null,null,-8,null,null,1831,1894]
[null,3265,46514,"Schermbeck",-8.3000000000000007,10.4,46,5,null,null,null,-8,null,null,1869,1925]
[null,3268,46537,"Dinslaken",-8,10.9,30,5,null,null,null,-8,null,null,1814,1893]
[null,3269,46539,"Dinslaken",-8.3000000000000007,10.6,40,5,null,null,null,-8,null,null,1819,1874]
[null,3272,47051,"Duisburg",-7.8,11.2,41,5,null,null,null,-8,null,null,1822,1918]
[null,3276,47058,"Duisburg",-7.9,11.1,35,5,null,null,null,-8,null,null,1826,1914]
[null,3278,47119,"Duisburg",-7.8,11.1,29,5,null,null,null,-8,null,null,1814,1909]
[null,3281,47139,"Duisburg",-7.9,11,30,5,null,null,null,-8,null,null,1804,1891]
[null,3285,47178,"Duisburg",-8.1,10.8,21,5,null,null,null,-8,null,null,1805,1875]
[null,3288,47199,"Duisburg",-8.1999999999999993,10.7,30,5,null,null,null,-8,null,null,1800,1862]
[null,3289,47226,"Duisburg",-7.8,11.2,31,5,null,null,null,-8,null,null,1817,1913]
[null,3292,47239,"Duisburg",-8,11.1,28,5,null,null,null,-8,null,null,1792,1870]
[null,3295,47269,"Duisburg",-8.4,10.8,43,5,null,null,null,-8,null,null,1816,1863]
[null,3298,47443,"Moers",-7.9,11,26,5,null,null,null,-8,null,null,1809,1896]
[null,3301,47475,"Kamp-Lintfort",-8.1999999999999993,10.7,25,5,null,null,null,-8,null,null,1801,1863]
[null,3304,47509,"Rheurdt",-8.3000000000000007,10.6,52,5,null,null,null,-8,null,null,1802,1856]
[null,3308,47559,"Kranenburg",-8.1999999999999993,10.5,13,5,null,null,null,-8,null,null,1896,1961]
[null,3311,47608,"Geldern",-8.3000000000000007,10.6,23,5,null,null,null,-8,null,null,1808,1862]
[null,3312,47623,"Kevelaer",-8.1999999999999993,10.7,21,5,null,null,null,-8,null,null,1836,1899]
[null,3316,47627,"Kevelaer-Kervenheim",-8.3000000000000007,10.6,28,5,null,null,null,-8,null,null,1846,1901]
[null,3317,47638,"Straelen",-8.1999999999999993,10.6,45,5,null,null,null,-8,null,null,1807,1869]
[null,3321,47665,"Sonsbeck",-8.3000000000000007,10.6,27,5,null,null,null,-8,null,null,1838,1893]
[null,3324,47799,"Krefeld",-7.6,11.3,38,5,null,null,null,-8,null,null,1794,1905]
[null,3327,47803,"Krefeld",-7.9,11.1,39,5,null,null,null,-8,null,null,1795,1881]
[null,3331,47809,"Krefeld",-8.1999999999999993,10.9,36,5,null,null,null,-8,null,null,1792,1854]
[null,3333,47839,"Krefeld",-8.1,10.8,36,5,null,null,null,-8,null,null,1795,1865]
[null,3334,47877,"Willich",-8.1999999999999993,10.8,38,5,null,null,null,-8,null,null,1794,1856]
[null,3337,47929,"Grefrath",-8.1,10.8,32,5,null,null,null,-8,null,null,1801,1871]
[null,3340,48147,"Münster",-8.5,10.6,62,5,null,null,null,-9,null,null,1947,1988]
[null,3344,48155,"Münster",-8.8000000000000007,10.6,60,5,null,null,null,-9,null,null,1946,1962]
[null,3347,48161,"Münster",-9.1999999999999993,10.1,74,5,null,null,null,-9,null,null,1945,1929]
[null,3351,48231,"Warendorf",-9.6999999999999993,10.199999999999999,54,5,null,null,null,-10,null,null,1958,1903]
[null,3352,48249,"Dülmen",-8.9,10.199999999999999,82,5,null,null,null,-9,null,null,1929,1937]
[null,3356,48301,"Nottuln",-9.1999999999999993,10,91,5,null,null,null,-9,null,null,1929,1913]
[null,3357,48308,"Senden",-9.3000000000000007,10.199999999999999,58,5,null,null,null,-9,null,null,1937,1913]
[null,3360,48329,"Havixbeck",-9.1999999999999993,10.1,69,5,null,null,null,-9,null,null,1945,1929]
[null,3363,48346,"Ostbevern",-9.3000000000000007,10.199999999999999,51,5,null,null,null,-9,null,null,1986,1961]
[null,3367,48366,"Laer",-9.1,10,74,5,null,null,null,-9,null,null,1949,1941]
[null,3370,48431,"Rheine",-8.1999999999999993,10.5,41,5,null,null,null,-8,null,null,1998,2067]
[null,3373,48465,"Engden, Isterberg, Schüttorf u.a.",-9.1,10.1,30,5,null,null,null,-9,null,null,1971,1963]
[null,3376,48485,"Neuenkirchen",-8.9,10.199999999999999,54,5,null,null,null,-9,null,null,1994,2002]
[null,3379,48496,"Hopsten",-9.1999999999999993,10.1,39,5,null,null,null,-9,null,null,2051,2034]
[null,3380,48499,"Salzbergen",-9,10.1,36,5,null,null,null,-9,null,null,2000,2000]
[null,3383,48531,"Nordhorn",-9,10.1,22,5,null,null,null,-9,null,null,1984,1984]
[null,3387,48612,"Horstmar",-9.3000000000000007,9.8000000000000007,127,5,null,null,null,-9,null,null,1947,1923]
[null,3390,48629,"Metelen",-9.1,10,55,5,null,null,null,-9,null,null,1948,1940]
[null,3392,48683,"Ahaus",-9,10,51,5,null,null,null,-9,null,null,1961,1961]
[null,3396,48720,"Rosendahl",-9.1,9.9,104,5,null,null,null,-9,null,null,1937,1929]
[null,3399,48739,"Legden",-9,10,63,5,null,null,null,-9,null,null,1943,1943]
[null,3402,49078,"Osnabrück",-9.6,10,68,5,null,null,null,-10,null,null,2056,2006]
[null,3403,49080,"Osnabrück",-9.5,10.1,80,5,null,null,null,-10,null,null,2062,2020]
[null,3406,49086,"Osnabrück",-9.8000000000000007,10,74,5,null,null,null,-10,null,null,2099,2031]
[null,3410,49134,"Wallenhorst",-9.6,9.9,94,5,null,null,null,-10,null,null,2074,2023]
[null,3413,49163,"Bohmte",-9.6,9.9,42,5,null,null,null,-10,null,null,2063,2013]
[null,3415,49176,"Hilter",-9.8000000000000007,9.6999999999999993,139,6,null,null,null,-10,null,null,2053,1987]
[null,3419,49196,"Bad Laer",-9.8000000000000007,10,87,6,null,null,null,-10,null,null,2068,2001]
[null,3422,49214,"Bad Rothenfelde",-10,10,90,6,null,null,null,-10,null,null,2069,1986]
[null,3425,49326,"Melle",-9.9,9.8000000000000007,106,6,null,null,null,-10,null,null,2073,1998]
[null,3426,49328,"Melle",-10.1,9.9,74,6,null,null,null,-10,null,null,2065,1975]
[null,3429,49393,"Lohne",-9.6,9.8000000000000007,36,3,null,null,null,-10,null,null,2076,2025]
[null,3432,49413,"Dinklage",-9.5,9.9,28,3,null,null,null,-10,null,null,2081,2039]
[null,3435,49429,"Visbek",-9.6,9.6,49,3,null,null,null,-10,null,null,2079,2028]
[null,3438,49448,"Lemförde u.a.",-9.6999999999999993,9.8000000000000007,37,5,null,null,null,-10,null,null,2053,1995]
[null,3442,49457,"Drebber",-9.8000000000000007,9.8000000000000007,35,3,null,null,null,-10,null,null,2061,1995]
[null,3445,49479,"Ibbenbüren",-9.1,10.1,61,6,null,null,null,-9,null,null,2030,2022]
[null,3446,49492,"Westerkappeln",-9.6,9.9,67,5,null,null,null,-10,null,null,2052,2002]
[null,3449,49509,"Recke",-9.1999999999999993,10.1,44,5,null,null,null,-9,null,null,2050,2033]
[null,3453,49549,"Ladbergen",-9.3000000000000007,10.199999999999999,51,5,null,null,null,-9,null,null,1966,1942]
[null,3455,49577,"Kettenkamp, Eggermühlen, Ankum",-9.6,9.8000000000000007,65,5,null,null,null,-10,null,null,2098,2047]
[null,3458,49593,"Bersenbrück",-9.4,9.9,43,3,null,null,null,-9,null,null,2094,{"$f":"ROUND(O3463*24/(15-E3463),0)","v":2060}]
[null,3461,49597,"Rieste",-9.5,9.9,51,5,null,null,null,-10,null,null,2094,2051]
[null,3465,49626,"Berge, Bippen",-9.3000000000000007,9.9,62,3,null,null,null,-9,null,null,2058,2033]
[null,3468,49637,"Menslage",-9.3000000000000007,10,23,3,null,null,null,-9,null,null,2060,2035]
[null,3469,49638,"Nortrup",-9.3000000000000007,10,27,3,null,null,null,-9,null,null,2085,2059]
[null,3472,49685,"Emstek",-9.6999999999999993,9.6,59,3,null,null,null,-10,null,null,2061,2003]
[null,3474,49692,"Cappeln (Oldenburg)",-9.6,9.6999999999999993,36,3,null,null,null,-10,null,null,2054,2004]
[null,3478,49733,"Haren",-8.8000000000000007,10,9,3,null,null,null,-9,null,null,1994,2011]
[null,3481,49751,"Sögel u.a.",-9.3000000000000007,9.8000000000000007,48,3,null,null,null,-9,null,null,1993,1968]
[null,3485,49770,"Herzlake, Dohren",-9.1999999999999993,10,28,3,null,null,null,-9,null,null,2038,2021]
[null,3488,49779,"Oberlangen, Niederlangen",-9,9.9,10,3,null,null,null,-9,null,null,1993,1993]
[null,3491,49811,"Lingen",-9.1,9.9,52,3,null,null,null,-9,null,null,2038,2030]
[null,3493,49828,"Esche, Georgsdorf, Lage, Neuenhaus, Osterwald",-8.9,10.1,18,5,null,null,null,-9,null,null,1986,1994]
[null,3494,49832,"Andervenne, Beesten, Freren, Messingen, Thuine",-9.3000000000000007,10,39,5,null,null,null,-9,null,null,2052,2027]
[null,3497,49843,"Uelsen, Halle, Gölenkamp, Getelo",-9,10,50,5,null,null,null,-9,null,null,1983,1983]
[null,3501,49849,"Wilsum",-9,10,26,5,null,null,null,-9,null,null,1984,1984]
[null,3504,50129,"Bergheim",-8.6,10.7,96,5,null,null,null,-9,null,null,1849,1880]
[null,3508,50181,"Bedburg",-8.6,10.7,87,5,null,null,null,-9,null,null,1811,1842]
[null,3511,50259,"Pulheim",-8.5,10.8,55,5,null,null,null,-9,null,null,1857,1897]
[null,3512,50321,"Brühl",-8.4,10.8,85,5,null,null,null,-8,null,null,1861,1909]
[null,3514,50374,"Erftstadt",-8.6,10.8,100,5,null,null,null,-9,null,null,1898,1930]
[null,3517,50668,"Köln",-7.2,11.9,57,5,null,null,null,-8,null,null,1858,2009]
[null,3520,50674,"Köln",-7.7,11.5,51,5,null,null,null,-8,null,null,1858,1964]
[null,3524,50679,"Köln",-7.7,11.4,42,5,null,null,null,-8,null,null,1860,1967]
[null,3527,50737,"Köln",-7.7,11.3,50,5,null,null,null,-8,null,null,1873,1980]
[null,3529,50765,"Köln",-8.5,10.8,49,5,null,null,null,-9,null,null,1876,1916]
[null,3533,50825,"Köln",-7.7,11.3,50,5,null,null,null,-8,null,null,1858,1964]
[null,3536,50858,"Köln",-8.1999999999999993,11,59,5,null,null,null,-8,null,null,1858,1922]
[null,3537,50859,"Köln",-8.5,10.9,56,5,null,null,null,-9,null,null,1857,1897]
[null,3540,50935,"Köln",-8,11.3,61,5,null,null,null,-8,null,null,1858,1939]
[null,3544,50969,"Köln",-8,11.2,53,5,null,null,null,-8,null,null,1858,1939]
[null,3547,50999,"Köln",-8.1,11.1,51,5,null,null,null,-8,null,null,1871,1944]
[null,3550,51065,"Köln",-7.9,11.3,47,5,null,null,null,-8,null,null,1899,1990]
[null,3553,51103,"Köln",-8,11.2,51,5,null,null,null,-8,null,null,1910,1993]
[null,3556,51109,"Köln",-8.1999999999999993,10.9,50,5,null,null,null,-8,null,null,1908,1974]
[null,3559,51147,"Köln",-8.3000000000000007,10.9,63,5,null,null,null,-8,null,null,1882,1939]
[null,3560,51149,"Köln",-8.4,10.9,51,5,null,null,null,-8,null,null,1903,1952]
[null,3563,51375,"Leverkusen",-8.4,10.8,72,5,null,null,null,-8,null,null,1932,1982]
[null,3567,51399,"Burscheid",-8.8000000000000007,10.3,184,5,null,null,null,-9,null,null,1941,1957]
[null,3569,51429,"Bergisch Gladbach",-9.3000000000000007,10.1,230,5,null,null,null,-9,null,null,1923,1899]
[null,3572,51469,"Bergisch Gladbach",-8.1999999999999993,11.1,78,5,null,null,null,-8,null,null,1926,1992]
[null,3576,51519,"Odenthal",-9.1,10.199999999999999,189,5,null,null,null,-9,null,null,1936,1928]
[null,3579,51580,"Reichshof",-10.199999999999999,8.9,370,6,null,null,null,-10,null,null,2281,2172]
[null,3582,51598,"Friesenhagen",-9.8000000000000007,9.4,303,6,null,null,null,-10,null,null,2286,2212]
[null,3583,51643,"Gummersbach",-9.6,9.9,225,6,null,null,null,-10,null,null,2312,2256]
[null,3586,51674,"Wiehl",-9.5,10,200,6,null,null,null,-10,null,null,2251,{"$f":"ROUND(O3591*24/(15-E3591),0)","v":2205}]
[null,3590,51766,"Engelskirchen",-9.3000000000000007,10.199999999999999,162,6,null,null,null,-9,null,null,2238,2210]
[null,3592,52062,"Aachen",-7.1,11.5,171,6,null,null,null,-8,null,null,2029,2203]
[null,3595,52068,"Aachen",-7.8,11,185,6,null,null,null,-8,null,null,2027,2134]
[null,3599,52076,"Aachen",-8.8000000000000007,10.1,270,6,null,null,null,-9,null,null,2175,2193]
[null,3602,52134,"Herzogenrath",-8.3000000000000007,10.8,112,5,null,null,null,-8,null,null,2055,2117]
[null,3603,52146,"Würselen",-8.8000000000000007,10.4,181,5,null,null,null,-9,null,null,2022,2039]
[null,3606,52159,"Roetgen",-9.9,9,434,6,null,null,null,-10,null,null,2194,2115]
[null,3609,52224,"Stolberg",-8.8000000000000007,10,284,6,null,null,null,-9,null,null,2037,2054]
[null,3612,52351,"Düren",-8.3000000000000007,10.9,142,5,null,null,null,-8,null,null,1941,1999]
[null,3615,52372,"Kreuzau",-8.5,10.6,153,6,null,null,null,-9,null,null,1997,2039]
[null,3618,52385,"Nideggen",-9.1,9.9,286,6,null,null,null,-9,null,null,2134,2125]
[null,3622,52396,"Heimbach",-8.9,10.1,253,6,null,null,null,-9,null,null,2176,2185]
[null,3625,52441,"Linnich",-8.6,10.9,63,5,null,null,null,-9,null,null,1895,1927]
[null,3626,52445,"Titz",-8.6,10.7,91,5,null,null,null,-9,null,null,1807,1838]
[null,3630,52499,"Baesweiler",-8.6999999999999993,10.7,114,5,null,null,null,-9,null,null,2058,2084]
[null,3631,52511,"Geilenkirchen",-8.8000000000000007,10.9,81,5,null,null,null,-9,null,null,2051,2068]
[null,3635,53111,"Bonn",-7.4,11.7,65,5,null,null,null,-8,null,null,1880,2014]
[null,3638,53117,"Bonn",-8.1999999999999993,11.1,59,5,null,null,null,-8,null,null,1878,1943]
[null,3642,53125,"Bonn",-8.9,10.3,178,5,null,null,null,-9,null,null,1892,1900]
[null,3645,53173,"Bonn",-8,11.3,67,5,null,null,null,-8,null,null,1886,1968]
[null,3648,53179,"Bonn",-8.4,10.8,93,5,null,null,null,-8,null,null,1886,1934]
[null,3649,53225,"Bonn",-8.1,11.1,56,5,null,null,null,-8,null,null,1908,1982]
[null,3651,53229,"Bonn",-8.6,10.7,116,5,null,null,null,-9,null,null,1905,1937]
[null,3654,53343,"Wachtberg",-9.1999999999999993,10.1,225,5,null,null,null,-9,null,null,1893,1877]
[null,3658,53426,"Schalkenbach, Königsfeld, Dedenbach",-9.9,9.4,324,6,null,null,null,-10,null,null,1944,1874]
[null,3661,53498,"Bad Breisig, Waldorf, Gönnersdorf",-9.3000000000000007,10.1,217,5,null,null,null,-9,null,null,1984,1960]
[null,3665,53507,"Dernau",-9.1999999999999993,10.199999999999999,173,6,null,null,null,-9,null,null,1950,1934]
[null,3668,53520,"Reifferscheid, Kaltenborn, Wershofen u.a.",-11,8.4,492,6,null,null,null,-11,null,null,2292,2116]
[null,3670,53534,"Barweiler, Bauler, Hoffeld, Pomster, Wiesemscheid, Wirft",-10.6,8.8000000000000007,429,6,null,null,null,-11,null,null,2427,2275]
[null,3671,53539,"Bodenbach, Kelberg, Kirsbach u.a.",-11,8.4,487,6,null,null,null,-11,null,null,2448,2260]
[null,3674,53557,"Bad Hönningen",-9.1,10.3,154,5,null,null,null,-9,null,null,2024,2016]
[null,3677,53567,"Asbach, Buchholz",-9.3000000000000007,9.9,269,6,null,null,null,-9,null,null,2115,2089]
[null,3681,53579,"Erpel",-9.3000000000000007,10.1,224,5,null,null,null,-9,null,null,1999,1974]
[null,3684,53639,"Königswinter",-9.1,10.3,176,5,null,null,null,-9,null,null,1912,1904]
[null,3688,53783,"Eitorf",-9,10.6,130,6,null,null,null,-9,null,null,2057,2057]
[null,3689,53797,"Lohmar",-9,10.6,70,5,null,null,null,-9,null,null,1922,1922]
[null,3693,53840,"Troisdorf",-8.1999999999999993,11.1,61,5,null,null,null,-8,null,null,1903,1969]
[null,3694,53842,"Troisdorf",-9.1,10.6,98,5,null,null,null,-9,null,null,1879,1871]
[null,3697,53879,"Euskirchen",-8.3000000000000007,10.7,164,6,null,null,null,-8,null,null,1966,2025]
[null,3701,53909,"Zülpich",-8.6999999999999993,10.5,169,6,null,null,null,-9,null,null,1936,1961]
[null,3704,53925,"Kall",-11,8.3000000000000007,506,6,null,null,null,-11,null,null,2472,2282]
[null,3707,53945,"Blankenheim",-10.5,8.9,403,6,null,null,null,-11,null,null,2544,2394]
[null,3710,54290,"Trier",-8.8000000000000007,10.7,137,7,null,null,null,-9,null,null,1973,1990]
[null,3713,54294,"Trier",-9.1999999999999993,10.3,181,7,null,null,null,-9,null,null,1917,1901]
[null,3716,54298,"Welschbillig, Igel, Aach",-9.8000000000000007,9.5,365,7,null,null,null,-10,null,null,2020,1955]
[null,3717,54306,"Kordel",-9.5,9.9,270,7,null,null,null,-10,null,null,2008,1967]
[null,3720,54310,"Ralingen",-9.4,10.1,228,7,2,null,null,-9,null,null,2024,1991]
[null,3724,54316,"Pluwig",-9.3000000000000007,10.1,243,7,null,null,null,-9,null,null,2008,1983]
[null,3727,54320,"Waldrach",-9.4,9.9,277,7,null,null,null,-9,null,null,2032,1999]
[null,3729,54331,"Pellingen",-9.3000000000000007,9.8000000000000007,300,7,null,null,null,-9,null,null,1992,1967]
[null,3733,54341,"Fell",-9.3000000000000007,10.199999999999999,204,7,null,null,null,-9,null,null,2056,2031]
[null,3736,54346,"Mehring",-9.3000000000000007,10.199999999999999,202,7,null,null,null,-9,null,null,2091,2065]
[null,3739,54411,"Deuselbach, Hermeskeil, Rorodt",-11.3,8.5,531,6,null,null,null,-11,null,null,2242,2046]
[null,3740,54413,"Gusenburg",-11.4,8.3000000000000007,548,6,null,null,null,-11,null,null,2120,1927]
[null,3743,54424,"Thalfang",-10.6,9,448,6,null,null,null,-11,null,null,2297,2153]
[null,3746,54429,"Schillingen",-10.8,8.8000000000000007,483,6,null,null,null,-11,null,null,2065,1921]
[null,3749,54450,"Freudenburg",-9.8000000000000007,9.5,380,7,null,null,null,-10,null,null,2008,1943]
[null,3752,54455,"Serrig",-9,10.3,190,7,null,null,null,-9,null,null,2013,2013]
[null,3756,54470,"Bernkastel-Kues u.a.",-9.1999999999999993,10.4,123,7,null,null,null,-9,null,null,2390,2370]
[null,3759,54484,"Maring-Noviand",-9.3000000000000007,10.199999999999999,178,7,null,null,null,-9,null,null,2405,2375]
[null,3760,54486,"Mülheim (Mosel)",-9.3000000000000007,10.199999999999999,186,7,null,null,null,-9,null,null,2385,2356]
[null,3763,54497,"Morbach",-10.4,9.1999999999999993,407,6,null,null,null,-10,null,null,2367,2237]
[null,3767,54523,"Hetzerath, Dierscheid, Heckenmünster",-9.3000000000000007,10.1,200,7,null,null,null,-9,null,null,2075,2049]
[null,3769,54526,"Landscheid",-10,9.5,327,7,null,null,null,-10,null,null,2289,2197]
[null,3772,54531,"Manderscheid",-10.6,8.9,404,6,null,null,null,-11,null,null,2441,2288]
[null,3775,54536,"Kröv",-10.199999999999999,9.3000000000000007,361,7,null,null,null,-10,null,null,2425,2310]
[null,3779,54552,"Mehren u.a.",-11.3,8.1,528,6,null,null,null,-11,null,null,2451,2237]
[null,3782,54570,"Pelm, Neroth u.a.",-12.4,7.3,662,6,null,null,null,-12,null,null,2444,2141]
[null,3783,54574,"Birresborn",-10.7,8.8000000000000007,432,6,null,null,null,-11,null,null,2560,2391]
[null,3786,54579,"Üxheim",-10.5,8.9,403,6,null,null,null,-11,null,null,2527,2378]
[null,3788,54585,"Esch",-11.6,7.9,559,6,null,null,null,-12,null,null,2589,2336]
[null,3792,54595,"Prüm",-11.5,8.1,542,6,null,null,null,-12,null,null,2685,2432]
[null,3795,54610,"Büdesheim",-11.3,8.1999999999999993,523,6,null,null,null,-11,null,null,2596,2369]
[null,3799,54616,"Winterspelt",-10.8,8.3000000000000007,504,6,null,null,null,-11,null,null,2562,2383]
[null,3802,54634,"Bitburg",-9.6999999999999993,9.6999999999999993,327,7,null,null,null,-10,null,null,2222,2159]
[null,3805,54647,"Dudeldorf",-9.8000000000000007,9.8000000000000007,282,7,null,null,null,-10,null,null,2246,2174]
[null,3807,54655,"Kyllburg",-10.7,8.8000000000000007,438,6,null,null,null,-11,null,null,2444,2282]
[null,3808,54657,"Badem, Gindorf, Neidenbach",-9.8000000000000007,9.6,322,6,null,null,null,-10,null,null,2255,2182]
[null,3811,54666,"Irrel",-9.1999999999999993,10.3,182,7,null,null,null,-9,null,null,2063,2046]
[null,3815,54675,"Körperich u.a.",-9.6,9.6999999999999993,319,6,null,null,null,-10,null,null,2137,2085]
[null,3818,55116,"Mainz",-8.6,11.7,95,12,null,null,null,-9,null,null,1972,2005]
[null,3822,55124,"Mainz",-9.5,10.8,122,12,null,null,null,-10,null,null,1953,1913]
[null,3825,55128,"Mainz",-9.6,10.8,121,12,null,null,null,-10,null,null,1940,1893]
[null,3826,55129,"Mainz Ebersheim, Hechtsheim",-10,10.5,167,12,null,null,null,-10,null,null,1951,1873]
[null,3828,55131,"Mainz",-9,11.3,123,12,null,null,null,-9,null,null,1962,1962]
[null,3831,55234,"Albig",-10.1,10.3,212,12,null,null,null,-10,null,null,2018,1930]
[null,3834,55246,"Wiesbaden",-9.6,10.8,98,12,null,null,null,-10,null,null,1988,1940]
[null,3838,55263,"Wackernheim",-10.199999999999999,10.1,223,12,null,null,null,-10,null,null,1942,1850]
[null,3841,55271,"Stadecken-Elsheim",-10,10.7,110,12,null,null,null,-10,null,null,1917,1840]
[null,3845,55286,"Wörrstadt",-10.3,10.199999999999999,222,12,null,null,null,-10,null,null,1928,1829]
[null,3847,55291,"Saulheim",-10,10.6,149,12,null,null,null,-10,null,null,1923,1846]
[null,3850,55299,"Nackenheim",-10,10.7,125,12,null,null,null,-10,null,null,1965,1886]
[null,3851,55411,"Bingen am Rhein",-9.6999999999999993,10.7,104,12,null,null,null,-10,null,null,1865,1812]
[null,3854,55424,"Münster-Sarmsheim",-9.5,10.4,154,12,null,null,null,-10,null,null,1931,1892]
[null,3858,55435,"Gau-Algesheim",-9.9,10.7,112,12,null,null,null,-10,null,null,1870,1802]
[null,3861,55444,"Seibersbach",-10.6,9.1,365,6,null,null,null,-11,null,null,2077,1947]
[null,3864,55457,"Gensingen",-10,10.7,102,12,null,null,null,-10,null,null,1868,1793]
[null,3866,55469,"Simmern/Hunsrück u.a.",-10.4,9.1999999999999993,342,6,null,null,null,-10,null,null,2357,2227]
[null,3870,55487,"Sohren",-10.7,8.9,417,6,null,null,null,-11,null,null,2408,2249]
[null,3873,55494,"Rheinböllen",-10.9,8.6999999999999993,451,6,null,null,null,-11,null,null,2269,2103]
[null,3874,55496,"Argenthal",-11.6,8.1999999999999993,537,6,null,null,null,-12,null,null,2263,2042]
[null,3877,55543,"Bad Kreuznach",-10.199999999999999,10.1,215,12,null,null,null,-10,null,null,1893,1803]
[null,3881,55566,"Sobernheim",-10.6,9.1999999999999993,341,6,null,null,null,-11,null,null,2128,1995]
[null,3884,55571,"Odernheim am Glan",-9.8000000000000007,9.9,222,12,null,null,null,-10,null,null,2118,2050]
[null,3887,55583,"Bad Kreuznach",-10.1,10.3,161,12,null,null,null,-10,null,null,1967,1881]
[null,3890,55592,"Rehborn",-10.1,9.6999999999999993,265,12,null,null,null,-10,null,null,2173,2078]
[null,3893,55596,"Waldböckelheim",-9.8000000000000007,10,198,12,null,null,null,-10,null,null,2094,2026]
[null,3894,55597,"Wöllstein",-10.1,10.5,132,12,null,null,null,-10,null,null,1891,1808]
[null,3897,55608,"Bergen",-11.1,8.6999999999999993,426,6,null,null,null,-11,null,null,2371,2180]
[null,3900,55621,"Hundsbach",-10.8,9.1999999999999993,346,12,null,null,null,-11,null,null,2192,2039]
[null,3904,55629,"Seesbach",-10.8,8.8000000000000007,424,6,null,null,null,-11,null,null,2373,2207]
[null,3906,55756,"Herrstein",-10.8,8.9,370,6,null,null,null,-11,null,null,2370,{"$f":"ROUND(O3911*24/(15-E3911),0)","v":2205}]
[null,3909,55767,"Brücken, Oberbrombach u.a.",-11.2,8.5,483,6,null,null,null,-11,null,null,2360,2162]
[null,3913,55777,"Berschweiler bei Baumholder",-11.2,8.6,479,6,null,null,null,-11,null,null,2246,2057]
[null,3916,56070,"Koblenz",-8.1999999999999993,11.2,68,5,null,null,null,-8,null,null,1979,2047]
[null,3917,56072,"Koblenz",-9.1,10.3,183,5,null,null,null,-9,null,null,1959,1951]
[null,3920,56076,"Koblenz",-9.3000000000000007,10,291,5,null,null,null,-9,null,null,2096,2070]
[null,3923,56130,"Bad Ems",-9,10.4,134,7,null,null,null,-9,null,null,2059,2059]
[null,3926,56154,"Boppard",-10.4,9,405,7,null,null,null,-10,null,null,2192,2071]
[null,3929,56182,"Urbar (bei Koblenz)",-8.8000000000000007,10.7,127,5,null,null,null,-9,null,null,2041,2058]
[null,3932,56204,"Hillscheid",-10.199999999999999,9.1,389,7,null,null,null,-10,null,null,2063,1965]
[null,3936,56235,"Ransbach-Baumbach",-9.6999999999999993,9.8000000000000007,306,6,null,null,null,-10,null,null,2237,2174]
[null,3939,56244,"Freilingen, Freirachdorf u.a.",-10,9.5,322,6,null,null,null,-10,null,null,2399,2303]
[null,3940,56249,"Herschbach",-10.199999999999999,9.1999999999999993,356,6,null,null,null,-10,null,null,2358,2246]
[null,3944,56271,"Kleinmaischeid",-9.5,9.6999999999999993,291,6,null,null,null,-10,null,null,2342,2294]
[null,3945,56276,"Großmaischeid",-9.6,9.8000000000000007,283,6,null,null,null,-10,null,null,2117,2065]
[null,3949,56290,"Beltheim",-10.1,9.4,332,7,null,null,null,-10,null,null,2384,2280]
[null,3952,56295,"Lonnig",-9.6,9.9,258,5,null,null,null,-10,null,null,2117,2065]
[null,3956,56316,"Raubach",-9.4,10,228,6,null,null,null,-9,null,null,2150,2115]
[null,3959,56322,"Spay",-9.1999999999999993,10.199999999999999,198,7,null,null,null,-9,null,null,2182,2164]
[null,3962,56330,"Kobern-Gondorf",-9.1999999999999993,10.199999999999999,192,5,null,null,null,-9,null,null,2093,2076]
[null,3963,56332,"Lehmen, Niederfell, Oberfell, Wolken u.a.",-9.4,10.1,224,7,null,null,null,-9,null,null,2206,2170]
[null,3965,56335,"Neuhäusel",-9.6999999999999993,9.8000000000000007,284,7,null,null,null,-10,null,null,2061,2003]
[null,3968,56340,"Osterspai",-10.199999999999999,9.1999999999999993,371,7,null,null,null,-10,null,null,2031,1934]
[null,3972,56349,"Kaub",-10.3,9.1,374,7,null,null,null,-10,null,null,2035,1930]
[null,3975,56368,"Katzenelnbogen",-10,9.6999999999999993,268,7,null,null,null,-10,null,null,2174,2087]
[null,3979,56410,"Montabaur",-9.8000000000000007,9.6999999999999993,264,6,null,null,null,-10,null,null,2310,2235]
[null,3982,56422,"Wirges, Stadt",-9.8000000000000007,9.6999999999999993,288,6,null,null,null,-10,null,null,2328,2253]
[null,3984,56427,"Siershahn",-9.8000000000000007,9.6999999999999993,299,6,null,null,null,-10,null,null,2276,2203]
[null,3985,56428,"Dernbach (Westerwald)",-10.1,9.3000000000000007,352,6,null,null,null,-10,null,null,2263,2164]
[null,3988,56462,"Höhn",-11,8.1,515,6,null,null,null,-11,null,null,2509,2316]
[null,3991,56477,"Rennerod, Zehnhausen, Nister-Möhrendorf, Waigandshain",-11,8.1,513,6,null,null,null,-11,null,null,2430,2243]
[null,3995,56567,"Neuwied",-9,10.5,143,5,null,null,null,-9,null,null,1959,1959]
[null,3998,56581,"Melsbach",-10,9.5,331,6,null,null,null,-10,null,null,2083,2000]
[null,4002,56589,"Niederbreitbach",-9.1,10.5,96,5,null,null,null,-9,null,null,2058,2049]
[null,4003,56593,"Horhausen (Westerwald)",-9.5,9.6999999999999993,299,6,null,null,null,-10,null,null,2184,2139]
[null,4007,56626,"Andernach",-9.3000000000000007,10.3,178,5,null,null,null,-9,null,null,1936,1912]
[null,4008,56630,"Kretz",-9.1999999999999993,10.5,126,5,null,null,null,-9,null,null,1917,1901]
[null,4011,56645,"Nickenich",-9.5,10.1,206,5,null,null,null,-10,null,null,1934,1895]
[null,4015,56656,"Brohl-Lützing",-9.3000000000000007,10.1,208,5,null,null,null,-9,null,null,1972,1948]
[null,4018,56729,"Ettringen",-11,8.4,486,6,null,null,null,-11,null,null,2309,2131]
[null,4021,56745,"Bell",-10.6,8.9,406,6,null,null,null,-11,null,null,2040,1913]
[null,4024,56753,"Mertloch, Welling u.a.",-9.5,10,212,6,null,null,null,-10,null,null,2254,2208]
[null,4027,56761,"Düngenheim",-11.1,8.5,461,6,null,null,null,-11,null,null,2319,2132]
[null,4030,56769,"Retterath",-11.5,8,544,6,null,null,null,-12,null,null,2452,2221]
[null,4031,56812,"Cochem",-9.3000000000000007,10.4,96,7,null,null,null,-9,null,null,2433,2403]
[null,4034,56820,"Senheim",-9.3000000000000007,10,212,7,null,null,null,-9,null,null,2417,{"$f":"ROUND(O4039*24/(15-E4039),0)","v":2387}]
[null,4038,56826,"Lutzerath",-10.7,8.8000000000000007,412,7,null,null,null,-11,null,null,2442,2280]
[null,4041,56841,"Traben-Trarbach",-9.1999999999999993,10.4,101,7,null,null,null,-9,null,null,2397,2377]
[null,4043,56850,"Enkirch u.a.",-10.199999999999999,9.1999999999999993,368,7,null,null,null,-10,null,null,2424,2309]
[null,4047,56861,"Reil",-10.1,9.4,339,7,null,null,null,-10,null,null,2425,2319]
[null,4050,56865,"Blankenrath u.a.",-10.8,8.8000000000000007,439,7,null,null,null,-11,null,null,2384,2218]
[null,4051,56867,"Briedel",-10.5,9.1,385,7,null,null,null,-11,null,null,2421,2279]
[null,4054,57074,"Siegen",-9.9,9.4,304,6,null,null,null,-10,null,null,2604,2510]
[null,4057,57080,"Siegen",-9.6,9.6999999999999993,273,6,null,null,null,-10,null,null,2392,2334]
[null,4061,57258,"Freudenberg",-10.1,9.1999999999999993,337,6,null,null,null,-10,null,null,2345,2242]
[null,4064,57299,"Burbach",-11.1,8,515,6,null,null,null,-11,null,null,2441,2245]
[null,4066,57334,"Bad Laasphe",-11.7,8,497,6,null,null,null,-12,null,null,2821,2536]
[null,4070,57399,"Kirchhundem",-10.4,8.8000000000000007,374,6,null,null,null,-10,null,null,2482,2345]
[null,4073,57462,"Olpe",-10.199999999999999,9,347,6,null,null,null,-10,null,null,2330,2219]
[null,4074,57482,"Wenden",-10.5,8.6999999999999993,415,6,null,null,null,-11,null,null,2322,2185]
[null,4077,57520,"Emmerzhausen, Niederdreisbach, Steinebach",-10.8,8.4,468,6,null,null,null,-11,null,null,2514,2339]
[null,4080,57548,"Kirchen (Sieg)",-9.8000000000000007,9.4,300,6,null,null,null,-10,null,null,2369,2293]
[null,4083,57567,"Daaden",-10,9.3000000000000007,300,6,null,null,null,-10,null,null,2470,2371]
[null,4086,57578,"Elkenroth",-10.6,8.4,454,6,null,null,null,-11,null,null,2451,2298]
[null,4089,57583,"Nauroth",-10.3,8.8000000000000007,402,6,null,null,null,-10,null,null,2471,2344]
[null,4093,57589,"Pracht",-9.3000000000000007,10,226,6,null,null,null,-9,null,null,2191,2164]
[null,4096,57614,"Steimel",-9.9,9.4,327,6,null,null,null,-10,null,null,2320,2236]
[null,4097,57627,"Hachenburg",-10.1,9.3000000000000007,338,6,null,null,null,-10,null,null,2418,2312]
[null,4100,57635,"Weyerbusch",-9.4,9.8000000000000007,265,6,null,null,null,-9,null,null,2172,2136]
[null,4102,57638,"Neitersen",-9.3000000000000007,10.1,199,6,null,null,null,-9,null,null,2184,2157]
[null,4106,57644,"Hattert",-9.9,9.4,318,6,null,null,null,-10,null,null,2358,2273]
[null,4109,57648,"Unnau",-10.3,8.6999999999999993,411,6,null,null,null,-10,null,null,2524,2394]
[null,4113,58095,"Hagen",-8.1999999999999993,10.8,135,6,null,null,null,-8,null,null,2161,2236]
[null,4116,58119,"Hagen",-9,10.1,179,6,null,null,null,-9,null,null,2306,2306]
[null,4119,58256,"Ennepetal",-10,9,341,6,null,null,null,-10,null,null,2118,2033]
[null,4121,58300,"Wetter (Ruhr)",-8.6999999999999993,10.3,125,5,null,null,null,-9,null,null,2115,2142]
[null,4122,58313,"Herdecke",-9.1,9.9,233,5,null,null,null,-9,null,null,2019,2011]
[null,4125,58452,"Witten",-8.4,10.5,114,5,null,null,null,-8,null,null,2013,2065]
[null,4129,58456,"Witten",-8.8000000000000007,10.1,195,5,null,null,null,-9,null,null,2002,2019]
[null,4132,58511,"Lüdenscheid",-9.8000000000000007,8.9,403,6,null,null,null,-10,null,null,2375,2298]
[null,4136,58553,"Halver",-10.3,8.6,408,6,null,null,null,-10,null,null,2349,2228]
[null,4139,58636,"Iserlohn",-9.5,9.6999999999999993,227,6,null,null,null,-10,null,null,2161,2117]
[null,4140,58638,"Iserlohn",-9.5,9.5,271,6,null,null,null,-10,null,null,2232,2186]
[null,4142,58642,"Iserlohn",-9.1,10,139,6,null,null,null,-9,null,null,2240,2231]
[null,4145,58706,"Menden",-9.3000000000000007,10.199999999999999,161,6,null,null,null,-9,null,null,2109,2083]
[null,4149,58739,"Wickede (Ruhr)",-9.6,10.1,138,5,null,null,null,-10,null,null,2059,2009]
[null,4152,58791,"Werdohl",-9.6,9.5,235,6,null,null,null,-10,null,null,2381,2323]
[null,4155,58840,"Plettenberg",-10.199999999999999,8.9,353,6,null,null,null,-10,null,null,2375,2262]
[null,4159,59067,"Hamm",-9.1,10.7,60,5,null,null,null,-9,null,null,1956,1948]
[null,4161,59071,"Hamm",-9.6999999999999993,10.199999999999999,79,5,null,null,null,-10,null,null,1973,1917]
[null,4164,59077,"Hamm",-9.6,10.3,62,5,null,null,null,-10,null,null,1921,1874]
[null,4165,59174,"Kamen",-9.1,10.6,67,5,null,null,null,-9,null,null,1924,1916]
[null,4168,59227,"Ahlen",-9.6999999999999993,10.199999999999999,75,5,null,null,null,-10,null,null,1930,1875]
[null,4172,59320,"Ennigerloh",-10,10,119,5,null,null,null,-10,null,null,1973,1894]
[null,4175,59368,"Werne",-9.1,10.4,64,5,null,null,null,-9,null,null,1927,1919]
[null,4178,59394,"Nordkirchen",-9.4,10.3,61,5,null,null,null,-9,null,null,1926,1894]
[null,4180,59423,"Unna",-9.4,10.199999999999999,130,5,null,null,null,-9,null,null,1983,1950]
[null,4184,59457,"Werl",-9.5,10.3,83,5,null,null,null,-10,null,null,1945,1905]
[null,4187,59505,"Bad Sassendorf",-9.9,10.1,103,5,null,null,null,-10,null,null,1994,1922]
[null,4188,59510,"Lippetal",-9.9,10.199999999999999,81,5,null,null,null,-10,null,null,1941,1871]
[null,4191,59555,"Lippstadt",-9.3000000000000007,10.6,76,5,null,null,null,-9,null,null,1952,1928]
[null,4195,59581,"Warstein",-10.8,8.5,407,6,null,null,null,-11,null,null,2174,2022]
[null,4198,59602,"Rüthen",-11,8.6999999999999993,361,6,null,null,null,-11,null,null,2178,2010]
[null,4201,59757,"Arnsberg",-10,9.4,269,6,null,null,null,-10,null,null,2132,2047]
[null,4204,59823,"Arnsberg",-10.6,8.6,388,6,null,null,null,-11,null,null,2184,2048]
[null,4207,59889,"Eslohe",-10.3,8.9,343,6,null,null,null,-10,null,null,2518,2389]
[null,4208,59909,"Bestwig",-10.5,8.8000000000000007,341,6,null,null,null,-11,null,null,2739,2578]
[null,4211,59955,"Winterberg",-13.2,6.8,673,6,null,null,null,-13,null,null,3039,2586]
[null,4214,60306,"Frankfurt am Main, Opernturm",-8.1999999999999993,11.9,106,12,null,null,null,-8,null,null,1797,1859]
[null,4218,60313,"Frankfurt am Main",-8.3000000000000007,11.8,108,12,null,null,null,-8,null,null,1806,1860]
[null,4220,60316,"Frankfurt am Main",-9.1999999999999993,11.3,110,12,null,null,null,-9,null,null,1815,1800]
[null,4223,60322,"Frankfurt am Main",-9.1,11.3,118,12,null,null,null,-9,null,null,1784,1777]
[null,4227,60327,"Frankfurt am Main",-9.1,11.3,100,12,null,null,null,-9,null,null,1825,1817]
[null,4230,60386,"Frankfurt am Main",-9.6,11.1,102,12,null,null,null,-10,null,null,1872,1826]
[null,4231,60388,"Frankfurt am Main",-10.1,10.5,154,12,null,null,null,-10,null,null,1864,1782]
[null,4234,60433,"Frankfurt am Main",-9.6999999999999993,10.8,119,12,null,null,null,-10,null,null,1986,1930]
[null,4237,60438,"Frankfurt am Main",-10,10.5,141,12,null,null,null,-10,null,null,2099,2015]
[null,4241,60488,"Frankfurt am Main",-9.5,11,101,12,null,null,null,-10,null,null,1825,1788]
[null,4243,60528,"Frankfurt am Main",-9.8000000000000007,10.8,111,12,null,null,null,-10,null,null,1847,1787]
[null,4246,60594,"Frankfurt am Main",-9.1999999999999993,11.2,101,12,null,null,null,-9,null,null,1824,1809]
[null,4250,61118,"Bad Vilbel",-10,10.7,111,12,null,null,null,-10,null,null,1873,1798]
[null,4253,61138,"Niederdorfelden",-10.3,10.5,133,12,null,null,null,-10,null,null,1872,1776]
[null,4254,61169,"Friedberg (Hessen)",-10.199999999999999,10.3,160,12,null,null,null,-10,null,null,1948,1855]
[null,4257,61194,"Niddatal",-10.3,10.4,132,12,null,null,null,-10,null,null,1923,1824]
[null,4260,61203,"Reichelsheim (Wetterau)",-10.5,10.3,133,12,null,null,null,-11,null,null,1972,1856]
[null,4263,61231,"Bad Nauheim",-10.6,10.199999999999999,138,12,null,null,null,-11,null,null,2062,1933]
[null,4266,61267,"Neu-Anspach",-11,9.1999999999999993,343,7,null,null,null,-11,null,null,2536,2341]
[null,4270,61348,"Bad Homburg v.d. Höhe",-9.8000000000000007,10.4,192,12,null,null,null,-10,null,null,2357,2281]
[null,4273,61381,"Friedrichsdorf",-10.7,9.5,298,7,null,null,null,-11,null,null,2230,2082]
[null,4276,61449,"Steinbach (Taunus)",-10.1,10.3,182,12,null,null,null,-10,null,null,2200,2104]
[null,4277,61462,"Königstein im Taunus",-10.9,9,413,7,null,null,null,-11,null,null,2738,2537]
[null,4281,63067,"Offenbach am Main",-9.5,11.2,103,12,null,null,null,-10,null,null,1881,1843]
[null,4282,63069,"Offenbach am Main",-10.3,10.6,132,12,null,null,null,-10,null,null,1900,1802]
[null,4286,63110,"Rodgau",-10.199999999999999,10.7,126,12,null,null,null,-10,null,null,1935,1843]
[null,4289,63165,"Mühlheim am Main",-10.3,10.7,116,12,null,null,null,-10,null,null,1899,1801]
[null,4293,63303,"Dreieich",-10.1,10.5,167,12,null,null,null,-10,null,null,1871,1789]
[null,4296,63450,"Hanau",-9.4,11.3,107,12,null,null,null,-9,null,null,1896,1865]
[null,4298,63454,"Hanau",-10.1,10.7,115,12,null,null,null,-10,null,null,1884,1801]
[null,4299,63456,"Hanau",-10.199999999999999,10.8,101,12,null,null,null,-10,null,null,1899,1809]
[null,4302,63486,"Bruchköbel",-10.3,10.6,114,12,null,null,null,-10,null,null,1982,1880]
[null,4306,63517,"Rodenbach",-10.5,10.5,141,12,null,null,null,-11,null,null,1974,1858]
[null,4309,63538,"Großkrotzenburg",-9.9,10.9,110,12,null,null,null,-10,null,null,1927,1857]
[null,4312,63549,"Ronneburg",-10.5,10.199999999999999,165,12,null,null,null,-11,null,null,2028,1909]
[null,4316,63589,"Linsengericht",-10.8,10,187,12,null,null,null,-11,null,null,2137,1988]
[null,4317,63594,"Hasselroth",-10.4,10.4,145,12,null,null,null,-10,null,null,2007,1896]
[null,4321,63628,"Bad Soden-Salmünster",-11.5,9.1999999999999993,307,12,null,null,null,-12,null,null,2360,2137]
[null,4322,63633,"Birstein",-11.5,8.6999999999999993,368,7,null,null,null,-12,null,null,2466,2233]
[null,4325,63639,"Flörsbachtal",-12.1,8.5,444,6,null,null,null,-12,null,null,2343,2075]
[null,4329,63679,"Schotten",-11.6,8.3000000000000007,445,7,null,null,null,-12,null,null,2847,2569]
[null,4332,63691,"Ranstadt",-10.5,10.199999999999999,136,12,null,null,null,-11,null,null,2262,2129]
[null,4335,63697,"Hirzenhain",-11.3,9,316,7,null,null,null,-11,null,null,2478,2261]
[null,4338,63741,"Aschaffenburg",-9.8000000000000007,11,117,12,null,null,null,-10,null,null,2032,1966]
[null,4341,63762,"Großostheim",-10.3,10.6,145,12,null,null,null,-10,null,null,1972,1871]
[null,4344,63776,"Mömbris",-11.1,9.6999999999999993,240,12,null,null,null,-11,null,null,2046,1881]
[null,4345,63785,"Obernburg a.Main",-10.5,10.6,130,12,null,null,null,-11,null,null,2151,2024]
[null,4348,63801,"Kleinostheim",-10.4,10.7,113,12,null,null,null,-10,null,null,1932,1826]
[null,4352,63820,"Elsenfeld",-10.8,10.3,164,12,null,null,null,-11,null,null,2190,2037]
[null,4355,63828,"Kleinkahl",-11.3,9.6999999999999993,241,6,null,null,null,-11,null,null,2182,1991]
[null,4357,63831,"Wiesen, Wiesener Forst",-12,8.6,434,6,null,null,null,-12,null,null,2314,2057]
[null,4361,63843,"Niedernberg",-10.5,10.6,121,12,null,null,null,-11,null,null,1987,1870]
[null,4364,63853,"Mömlingen",-10.5,10.4,149,12,null,null,null,-11,null,null,2108,1984]
[null,4365,63856,"Bessenbach",-11.1,9.9,221,12,null,null,null,-11,null,null,2195,2018]
[null,4368,63863,"Eschau",-11.3,9.4,299,12,null,null,null,-11,null,null,2172,1982]
[null,4371,63868,"Großwallstadt",-10.6,10.5,145,12,null,null,null,-11,null,null,2121,1988]
[null,4375,63874,"Dammbach",-11.6,9.3000000000000007,330,6,null,null,null,-12,null,null,2192,1978]
[null,4378,63879,"Weibersbrunn, Rohrbrunner Forst",-11.8,9,372,6,null,null,null,-12,null,null,2238,2004]
[null,4380,63906,"Erlenbach a.Main",-10.6,10.3,177,12,null,null,null,-11,null,null,2201,2063]
[null,4384,63924,"Kleinheubach, Rüdenau",-11.7,9.3000000000000007,371,12,null,null,null,-12,null,null,2231,2005]
[null,4387,63928,"Eichenbühl",-11.1,9.8000000000000007,253,13,null,null,null,-11,null,null,2191,2015]
[null,4388,63930,"Neunkirchen",-11.5,9.3000000000000007,341,13,null,null,null,-12,null,null,2165,1961]
[null,4391,63934,"Röllbach",-11.1,9.8000000000000007,247,12,null,null,null,-11,null,null,2135,1963]
[null,4394,63939,"Wörth a.Main",-11,9.8000000000000007,255,12,null,null,null,-11,null,null,2207,2037]
[null,4397,64287,"Darmstadt",-10.199999999999999,10.6,163,6,null,null,null,-10,null,null,2007,1911]
[null,4400,64293,"Darmstadt",-9.5,11.1,123,12,null,null,null,-10,null,null,1996,1955]
[null,4403,64319,"Pfungstadt",-10.1,10.9,98,12,null,null,null,-10,null,null,1965,1879]
[null,4407,64354,"Reinheim",-10.4,10.5,185,6,null,null,null,-10,null,null,2010,1899]
[null,4410,64380,"Roßdorf",-10.3,10.5,167,6,null,null,null,-10,null,null,1985,1883]
[null,4411,64385,"Reichelsheim (Odenwald)",-10.8,9.6,313,6,null,null,null,-11,null,null,2229,2073]
[null,4414,64397,"Modautal",-11,9.4,356,6,null,null,null,-11,null,null,2021,1866]
[null,4418,64407,"Fränkisch-Crumbach",-10.5,10.1,231,6,null,null,null,-11,null,null,2146,{"$f":"ROUND(O4423*24/(15-E4423),0)","v":2020}]
[null,4420,64521,"Groß-Gerau",-9.6999999999999993,10.9,93,12,null,null,null,-10,null,null,1945,1890]
[null,4423,64569,"Nauheim",-9.6999999999999993,10.9,89,12,null,null,null,-10,null,null,1934,1879]
[null,4427,64589,"Stockstadt am Rhein",-10.1,10.9,88,12,null,null,null,-10,null,null,1952,1866]
[null,4430,64653,"Lorsch",-10.6,11,94,12,null,null,null,-11,null,null,1903,1784]
[null,4433,64668,"Rimbach",-10.1,10.5,197,6,null,null,null,-10,null,null,2102,2010]
[null,4434,64673,"Zwingenberg",-10.5,10.9,94,12,null,null,null,-11,null,null,1929,1816]
[null,4437,64686,"Lautertal (Odenwald)",-10.6,9.8000000000000007,299,6,null,null,null,-11,null,null,2130,1997]
[null,4439,64711,"Erbach",-10.8,9.9,255,6,null,null,null,-11,null,null,2196,2043]
[null,4443,64743,"Beerfelden",-11.7,8.9,455,6,null,null,null,-12,null,null,2180,1960]
[null,4446,64753,"Brombachtal",-11,9.5,314,6,null,null,null,-11,null,null,2225,2054]
[null,4450,64759,"Sensbachtal",-11.6,9,438,6,null,null,null,-12,null,null,2220,2003]
[null,4453,64832,"Babenhausen",-10.1,10.8,128,12,null,null,null,-10,null,null,1941,1856]
[null,4456,64850,"Schaafheim",-11,9.9,244,12,null,null,null,-11,null,null,1976,1824]
[null,4458,64859,"Eppertshausen",-10.3,10.5,165,12,null,null,null,-10,null,null,1962,1861]
[null,4459,65183,"Wiesbaden",-8.8000000000000007,11.5,125,12,null,null,null,-9,null,null,2046,2063]
[null,4463,65191,"Wiesbaden",-9.5,10.5,207,12,null,null,null,-10,null,null,2259,2213]
[null,4466,65197,"Wiesbaden",-9.5,10.6,163,12,null,null,null,-10,null,null,2023,1982]
[null,4469,65203,"Wiesbaden",-9.1,11.1,91,12,null,null,null,-9,null,null,2001,1993]
[null,4473,65239,"Hochheim am Main",-9.8000000000000007,10.7,124,12,null,null,null,-10,null,null,1987,1923]
[null,4475,65321,"Heidenrod",-10.9,8.6999999999999993,460,7,null,null,null,-11,null,null,2029,1880]
[null,4478,65343,"Eltville am Rhein",-10,10.4,171,12,null,null,null,-10,null,null,1964,1885]
[null,4479,65344,"Eltville am Rhein",-10.5,9.6,300,12,null,null,null,-11,null,null,1976,1860]
[null,4482,65347,"Eltville am Rhein",-10.3,9.5,317,12,null,null,null,-10,null,null,1933,{"$f":"ROUND(O4487*24/(15-E4487),0)","v":1834}]
[null,4486,65388,"Schlangenbad",-11.1,8.6999999999999993,467,7,null,null,null,-11,null,null,1983,1823]
[null,4489,65399,"Kiedrich",-10.3,9.6,293,12,null,null,null,-10,null,null,1954,1854]
[null,4492,65451,"Kelsterbach",-9.5,11,100,12,null,null,null,-10,null,null,1902,1863]
[null,4494,65468,"Trebur",-9.9,10.9,84,12,null,null,null,-10,null,null,1936,1866]
[null,4498,65520,"Bad Camberg",-10.6,9.3000000000000007,312,7,null,null,null,-11,null,null,2416,2265]
[null,4501,65549,"Limburg",-9.3000000000000007,10.6,146,7,null,null,null,-9,null,null,2165,2138]
[null,4502,65550,"Limburg",-9.9,10,182,7,null,null,null,-10,null,null,2160,2082]
[null,4505,65553,"Limburg",-10,10,169,7,null,null,null,-10,null,null,2158,2072]
[null,4509,65558,"Burgschwalbach",-10.1,9.6999999999999993,258,7,null,null,null,-10,null,null,2289,2189]
[null,4512,65594,"Runkel",-10.1,10,136,7,null,null,null,-10,null,null,2152,2058]
[null,4515,65604,"Elz",-9.9,10,163,7,null,null,null,-10,null,null,2252,2171]
[null,4518,65614,"Beselich",-10.5,9.5,248,6,null,null,null,-11,null,null,2249,2117]
[null,4521,65623,"Hahnstätten u.a.",-9.8000000000000007,9.9,203,7,null,null,null,-10,null,null,2172,2102]
[null,4522,65624,"Altendiez",-9.8000000000000007,9.9,213,7,null,null,null,-10,null,null,2193,2122]
[null,4525,65629,"Niederneisen",-9.8000000000000007,10.1,166,7,null,null,null,-10,null,null,2184,2114]
[null,4528,65779,"Kelkheim",-10.3,10,242,7,null,null,null,-10,null,null,2534,2404]
[null,4532,65824,"Schwalbach am Taunus",-9.5,10.7,149,7,null,null,null,-10,null,null,2241,2195]
[null,4534,65835,"Liederbach am Taunus",-9.8000000000000007,10.6,150,12,null,null,null,-10,null,null,2330,2255]
[null,4537,65931,"Frankfurt am Main",-9.6999999999999993,10.9,97,12,null,null,null,-10,null,null,1925,1870]
[null,4541,66111,"Saarbrücken",-8.5,11.2,197,6,null,null,null,-9,null,null,1974,2016]
[null,4544,66117,"Saarbrücken",-9.1999999999999993,10.4,226,6,null,null,null,-9,null,null,1943,1927]
[null,4545,66119,"Saarbrücken",-9.8000000000000007,10,306,6,null,null,null,-10,null,null,1991,1927]
[null,4548,66125,"Saarbrücken",-9.5,10.199999999999999,223,6,null,null,null,-10,null,null,2012,1971]
[null,4551,66128,"Saarbrücken",-9.4,10.3,245,6,null,null,null,-9,null,null,1907,1876]
[null,4555,66132,"Saarbrücken",-10.199999999999999,9.6999999999999993,330,6,null,null,null,-10,null,null,2078,1979]
[null,4557,66265,"Heusweiler",-9.6999999999999993,10.1,265,6,null,null,null,-10,null,null,2039,1981]
[null,4561,66292,"Riegelsberg",-9.5,10.199999999999999,252,6,null,null,null,-10,null,null,1988,1947]
[null,4564,66346,"Püttlingen",-9.4,10.199999999999999,233,6,null,null,null,-9,null,null,1979,1947]
[null,4567,66386,"Sankt Ingbert",-9.6,10.1,270,6,null,null,null,-10,null,null,2056,2006]
[null,4568,66399,"Mandelbachtal",-10.3,9.5,362,6,null,null,null,-10,null,null,2071,1965]
[null,4571,66450,"Bexbach",-10,9.8000000000000007,304,6,null,null,null,-10,null,null,2113,2028]
[null,4574,66482,"Zweibrücken",-9.1999999999999993,10.6,226,6,null,null,null,-9,null,null,2116,2099]
[null,4577,66500,"Hornbach",-9.6999999999999993,10.199999999999999,238,6,null,null,null,-10,null,null,2118,2058]
[null,4580,66504,"Bottenbach",-10.199999999999999,9.6999999999999993,342,6,null,null,null,-10,null,null,2124,2023]
[null,4584,66538,"Neunkirchen",-9.6,10.3,283,6,null,null,null,-10,null,null,2116,2064]
[null,4587,66557,"Illingen",-9.8000000000000007,9.9,286,6,null,null,null,-10,null,null,2090,2023]
[null,4590,66578,"Schiffweiler",-9.8000000000000007,9.9,291,6,null,null,null,-10,null,null,2138,2069]
[null,4591,66583,"Spiesen-Elversberg",-10,9.8000000000000007,317,6,null,null,null,-10,null,null,2060,1978]
[null,4595,66625,"Nohfelden",-10.8,9,445,6,null,null,null,-11,null,null,2226,2071]
[null,4596,66629,"Freisen",-10.6,9.1999999999999993,416,6,null,null,null,-11,null,null,2222,2083]
[null,4600,66649,"Oberthal",-11.2,8.6,512,6,null,null,null,-11,null,null,2176,1993]
[null,4603,66687,"Wadern",-9.6999999999999993,9.9,296,6,null,null,null,-10,null,null,2197,2135]
[null,4607,66709,"Weiskirchen",-9.8000000000000007,9.6999999999999993,339,6,null,null,null,-10,null,null,2160,2090]
[null,4610,66773,"Schwalbach",-9.4,10.3,230,6,null,null,null,-9,null,null,2022,{"$f":"ROUND(O4615*24/(15-E4615),0)","v":1989}]
[null,4613,66793,"Saarwellingen",-9.5,10.1,246,6,null,null,null,-10,null,null,2053,2011]
[null,4614,66798,"Wallerfangen",-10.1,9.6,374,6,null,null,null,-10,null,null,2088,1996]
[null,4616,66806,"Ensdorf",-9.1,10.5,181,6,null,null,null,-9,null,null,2046,2038]
[null,4620,66849,"Landstuhl",-10.3,9.6,341,6,null,null,null,-10,null,null,2083,1976]
[null,4623,66869,"Kusel",-10.1,9.6,314,6,null,null,null,-10,null,null,2230,2132]
[null,4626,66879,"Steinwenden u.a.",-10.1,9.6999999999999993,314,6,null,null,null,-10,null,null,2145,2051]
[null,4630,66892,"Bruchmühlbach-Miesau",-9.5,10.199999999999999,228,6,null,null,null,-10,null,null,2092,2049]
[null,4633,66903,"Altenkirchen",-10.3,9.5,366,6,null,null,null,-10,null,null,2185,2073]
[null,4635,66907,"Glan-Münchweiler",-9.8000000000000007,9.9,278,6,null,null,null,-10,null,null,2153,2084]
[null,4636,66909,"Herschweiler-Pettersheim",-10.199999999999999,9.6,338,6,null,null,null,-10,null,null,2206,2101]
[null,4639,66917,"Wallhalben u.a.",-10.1,9.6999999999999993,332,6,null,null,null,-10,null,null,2096,2004]
[null,4643,66955,"Pirmasens",-10.1,9.8000000000000007,335,6,null,null,null,-10,null,null,2108,2016]
[null,4646,66976,"Rodalben",-10.1,9.9,299,6,null,null,null,-10,null,null,2073,1982]
[null,4649,66987,"Thaleischweiler-Fröschen",-9.8000000000000007,10.1,263,6,null,null,null,-10,null,null,2106,2038]
[null,4653,66999,"Hinterweidenthal",-10.5,9.6,367,6,null,null,null,-11,null,null,2021,1902]
[null,4654,67059,"Ludwigshafen am Rhein",-10,11.5,89,12,null,null,null,-10,null,null,1855,1781]
[null,4658,67067,"Ludwigshafen am Rhein",-10.4,11,94,12,null,null,null,-10,null,null,1854,1752]
[null,4659,67069,"Ludwigshafen am Rhein",-10.199999999999999,11.3,94,12,null,null,null,-10,null,null,1862,1773]
[null,4662,67105,"Schifferstadt",-10.199999999999999,11.1,101,12,null,null,null,-10,null,null,2014,1918]
[null,4666,67125,"Dannstadt-Schauernheim",-10.3,11,102,12,null,null,null,-10,null,null,2011,1908]
[null,4669,67133,"Maxdorf",-10.4,11.1,95,12,null,null,null,-10,null,null,1970,1861]
[null,4671,67136,"Fußgönheim",-10.3,11,100,12,null,null,null,-10,null,null,1984,1882]
[null,4675,67149,"Meckenheim",-10,10.9,118,12,null,null,null,-10,null,null,2084,2001]
[null,4678,67157,"Wachenheim an der Weinstraße",-10,10.1,259,6,null,null,null,-10,null,null,2074,1991]
[null,4679,67158,"Ellerstadt",-10.3,10.9,115,12,null,null,null,-10,null,null,1958,1857]
[null,4682,67165,"Waldsee",-10.7,11,98,12,null,null,null,-11,null,null,1827,1706]
[null,4685,67169,"Kallstadt",-9.9,10.7,154,12,null,null,null,-10,null,null,1922,1853]
[null,4689,67245,"Lambsheim",-10.3,10.9,100,12,null,null,null,-10,null,null,1858,1763]
[null,4692,67256,"Weisenheim am Sand",-9.9,10.8,125,12,null,null,null,-10,null,null,1956,1885]
[null,4694,67259,"Beindersheim",-10.5,10.9,97,12,null,null,null,-11,null,null,1877,1767]
[null,4698,67278,"Bockenheim an der Weinstraße",-10.1,10.7,152,12,null,null,null,-10,null,null,1909,1825]
[null,4701,67283,"Obrigheim (Pfalz)",-9.9,10.8,131,12,null,null,null,-10,null,null,1900,1831]
[null,4702,67292,"Kirchheimbolanden",-10.7,9.4,360,6,null,null,null,-11,null,null,2132,1991]
[null,4705,67297,"Marnheim",-10.1,10.199999999999999,226,6,null,null,null,-10,null,null,2072,1981]
[null,4708,67307,"Göllheim",-10.199999999999999,10,262,6,null,null,null,-10,null,null,2065,1967]
[null,4711,67311,"Tiefenthal",-10.199999999999999,10.3,228,6,null,null,null,-10,null,null,2095,1995]
[null,4714,67319,"Wattenheim",-10.3,9.6999999999999993,343,6,null,null,null,-10,null,null,2135,2025]
[null,4718,67361,"Freisbach",-9.8000000000000007,10.9,117,12,null,null,null,-10,null,null,2043,1977]
[null,4721,67366,"Weingarten (Pfalz)",-9.8000000000000007,11,114,12,null,null,null,-10,null,null,2020,1955]
[null,4724,67374,"Hanhofen",-10,11,106,12,null,null,null,-10,null,null,2012,1932]
[null,4725,67376,"Harthausen",-10,11,112,12,null,null,null,-10,null,null,1993,1913]
[null,4728,67433,"Neustadt an der Weinstraße",-9.6999999999999993,10.9,132,12,null,null,null,-10,null,null,2284,2219]
[null,4732,67459,"Böhl-Iggelheim",-10.199999999999999,11,104,12,null,null,null,-10,null,null,2033,1936]
[null,4734,67468,"Frankenstein, Neidenfels, Frankeneck",-10,10.3,218,6,null,null,null,-10,null,null,2111,2027]
[null,4737,67473,"Lindenberg",-10,10.199999999999999,253,6,null,null,null,-10,null,null,2297,2205]
[null,4741,67483,"Edesheim",-9.8000000000000007,10.8,141,12,null,null,null,-10,null,null,2093,2025]
[null,4744,67547,"Worms",-10.1,11.1,94,12,null,null,null,-10,null,null,1891,1808]
[null,4747,67551,"Worms",-10.3,10.8,118,12,null,null,null,-10,null,null,1904,1806]
[null,4748,67574,"Osthofen",-10.3,10.8,113,12,null,null,null,-10,null,null,1919,1820]
[null,4751,67578,"Gimbsheim",-10.199999999999999,10.9,89,12,null,null,null,-10,null,null,1937,1845]
[null,4753,67582,"Mettenheim",-10.4,10.9,94,12,null,null,null,-10,null,null,1939,1832]
[null,4757,67587,"Wintersheim",-10.1,10.4,193,12,null,null,null,-10,null,null,1944,1859]
[null,4760,67592,"Flörsheim-Dalsheim",-10,10.5,190,12,null,null,null,-10,null,null,1925,1848]
[null,4764,67598,"Gundersheim",-10,10.5,189,12,null,null,null,-10,null,null,2019,1938]
[null,4767,67657,"Kaiserslautern",-10,9.9,292,6,null,null,null,-10,null,null,2139,2053]
[null,4770,67663,"Kaiserslautern",-10.1,9.8000000000000007,316,6,null,null,null,-10,null,null,2122,2029]
[null,4772,67678,"Mehlingen",-10.199999999999999,9.6999999999999993,319,6,null,null,null,-10,null,null,2188,2084]
[null,4773,67680,"Neuhemsbach",-10.3,9.6,330,6,null,null,null,-10,null,null,2089,1982]
[null,4777,67688,"Rodenbach",-10,9.9,291,6,null,null,null,-10,null,null,2109,2025]
[null,4780,67697,"Otterberg",-10.3,9.6,322,6,null,null,null,-10,null,null,2187,2075]
[null,4783,67701,"Schallodenbach",-10.3,9.6,319,12,null,null,null,-10,null,null,2196,2083]
[null,4787,67714,"Waldfischbach-Burgalben",-9.9,10,277,6,null,null,null,-10,null,null,2048,1974]
[null,4790,67718,"Schmalenberg",-10.9,9.1999999999999993,437,6,null,null,null,-11,null,null,2142,1985]
[null,4791,67722,"Winnweiler",-10.4,9.6999999999999993,301,6,null,null,null,-10,null,null,2175,2055]
[null,4793,67725,"Börrstadt",-10.1,10,252,6,null,null,null,-10,null,null,2119,2026]
[null,4796,67729,"Sippersfeld",-10.3,9.6,342,6,null,null,null,-10,null,null,2098,1990]
[null,4800,67735,"Mehlbach",-10.199999999999999,9.8000000000000007,279,6,null,null,null,-10,null,null,2189,2085]
[null,4803,67744,"Medard, Rathskirchen u.a.",-10,9.8000000000000007,234,6,null,null,null,-10,null,null,2204,2116]
[null,4806,67748,"Odenbach",-9.8000000000000007,10.199999999999999,158,12,null,null,null,-10,null,null,2181,2111]
[null,4810,67754,"Eßweiler",-10.4,9.5,319,6,null,null,null,-10,null,null,2222,2100]
[null,4812,67757,"Kreimbach-Kaulbach",-9.6,10.1,204,6,null,null,null,-10,null,null,2204,2150]
[null,4813,67759,"Nußbach",-10.8,9.1999999999999993,367,12,null,null,null,-11,null,null,2122,1974]
[null,4816,67811,"Dielkirchen",-10.5,9.6,309,6,null,null,null,-11,null,null,2185,2056]
[null,4819,67816,"Dreisen, Standenbühl",-10,10.199999999999999,220,6,null,null,null,-10,null,null,2099,2015]
[null,4823,67822,"Winterborn, Waldgrehweiler, Niedermoschel, u.a.",-9.9,9.9,239,12,null,null,null,-10,null,null,2082,2007]
[null,4826,67826,"Hallgarten",-10.8,9.1999999999999993,361,12,null,null,null,-11,null,null,2036,1894]
[null,4829,68159,"Mannheim",-10.5,11.3,100,12,null,null,null,-11,null,null,1854,1745]
[null,4831,68163,"Mannheim",-10.3,11.3,96,12,null,null,null,-10,null,null,1847,1752]
[null,4835,68199,"Mannheim",-10.7,11.2,96,12,null,null,null,-11,null,null,1850,1728]
[null,4836,68219,"Mannheim",-10.7,11.1,102,12,null,null,null,-11,null,null,1843,1721]
[null,4839,68259,"Mannheim",-10.6,11.3,97,12,null,null,null,-11,null,null,1843,1728]
[null,4842,68309,"Mannheim",-10.5,11.3,101,12,null,null,null,-11,null,null,1843,1735]
[null,4846,68542,"Heddesheim",-11,11,98,12,null,null,null,-11,null,null,1909,1762]
[null,4849,68642,"Bürstadt",-10.6,11,92,12,null,null,null,-11,null,null,1896,1778]
[null,4852,68723,"Schwetzingen",-10.5,11.1,102,12,null,null,null,-11,null,null,1874,1764]
[null,4855,68775,"Ketsch",-10.6,11,100,12,null,null,null,-11,null,null,1824,1710]
[null,4858,68794,"Oberhausen-Rheinhausen",-10.3,11.1,93,12,null,null,null,-10,null,null,1839,1745]
[null,4859,68799,"Reilingen",-10.3,11,105,12,null,null,null,-10,null,null,1850,1755]
[null,4862,69115,"Heidelberg",-10.1,11.4,112,12,null,null,null,-10,null,null,1891,1808]
[null,4865,69120,"Heidelberg",-10.5,10.8,148,6,null,null,null,-11,null,null,1891,1780]
[null,4869,69126,"Heidelberg",-10.4,10.8,137,12,null,null,null,-10,null,null,1905,1800]
[null,4871,69168,"Wiesloch",-10.1,10.8,133,12,null,null,null,-10,null,null,1967,1881]
[null,4875,69207,"Sandhausen",-10.5,11,111,12,null,null,null,-11,null,null,1886,1775]
[null,4878,69226,"Nußloch",-10.199999999999999,10.7,158,12,null,null,null,-10,null,null,1966,1872]
[null,4881,69239,"Neckarsteinach",-10.9,9.6,335,12,null,null,null,-11,null,null,2103,1949]
[null,4882,69242,"Mühlhausen",-10.4,10.5,177,12,null,null,null,-10,null,null,1983,1874]
[null,4885,69251,"Gaiberg",-10.8,9.6999999999999993,320,12,null,null,null,-11,null,null,1918,1784]
[null,4888,69256,"Mauer",-10.199999999999999,10.7,136,12,null,null,null,-10,null,null,2008,1912]
[null,4891,69412,"Eberbach",-11,9.8000000000000007,300,6,null,null,null,-11,null,null,2213,2043]
[null,4894,69434,"Hirschhorn, Brombach, Heddesbach",-11.1,9.4,393,6,null,null,null,-11,null,null,2140,1968]
[null,4898,69469,"Weinheim",-10.199999999999999,10.4,226,12,null,null,null,-10,null,null,1957,1864]
[null,4901,69493,"Hirschberg an der Bergstraße",-10.9,10.9,126,12,null,null,null,-11,null,null,1929,1787]
[null,4904,69514,"Laudenbach",-10.7,11.1,99,12,null,null,null,-11,null,null,1972,1842]
[null,4905,69517,"Gorxheimertal",-10.199999999999999,10.4,200,6,null,null,null,-10,null,null,2053,1955]
[null,4909,70176,"Stuttgart",-9.3000000000000007,11.4,278,12,null,null,null,-9,null,null,2079,2053]
[null,4910,70178,"Stuttgart",-9.5,11.3,285,12,null,null,null,-10,null,null,2087,2044]
[null,4914,70186,"Stuttgart",-10.6,10.6,323,12,null,null,null,-11,null,null,2070,1941]
[null,4917,70191,"Stuttgart",-9.9,11.1,266,12,null,null,null,-10,null,null,1991,1919]
[null,4921,70197,"Stuttgart",-11.8,9.1999999999999993,469,12,null,null,null,-12,null,null,2119,1898]
[null,4924,70329,"Stuttgart",-10.199999999999999,10.9,227,12,null,null,null,-10,null,null,2079,1980]
[null,4927,70376,"Stuttgart",-10.5,10.7,270,12,null,null,null,-11,null,null,1969,1853]
[null,4928,70378,"Stuttgart",-10.7,10.5,266,12,null,null,null,-11,null,null,1976,1845]
[null,4930,70437,"Stuttgart",-10.199999999999999,10.9,250,12,null,null,null,-10,null,null,1966,{"$f":"ROUND(O4935*24/(15-E4935),0)","v":1872}]
[null,4934,70563,"Stuttgart",-11.5,9.5,450,6,null,null,null,-12,null,null,2142,1940]
[null,4937,70569,"Stuttgart",-11.6,9.4,434,6,null,null,null,-12,null,null,2144,1934]
[null,4940,70619,"Stuttgart",-11.3,9.5,416,12,null,null,null,-11,null,null,2084,1902]
[null,4944,70771,"Leinfelden-Echterdingen",-11.4,9.5,425,12,null,null,null,-11,null,null,2138,1944]
[null,4947,70825,"Korntal-Münchingen",-11.3,10.1,314,12,null,null,null,-11,null,null,2048,1869]
[null,4949,71032,"Böblingen",-11.9,9,499,6,null,null,null,-12,null,null,2179,1944]
[null,4950,71034,"Böblingen",-11.5,9.4,453,6,null,null,null,-12,null,null,2321,2102]
[null,4953,71067,"Sindelfingen",-11.8,9.1999999999999993,453,6,null,null,null,-12,null,null,2196,1967]
[null,4957,71093,"Weil im Schönbuch",-11.7,9.1,479,6,null,null,null,-12,null,null,2174,1954]
[null,4960,71111,"Waldenbuch",-11.6,9.5,405,6,null,null,null,-12,null,null,2155,1944]
[null,4963,71126,"Gäufelden",-11.7,9.1999999999999993,454,6,null,null,null,-12,null,null,2410,2166]
[null,4967,71144,"Steinenbronn",-11.7,9.3000000000000007,431,6,null,null,null,-12,null,null,2167,1948]
[null,4968,71149,"Bondorf",-11.7,9.3000000000000007,448,6,null,null,null,-12,null,null,2405,2162]
[null,4970,71155,"Altdorf",-12,8.8000000000000007,548,6,null,null,null,-12,null,null,2186,1943]
[null,4973,71229,"Leonberg",-11.4,9.6999999999999993,369,6,null,null,null,-11,null,null,2168,1971]
[null,4976,71272,"Renningen",-11.6,9.5,400,6,null,null,null,-12,null,null,2320,2093]
[null,4980,71292,"Friolzheim",-11.8,9.1,453,6,null,null,null,-12,null,null,2222,1990]
[null,4983,71299,"Wimsheim",-12,9,470,6,null,null,null,-12,null,null,2204,1959]
[null,4986,71336,"Waiblingen",-10.8,10.4,257,13,null,null,null,-11,null,null,2009,1869]
[null,4989,71394,"Kernen im Remstal",-10.9,10.3,289,13,null,null,null,-11,null,null,2071,1919]
[null,4992,71409,"Schwaikheim",-10.8,10.4,276,13,null,null,null,-11,null,null,2013,1873]
[null,4993,71522,"Backnang",-11,10.199999999999999,311,13,null,null,null,-11,null,null,2270,2095]
[null,4996,71546,"Aspach",-11.1,10.1,297,13,null,null,null,-11,null,null,2236,2056]
[null,4999,71560,"Sulzbach an der Murr",-11.3,9.8000000000000007,344,13,null,null,null,-11,null,null,2302,2101]
[null,5003,71573,"Allmersbach im Tal",-11.1,10.1,297,13,null,null,null,-11,null,null,2275,2092]
[null,5006,71579,"Spiegelberg",-11.7,9.3000000000000007,439,13,null,null,null,-12,null,null,2134,1918]
[null,5008,71636,"Ludwigsburg",-10.8,10.4,317,12,null,null,null,-11,null,null,2001,1861]
[null,5012,71665,"Vaihingen an der Enz",-11.5,9.6999999999999993,247,6,null,null,null,-12,null,null,2090,1893]
[null,5015,71686,"Remseck am Neckar",-10.8,10.5,212,12,null,null,null,-11,null,null,2001,1861]
[null,5016,71691,"Freiberg am Neckar",-10.9,10.3,250,12,null,null,null,-11,null,null,2017,1869]
[null,5019,71706,"Markgröningen",-11.6,9.9,289,12,null,null,null,-12,null,null,2029,1831]
[null,5022,71720,"Oberstenfeld",-11,10.1,272,13,null,null,null,-11,null,null,2101,1939]
[null,5026,71732,"Tamm",-11.2,10.1,252,12,null,null,null,-11,null,null,2021,1851]
[null,5029,71739,"Oberriexingen",-11.4,9.6999999999999993,245,6,null,null,null,-11,null,null,2038,1853]
[null,5032,72074,"Tübingen",-11.4,9.5,408,6,null,null,null,-11,null,null,2144,1949]
[null,5035,72116,"Mössingen",-12,8.9,558,6,null,null,null,-12,null,null,2285,2031]
[null,5038,72127,"Kusterdingen",-11.4,9.6,400,6,null,null,null,-11,null,null,2162,1965]
[null,5039,72131,"Ofterdingen",-11.8,9.1999999999999993,479,6,null,null,null,-12,null,null,2301,2061]
[null,5042,72141,"Walddorfhäslach",-11.7,9.3000000000000007,448,6,null,null,null,-12,null,null,2100,1888]
[null,5046,72149,"Neustetten",-11.6,9.1999999999999993,459,6,null,null,null,-12,null,null,2417,2181]
[null,5048,72172,"Sulz am Neckar",-11.5,9.5,425,6,null,null,null,-12,null,null,2594,2349]
[null,5051,72181,"Starzach",-12,9,522,6,null,null,null,-12,null,null,2413,2145]
[null,5055,72202,"Nagold",-11.7,9.4,445,6,null,null,null,-12,null,null,2517,2262]
[null,5058,72221,"Haiterbach",-12.2,8.6,590,6,null,null,null,-12,null,null,2536,{"$f":"ROUND(O5063*24/(15-E5063),0)","v":2238}]
[null,5061,72227,"Egenhausen",-11.9,8.9,527,6,null,null,null,-12,null,null,2535,2262]
[null,5062,72229,"Rohrdorf",-11.7,9.4,425,6,null,null,null,-12,null,null,2518,2263]
[null,5065,72275,"Alpirsbach",-12.6,8.3000000000000007,655,8,null,null,null,-13,null,null,2458,2137]
[null,5067,72285,"Pfalzgrafenweiler",-12.6,8.3000000000000007,643,6,null,null,null,-13,null,null,2641,2297]
[null,5071,72296,"Schopfloch",-12.7,8.1999999999999993,666,6,null,null,null,-13,null,null,2526,2189]
[null,5074,72336,"Balingen",-11.9,9.1,555,6,null,null,null,-12,null,null,2503,2233]
[null,5078,72356,"Dautmergen",-12.4,8.3000000000000007,655,6,null,null,null,-12,null,null,2571,2252]
[null,5081,72361,"Hausen am Tann",-12.8,7.9,746,14,null,null,null,-13,null,null,2694,2326]
[null,5084,72365,"Ratshausen",-12.7,8.1999999999999993,701,14,null,null,null,-13,null,null,2704,2343]
[null,5086,72369,"Zimmern unter der Burg",-12.3,8.5,624,14,null,null,null,-12,null,null,2597,2283]
[null,5087,72379,"Hechingen",-11.7,9.1999999999999993,491,6,null,null,null,-12,null,null,2390,2148]
[null,5091,72411,"Bodelshausen",-11.8,9.1999999999999993,475,6,null,null,null,-12,null,null,2380,2131]
[null,5094,72417,"Jungingen",-12.3,8.5,619,14,null,null,null,-12,null,null,2439,2144]
[null,5097,72459,"Albstadt",-13.7,7.1,931,14,null,null,null,-14,null,null,2593,2168]
[null,5101,72475,"Bitz",-13.3,7.5,852,14,null,null,null,-13,null,null,2541,2155]
[null,5104,72488,"Sigmaringen",-12.8,8.1,664,14,null,null,null,-13,null,null,2658,2295]
[null,5105,72501,"Gammertingen",-13,7.8,780,14,null,null,null,-13,null,null,2651,2272]
[null,5107,72510,"Stetten am kalten Markt",-13,7.9,801,14,null,null,null,-13,null,null,2762,2367]
[null,5110,72514,"Inzigkofen",-12.5,8.1,660,14,null,null,null,-13,null,null,2677,2336]
[null,5114,72525,"Münsingen",-13.4,7.6,802,14,null,null,null,-13,null,null,2634,2226]
[null,5117,72534,"Hayingen",-13.1,7.9,681,14,null,null,null,-13,null,null,2571,2196]
[null,5120,72539,"Pfronstetten",-13.2,7.8,738,14,null,null,null,-13,null,null,2655,2260]
[null,5124,72582,"Grabenstetten",-13.1,7.9,707,14,null,null,null,-13,null,null,2304,1968]
[null,5126,72585,"Riederich",-10.8,10.199999999999999,325,6,null,null,null,-11,null,null,2064,1920]
[null,5127,72587,"Römerstein",-13.5,7.5,799,14,null,null,null,-14,null,null,2606,2195]
[null,5130,72631,"Aichtal",-11.2,9.9,328,6,null,null,null,-11,null,null,2112,1935]
[null,5133,72644,"Oberboihingen",-11,10,324,6,null,null,null,-11,null,null,2139,1974]
[null,5137,72657,"Altenriet",-11.5,9.5,413,6,null,null,null,-12,null,null,2096,1898]
[null,5140,72661,"Grafenberg",-11.4,9.6,403,6,null,null,null,-11,null,null,2080,1891]
[null,5143,72666,"Neckartailfingen",-10.9,10.199999999999999,310,6,null,null,null,-11,null,null,2107,1952]
[null,5145,72669,"Unterensingen",-10.8,10.199999999999999,291,6,null,null,null,-11,null,null,2135,1986]
[null,5149,72766,"Reutlingen",-11.2,9.9,345,6,null,null,null,-11,null,null,2134,1955]
[null,5150,72768,"Reutlingen",-11.3,9.6999999999999993,384,6,null,null,null,-11,null,null,2101,1917]
[null,5153,72800,"Eningen",-13.1,7.8,737,14,null,null,null,-13,null,null,2201,1880]
[null,5156,72813,"St. Johann",-13.3,7.6,783,14,null,null,null,-13,null,null,2357,1999]
[null,5160,72829,"Engstingen",-13.1,7.9,733,14,null,null,null,-13,null,null,2420,2067]
[null,5163,73037,"Göppingen",-11.5,9.5,406,6,null,null,null,-12,null,null,2379,2155]
[null,5166,73066,"Uhingen",-11,10,323,6,null,null,null,-11,null,null,2305,2128]
[null,5169,73084,"Salach",-11.7,9.3000000000000007,430,6,null,null,null,-12,null,null,2526,2271]
[null,5172,73095,"Albershausen",-11.3,9.6999999999999993,375,6,null,null,null,-11,null,null,2274,2075]
[null,5173,73098,"Rechberghausen",-11.1,9.9,357,6,null,null,null,-11,null,null,2339,2151]
[null,5176,73102,"Birenbach",-12.1,9.1999999999999993,454,6,null,null,null,-12,null,null,2344,2076]
[null,5179,73107,"Eschenbach",-11.3,9.6,409,6,null,null,null,-11,null,null,2536,2314]
[null,5183,73113,"Ottenbach",-11.5,9.5,390,6,null,null,null,-12,null,null,2433,2203]
[null,5185,73116,"Wäschenbeuren",-11.9,9.3000000000000007,434,6,null,null,null,-12,null,null,2437,2174]
[null,5189,73230,"Kirchheim unter Teck",-10.8,10.3,316,6,null,null,null,-11,null,null,2168,2017]
[null,5192,73249,"Wernau (Neckar)",-11,10.199999999999999,296,6,null,null,null,-11,null,null,2164,1998]
[null,5195,73262,"Reichenbach an der Fils",-11.3,9.6999999999999993,376,6,null,null,null,-11,null,null,2144,1957]
[null,5196,73265,"Dettingen unter Teck",-11.3,9.6,389,6,null,null,null,-11,null,null,2144,1957]
[null,5199,73269,"Hochdorf",-11.1,10,334,6,null,null,null,-11,null,null,2170,1995]
[null,5202,73274,"Notzingen",-11,10.1,316,6,null,null,null,-11,null,null,2187,2019]
[null,5206,73312,"Geislingen an der Steige",-12.8,8.4,602,14,null,null,null,-13,null,null,2607,2251]
[null,5208,73329,"Kuchen",-11.7,9.4,435,14,null,null,null,-12,null,null,2595,2333]
[null,5212,73342,"Bad Ditzenbach",-13.5,7.8,726,14,null,null,null,-14,null,null,2599,2189]
[null,5215,73347,"Mühlhausen im Täle",-12.4,8.6,552,14,null,null,null,-12,null,null,2574,2255]
[null,5218,73431,"Aalen",-12.7,8.6,545,14,null,null,null,-13,null,null,2404,2083]
[null,5219,73432,"Aalen",-13.2,8.1,648,14,null,null,null,-13,null,null,2372,2019]
[null,5222,73441,"Bopfingen",-12.6,8.6,514,14,null,null,null,-13,null,null,2384,2073]
[null,5225,73453,"Abtsgmünd",-12.2,9.1,429,14,null,null,null,-12,null,null,2364,2086]
[null,5228,73463,"Westhausen",-12.5,8.8000000000000007,479,14,null,null,null,-13,null,null,2349,2050]
[null,5231,73469,"Riesbürg",-13.1,8.9,438,13,null,null,null,-13,null,null,2364,2019]
[null,5235,73488,"Ellenberg",-13.3,8.1999999999999993,576,13,null,null,null,-13,null,null,2442,2071]
[null,5238,73492,"Rainau",-12.4,8.9,454,14,null,null,null,-12,null,null,2367,2073]
[null,5241,73497,"Tannhausen",-12.9,8.5,516,13,null,null,null,-13,null,null,2426,2087]
[null,5242,73499,"Wört",-12.7,8.8000000000000007,452,13,null,null,null,-13,null,null,2453,2125]
[null,5244,73527,"Schwäbisch Gmünd, Täferrot",-12.1,9.3000000000000007,445,6,null,null,null,-12,null,null,2370,2099]
[null,5248,73550,"Waldstetten",-13,8.3000000000000007,612,6,null,null,null,-13,null,null,2343,2008]
[null,5251,73560,"Böbingen an der Rems",-11.6,9.6,384,14,null,null,null,-12,null,null,2352,2122]
[null,5254,73566,"Bartholomä",-13.2,8.1,658,14,null,null,null,-13,null,null,2411,2052]
[null,5258,73572,"Heuchlingen",-12.2,9.1,435,14,null,null,null,-12,null,null,2324,2051]
[null,5261,73577,"Ruppertshofen",-12.6,8.6999999999999993,514,13,null,null,null,-13,null,null,2363,2055]
[null,5263,73614,"Schorndorf",-11,10.4,274,13,null,null,null,-11,null,null,2201,2032]
[null,5264,73630,"Remshalden",-11.1,10.199999999999999,292,13,null,null,null,-11,null,null,2090,1922]
[null,5267,73650,"Winterbach",-11.2,10.1,322,13,null,null,null,-11,null,null,2177,1994]
[null,5271,73666,"Baltmannsweiler",-11.7,9.3000000000000007,442,6,null,null,null,-12,null,null,2119,1905]
[null,5274,73728,"Esslingen am Neckar",-10.3,10.8,267,6,null,null,null,-10,null,null,2095,1987]
[null,5277,73733,"Esslingen am Neckar",-11.2,9.8000000000000007,395,6,null,null,null,-11,null,null,2081,1906]
[null,5281,73770,"Denkendorf",-11.2,10,338,6,null,null,null,-11,null,null,2116,1938]
[null,5282,73773,"Aichwald",-11.9,9.1,472,6,null,null,null,-12,null,null,2105,1878]
[null,5284,73779,"Deizisau",-10.9,10.199999999999999,309,6,null,null,null,-11,null,null,2127,1971]
[null,5287,74076,"Heilbronn",-10.199999999999999,10.9,161,12,null,null,null,-10,null,null,1995,1900]
[null,5290,74081,"Heilbronn",-10.6,10.5,178,12,null,null,null,-11,null,null,2013,1887]
[null,5294,74189,"Weinsberg",-10.6,10.6,188,13,null,null,null,-11,null,null,1992,1868]
[null,5297,74199,"Untergruppenbach",-10.9,10,307,13,null,null,null,-11,null,null,2040,1890]
[null,5300,74214,"Schöntal",-11.1,9.9,303,13,null,null,null,-11,null,null,2189,2013]
[null,5303,74226,"Nordheim",-10.8,10.3,197,12,null,null,null,-11,null,null,2019,1878]
[null,5306,74235,"Erlenbach",-10.7,10.3,210,13,null,null,null,-11,null,null,1994,1862]
[null,5307,74238,"Krautheim",-11.1,9.9,296,13,null,null,null,-11,null,null,2223,2044]
[null,5310,74245,"Löwenstein",-10.8,10,295,13,null,null,null,-11,null,null,2050,1907]
[null,5313,74249,"Jagsthausen",-10.6,10.4,210,13,null,null,null,-11,null,null,2072,1943]
[null,5317,74255,"Roigheim",-11,10,284,6,null,null,null,-11,null,null,2147,1982]
[null,5320,74321,"Bietigheim-Bissingen",-11,10.199999999999999,218,12,null,null,null,-11,null,null,2024,1868]
[null,5322,74343,"Sachsenheim",-11.6,9.6999999999999993,314,6,null,null,null,-12,null,null,2070,1868]
[null,5326,74360,"Ilsfeld",-10.9,10.1,253,13,null,null,null,-11,null,null,2070,1918]
[null,5329,74369,"Löchgau",-11.4,9.9,274,12,null,null,null,-11,null,null,2032,1847]
[null,5330,74372,"Sersheim",-11.4,9.8000000000000007,234,6,null,null,null,-11,null,null,2041,1855]
[null,5333,74379,"Ingersheim",-11.3,10.1,237,12,null,null,null,-11,null,null,1990,1816]
[null,5336,74388,"Talheim",-11,10.1,241,12,null,null,null,-11,null,null,1997,1843]
[null,5340,74394,"Hessigheim",-10.9,10.3,207,12,null,null,null,-11,null,null,1991,1845]
[null,5343,74399,"Walheim",-11.2,10.1,239,12,null,null,null,-11,null,null,2041,1870]
[null,5346,74420,"Oberrot",-11.6,9.6,377,13,null,null,null,-12,null,null,2346,2117]
[null,5349,74426,"Bühlerzell",-12.4,8.9,471,13,null,null,null,-12,null,null,2444,2141]
[null,5352,74523,"Schwäbisch Hall",-11.6,9.5,391,13,null,null,null,-12,null,null,2270,2048]
[null,5353,74532,"Ilshofen",-12.3,9.1,442,13,null,null,null,-12,null,null,2383,2095]
[null,5356,74541,"Vellberg",-12.6,8.9,478,13,null,null,null,-13,null,null,2401,2088]
[null,5359,74545,"Michelfeld",-12.2,9,466,13,null,null,null,-12,null,null,2259,1993]
[null,5362,74564,"Crailsheim",-12.1,9.4,420,13,null,null,null,-12,null,null,2436,2157]
[null,5365,74579,"Fichtenau",-13.1,8.5,515,13,null,null,null,-13,null,null,2453,2095]
[null,5369,74589,"Satteldorf",-12.5,9.1,430,13,null,null,null,-13,null,null,2436,2126]
[null,5372,74595,"Langenburg",-12.3,9,454,13,null,null,null,-12,null,null,2339,2056]
[null,5375,74613,"Öhringen",-10.6,10.3,253,13,null,null,null,-11,null,null,2022,1896]
[null,5376,74626,"Bretzfeld",-10.6,10.3,247,13,null,null,null,-11,null,null,2046,1918]
[null,5379,74635,"Kupferzell",-11.2,9.8000000000000007,333,13,null,null,null,-11,null,null,2183,2000]
[null,5383,74670,"Forchtenberg",-11.2,9.6999999999999993,346,13,null,null,null,-11,null,null,2089,1914]
[null,5385,74676,"Niedernhall",-11.2,9.6999999999999993,346,13,null,null,null,-11,null,null,2110,1933]
[null,5388,74706,"Osterburken",-11,9.8000000000000007,319,6,null,null,null,-11,null,null,2266,2092]
[null,5392,74740,"Adelsheim",-10.8,10.3,225,6,null,null,null,-11,null,null,2227,2072]
[null,5395,74746,"Höpfingen",-11.8,9.1,421,6,null,null,null,-12,null,null,2243,2009]
[null,5398,74821,"Mosbach",-11,9.9,289,12,null,null,null,-11,null,null,2261,2087]
[null,5399,74831,"Gundelsheim",-10.8,10,271,13,null,null,null,-11,null,null,2023,1882]
[null,5402,74842,"Billigheim",-11,10.1,256,6,null,null,null,-11,null,null,2165,1998]
[null,5405,74855,"Haßmersheim",-10.5,10.5,162,12,null,null,null,-11,null,null,2051,1930]
[null,5408,74862,"Binau",-10.9,10.1,238,12,null,null,null,-11,null,null,2248,2083]
[null,5411,74867,"Neunkirchen",-10.8,9.6999999999999993,315,12,null,null,null,-11,null,null,2242,2086]
[null,5415,74909,"Meckesheim",-10.5,10.4,182,12,null,null,null,-11,null,null,2023,1904]
[null,5418,74918,"Angelbachtal",-10.6,10.4,188,12,null,null,null,-11,null,null,2005,1880]
[null,5421,74925,"Epfenbach",-10.8,10.1,237,12,null,null,null,-11,null,null,2123,1975]
[null,5423,74928,"Hüffenhardt",-10.8,9.8000000000000007,307,12,null,null,null,-11,null,null,2056,1913]
[null,5424,74930,"Ittlingen",-10.6,10.3,206,12,null,null,null,-11,null,null,2089,1958]
[null,5428,74936,"Siegelsbach",-11.1,9.9,288,12,null,null,null,-11,null,null,2053,1888]
[null,5431,75015,"Bretten",-10.7,10.199999999999999,220,6,null,null,null,-11,null,null,2120,1980]
[null,5434,75045,"Walzbachtal",-10.7,10.3,201,6,null,null,null,-11,null,null,2062,1926]
[null,5438,75057,"Kürnbach",-10.8,10.199999999999999,206,6,null,null,null,-11,null,null,2114,1967]
[null,5440,75172,"Pforzheim",-11,10.199999999999999,291,6,null,null,null,-11,null,null,2153,1987]
[null,5441,75173,"Pforzheim",-10.7,10.3,264,6,null,null,null,-11,null,null,2160,2017]
[null,5444,75179,"Pforzheim",-11.3,9.6,332,6,null,null,null,-11,null,null,2090,1907]
[null,5447,75196,"Remchingen",-10.5,10.5,191,6,null,null,null,-11,null,null,2060,1939]
[null,5451,75223,"Niefern-Öschelbronn",-11.4,9.6,278,6,null,null,null,-11,null,null,2115,1923]
[null,5454,75236,"Kämpfelbach",-11.3,9.6999999999999993,294,6,null,null,null,-11,null,null,2085,1903]
[null,5457,75245,"Neulingen",-11.5,9.5,321,6,null,null,null,-12,null,null,2120,1920]
[null,5459,75249,"Kieselbronn",-11.5,9.5,363,6,null,null,null,-12,null,null,2113,1914]
[null,5463,75331,"Engelsbrand",-12.4,8.5,573,6,null,null,null,-12,null,null,2284,2001]
[null,5464,75334,"Straubenhardt",-11.5,9.5,379,6,null,null,null,-12,null,null,2001,1812]
[null,5467,75339,"Höfen an der Enz",-11.4,9.6,365,6,null,null,null,-11,null,null,2216,2015]
[null,5470,75382,"Althengstett",-11.8,8.9,525,6,null,null,null,-12,null,null,2364,2117]
[null,5474,75391,"Gechingen",-11.8,9.1,482,6,null,null,null,-12,null,null,2372,2124]
[null,5477,75395,"Ostelsheim",-12.1,8.8000000000000007,535,6,null,null,null,-12,null,null,2357,2087]
[null,5480,75417,"Mühlacker",-11.5,9.6,292,6,null,null,null,-12,null,null,2132,1931]
[null,5483,75438,"Knittlingen",-11,10,233,6,null,null,null,-11,null,null,2126,1962]
[null,5486,75447,"Sternenfels",-11.7,9.4,349,6,null,null,null,-12,null,null,2129,1914]
[null,5487,75449,"Wurmberg",-11.8,9.1999999999999993,408,6,null,null,null,-12,null,null,2191,1962]
[null,5490,76135,"Karlsruhe",-9.5,11.5,114,12,null,null,null,-10,null,null,1885,1847]
[null,5493,76149,"Karlsruhe",-9.8000000000000007,11.2,111,12,null,null,null,-10,null,null,1896,1835]
[null,5497,76199,"Karlsruhe",-10,11.1,114,12,null,null,null,-10,null,null,1923,1846]
[null,5499,76228,"Karlsruhe",-10.7,10.1,251,6,null,null,null,-11,null,null,1998,1866]
[null,5503,76297,"Stutensee",-10.1,11,115,12,null,null,null,-10,null,null,1900,1817]
[null,5506,76327,"Pfinztal",-10.199999999999999,10.8,144,6,null,null,null,-10,null,null,2038,{"$f":"ROUND(O5511*24/(15-E5511),0)","v":1941}]
[null,5509,76344,"Eggenstein-Leopoldshafen",-10,11.1,100,12,null,null,null,-10,null,null,1834,1761]
[null,5510,76351,"Linkenheim-Hochstetten",-10,11,104,12,null,null,null,-10,null,null,1831,1758]
[null,5513,76437,"Rastatt",-9.6999999999999993,11.3,112,12,null,null,null,-10,null,null,1917,1863]
[null,5516,76461,"Muggensturm",-10.199999999999999,11,122,12,null,null,null,-10,null,null,1933,1841]
[null,5520,76474,"Au am Rhein",-10,11.1,110,12,null,null,null,-10,null,null,1875,1800]
[null,5522,76477,"Elchesheim-Illingen",-10,11.1,110,12,null,null,null,-10,null,null,1886,1811]
[null,5526,76534,"Baden-Baden",-11,9.8000000000000007,323,6,null,null,null,-11,null,null,1994,1841]
[null,5529,76571,"Gaggenau",-10.7,10.1,266,6,null,null,null,-11,null,null,1959,1829]
[null,5532,76597,"Loffenau",-11.5,9.4,402,8,null,null,null,-12,null,null,1967,1781]
[null,5533,76599,"Weisenbach",-10.8,10,274,8,null,null,null,-11,null,null,2132,1983]
[null,5536,76669,"Bad Schönborn",-10.199999999999999,11,106,12,null,null,null,-10,null,null,1938,1846]
[null,5539,76689,"Karlsdorf-Neuthard",-10.1,11,110,12,null,null,null,-10,null,null,1880,1798]
[null,5542,76703,"Kraichtal",-10.5,10.3,198,6,null,null,null,-11,null,null,2019,1900]
[null,5545,76709,"Kronau",-10.1,11,108,12,null,null,null,-10,null,null,1899,1816]
[null,5549,76756,"Bellheim",-9.9,11,116,12,null,null,null,-10,null,null,1992,1920]
[null,5552,76767,"Hagenbach",-10,11.1,104,12,null,null,null,-10,null,null,1872,1797]
[null,5555,76771,"Hördt",-9.9,11,101,12,null,null,null,-10,null,null,1831,1765]
[null,5556,76773,"Kuhardt",-10,11,110,12,null,null,null,-10,null,null,1833,1760]
[null,5560,76779,"Scheibenhardt",-10.1,11,125,12,2,null,null,-10,null,null,1881,1799]
[null,5562,76831,"Billigheim-Ingenheim, Birkweiler",-10,10.7,163,6,null,null,null,-10,null,null,1939,1861]
[null,5565,76846,"Hauenstein",-10.1,10,295,6,null,null,null,-10,null,null,1982,1895]
[null,5568,76857,"Albersweiler, Silz u.a.",-10.8,9.5,417,6,null,null,null,-11,null,null,1987,1848]
[null,5572,76872,"Steinweiler",-10.1,10.9,132,12,null,null,null,-10,null,null,1936,1851]
[null,5575,76887,"Bad Bergzabern u.a.",-10.199999999999999,10.6,196,6,null,null,null,-10,null,null,1852,1764]
[null,5578,77652,"Offenburg",-9.5,10.9,151,12,null,null,null,-10,null,null,1854,1816]
[null,5579,77654,"Offenburg",-9.5,10.7,193,12,null,null,null,-10,null,null,1850,1812]
[null,5581,77694,"Kehl",-9.4,11,136,12,null,null,null,-9,null,null,1879,1848]
[null,5585,77723,"Gengenbach",-9.8000000000000007,10.6,218,12,null,null,null,-10,null,null,1883,1822]
[null,5588,77736,"Zell am Harmersbach",-10.7,10.1,329,12,null,null,null,-11,null,null,2032,1898]
[null,5591,77746,"Schutterwald",-9.5,10.8,156,12,null,null,null,-10,null,null,1852,1814]
[null,5595,77767,"Appenweier",-9.5,11,142,12,null,null,null,-10,null,null,1879,1841]
[null,5598,77776,"Bad Rippoldsau-Schapbach",-13.2,7.8,752,8,null,null,null,-13,null,null,2339,1991]
[null,5600,77784,"Oberharmersbach",-10.8,10,347,6,null,null,null,-11,null,null,2149,1999]
[null,5601,77787,"Nordrach",-10.9,9.9,365,6,null,null,null,-11,null,null,1918,1777]
[null,5604,77793,"Gutach (Schwarzwaldbahn)",-11,9.8000000000000007,390,6,null,null,null,-11,null,null,2109,1947]
[null,5608,77799,"Ortenberg",-9.6,10.7,190,12,null,null,null,-10,null,null,1847,1802]
[null,5611,77833,"Ottersweier",-9.6999999999999993,11,131,12,null,null,null,-10,null,null,1947,1892]
[null,5614,77855,"Achern",-9.3000000000000007,11,136,12,null,null,null,-9,null,null,1915,1891]
[null,5617,77876,"Kappelrodeck",-10.7,9.8000000000000007,369,6,null,null,null,-11,null,null,1910,1784]
[null,5620,77886,"Lauf",-10.7,9.8000000000000007,364,6,null,null,null,-11,null,null,1994,1862]
[null,5621,77887,"Sasbachwalden",-13.3,7.7,772,6,null,null,null,-13,null,null,2007,1702]
[null,5624,77948,"Friesenheim",-9.6999999999999993,10.7,185,12,null,null,null,-10,null,null,1886,1833]
[null,5627,77963,"Schwanau",-9.6999999999999993,10.8,151,12,null,null,null,-10,null,null,1859,1806]
[null,5631,77974,"Meißenheim",-9.5,10.9,147,12,null,null,null,-10,null,null,1858,1820]
[null,5634,77978,"Schuttertal",-10.6,9.6999999999999993,436,6,null,null,null,-11,null,null,2002,{"$f":"ROUND(O5639*24/(15-E5639),0)","v":1877}]
[null,5636,78050,"Villingen-Schwenningen",-12.8,8.3000000000000007,730,14,null,null,null,-13,null,null,2717,2346]
[null,5640,78073,"Bad Dürrheim",-12.7,8.3000000000000007,696,14,null,null,null,-13,null,null,2715,2352]
[null,5643,78086,"Brigachtal",-12.7,8.3000000000000007,691,14,null,null,null,-13,null,null,2714,2351]
[null,5644,78087,"Mönchweiler",-13,7.9,759,14,null,null,null,-13,null,null,2701,2315]
[null,5647,78112,"Sankt Georgen im Schwarzwald",-13.3,7.6,824,8,null,null,null,-13,null,null,2380,2018]
[null,5650,78132,"Hornberg",-12.1,8.6999999999999993,628,8,null,null,null,-12,null,null,2254,1996]
[null,5654,78147,"Vöhrenbach",-13.1,7.7,809,8,null,null,null,-13,null,null,2620,2238]
[null,5657,78176,"Blumberg",-12.6,8.3000000000000007,727,14,null,null,null,-13,null,null,2464,2143]
[null,5660,78194,"Immendingen",-13.1,7.8,804,14,null,null,null,-13,null,null,2594,2216]
[null,5663,78234,"Engen",-10.5,9.3000000000000007,525,14,null,null,null,-11,null,null,2471,2326]
[null,5666,78247,"Hilzingen",-11.3,8.6999999999999993,639,13,null,null,null,-11,null,null,2253,2056]
[null,5667,78250,"Tengen",-11.3,8.6999999999999993,639,14,null,null,null,-11,null,null,2372,2165]
[null,5670,78259,"Mühlhausen-Ehingen",-10,9.6,474,13,null,null,null,-10,null,null,2302,2210]
[null,5673,78267,"Aach",-10.3,9.4,514,13,null,null,null,-10,null,null,2318,2199]
[null,5676,78333,"Stockach",-10.199999999999999,9.5,514,13,null,null,null,-10,null,null,2333,2222]
[null,5679,78345,"Moos",-9.6,10,407,13,null,null,null,-10,null,null,2258,2203]
[null,5683,78357,"Mühlingen",-12,8.4,652,13,null,null,null,-12,null,null,2542,2260]
[null,5686,78464,"Konstanz",-9.4,10.1,418,13,null,null,null,-9,null,null,2126,2091]
[null,5689,78476,"Allensbach",-9.6999999999999993,9.6,477,13,null,null,null,-10,null,null,2223,2160]
[null,5690,78479,"Reichenau",-9.3000000000000007,10.1,392,13,null,null,null,-9,null,null,2131,2105]
[null,5693,78554,"Aldingen",-12.4,8.5,662,6,null,null,null,-12,null,null,2742,2402]
[null,5697,78570,"Mühlheim an der Donau",-13.1,7.8,807,14,null,null,null,-13,null,null,2803,2394]
[null,5699,78576,"Emmingen-Liptingen",-12.6,8.1,756,14,null,null,null,-13,null,null,2593,2255]
[null,5702,78582,"Balgheim",-12.6,8.1999999999999993,716,14,null,null,null,-13,null,null,2792,2428]
[null,5706,78588,"Denkingen",-12.7,8.1999999999999993,720,14,null,null,null,-13,null,null,2810,2435]
[null,5709,78592,"Egesheim",-13.4,7.4,888,14,null,null,null,-13,null,null,2788,2356]
[null,5712,78597,"Irndorf",-13.3,7.5,850,14,null,null,null,-13,null,null,2795,2370]
[null,5713,78598,"Königsheim",-13.4,7.4,888,14,null,null,null,-13,null,null,2793,2360]
[null,5716,78603,"Renquishausen",-13.5,7.4,894,14,null,null,null,-14,null,null,2788,2348]
[null,5719,78607,"Talheim",-12.9,8.1,750,14,null,null,null,-13,null,null,2723,2342]
[null,5722,78647,"Trossingen",-12.7,8.4,696,14,null,null,null,-13,null,null,2715,2352]
[null,5725,78658,"Zimmern ob Rottweil",-12.5,8.4,657,6,null,null,null,-13,null,null,2655,2317]
[null,5729,78665,"Frittlingen",-12.5,8.4,688,14,null,null,null,-13,null,null,2710,2365]
[null,5732,78713,"Schramberg",-12.8,8.1999999999999993,694,6,null,null,null,-13,null,null,2439,2106]
[null,5735,78733,"Aichhalden",-12.7,8.1999999999999993,673,6,null,null,null,-13,null,null,2402,2081]
[null,5737,78737,"Fluorn-Winzeln",-12.6,8.3000000000000007,658,6,null,null,null,-13,null,null,2456,2136]
[null,5738,78739,"Hardt",-13.1,7.8,768,14,null,null,null,-13,null,null,2479,2117]
[null,5742,79104,"Freiburg im Breisgau",-10.199999999999999,10.8,323,6,null,null,null,-10,null,null,1929,1837]
[null,5745,79110,"Freiburg im Breisgau",-9.6999999999999993,11.5,238,12,null,null,null,-10,null,null,1887,1834]
[null,5748,79114,"Freiburg im Breisgau",-9.5,11.6,242,12,null,null,null,-10,null,null,1907,1868]
[null,5752,79189,"Bad Krozingen",-10,10.9,243,12,null,null,null,-10,null,null,1960,1882]
[null,5755,79206,"Breisach am Rhein",-10.1,11,192,12,null,null,null,-10,null,null,1903,1820]
[null,5756,79211,"Denzlingen",-10.1,11.2,228,6,null,null,null,-10,null,null,1931,1846]
[null,5758,79219,"Staufen im Breisgau",-10.3,10.5,314,6,null,null,null,-10,null,null,2328,2208]
[null,5761,79232,"March",-10.1,11.2,196,12,null,null,null,-10,null,null,1920,1836]
[null,5765,79244,"Münstertal",-13,8,794,8,null,null,null,-13,null,null,2607,2235]
[null,5768,79254,"Oberried",-13.6,6,1156,8,null,null,null,-14,null,null,2821,2367]
[null,5771,79261,"Gutach im Breisgau",-10.7,9.6999999999999993,447,6,null,null,null,-11,null,null,1991,1859]
[null,5775,79274,"St. Märgen",-13.3,7.5,861,8,null,null,null,-13,null,null,2731,2316]
[null,5777,79279,"Vörstetten",-10.1,11.2,206,12,null,null,null,-10,null,null,1920,1836]
[null,5778,79280,"Au (Breisgau)",-10.5,10.3,361,6,null,null,null,-11,null,null,2336,2199]
[null,5781,79285,"Ebringen",-10.8,9.9,448,6,null,null,null,-11,null,null,2325,2163]
[null,5784,79289,"Horben",-11.1,9.4,572,6,null,null,null,-11,null,null,2437,2241]
[null,5788,79295,"Sulzburg",-10.9,9.5,538,6,null,null,null,-11,null,null,2249,2084]
[null,5791,79312,"Emmendingen",-10.1,11.1,219,6,null,null,null,-10,null,null,1936,1851]
[null,5795,79346,"Endingen am Kaiserstuhl",-10.199999999999999,10.9,229,12,null,null,null,-10,null,null,1887,1797]
[null,5796,79348,"Freiamt",-10.6,9.8000000000000007,434,6,null,null,null,-11,null,null,1971,1848]
[null,5800,79359,"Riegel",-9.8000000000000007,11,175,12,null,null,null,-10,null,null,1894,1833]
[null,5801,79361,"Sasbach am Kaiserstuhl",-9.9,11,187,12,null,null,null,-10,null,null,1884,1816]
[null,5804,79365,"Rheinhausen",-9.6,10.9,167,12,null,null,null,-10,null,null,1882,1836]
[null,5807,79379,"Müllheim",-9.8000000000000007,10.8,270,12,null,null,null,-10,null,null,1978,1914]
[null,5811,79415,"Bad Bellingen",-10.4,10.199999999999999,363,12,null,null,null,-10,null,null,2206,2084]
[null,5813,79423,"Heitersheim",-10,10.9,235,12,null,null,null,-10,null,null,2212,2124]
[null,5817,79429,"Malsburg-Marzell",-11.3,9.1,640,6,null,null,null,-11,null,null,2250,2053]
[null,5820,79541,"Lörrach",-10.1,10.6,313,12,null,null,null,-10,null,null,1955,1869]
[null,5823,79588,"Efringen-Kirchen",-10.3,10.4,329,12,null,null,null,-10,null,null,2220,2106]
[null,5824,79589,"Binzen",-10.199999999999999,10.7,272,12,null,null,null,-10,null,null,1960,1867]
[null,5827,79594,"Inzlingen",-10.199999999999999,10.1,383,12,null,null,null,-10,null,null,1932,1840]
[null,5830,79599,"Wittlingen",-10.199999999999999,10.5,313,12,null,null,null,-10,null,null,1963,1870]
[null,5834,79664,"Wehr",-10.1,10,423,6,null,null,null,-10,null,null,2004,1916]
[null,5836,79674,"Todtnau",-13.8,6.8,993,11,null,null,null,-14,null,null,3252,2710]
[null,5840,79686,"Hasel",-10.5,9.6999999999999993,514,6,null,null,null,-11,null,null,2016,1897]
[null,5843,79692,"Kleines Wiesental",-12.5,8.4,754,6,null,null,null,-13,null,null,2381,2078]
[null,5846,79713,"Bad Säckingen",-9.9,10.5,329,12,null,null,null,-10,null,null,2077,2002]
[null,5847,79725,"Laufenburg (Baden)",-10,9.8000000000000007,435,12,null,null,null,-10,null,null,2205,2117]
[null,5850,79736,"Rickenbach",-12.8,8.3000000000000007,781,6,null,null,null,-13,null,null,2542,2195]
[null,5853,79761,"Waldshut-Tiengen",-10,9.6999999999999993,440,6,null,null,null,-10,null,null,2468,2369]
[null,5856,79777,"Ühlingen-Birkendorf",-12.1,8.6,712,6,null,null,null,-12,null,null,2468,2186]
[null,5859,79790,"Küssaberg",-9.6999999999999993,10.1,369,12,null,null,null,-10,null,null,2470,2400]
[null,5863,79802,"Dettighofen",-10.3,9.5,501,12,null,null,null,-10,null,null,2330,2210]
[null,5866,79807,"Lottstetten",-9.8000000000000007,9.9,412,12,null,null,null,-10,null,null,2324,2249]
[null,5869,79837,"St. Blasien, Ibach",-13.8,7.3,931,11,null,null,null,-14,null,null,3221,2684]
[null,5870,79843,"Löffingen",-13.4,7.7,834,14,null,null,null,-13,null,null,2724,2302]
[null,5874,79859,"Schluchsee",-14.1,6.9,1012,8,null,null,null,-14,null,null,3186,2628]
[null,5876,79865,"Grafenhausen",-13.8,7.3,922,8,null,null,null,-14,null,null,2651,2209]
[null,5879,79872,"Bernau im Schwarzwald",-13.7,7.2,946,11,null,null,null,-14,null,null,3383,2829]
[null,5882,79877,"Friedenweiler",-13.7,7.2,939,8,null,null,null,-14,null,null,3061,2560]
[null,5886,80335,"München",-11.2,10.1,521,13,null,null,null,-11,null,null,2222,2035]
[null,5889,80339,"München",-12.3,9.1999999999999993,528,13,null,null,null,-12,null,null,2244,1973]
[null,5890,80469,"München",-11.3,10.1,522,13,null,null,null,-11,null,null,2273,{"$f":"ROUND(O5895*24/(15-E5895),0)","v":2074}]
[null,5893,80634,"München",-11.5,9.9,524,13,null,null,null,-12,null,null,2210,2002]
[null,5895,80637,"München",-11.5,9.8000000000000007,520,13,null,null,null,-12,null,null,2165,1961]
[null,5899,80687,"München",-12.9,9,532,13,null,null,null,-13,null,null,2251,1936]
[null,5902,80797,"München",-11.3,10,520,13,null,null,null,-11,null,null,2183,1992]
[null,5905,80801,"München",-11.3,10,517,13,null,null,null,-11,null,null,2218,2024]
[null,5909,80805,"München",-13.1,9,501,13,null,null,null,-13,null,null,2252,1923]
[null,5912,80933,"München",-13.1,9,495,13,null,null,null,-13,null,null,2262,1932]
[null,5914,80937,"München",-13.5,8.9,497,13,null,null,null,-14,null,null,2258,1901]
[null,5915,80939,"München",-12.9,9.1999999999999993,495,13,null,null,null,-13,null,null,2277,1959]
[null,5918,80995,"München",-13.6,8.8000000000000007,495,13,null,null,null,-14,null,null,2274,1908]
[null,5922,81243,"München",-13.2,9,530,13,null,null,null,-13,null,null,2317,1972]
[null,5925,81249,"München",-13.7,8.8000000000000007,533,13,null,null,null,-14,null,null,2339,1956]
[null,5928,81373,"München",-11.8,9.6,538,13,null,null,null,-12,null,null,2278,2040]
[null,5932,81475,"München",-13.9,8.6,564,13,null,null,null,-14,null,null,2371,1969]
[null,5933,81476,"München",-13.7,8.6999999999999993,565,13,null,null,null,-14,null,null,2372,1984]
[null,5935,81479,"München",-13.5,8.8000000000000007,570,13,null,null,null,-14,null,null,2406,2026]
[null,5938,81543,"München",-12.5,9.1999999999999993,523,13,null,null,null,-13,null,null,2325,2029]
[null,5941,81549,"München",-13.1,9,541,13,null,null,null,-13,null,null,2379,2032]
[null,5945,81673,"München",-12.8,9.1,526,13,null,null,null,-13,null,null,2321,2004]
[null,5948,81679,"München",-12.3,9.3000000000000007,524,13,null,null,null,-12,null,null,2270,1996]
[null,5952,81825,"München",-12.9,9.1,530,13,null,null,null,-13,null,null,2352,2023]
[null,5954,81829,"München",-13.2,8.9,525,13,null,null,null,-13,null,null,2352,{"$f":"ROUND(O5959*24/(15-E5959),0)","v":2002}]
[null,5957,81929,"München",-13.4,8.8000000000000007,511,13,null,null,null,-13,null,null,2303,1946]
[null,5958,82008,"Unterhaching",-13.8,8.6,558,13,null,null,null,-14,null,null,2451,2043]
[null,5961,82041,"Oberhaching",-14.3,8.1999999999999993,623,13,null,null,null,-14,null,null,2550,2089]
[null,5964,82057,"Icking",-14.4,7.8,701,13,null,null,null,-14,null,null,2532,2067]
[null,5968,82067,"Schäftlarn",-14.3,8.1,647,13,null,null,null,-14,null,null,2571,2106]
[null,5971,82131,"Gauting",-14.2,8.4,618,13,null,null,null,-14,null,null,2399,1972]
[null,5973,82152,"Planegg/Krailling",-14.1,8.5,562,13,null,null,null,-14,null,null,2364,1950]
[null,5977,82205,"Gilching",-14.3,8.6,557,13,null,null,null,-14,null,null,2391,1958]
[null,5980,82223,"Eichenau",-14.2,8.6999999999999993,530,13,null,null,null,-14,null,null,2382,1958]
[null,5981,82229,"Seefeld",-14,8.4,619,13,null,null,null,-14,null,null,2474,2047]
[null,5984,82239,"Alling",-14.3,8.5,573,13,null,null,null,-14,null,null,2392,1959]
[null,5987,82269,"Geltendorf",-14.3,8.6,569,13,null,null,null,-14,null,null,2475,2027]
[null,5991,82278,"Althegnenberg",-14.5,8.6,538,13,null,null,null,-15,null,null,2455,1997]
[null,5994,82284,"Grafrath",-14.1,8.6,570,13,null,null,null,-14,null,null,2463,2031]
[null,5997,82288,"Kottgeisering",-14.1,8.5,580,13,null,null,null,-14,null,null,2465,2033]
[null,6000,82293,"Mittelstetten",-14.3,8.6999999999999993,509,13,null,null,null,-14,null,null,2453,2009]
[null,6003,82297,"Steindorf",-14.5,8.6,534,13,null,null,null,-15,null,null,2461,2002]
[null,6004,82299,"Türkenfeld",-14,8.5,599,13,null,null,null,-14,null,null,2469,2043]
[null,6007,82335,"Berg",-14.2,8.1999999999999993,646,13,null,null,null,-14,null,null,2527,2077]
[null,6011,82347,"Bernried",-14.1,8.3000000000000007,632,13,null,null,null,-14,null,null,2526,2083]
[null,6013,82362,"Weilheim i. OB",-13.8,8.6999999999999993,557,13,null,null,null,-14,null,null,2548,2123]
[null,6016,82383,"Hohenpeißenberg",-14.1,7.9,787,15,null,null,null,-14,null,null,2749,2267]
[null,6020,82390,"Eberfing",-14.1,8.1,660,13,null,null,null,-14,null,null,2568,2118]
[null,6023,82395,"Obersöchering",-13.8,7.9,676,13,null,null,null,-14,null,null,2635,2196]
[null,6026,82399,"Raisting",-13.8,8.6999999999999993,556,13,null,null,null,-14,null,null,2541,2118]
[null,6027,82401,"Rottenbuch",-14.1,7.7,807,15,null,null,null,-14,null,null,2715,2239]
[null,6030,82405,"Wessobrunn",-14.1,8.1999999999999993,673,15,null,null,null,-14,null,null,2651,2186]
[null,6033,82418,"Murnau a. Staffelsee",-14.1,7.9,690,13,null,null,null,-14,null,null,2652,2187]
[null,6036,82433,"Bad Kohlgrub",-14.2,7.5,750,15,null,null,null,-14,null,null,2681,2204]
[null,6039,82438,"Eschenlohe",-14.7,7.2,839,15,null,null,null,-15,null,null,3473,2806]
[null,6043,82444,"Schlehdorf",-13.9,8.1,632,15,null,null,null,-14,null,null,2650,2201]
[null,6046,82449,"Uffing a. Staffelsee",-14,7.7,711,15,null,null,null,-14,null,null,2663,2204]
[null,6047,82467,"Garmisch-Partenkirchen",-15.3,7,972,15,null,null,null,-15,null,null,3605,2855]
[null,6051,82488,"Ettal",-14.8,7.3,872,15,null,null,null,-15,null,null,3522,2837]
[null,6052,82490,"Farchant",-14,7.6,667,15,null,null,null,-14,null,null,3511,2906]
[null,6056,82496,"Oberau",-13.9,7.8,651,15,null,null,null,-14,null,null,3505,2911]
[null,6059,82515,"Wolfratshausen",-13.6,8.6,580,13,null,null,null,-14,null,null,2537,2129]
[null,6062,82544,"Egling",-14.3,8.1,646,13,null,null,null,-14,null,null,2559,2096]
[null,6066,83024,"Rosenheim",-12.1,9.4,450,13,null,null,null,-12,null,null,2491,2206]
[null,6069,83052,"Bruckmühl",-12.8,8.6999999999999993,502,13,null,null,null,-13,null,null,2528,2182]
[null,6070,83059,"Kolbermoor",-12.3,9,464,13,null,null,null,-12,null,null,2526,2221]
[null,6072,83071,"Stephanskirchen",-12.6,8.8000000000000007,482,13,null,null,null,-13,null,null,2470,2148]
[null,6075,83083,"Riedering",-12.9,8.5,548,13,null,null,null,-13,null,null,2575,2215]
[null,6079,83101,"Rohrdorf",-12.6,8.8000000000000007,483,13,null,null,null,-13,null,null,2614,2273]
[null,6082,83112,"Frasdorf",-13.1,8.3000000000000007,600,13,null,null,null,-13,null,null,2589,{"$f":"ROUND(O6087*24/(15-E6087),0)","v":2211}]
[null,6085,83122,"Samerberg",-13.3,8.1,662,13,null,null,null,-13,null,null,2588,2195]
[null,6089,83128,"Halfing",-12.8,8.6,502,13,null,null,null,-13,null,null,2471,2133]
[null,6091,83131,"Nußdorf a. Inn",-13.7,7.5,749,15,null,null,null,-14,null,null,2573,2152]
[null,6092,83132,"Pittenhart",-13.2,8.3000000000000007,587,13,null,null,null,-13,null,null,2459,2093]
[null,6095,83137,"Schonstett",-12.9,8.6,488,13,null,null,null,-13,null,null,2493,2145]
[null,6098,83224,"Grassau",-12.8,8.5,538,13,null,null,null,-13,null,null,2614,2257]
[null,6102,83242,"Reit im Winkl",-14.4,6.6,1032,15,null,null,null,-14,null,null,2783,2272]
[null,6105,83253,"Rimsting",-12.8,8.5,546,13,null,null,null,-13,null,null,2447,2113]
[null,6109,83259,"Schleching",-14,7.3,807,15,null,null,null,-14,null,null,2682,2220]
[null,6110,83278,"Traunstein",-12.8,8.3000000000000007,635,13,null,null,null,-13,null,null,2500,2158]
[null,6114,83317,"Teisendorf",-13.1,8.9,490,13,null,null,null,-13,null,null,2499,2134]
[null,6115,83324,"Ruhpolding",-15,5.0999999999999996,1360,15,null,null,null,-15,null,null,2630,2104]
[null,6118,83339,"Chieming",-13.1,8.5,550,13,null,null,null,-13,null,null,2438,2082]
[null,6121,83349,"Palling",-13,8.5,539,13,null,null,null,-13,null,null,2451,2101]
[null,6125,83361,"Kienberg",-13.1,8.3000000000000007,552,13,null,null,null,-13,null,null,2443,2087]
[null,6128,83365,"Nußdorf",-13.3,8.4,577,13,null,null,null,-13,null,null,2451,2079]
[null,6131,83370,"Seeon-Seebruck",-13.2,8.5,534,13,null,null,null,-13,null,null,2442,2078]
[null,6134,83374,"Traunreut",-13.1,8.5,557,13,null,null,null,-13,null,null,2459,2100]
[null,6137,83379,"Wonneberg",-13.2,8.5,573,13,null,null,null,-13,null,null,2487,2117]
[null,6138,83395,"Freilassing",-12.9,9.6,421,13,null,null,null,-13,null,null,2488,2140]
[null,6141,83413,"Fridolfing",-13,9.1999999999999993,407,13,null,null,null,-13,null,null,2467,2115]
[null,6144,83435,"Bad Reichenhall",-13.2,9,473,15,null,null,null,-13,null,null,2489,2118]
[null,6148,83458,"Schneizlreuth",-12.3,8.6999999999999993,538,15,null,null,null,-12,null,null,2612,2296]
[null,6150,83483,"Bischofswiesen",-13.3,7.9,716,15,null,null,null,-13,null,null,2585,2192]
[null,6154,83527,"Haag i. OB",-13.6,8.1999999999999993,570,13,null,null,null,-14,null,null,2479,2080]
[null,6157,83536,"Gars a. Inn",-13.4,8.5,493,13,null,null,null,-13,null,null,2483,2098]
[null,6160,83544,"Albaching",-13.3,8.3000000000000007,553,13,null,null,null,-13,null,null,2476,2100]
[null,6161,83546,"Gars am Inn",-13.5,8.5,478,13,null,null,null,-14,null,null,2466,2077]
[null,6164,83550,"Emmering",-12.8,8.6999999999999993,483,13,null,null,null,-13,null,null,2507,2164]
[null,6168,83558,"Maitenbeth",-13.8,8.1,605,13,null,null,null,-14,null,null,2466,2055]
[null,6171,83562,"Rechtmehring",-13.1,8.5,493,13,null,null,null,-13,null,null,2478,2116]
[null,6173,83565,"in der Gde Frauenneuharting",-13.3,8.4,539,13,null,null,null,-13,null,null,2450,2078]
[null,6177,83620,"Feldkirchen-Westerham",-13.7,8.3000000000000007,609,13,null,null,null,-14,null,null,2557,2138]
[null,6180,83626,"Valley",-13.9,8,656,13,null,null,null,-14,null,null,2575,2138]
[null,6183,83646,"Bad Tölz, Wackersberg",-13.9,8.1,664,15,null,null,null,-14,null,null,2555,2122]
[null,6184,83661,"Lenggries",-15.3,6.6,1109,15,null,null,null,-15,null,null,2576,2040]
[null,6188,83673,"Bichl",-14,8,653,13,null,null,null,-14,null,null,2544,2105]
[null,6190,83676,"Jachenau",-14.2,7.6,841,15,null,null,null,-14,null,null,2645,2174]
[null,6193,83684,"Tegernsee",-14,7.4,854,15,null,null,null,-14,null,null,2530,2094]
[null,6196,83707,"Bad Wiessee",-15.3,6.5,1114,15,null,null,null,-15,null,null,2530,2004]
[null,6200,83730,"Fischbachau",-14,7.5,782,15,null,null,null,-14,null,null,2605,2156]
[null,6203,83737,"Irschenberg",-13.8,7.8,684,13,null,null,null,-14,null,null,2528,2107]
[null,6204,84028,"Landshut",-12.5,9.4,400,13,null,null,null,-13,null,null,2394,2089]
[null,6207,84034,"Landshut",-13.2,9.1,394,13,null,null,null,-13,null,null,2388,2032]
[null,6209,84048,"Mainburg",-13.6,8.8000000000000007,457,13,null,null,null,-14,null,null,2383,2000]
[null,6213,84066,"Mallersdorf-Pfaffenberg",-13.8,8.6,419,13,null,null,null,-14,null,null,2288,1907]
[null,6216,84076,"Pfeffenhausen",-13.3,8.6999999999999993,456,13,null,null,null,-13,null,null,2390,2027]
[null,6219,84085,"Langquaid",-13.7,8.6,414,13,null,null,null,-14,null,null,2342,1958]
[null,6223,84092,"Bayerbach bei Ergoldsbach",-13.8,8.6,411,13,null,null,null,-14,null,null,2348,1957]
[null,6226,84097,"Herrngiersdorf",-13.8,8.5,447,13,null,null,null,-14,null,null,2353,1961]
[null,6228,84100,"Niederaichbach",-13.7,8.5,464,13,null,null,null,-14,null,null,2396,2004]
[null,6229,84101,"Obersüßbach",-13.6,8.6999999999999993,477,13,null,null,null,-14,null,null,2387,2003]
[null,6232,84106,"Volkenschwand",-13.7,8.6999999999999993,491,13,null,null,null,-14,null,null,2390,1999]
[null,6236,84137,"Vilsbiburg",-13.6,8.6,449,13,null,null,null,-14,null,null,2423,2033]
[null,6239,84149,"Velden",-13.7,8.5,470,13,null,null,null,-14,null,null,2425,2028]
[null,6242,84160,"Frontenhausen",-13.6,8.5,462,13,null,null,null,-14,null,null,2404,2017]
[null,6246,84168,"Aham",-14,8.6999999999999993,416,13,null,null,null,-14,null,null,2406,1991]
[null,6247,84169,"Altfraunhofen",-13.4,8.5,485,13,null,null,null,-13,null,null,2419,2044]
[null,6249,84172,"Buch a. Erlbach",-13.8,8.6,501,13,null,null,null,-14,null,null,2407,2006]
[null,6252,84177,"Gottfrieding",-13.6,8.6,406,13,null,null,null,-14,null,null,2406,2019]
[null,6255,84181,"Neufraunhofen",-13.4,8.5,472,13,null,null,null,-13,null,null,2422,2047]
[null,6259,84187,"Weng",-13.7,8.6999999999999993,407,13,null,null,null,-14,null,null,2379,1989]
[null,6262,84323,"Massing",-13.3,8.6,435,13,null,null,null,-13,null,null,2418,2051]
[null,6266,84333,"Malgersdorf",-13,8.6999999999999993,409,13,null,null,null,-13,null,null,2392,2050]
[null,6268,84337,"Schönau",-12.8,8.6,442,13,null,null,null,-13,null,null,2375,2050]
[null,6271,84359,"Simbach a. Inn",-12.2,8.9,425,13,null,null,null,-12,null,null,2337,2062]
[null,6272,84364,"Bad Birnbach",-12.5,9.1,359,13,null,null,null,-13,null,null,2386,2082]
[null,6275,84375,"Kirchdorf a. Inn",-12.2,9.3000000000000007,356,13,null,null,null,-12,null,null,2356,2079]
[null,6278,84384,"Wittibreut",-12.5,8.5,510,13,null,null,null,-13,null,null,2347,2048]
[null,6282,84405,"Dorfen",-13.3,8.6999999999999993,434,13,null,null,null,-13,null,null,2437,2067]
[null,6285,84424,"Isen",-13.7,8.4,531,13,null,null,null,-14,null,null,2459,2056]
[null,6287,84428,"Buchbach",-13.6,8.6,439,13,null,null,null,-14,null,null,2459,2063]
[null,6291,84435,"Lengdorf",-13.6,8.6,500,13,null,null,null,-14,null,null,2428,2037]
[null,6294,84453,"Mühldorf a. Inn",-13.7,8.6999999999999993,412,13,null,null,null,-14,null,null,2444,2044]
[null,6295,84478,"Waldkraiburg",-13.5,8.6999999999999993,426,13,null,null,null,-14,null,null,2461,2072]
[null,6298,84503,"Altötting",-13.1,8.9,399,13,null,null,null,-13,null,null,2414,2062]
[null,6302,84524,"Neuötting",-13.3,8.6999999999999993,417,13,null,null,null,-13,null,null,2405,2040]
[null,6305,84539,"Ampfing",-13.6,8.6999999999999993,415,13,null,null,null,-14,null,null,2458,2063]
[null,6308,84546,"Egglkofen",-13.8,8.5,454,13,null,null,null,-14,null,null,2428,2023]
[null,6311,84550,"Feichten a.d. Alz",-13.4,8.5,493,13,null,null,null,-13,null,null,2426,2050]
[null,6314,84555,"Jettenbach",-13.7,8.6999999999999993,413,13,null,null,null,-14,null,null,2465,2061]
[null,6317,84559,"Kraiburg a. Inn",-13.5,8.5,470,13,null,null,null,-14,null,null,2460,2072]
[null,6318,84561,"Mehring",-13,9,411,13,null,null,null,-13,null,null,2397,2055]
[null,6321,84565,"Oberneukirchen",-13.7,8.5,462,13,null,null,null,-14,null,null,2458,2055]
[null,6325,84571,"Reischach",-13.4,8.5,459,13,null,null,null,-13,null,null,2400,2028]
[null,6327,84574,"Taufkirchen",-13.6,8.4,509,13,null,null,null,-14,null,null,2461,2065]
[null,6330,84579,"Unterneukirchen",-13.5,8.5,461,13,null,null,null,-14,null,null,2456,2068]
[null,6334,85055,"Ingolstadt",-12.3,9.6999999999999993,373,13,null,null,null,-12,null,null,2355,2070]
[null,6337,85077,"Manching",-13,9.1999999999999993,366,13,null,null,null,-13,null,null,2327,1995]
[null,6340,85088,"Vohburg a.d. Donau",-13,9.1999999999999993,357,13,null,null,null,-13,null,null,2353,2017]
[null,6341,85092,"Kösching",-13,8.9,411,13,null,null,null,-13,null,null,2380,2040]
[null,6344,85101,"Lenting",-13,9,402,13,null,null,null,-13,null,null,2379,2039]
[null,6348,85111,"Adelschlag",-13.2,8.8000000000000007,440,13,null,null,null,-13,null,null,2469,2101]
[null,6350,85114,"Buxheim",-13.3,8.8000000000000007,424,13,null,null,null,-13,null,null,2420,2052]
[null,6353,85119,"Ernsgaden",-13.2,9.1,368,13,null,null,null,-13,null,null,2329,1982]
[null,6357,85125,"Kinding",-12.7,9.1999999999999993,375,13,null,null,null,-13,null,null,2468,2138]
[null,6360,85129,"Oberdolling",-13.2,8.8000000000000007,426,13,null,null,null,-13,null,null,2386,2031]
[null,6361,85131,"Pollenfeld",-13,8.4,544,13,null,null,null,-13,null,null,2456,2105]
[null,6364,85135,"Titting",-12.9,8.8000000000000007,465,13,null,null,null,-13,null,null,2442,2101]
[null,6367,85221,"Dachau",-13.9,8.8000000000000007,475,13,null,null,null,-14,null,null,2321,1927]
[null,6370,85235,"Odelzhausen",-14.1,8.8000000000000007,487,13,null,null,null,-14,null,null,2441,2013]
[null,6373,85244,"Röhrmoos",-14.1,8.6999999999999993,499,13,null,null,null,-14,null,null,2351,1939]
[null,6376,85253,"Erdweg",-14.1,8.8000000000000007,476,13,null,null,null,-14,null,null,2393,1974]
[null,6380,85259,"Sulzemoos",-14,8.6999999999999993,493,13,null,null,null,-14,null,null,2441,2020]
[null,6383,85290,"Geisenfeld",-13.2,9.1,376,13,null,null,null,-13,null,null,2345,1996]
[null,6384,85293,"Reichertshausen",-14.1,8.6,501,13,null,null,null,-14,null,null,2426,2001]
[null,6386,85298,"Scheyern",-14.2,8.6999999999999993,470,13,null,null,null,-14,null,null,2407,1978]
[null,6389,85304,"Ilmmünster",-14.2,8.6999999999999993,478,13,null,null,null,-14,null,null,2405,1977]
[null,6393,85354,"Freising",-13.5,8.9,444,13,null,null,null,-14,null,null,2401,2022]
[null,6396,85375,"Neufahrn b. Freising",-13.7,8.9,464,13,null,null,null,-14,null,null,2351,1966]
[null,6399,85391,"Allershausen",-13.6,8.9,444,13,null,null,null,-14,null,null,2420,2031]
[null,6403,85405,"Nandlstadt",-13.6,8.8000000000000007,462,13,null,null,null,-14,null,null,2407,2020]
[null,6405,85408,"Gammelsdorf",-13.7,8.6,497,13,null,null,null,-14,null,null,2413,2018]
[null,6406,85410,"Haag a.d. Amper",-13.6,8.9,439,13,null,null,null,-14,null,null,2406,2019]
[null,6409,85414,"Kirchdorf a.d. Amper",-13.6,9,434,13,null,null,null,-14,null,null,2418,2029]
[null,6412,85419,"Mauern",-13.6,8.8000000000000007,466,13,null,null,null,-14,null,null,2406,2019]
[null,6416,85452,"Moosinning",-13.7,8.8000000000000007,470,13,null,null,null,-14,null,null,2350,1965]
[null,6419,85459,"Berglern",-13.6,9,431,13,null,null,null,-14,null,null,2403,2017]
[null,6423,85465,"Langenpreising",-13.6,9,422,13,null,null,null,-14,null,null,2406,2019]
[null,6424,85467,"Neuching",-13.7,8.6999999999999993,480,13,null,null,null,-14,null,null,2419,2023]
[null,6428,85551,"Kirchheim b. München",-13.8,8.6999999999999993,503,13,null,null,null,-14,null,null,2318,1932]
[null,6429,85560,"Ebersberg",-14,8.3000000000000007,590,13,null,null,null,-14,null,null,2467,2042]
[null,6432,85579,"Neubiberg",-13.3,8.8000000000000007,546,13,null,null,null,-13,null,null,2423,2055]
[null,6435,85598,"Baldham",-13.8,8.5,543,13,null,null,null,-14,null,null,2403,2003]
[null,6439,85614,"Kirchseeon",-13.9,8.4,572,13,null,null,null,-14,null,null,2431,2019]
[null,6442,85625,"Glonn",-13.4,8.4,567,13,null,null,null,-13,null,null,2542,2148]
[null,6445,85640,"Putzbrunn",-13.9,8.5,549,13,null,null,null,-14,null,null,2399,1992]
[null,6448,85649,"Brunnthal",-14.2,8.3000000000000007,601,13,null,null,null,-14,null,null,2498,2053]
[null,6451,85656,"Buch a. Buchrain",-13.8,8.5,532,13,null,null,null,-14,null,null,2434,2028]
[null,6452,85658,"Egmating",-14,8.1999999999999993,626,13,null,null,null,-14,null,null,2554,2114]
[null,6455,85662,"Hohenbrunn",-14.1,8.4,572,13,null,null,null,-14,null,null,2454,2024]
[null,6459,85669,"Pastetten",-13.6,8.6,499,13,null,null,null,-14,null,null,2434,2043]
[null,6462,85748,"Garching b. München",-13.8,8.9,478,13,null,null,null,-14,null,null,2290,1908]
[null,6464,85764,"Oberschleißheim",-13.8,8.8000000000000007,483,13,null,null,null,-14,null,null,2264,1887]
[null,6468,86150,"Augsburg",-13.5,9.1,495,13,null,null,null,-14,null,null,2449,2062]
[null,6471,86154,"Augsburg",-13.3,9.3000000000000007,474,13,null,null,null,-13,null,null,2436,2066]
[null,6474,86159,"Augsburg",-13.5,9.1,496,13,null,null,null,-14,null,null,2453,2066]
[null,6475,86161,"Augsburg",-14.1,8.9,488,13,null,null,null,-14,null,null,2451,2021]
[null,6478,86167,"Augsburg",-14,9,467,13,null,null,null,-14,null,null,2442,2021]
[null,6482,86316,"Friedberg",-14.3,8.6,513,13,null,null,null,-14,null,null,2450,2007]
[null,6485,86368,"Gersthofen",-14.3,8.6999999999999993,460,13,null,null,null,-14,null,null,2432,1992]
[null,6487,86391,"Stadtbergen",-14.1,8.6999999999999993,504,13,null,null,null,-14,null,null,2440,2012]
[null,6491,86420,"Diedorf",-14.1,8.8000000000000007,467,13,null,null,null,-14,null,null,2439,2012]
[null,6494,86441,"Zusmarshausen",-13.6,8.9,443,13,null,null,null,-14,null,null,2395,2010]
[null,6497,86450,"Altenmünster",-13.6,8.8000000000000007,458,13,null,null,null,-14,null,null,2387,2003]
[null,6498,86453,"Dasing",-14.5,8.6,481,13,null,null,null,-15,null,null,2439,1984]
[null,6501,86462,"Langweid a. Lech",-14.3,8.8000000000000007,451,13,null,null,null,-14,null,null,2408,1972]
[null,6504,86473,"Ziemetshausen",-14.1,8.6,529,13,null,null,null,-14,null,null,2435,2008]
[null,6507,86479,"Aichen",-13.7,8.8000000000000007,504,13,null,null,null,-14,null,null,2448,2047]
[null,6510,86483,"Balzhausen",-13.6,8.8000000000000007,514,13,null,null,null,-14,null,null,2442,2049]
[null,6514,86489,"Deisenhausen",-13,8.8000000000000007,497,13,null,null,null,-13,null,null,2429,2082]
[null,6517,86494,"Emersacker",-13.8,8.6999999999999993,465,13,null,null,null,-14,null,null,2402,2002]
[null,6518,86495,"Eurasburg",-14.5,8.4,554,13,null,null,null,-15,null,null,2440,1985]
[null,6521,86500,"Kutzenhausen",-14.1,8.6,516,13,null,null,null,-14,null,null,2452,2022]
[null,6525,86507,"Oberottmarshausen",-14.5,8.6,532,13,null,null,null,-15,null,null,2482,2019]
[null,6527,86510,"Ried",-14.3,8.6,524,13,null,null,null,-14,null,null,2440,1999]
[null,6530,86514,"Ustersbach",-13.7,8.8000000000000007,465,13,null,null,null,-14,null,null,2453,{"$f":"ROUND(O6535*24/(15-E6535),0)","v":2051}]
[null,6533,86529,"Schrobenhausen",-13.7,8.8000000000000007,432,13,null,null,null,-14,null,null,2388,1997]
[null,6537,86558,"Hohenwart",-13.6,9,390,13,null,null,null,-14,null,null,2372,1990]
[null,6540,86562,"Berg im Gau",-13.6,8.9,401,13,null,null,null,-14,null,null,2379,1996]
[null,6541,86564,"Brunnen",-13.5,8.9,403,13,null,null,null,-14,null,null,2357,1985]
[null,6544,86568,"Hollenbach",-14.3,8.6,479,13,null,null,null,-14,null,null,2425,1986]
[null,6546,86571,"Langenmosen",-13.5,8.9,409,13,null,null,null,-14,null,null,2382,2006]
[null,6550,86577,"Sielenbach",-14.2,8.6999999999999993,475,13,null,null,null,-14,null,null,2441,2006]
[null,6553,86633,"Neuburg an der Donau",-13.3,9,392,13,null,null,null,-13,null,null,2389,2026]
[null,6556,86643,"Rennertshofen",-13.5,9,400,13,null,null,null,-14,null,null,2414,2033]
[null,6560,86655,"Harburg",-13.3,8.6,498,13,null,null,null,-13,null,null,2410,2044]
[null,6563,86663,"Asbach-Bäumenheim",-13.3,9.1,401,13,null,null,null,-13,null,null,2397,2033]
[null,6565,86668,"Karlshuld",-13.5,9.1,375,13,null,null,null,-14,null,null,2364,1991]
[null,6566,86669,"Königsmoos",-13.6,9,378,13,null,null,null,-14,null,null,2387,2003]
[null,6569,86674,"Baar",-13.7,8.8000000000000007,442,13,null,null,null,-14,null,null,2402,2009]
[null,6573,86679,"Ellgau",-13.7,8.9,417,13,null,null,null,-14,null,null,2395,2003]
[null,6576,86684,"Holzheim",-13.7,8.9,432,13,null,null,null,-14,null,null,2398,2005]
[null,6580,86690,"Mertingen",-13.5,9,408,13,null,null,null,-14,null,null,2395,2017]
[null,6582,86694,"Niederschönenfeld",-13.3,9,397,13,null,null,null,-13,null,null,2400,2035]
[null,6585,86698,"Oberndorf a.Lech",-13.5,9,407,13,null,null,null,-14,null,null,2397,2019]
[null,6586,86700,"Otting",-12.9,8.6999999999999993,492,13,null,null,null,-13,null,null,2386,2052]
[null,6589,86704,"Tagmersheim",-12.9,8.5,517,13,null,null,null,-13,null,null,2436,2095]
[null,6592,86709,"Wolferstadt",-12.9,8.6,501,13,null,null,null,-13,null,null,2373,2041]
[null,6596,86735,"Amerdingen",-13.2,8.5,532,13,null,null,null,-13,null,null,2376,2022]
[null,6599,86739,"Ederheim",-13.3,8.3000000000000007,562,13,null,null,null,-13,null,null,2362,2003]
[null,6601,86742,"Fremdingen",-12.7,8.6999999999999993,468,13,null,null,null,-13,null,null,2419,2096]
[null,6605,86748,"Marktoffingen",-12.8,8.8000000000000007,455,13,null,null,null,-13,null,null,2385,2059]
[null,6608,86753,"Möttingen",-12.9,9,413,13,null,null,null,-13,null,null,2378,2046]
[null,6609,86754,"Munningen",-13.1,9,414,13,null,null,null,-13,null,null,2384,2036]
[null,6612,86759,"Wechingen",-13,9,409,13,null,null,null,-13,null,null,2384,2043]
[null,6616,86833,"Ettringen",-14.5,8.5,576,13,null,null,null,-15,null,null,2496,2031]
[null,6619,86845,"Großaitingen",-14.6,8.6,530,13,null,null,null,-15,null,null,2469,2002]
[null,6622,86854,"Amberg",-14.2,8.5,596,13,null,null,null,-14,null,null,2584,2124]
[null,6625,86859,"Igling",-14,8.6,599,13,null,null,null,-14,null,null,2576,2132]
[null,6628,86863,"Langenneufnach",-14.1,8.6999999999999993,510,13,null,null,null,-14,null,null,2455,2025]
[null,6631,86868,"Mittelneufnach",-14.2,8.5,575,13,null,null,null,-14,null,null,2486,2043]
[null,6632,86869,"Oberostendorf",-14.4,8.1999999999999993,669,13,null,null,null,-14,null,null,2718,2219]
[null,6635,86874,"Tussenhausen",-14,8.5,577,13,null,null,null,-14,null,null,2495,2065]
[null,6639,86899,"Landsberg a. Lech",-13.8,8.6999999999999993,605,13,null,null,null,-14,null,null,2593,2161]
[null,6641,86916,"Kaufering",-14.1,8.6,569,13,null,null,null,-14,null,null,2520,2078]
[null,6644,86922,"Eresing",-13.9,8.6,599,13,null,null,null,-14,null,null,2475,2055]
[null,6648,86928,"Hofstetten",-14.1,8.3000000000000007,659,13,null,null,null,-14,null,null,2557,2109]
[null,6651,86932,"Pürgen",-14.1,8.3000000000000007,661,13,null,null,null,-14,null,null,2562,2113]
[null,6654,86937,"Scheuring",-14.6,8.4,573,13,null,null,null,-15,null,null,2483,2013]
[null,6655,86938,"Schondorf a. Ammersee",-14,8.6999999999999993,569,13,null,null,null,-14,null,null,2473,2047]
[null,6658,86943,"Thaining",-14.3,8.1,689,15,null,null,null,-14,null,null,2640,{"$f":"ROUND(O6663*24/(15-E6663),0)","v":2162}]
[null,6662,86949,"Windach",-13.9,8.4,633,13,null,null,null,-14,null,null,2475,2055]
[null,6664,86971,"Peiting",-14.1,8.1,708,15,null,null,null,-14,null,null,2729,2251]
[null,6667,86975,"Bernbeuren",-14.4,7.6,822,15,null,null,null,-14,null,null,2724,2224]
[null,6671,86981,"Kinsau",-14.5,8,709,15,null,null,null,-15,null,null,2680,2180]
[null,6674,86986,"Schwabbruck",-14.3,7.9,734,15,null,null,null,-14,null,null,2720,2228]
[null,6675,86987,"Schwabsoien",-14.2,7.7,804,15,null,null,null,-14,null,null,2720,2236]
[null,6678,87437,"Kempten (Allgäu)",-14.2,7.6,725,15,null,null,null,-14,null,null,2653,2181]
[null,6681,87452,"Altusried",-14.6,7.3,783,13,null,null,null,-15,null,null,2661,2158]
[null,6684,87466,"Oy-Mittelberg",-15,6.7,1014,15,null,null,null,-15,null,null,2770,2216]
[null,6687,87477,"Sulzberg",-14.3,7.4,746,15,null,null,null,-14,null,null,2762,2262]
[null,6690,87487,"Wiggensbach",-15.1,6.9,906,15,null,null,null,-15,null,null,2704,2156]
[null,6694,87494,"Rückholz",-15,7.2,859,15,null,null,null,-15,null,null,2738,2190]
[null,6697,87499,"Wildpoldsried",-14.8,7.2,806,15,null,null,null,-15,null,null,2688,2165]
[null,6698,87509,"Immenstadt im Allgäu",-15.1,7.2,769,15,null,null,null,-15,null,null,2805,2237]
[null,6702,87541,"Bad Hindelang",-16.100000000000001,6.2,1075,15,null,null,null,-16,null,null,2855,2203]
[null,6703,87544,"Blaichach",-16,5.9,1174,15,null,null,null,-16,null,null,2852,2208]
[null,6707,87561,"Oberstdorf",-16.7,6.5,892,15,null,null,null,-16,null,null,2920,2211]
[null,6710,87629,"Füssen",-14.7,7.4,796,15,null,null,null,-15,null,null,3867,3125]
[null,6714,87642,"Halblech",-15,7,1028,15,null,null,null,-15,null,null,3723,2978]
[null,6717,87648,"Aitrang",-14.6,7.5,764,15,null,null,null,-15,null,null,2696,2186]
[null,6720,87653,"Eggenthal",-14.7,7.5,767,15,null,null,null,-15,null,null,2620,2117]
[null,6721,87654,"Friesenried",-14.7,7.6,750,15,null,null,null,-15,null,null,2663,2152]
[null,6723,87657,"Görisried",-14.9,7.2,833,15,null,null,null,-15,null,null,2726,2188]
[null,6726,87662,"Kaltental",-14.8,7.7,765,15,null,null,null,-15,null,null,2718,2189]
[null,6730,87668,"Rieden",-14.1,8.3000000000000007,643,15,null,null,null,-14,null,null,2634,2172]
[null,6733,87672,"Roßhaupten",-14.6,7.4,830,15,null,null,null,-15,null,null,2765,2242]
[null,6737,87679,"Westendorf",-14.3,8.1,682,15,null,null,null,-14,null,null,2714,2223]
[null,6740,87724,"Ottobeuren",-14.3,7.6,732,15,null,null,null,-14,null,null,2598,2128]
[null,6742,87730,"Bad Grönenbach",-14.2,7.6,719,15,null,null,null,-14,null,null,2634,2165]
[null,6743,87733,"Markt Rettenbach",-14.1,8,661,13,null,null,null,-14,null,null,2605,2148]
[null,6746,87737,"Boos",-13.2,8.4,588,13,null,null,null,-13,null,null,2506,2133]
[null,6749,87742,"Apfeltrach",-13.8,8.1999999999999993,634,13,null,null,null,-14,null,null,2638,2198]
[null,6753,87748,"Fellheim",-12.9,8.5,561,13,null,null,null,-13,null,null,2515,2163]
[null,6756,87752,"Holzgünz",-13.3,8.3000000000000007,609,13,null,null,null,-13,null,null,2611,2214]
[null,6759,87757,"Kirchheim in Schwaben",-13.4,8.6999999999999993,534,13,null,null,null,-13,null,null,2481,2097]
[null,6762,87761,"Lauben",-13.3,8.4,589,13,null,null,null,-13,null,null,2539,2153]
[null,6765,87766,"Memmingerberg",-13.6,8.1999999999999993,628,13,null,null,null,-14,null,null,2604,2185]
[null,6766,87767,"Niederrieden",-13.6,8.1,638,13,null,null,null,-14,null,null,2572,2158]
[null,6769,87772,"Pfaffenhausen",-13.5,8.6,560,13,null,null,null,-14,null,null,2514,2117]
[null,6773,87778,"Stetten",-13.8,8.1999999999999993,630,13,null,null,null,-14,null,null,2604,2170]
[null,6776,87782,"Unteregg",-14.3,7.9,680,15,null,null,null,-14,null,null,2612,2140]
[null,6778,87785,"Winterrieden",-13,8.6,548,13,null,null,null,-13,null,null,2495,2139]
[null,6782,88046,"Friedrichshafen",-9.3000000000000007,10.199999999999999,396,13,null,null,null,-9,null,null,2222,2195]
[null,6785,88074,"Meckenbeuren",-9.6,9.8000000000000007,412,13,null,null,null,-10,null,null,2249,2194]
[null,6788,88090,"Immenstaad am Bodensee",-9.6,9.8000000000000007,427,13,null,null,null,-10,null,null,2177,2124]
[null,6789,88094,"Oberteuringen",-9.6,9.8000000000000007,451,13,null,null,null,-10,null,null,2199,2145]
[null,6792,88131,"Lindau (Bodensee)",-9.8000000000000007,9.6,438,13,null,null,null,-10,null,null,2289,2215]
[null,6796,88147,"Achberg",-10.5,9,546,13,null,null,null,-11,null,null,2287,2152]
[null,6799,88167,"Röthenbach (Allgäu)",-14.3,7.6,738,15,null,null,null,-14,null,null,2548,2087]
[null,6801,88175,"Scheidegg",-13.2,7.9,727,13,null,null,null,-13,null,null,2378,2024]
[null,6805,88213,"Ravensburg",-10.5,9.1999999999999993,536,13,null,null,null,-11,null,null,2262,2129]
[null,6808,88250,"Weingarten",-9.6999999999999993,10.1,453,13,null,null,null,-10,null,null,2291,2226]
[null,6811,88263,"Horgenzell",-11.9,8.6,606,13,null,null,null,-12,null,null,2355,2101]
[null,6812,88267,"Vogt",-13.4,8,675,13,null,null,null,-13,null,null,2410,2037]
[null,6815,88276,"Berg",-10.7,9.1999999999999993,514,13,null,null,null,-11,null,null,2324,2170]
[null,6818,88284,"Wolpertswende",-10.7,9.1999999999999993,502,13,null,null,null,-11,null,null,2357,2201]
[null,6821,88289,"Waldburg",-13.3,7.9,712,13,null,null,null,-13,null,null,2273,1928]
[null,6824,88317,"Aichstetten",-13.7,8.1,617,13,null,null,null,-14,null,null,2641,2209]
[null,6828,88348,"Bad Saulgau, Allmannsweiler",-12.6,8.4,594,13,null,null,null,-13,null,null,2622,2280]
[null,6831,88361,"Altshausen",-12.5,8.4,593,13,null,null,null,-13,null,null,2503,2184]
[null,6832,88364,"Wolfegg",-13.5,8.1,632,13,null,null,null,-14,null,null,2430,2046]
[null,6835,88370,"Ebenweiler",-12.4,8.4,599,13,null,null,null,-12,null,null,2399,2101]
[null,6839,88376,"Königseggwald",-12.8,8.1999999999999993,655,13,null,null,null,-13,null,null,2578,2226]
[null,6841,88379,"Unterwaldhausen",-13.3,8.1,675,13,null,null,null,-13,null,null,2429,2060]
[null,6844,88416,"Ochsenhausen",-13.3,8.3000000000000007,609,13,null,null,null,-13,null,null,2558,2169]
[null,6847,88430,"Rot an der Rot",-13.8,7.9,662,13,null,null,null,-14,null,null,2580,2150]
[null,6851,88441,"Mittelbiberach",-13,8.5,576,13,null,null,null,-13,null,null,2517,2157]
[null,6854,88448,"Attenweiler",-13.1,8.3000000000000007,606,13,null,null,null,-13,null,null,2561,2187]
[null,6855,88450,"Berkheim",-13.3,8.3000000000000007,600,13,null,null,null,-13,null,null,2569,2179]
[null,6858,88454,"Hochdorf",-13.5,8.1,635,13,null,null,null,-14,null,null,2440,2055]
[null,6860,88457,"Kirchdorf an der Iller",-12.8,8.5,558,13,null,null,null,-13,null,null,2569,2218]
[null,6864,88480,"Achstetten",-12.8,8.9,501,13,null,null,null,-13,null,null,2507,2164]
[null,6867,88484,"Gutenzell-Hürbel",-12.9,8.6,553,13,null,null,null,-13,null,null,2487,2139]
[null,6871,88499,"Riedlingen",-12.6,8.6,538,13,null,null,null,-13,null,null,2574,2238]
[null,6874,88518,"Herbertingen",-12.4,8.5,559,13,null,null,null,-12,null,null,2613,2289]
[null,6877,88525,"Dürmentingen",-12.8,8.5,552,13,null,null,null,-13,null,null,2589,2235]
[null,6879,88529,"Zwiefalten",-12.9,8.1999999999999993,617,14,null,null,null,-13,null,null,2630,2262]
[null,6880,88605,"Meßkirch, Sauldorf",-12,8.4,613,13,null,null,null,-12,null,null,2701,2401]
[null,6883,88633,"Heiligenberg",-12.3,8.3000000000000007,713,13,null,null,null,-12,null,null,2392,2103]
[null,6887,88639,"Wald",-12.3,8.1999999999999993,665,13,null,null,null,-12,null,null,2572,2261]
[null,6890,88682,"Salem",-9.4,9.9,434,13,null,null,null,-9,null,null,2281,2244]
[null,6894,88697,"Bermatingen",-9.5,9.9,435,13,null,null,null,-10,null,null,2176,2132]
[null,6897,88718,"Daisendorf",-10.199999999999999,9.4,530,13,null,null,null,-10,null,null,2227,2121]
[null,6898,88719,"Stetten",-9.5,9.8000000000000007,457,13,null,null,null,-10,null,null,2165,2121]
[null,6900,89075,"Ulm",-12.5,8.9,513,13,null,null,null,-13,null,null,2609,2277]
[null,6903,89081,"Ulm",-12.7,8.4,625,13,null,null,null,-13,null,null,2610,2261]
[null,6906,89143,"Blaubeuren",-12.4,8.8000000000000007,517,13,null,null,null,-12,null,null,2711,2375]
[null,6910,89165,"Dietenheim",-13,8.6,566,13,null,null,null,-13,null,null,2464,2112]
[null,6913,89173,"Lonsee",-12.8,8.1999999999999993,634,14,null,null,null,-13,null,null,2694,2326]
[null,6917,89179,"Beimerstetten",-12.8,8.4,582,13,null,null,null,-13,null,null,2621,2263]
[null,6919,89182,"Bernstadt",-12.7,8.6,546,13,null,null,null,-13,null,null,2611,2262]
[null,6922,89186,"Illerrieden",-13.1,8.6,546,13,null,null,null,-13,null,null,2468,2108]
[null,6923,89188,"Merklingen",-13.2,8,698,14,null,null,null,-13,null,null,2752,2342]
[null,6926,89192,"Rammingen",-12.5,8.9,479,13,null,null,null,-13,null,null,2460,2147]
[null,6930,89198,"Westerstetten",-12.7,8.5,555,13,null,null,null,-13,null,null,2681,2323]
[null,6933,89250,"Senden",-12.4,8.9,507,13,null,null,null,-12,null,null,2474,2167]
[null,6936,89269,"Vöhringen",-12.6,8.9,496,13,null,null,null,-13,null,null,2468,2146]
[null,6938,89278,"Nersingen",-12.3,9,464,13,null,null,null,-12,null,null,2450,2154]
[null,6942,89290,"Buch",-13,8.6,563,13,null,null,null,-13,null,null,2471,2118]
[null,6945,89294,"Oberroth",-13,8.5,571,13,null,null,null,-13,null,null,2484,2129]
[null,6946,89296,"Osterberg",-12.9,8.6,550,13,null,null,null,-13,null,null,2491,2143]
[null,6949,89312,"Günzburg",-12.6,9,450,13,null,null,null,-13,null,null,2408,2094]
[null,6953,89343,"Jettingen-Scheppach",-13.1,8.6999999999999993,503,13,null,null,null,-13,null,null,2403,2052]
[null,6955,89346,"Bibertal",-12.6,8.8000000000000007,501,13,null,null,null,-13,null,null,2440,2122]
[null,6958,89350,"Dürrlauingen",-13.1,8.8000000000000007,488,13,null,null,null,-13,null,null,2389,2040]
[null,6962,89356,"Haldenwang",-13.1,8.6999999999999993,513,13,null,null,null,-13,null,null,2392,2043]
[null,6965,89361,"Landensberg",-13.6,8.6,510,13,null,null,null,-14,null,null,2392,2007]
[null,6966,89362,"Offingen",-12.7,9,437,13,null,null,null,-13,null,null,2410,2088]
[null,6969,89367,"Waldstetten",-12.7,8.8000000000000007,498,13,null,null,null,-13,null,null,2436,2111]
[null,6972,89415,"Lauingen (Donau)",-13.1,9,433,13,null,null,null,-13,null,null,2414,2062]
[null,6976,89428,"Syrgenstein",-13,8.6999999999999993,494,14,null,null,null,-13,null,null,2460,2109]
[null,6978,89431,"Bächingen a.d. Brenz",-12.8,9,441,13,null,null,null,-13,null,null,2427,{"$f":"ROUND(O6983*24/(15-E6983),0)","v":2095}]
[null,6981,89437,"Haunsheim",-13,8.6999999999999993,492,13,null,null,null,-13,null,null,2443,2094]
[null,6985,89443,"Schwenningen",-13.3,9,407,13,null,null,null,-13,null,null,2392,2029]
[null,6988,89518,"Heidenheim an der Brenz",-12.3,8.9,497,14,null,null,null,-12,null,null,2466,2168]
[null,6989,89520,"Heidenheim an der Brenz",-13.2,8.1,651,14,null,null,null,-13,null,null,2461,2094]
[null,6992,89542,"Herbrechtingen",-12.4,8.6999999999999993,523,14,null,null,null,-12,null,null,2513,2201]
[null,6995,89555,"Steinheim am Albuch",-13.1,8.1999999999999993,646,14,null,null,null,-13,null,null,2464,2104]
[null,6998,89564,"Nattheim",-13,8.1,636,14,null,null,null,-13,null,null,2423,2077]
[null,7001,89584,"Ehingen (Donau), Lauterach",-12.9,8.6999999999999993,520,13,null,null,null,-13,null,null,2607,2243]
[null,7004,89604,"Allmendingen",-13.1,8.5,561,13,null,null,null,-13,null,null,2734,2335]
[null,7008,89610,"Oberdischingen",-12.9,8.8000000000000007,517,13,null,null,null,-13,null,null,2558,2200]
[null,7011,89614,"Öpfingen",-12.9,8.6999999999999993,520,13,null,null,null,-13,null,null,2550,2194]
[null,7012,89616,"Rottenacker",-12.9,8.8000000000000007,526,13,null,null,null,-13,null,null,2572,2212]
[null,7016,90403,"Nürnberg",-11.3,10.6,329,13,null,null,null,-11,null,null,2296,2095]
[null,7017,90408,"Nürnberg",-12.2,10,317,13,null,null,null,-12,null,null,2285,2016]
[null,7021,90425,"Nürnberg",-12.6,9.6999999999999993,311,13,null,null,null,-13,null,null,2271,1975]
[null,7024,90431,"Nürnberg",-12.2,10.1,302,13,null,null,null,-12,null,null,2291,2021]
[null,7028,90449,"Nürnberg",-12.3,10,309,13,null,null,null,-12,null,null,2324,2043]
[null,7031,90455,"Nürnberg",-13.7,9.3000000000000007,334,13,null,null,null,-14,null,null,2361,1974]
[null,7034,90469,"Nürnberg",-13,9.6,328,13,null,null,null,-13,null,null,2353,2017]
[null,7035,90471,"Nürnberg",-12.7,9.8000000000000007,324,13,null,null,null,-13,null,null,2366,2050]
[null,7037,90475,"Nürnberg",-13.6,9,365,13,null,null,null,-14,null,null,2415,2027]
[null,7040,90482,"Nürnberg",-13.2,9.4,317,13,null,null,null,-13,null,null,2379,2025]
[null,7044,90518,"Altdorf bei Nürnberg",-13.6,8.8000000000000007,427,13,null,null,null,-14,null,null,2464,2068]
[null,7047,90537,"Nürnberg-Feucht, Feuchter Forst",-13.4,9,371,13,null,null,null,-13,null,null,2427,2051]
[null,7051,90556,"Cadolzburg",-13.6,9.1999999999999993,346,13,null,null,null,-14,null,null,2225,1867]
[null,7054,90571,"Schwaig b. Nürnberg, Behringersdorfer Forst",-13.6,9.1,354,13,null,null,null,-14,null,null,2398,2012]
[null,7056,90579,"Langenzenn",-13.5,9.1999999999999993,347,13,null,null,null,-14,null,null,2223,1872]
[null,7057,90584,"Allersberg",-13.8,8.8000000000000007,424,13,null,null,null,-14,null,null,2368,1973]
[null,7060,90596,"Schwanstetten",-13.6,9,363,13,null,null,null,-14,null,null,2368,1987]
[null,7063,90607,"Rückersdorf",-13.6,9.3000000000000007,340,13,null,null,null,-14,null,null,2409,2022]
[null,7067,90616,"Neuhof a.d.Zenn",-13.1,9,376,13,null,null,null,-13,null,null,2372,2026]
[null,7070,90762,"Fürth",-11.8,10.199999999999999,297,13,null,null,null,-12,null,null,2275,2037]
[null,7074,90768,"Fürth",-13.3,9.4,315,13,null,null,null,-13,null,null,2227,1889]
[null,7075,91052,"Erlangen",-12.3,10,285,13,null,null,null,-12,null,null,2268,1994]
[null,7079,91074,"Herzogenaurach",-13.2,9.4,310,13,null,null,null,-13,null,null,2221,1890]
[null,7080,91077,"Neunkirchen a. Brand",-13.4,9.1,340,13,null,null,null,-13,null,null,2327,1966]
[null,7083,91085,"Weisendorf",-13.3,9.1999999999999993,315,13,null,null,null,-13,null,null,2218,1881]
[null,7087,91091,"Großenseebach",-13.2,9.3000000000000007,297,13,null,null,null,-13,null,null,2217,1887]
[null,7090,91096,"Möhrendorf/Mark",-13.2,9.3000000000000007,304,13,null,null,null,-13,null,null,2243,1909]
[null,7093,91126,"Schwabach",-13.5,9,379,13,null,null,null,-14,null,null,2353,1981]
[null,7096,91166,"Georgensgmünd",-13.6,9,378,13,null,null,null,-14,null,null,2360,1980]
[null,7099,91177,"Thalmässing",-13.6,8.6999999999999993,463,13,null,null,null,-14,null,null,2384,2001]
[null,7102,91186,"Büchenbach",-13.7,8.9,391,13,null,null,null,-14,null,null,2352,1967]
[null,7103,91187,"Röttenbach",-13.5,9.1,372,13,null,null,null,-14,null,null,2357,1985]
[null,7106,91217,"Hersbruck",-13.6,9.3000000000000007,341,13,null,null,null,-14,null,null,2524,{"$f":"ROUND(O7111*24/(15-E7111),0)","v":2118}]
[null,7110,91230,"Happurg",-13.9,8.1,515,13,null,null,null,-14,null,null,2535,2105]
[null,7113,91236,"Alfeld",-14,8.1999999999999993,505,13,null,null,null,-14,null,null,2525,2090]
[null,7115,91239,"Henfenfeld",-13.7,9.1999999999999993,339,13,null,null,null,-14,null,null,2518,2106]
[null,7119,91245,"Simmelsdorf",-14.1,8.1999999999999993,498,13,null,null,null,-14,null,null,2504,2065]
[null,7122,91257,"Pegnitz",-13.9,8.3000000000000007,456,13,null,null,null,-14,null,null,2522,2094]
[null,7123,91275,"Auerbach i.d. OPf.",-13.8,8.5,431,13,null,null,null,-14,null,null,2565,2138]
[null,7126,91282,"Betzenstein",-14.1,8.1,501,13,null,null,null,-14,null,null,2437,2010]
[null,7129,91287,"Plech",-14.2,8.4,454,13,null,null,null,-14,null,null,2510,2063]
[null,7133,91320,"Ebermannstadt",-13.6,8.6999999999999993,381,13,null,null,null,-14,null,null,2341,1964]
[null,7136,91327,"Gößweinstein",-14.1,8.1999999999999993,479,13,null,null,null,-14,null,null,2408,1986]
[null,7138,91332,"Heiligenstadt i. OFr.",-13.6,8.6,397,13,null,null,null,-14,null,null,2359,1980]
[null,7142,91341,"Röttenbach",-13.2,9.3000000000000007,304,13,null,null,null,-13,null,null,2263,1926]
[null,7145,91347,"Aufseß",-13.5,8.1,481,13,null,null,null,-14,null,null,2365,1992]
[null,7146,91349,"Egloffstein",-13.8,8.6999999999999993,399,13,null,null,null,-14,null,null,2389,1991]
[null,7149,91353,"Hausen",-13,9.4,278,13,null,null,null,-13,null,null,2267,1943]
[null,7153,91359,"Leutenbach",-14.1,8.1,509,13,null,null,null,-14,null,null,2393,1974]
[null,7155,91362,"Pretzfeld",-13.3,9,328,13,null,null,null,-13,null,null,2369,2009]
[null,7158,91367,"Weißenohe",-13.6,8.6999999999999993,408,13,null,null,null,-14,null,null,2388,2004]
[null,7161,91438,"Bad Windsheim",-12.3,9.5,312,13,null,null,null,-12,null,null,2210,1943]
[null,7165,91456,"Diespeck",-12.8,9.4,285,13,null,null,null,-13,null,null,2328,2010]
[null,7168,91462,"Dachsbach",-12.9,9.4,277,13,null,null,null,-13,null,null,2317,1993]
[null,7169,91463,"Dietersheim",-12.6,9.3000000000000007,333,13,null,null,null,-13,null,null,2199,1912]
[null,7172,91468,"Gutenstetten",-13.3,9,350,13,null,null,null,-13,null,null,2334,1979]
[null,7174,91471,"Illesheim",-12.6,9.3000000000000007,348,13,null,null,null,-13,null,null,2385,2074]
[null,7178,91477,"Markt Bibart",-12.3,9.3000000000000007,321,13,null,null,null,-12,null,null,2247,1975]
[null,7181,91481,"Münchsteinach",-13.3,9,369,13,null,null,null,-13,null,null,2350,1993]
[null,7185,91487,"Vestenbergsgreuth",-13.1,9.1,321,13,null,null,null,-13,null,null,2350,2007]
[null,7188,91541,"Rothenburg ob der Tauber",-12.3,9.1,430,13,null,null,null,-12,null,null,2331,2049]
[null,7191,91560,"Heilsbronn",-13.4,8.9,408,13,null,null,null,-13,null,null,2379,2010]
[null,7193,91567,"Herrieden",-12.7,9,420,13,null,null,null,-13,null,null,2478,2147]
[null,7194,91572,"Bechhofen",-13.1,8.6999999999999993,464,13,null,null,null,-13,null,null,2478,2116]
[null,7197,91580,"Petersaurach",-13.5,8.6999999999999993,449,13,null,null,null,-14,null,null,2459,2071]
[null,7201,91589,"Aurach",-13.1,8.5,503,13,null,null,null,-13,null,null,2473,2112]
[null,7204,91593,"Burgbernheim",-12.3,9.4,330,13,null,null,null,-12,null,null,2338,2055]
[null,7208,91599,"Dentlein a. Forst",-13,8.6999999999999993,473,13,null,null,null,-13,null,null,2512,2153]
[null,7211,91604,"Flachslanden",-13.1,8.6,479,13,null,null,null,-13,null,null,2411,2059]
[null,7212,91605,"Gallmersgarten",-12.4,9.1,399,13,null,null,null,-12,null,null,2337,2047]
[null,7214,91608,"Geslau",-12.9,8.9,449,13,null,null,null,-13,null,null,2377,2045]
[null,7217,91613,"Marktbergel",-12.4,9.1999999999999993,363,13,null,null,null,-12,null,null,2339,2049]
[null,7220,91617,"Oberdachstetten",-13,8.9,436,13,null,null,null,-13,null,null,2393,2051]
[null,7224,91623,"Sachsen b. Ansbach",-13.2,9,399,13,null,null,null,-13,null,null,2500,2128]
[null,7227,91628,"Steinsfeld",-12.5,9.1,422,13,null,null,null,-13,null,null,2333,2036]
[null,7231,91634,"Wilburgstetten",-12.6,8.8000000000000007,449,13,null,null,null,-13,null,null,2434,2117]
[null,7233,91637,"Wörnitz",-12.8,8.8000000000000007,461,13,null,null,null,-13,null,null,2422,2091]
[null,7236,91717,"Wassertrüdingen",-13.1,8.6999999999999993,476,13,null,null,null,-13,null,null,2440,2084]
[null,7237,91719,"Heidenheim",-13.3,8.1999999999999993,578,13,null,null,null,-13,null,null,2352,1995]
[null,7240,91723,"Dittenheim",-13.2,9,450,13,null,null,null,-13,null,null,2368,2015]
[null,7244,91729,"Haundorf",-13.6,8.8000000000000007,460,13,null,null,null,-14,null,null,2402,2016]
[null,7247,91734,"Mitteleschenbach",-13.4,8.9,416,13,null,null,null,-13,null,null,2407,2034]
[null,7250,91738,"Pfofeld",-13.5,8.9,457,13,null,null,null,-14,null,null,2369,1995]
[null,7252,91741,"Theilenhofen",-13.4,8.8000000000000007,486,13,null,null,null,-13,null,null,2359,1994]
[null,7256,91747,"Westheim",-12.8,8.8000000000000007,450,13,null,null,null,-13,null,null,2357,2035]
[null,7259,91781,"Weißenburg i. Bay.",-13.7,8.4,589,13,null,null,null,-14,null,null,2334,1952]
[null,7260,91785,"Pleinfeld",-13.6,9.1,403,13,null,null,null,-14,null,null,2356,1977]
[null,7263,91792,"Ellingen",-13.3,9,453,13,null,null,null,-13,null,null,2340,1984]
[null,7267,91798,"Höttingen",-13.2,9.1999999999999993,429,13,null,null,null,-13,null,null,2349,1999]
[null,7270,91802,"Meinheim",-13.3,9,449,13,null,null,null,-13,null,null,2374,2013]
[null,7273,91807,"Solnhofen",-13.3,9,454,13,null,null,null,-13,null,null,2399,2034]
[null,7276,92237,"Sulzbach-Rosenberg",-14,8.6999999999999993,425,13,null,null,null,-14,null,null,2486,2057]
[null,7279,92249,"Vilseck",-13.9,8.6,408,13,null,null,null,-14,null,null,2486,2064]
[null,7280,92253,"Schnaittenbach",-13.4,8.4,435,13,null,null,null,-13,null,null,2475,2092]
[null,7283,92260,"Ammerthal",-14.5,8.4,443,13,null,null,null,-15,null,null,2475,2014]
[null,7286,92265,"Edelsfeld",-14.3,8,516,13,null,null,null,-14,null,null,2493,2042]
[null,7290,92271,"Freihung",-13.7,8.3000000000000007,456,13,null,null,null,-14,null,null,2474,2069]
[null,7292,92274,"Gebenbach",-14.3,8.3000000000000007,458,13,null,null,null,-14,null,null,2474,2026]
[null,7295,92278,"Illschwang",-14.5,8.1999999999999993,484,13,null,null,null,-15,null,null,2494,2029]
[null,7299,92284,"Poppenricht",-14.4,8.6,405,13,null,null,null,-14,null,null,2460,2008]
[null,7302,92289,"Ursensollen",-14.4,8,524,13,null,null,null,-14,null,null,2483,2027]
[null,7303,92318,"Neumarkt i.d. OPf.",-13,9,431,13,null,null,null,-13,null,null,2544,2181]
[null,7306,92339,"Beilngries",-13,8.6999999999999993,475,13,null,null,null,-13,null,null,2483,2128]
[null,7309,92348,"Berg b. Neumarkt i.d. OPf.",-13.6,8.5,480,13,null,null,null,-14,null,null,2537,2129]
[null,7313,92360,"Mühlhausen",-13.6,8.9,424,13,null,null,null,-14,null,null,2500,2098]
[null,7315,92363,"Breitenbrunn",-13.6,8.6,474,13,null,null,null,-14,null,null,2529,2122]
[null,7318,92367,"Pilsach",-14.3,7.8,588,13,null,null,null,-14,null,null,2543,2083]
[null,7322,92436,"Bruck i.d. OPf.",-13.7,8.9,366,13,null,null,null,-14,null,null,2535,2120]
[null,7325,92444,"Rötz",-13.8,8.1999999999999993,466,10,null,null,null,-14,null,null,2660,2217]
[null,7326,92445,"Neukirchen-Balbini",-13.7,7.9,544,13,null,null,null,-14,null,null,2559,2140]
[null,7330,92521,"Schwarzenfeld",-14,8.9,362,13,null,null,null,-14,null,null,2427,2009]
[null,7331,92526,"Oberviechtach",-13.7,7.6,566,10,null,null,null,-14,null,null,2676,2238]
[null,7335,92540,"Altendorf",-14.1,8.3000000000000007,460,13,null,null,null,-14,null,null,2605,2148]
[null,7338,92545,"Niedermurach",-14.1,8.1999999999999993,482,10,null,null,null,-14,null,null,2647,2183]
[null,7342,92551,"Stulln",-14.2,8.6999999999999993,372,13,null,null,null,-14,null,null,2435,2001]
[null,7345,92555,"Trausnitz",-13.7,8.1999999999999993,466,10,null,null,null,-14,null,null,2559,2140]
[null,7348,92637,"Weiden in der OPf., Theisseil",-12.8,8.9,394,13,null,null,null,-13,null,null,2539,2192]
[null,7349,92648,"Vohenstrauß",-13.7,7.7,557,10,null,null,null,-14,null,null,2602,2176]
[null,7351,92660,"Neustadt a.d. Waldnaab",-13.3,8.6,412,13,null,null,null,-13,null,null,2571,2180]
[null,7354,92676,"Eschenbach i.d. OPf.",-13.7,8.4,420,10,null,null,null,-14,null,null,2685,2245]
[null,7358,92693,"Eslarn",-13.5,7.9,536,10,null,null,null,-14,null,null,2645,2227]
[null,7361,92697,"Georgenberg",-14.3,7.3,622,10,null,null,null,-14,null,null,2622,2148]
[null,7365,92703,"Krummennaab",-14,8,490,10,null,null,null,-14,null,null,2622,2170]
[null,7368,92708,"Mantel",-13.3,8.4,419,13,null,null,null,-13,null,null,2524,2140]
[null,7370,92711,"Parkstein",-14.1,8,493,13,null,null,null,-14,null,null,2591,2137]
[null,7371,92712,"Pirk",-13.3,8.4,435,10,null,null,null,-13,null,null,2522,2139]
[null,7374,92717,"Reuth b. Erbendorf",-14,8,494,10,null,null,null,-14,null,null,2628,2175]
[null,7378,92723,"Tännesberg",-13.9,7.6,583,10,null,null,null,-14,null,null,2574,2138]
[null,7381,92727,"Waldthurn",-13.8,7.8,545,10,null,null,null,-14,null,null,2596,2163]
[null,7384,93049,"Regensburg",-12.8,9.4,346,13,null,null,null,-13,null,null,2362,2039]
[null,7388,93057,"Regensburg",-13.3,8.6999999999999993,394,13,null,null,null,-13,null,null,2353,1995]
[null,7389,93059,"Regensburg",-13,8.8000000000000007,398,13,null,null,null,-13,null,null,2350,2014]
[null,7393,93083,"Obertraubling",-13.7,8.8000000000000007,379,13,null,null,null,-14,null,null,2340,1957]
[null,7394,93086,"Wörth an der Donau",-13.8,8.6,410,13,null,null,null,-14,null,null,2430,2025]
[null,7397,93090,"Bach an der Donau",-13.6,9,330,13,null,null,null,-14,null,null,2408,2021]
[null,7401,93096,"Köfering",-13.8,8.9,350,13,null,null,null,-14,null,null,2339,1949]
[null,7404,93101,"Pfakofen",-13.6,8.8000000000000007,364,13,null,null,null,-14,null,null,2329,1954]
[null,7407,93105,"Tegernheim",-13.4,9,330,13,null,null,null,-13,null,null,2344,1981]
[null,7410,93128,"Regenstauf",-14,8.6,397,13,null,null,null,-14,null,null,2397,1984]
[null,7413,93142,"Maxhütte-Haidhof",-14.1,8.6999999999999993,392,13,null,null,null,-14,null,null,2413,1990]
[null,7416,93155,"Hemau",-13.7,8.4,511,13,null,null,null,-14,null,null,2497,2088]
[null,7417,93158,"Teublitz",-13.9,8.9,347,13,null,null,null,-14,null,null,2403,1996]
[null,7420,93167,"Falkenstein",-13.5,7.8,548,13,null,null,null,-14,null,null,2535,2135]
[null,7424,93177,"Altenthann",-13.5,8.3000000000000007,469,13,null,null,null,-14,null,null,2411,2030]
[null,7427,93182,"Duggendorf",-13.6,8.4,465,13,null,null,null,-14,null,null,2440,2048]
[null,7429,93185,"Michelsneukirchen",-14,7.3,629,13,null,null,null,-14,null,null,2557,2116]
[null,7433,93191,"Rettenbach",-14,7.5,601,13,null,null,null,-14,null,null,2524,2089]
[null,7436,93195,"Wolfsegg",-14,8.5,430,13,null,null,null,-14,null,null,2415,1999]
[null,7437,93197,"Zeitlarn",-13.7,8.9,337,13,null,null,null,-14,null,null,2378,1989]
[null,7440,93326,"Abensberg",-13.3,8.8000000000000007,404,13,null,null,null,-13,null,null,2373,2012]
[null,7443,93339,"Riedenburg",-13.1,9,388,13,null,null,null,-13,null,null,2485,2122]
[null,7447,93346,"Ihrlerstein",-13.8,8.3000000000000007,522,13,null,null,null,-14,null,null,2435,2029]
[null,7450,93351,"Painten",-13.9,8.1999999999999993,554,13,null,null,null,-14,null,null,2468,2050]
[null,7452,93354,"Siegenburg",-13.3,8.9,390,13,null,null,null,-13,null,null,2374,2013]
[null,7456,93413,"Cham",-13.2,8.8000000000000007,366,10,null,null,null,-13,null,null,2604,2216]
[null,7459,93444,"Kötzting",-13.5,8.4,406,10,null,null,null,-14,null,null,2933,2470]
[null,7460,93449,"Waldmünchen",-13.8,7.8,530,10,null,null,null,-14,null,null,2684,2237]
[null,7463,93458,"Eschlkam",-13.2,8.3000000000000007,438,10,null,null,null,-13,null,null,3071,2614]
[null,7466,93466,"Chamerau",-13.6,7.8,515,10,null,null,null,-14,null,null,2628,2205]
[null,7469,93471,"Arnbruck",-13.3,7.6,539,11,null,null,null,-13,null,null,3232,{"$f":"ROUND(O7474*24/(15-E7474),0)","v":2741}]
[null,7472,93476,"Blaibach",-13.5,8.4,410,10,null,null,null,-14,null,null,2847,2397]
[null,7475,93480,"Hohenwarth",-13.3,7.8,520,10,null,null,null,-13,null,null,3055,2591]
[null,7479,93486,"Runding",-13.5,8.5,415,10,null,null,null,-14,null,null,2631,2216]
[null,7482,93491,"Stamsried",-13.8,8.4,447,10,null,null,null,-14,null,null,2634,2195]
[null,7483,93492,"Treffelstein",-13.6,7.7,537,10,null,null,null,-14,null,null,2674,2244]
[null,7486,93497,"Willmering",-13.5,8.6,393,13,null,null,null,-14,null,null,2625,2211]
[null,7490,94036,"Passau",-11.8,9.1999999999999993,344,13,null,null,null,-12,null,null,2483,{"$f":"ROUND(O7495*24/(15-E7495),0)","v":2224}]
[null,7492,94060,"Pocking",-12.2,9.4,317,13,null,null,null,-12,null,null,2404,2121]
[null,7495,94078,"Freyung",-13.5,7.4,653,11,null,null,null,-14,null,null,2700,2274]
[null,7499,94094,"Rotthalmünster",-12.3,8.9,410,13,null,null,null,-12,null,null,2386,2098]
[null,7502,94107,"Untergriesbach",-12.5,8.3000000000000007,547,10,null,null,null,-13,null,null,2597,2266]
[null,7505,94116,"Hutthurm",-12.1,8.6,461,13,null,null,null,-12,null,null,2607,2309]
[null,7506,94118,"Jandelsbrunn",-13.1,7.6,638,10,null,null,null,-13,null,null,2651,2264]
[null,7509,94127,"Neuburg a. Inn",-12,8.9,409,13,null,null,null,-12,null,null,2481,2205]
[null,7511,94133,"Röhrnbach",-12.3,8.5,470,10,null,null,null,-12,null,null,2636,2317]
[null,7515,94140,"Ering",-12.3,9.1,389,13,null,null,null,-12,null,null,2361,2076]
[null,7518,94145,"Haidmühle",-14.2,6.5,853,11,null,null,null,-14,null,null,2653,2181]
[null,7522,94151,"Mauth",-14.6,6.4,852,11,null,null,null,-15,null,null,2713,2200]
[null,7525,94157,"Perlesreut",-12.6,8.1999999999999993,519,13,null,null,null,-13,null,null,2617,2276]
[null,7526,94158,"Philippsreut",-14.8,5.8,1007,11,2,null,null,-15,null,null,2708,2181]
[null,7528,94161,"Ruderting",-12.1,8.6999999999999993,440,13,null,null,null,-12,null,null,2581,2286]
[null,7531,94166,"Stubenberg",-12.3,8.6,493,13,null,null,null,-12,null,null,2360,2075]
[null,7535,94227,"Zwiesel",-14.1,7,648,11,null,null,null,-14,null,null,3108,2563]
[null,7538,94244,"Teisnach",-13.7,7.4,572,10,null,null,null,-14,null,null,3186,2664]
[null,7541,94252,"Bayerisch Eisenstein",-14.5,6.4,792,11,null,null,null,-15,null,null,3550,2888]
[null,7545,94258,"Frauenau",-14.1,6.7,734,11,null,null,null,-14,null,null,3030,2499]
[null,7547,94261,"Kirchdorf i. Wald",-13.6,7.1,655,10,null,null,null,-14,null,null,2988,2507]
[null,7550,94265,"Patersdorf",-13.3,7.7,512,10,null,null,null,-13,null,null,2996,2541]
[null,7551,94267,"Prackenbach",-13.8,7.4,578,10,null,null,null,-14,null,null,2742,2285]
[null,7554,94327,"Bogen",-13.7,9,326,13,null,null,null,-14,null,null,2470,{"$f":"ROUND(O7559*24/(15-E7559),0)","v":2066}]
[null,7558,94339,"Leiblfing",-13.9,8.6999999999999993,392,13,null,null,null,-14,null,null,2383,1979]
[null,7561,94345,"Aholfing",-13.7,9,321,13,null,null,null,-14,null,null,2416,2020]
[null,7564,94350,"Falkenfels",-13.9,8.1999999999999993,482,13,null,null,null,-14,null,null,2540,2109]
[null,7566,94353,"Haibach",-13.6,8,495,10,null,null,null,-14,null,null,2585,2169]
[null,7570,94359,"Loitzendorf",-13.6,8.5,417,10,null,null,null,-14,null,null,2574,2160]
[null,7573,94363,"Oberschneiding",-13.9,8.6999999999999993,375,13,null,null,null,-14,null,null,2402,1995]
[null,7574,94365,"Parkstetten",-13.8,9.1,316,13,null,null,null,-14,null,null,2459,2049]
[null,7577,94369,"Rain",-13.8,9,331,13,null,null,null,-14,null,null,2374,1978]
[null,7581,94375,"Stallwang",-13.6,8.5,412,10,null,null,null,-14,null,null,2570,2157]
[null,7584,94405,"Landau a.d. Isar",-13.6,8.6,415,13,null,null,null,-14,null,null,2398,2012]
[null,7587,94428,"Eichendorf",-13.1,8.9,357,13,null,null,null,-13,null,null,2384,2036]
[null,7590,94437,"Mamming",-13.6,8.6,428,13,null,null,null,-14,null,null,2402,2016]
[null,7593,94469,"Deggendorf",-13.1,9.1,342,13,null,null,null,-13,null,null,2443,2087]
[null,7594,94474,"Vilshofen an der Donau",-12.3,9.1,362,13,null,null,null,-12,null,null,2443,2148]
[null,7597,94491,"Hengersberg",-13.3,9,341,13,null,null,null,-13,null,null,2461,2087]
[null,7600,94505,"Bernried",-13.8,7.8,550,10,null,null,null,-14,null,null,2467,2056]
[null,7604,94522,"Wallersdorf",-13.6,9,332,13,null,null,null,-14,null,null,2408,2021]
[null,7606,94527,"Aholming",-13.6,9.1,319,13,null,null,null,-14,null,null,2397,2011]
[null,7609,94532,"Außernzell",-12.5,8.9,378,10,null,null,null,-13,null,null,2517,2197]
[null,7613,94538,"Fürstenstein",-12.3,8.4,497,10,null,null,null,-12,null,null,2530,2224]
[null,7616,94542,"Haarbach",-12.1,9,385,13,null,null,null,-12,null,null,2398,2124]
[null,7617,94544,"Hofkirchen",-12.3,8.6,447,13,null,null,null,-12,null,null,2459,2162]
[null,7620,94548,"Innernzell",-13.2,7.4,616,10,null,null,null,-13,null,null,2630,2238]
[null,7623,94553,"Mariaposching",-13.7,9.1,311,13,null,null,null,-14,null,null,2416,2020]
[null,7627,94559,"Niederwinkling",-13.7,9.1,311,13,null,null,null,-14,null,null,2460,2057]
[null,7629,94562,"Oberpöring",-13.6,9,329,13,null,null,null,-14,null,null,2399,2013]
[null,7633,94569,"Stephansposching",-13.7,9,326,13,null,null,null,-14,null,null,2414,2019]
[null,7636,94574,"Wallerfing",-13.5,8.9,344,13,null,null,null,-14,null,null,2394,2016]
[null,7639,94579,"Zenting",-12.3,8.5,451,11,null,null,null,-12,null,null,2556,2247]
[null,7640,95028,"Hof",-14.6,7.8,511,10,null,null,null,-15,null,null,2731,2214]
[null,7643,95100,"Selb",-14.3,7.5,560,10,null,null,null,-14,null,null,2894,2371]
[null,7646,95126,"Schwarzenbach a.d. Saale",-14.6,7.6,527,10,null,null,null,-15,null,null,2831,2295]
[null,7649,95145,"Oberkotzau",-14.7,7.7,518,10,null,null,null,-15,null,null,2803,2265]
[null,7652,95163,"Weißenstadt",-14.3,7.2,609,10,null,null,null,-14,null,null,2899,2375]
[null,7656,95179,"Geroldsgrün",-14.6,7.2,615,10,null,null,null,-15,null,null,2726,2210]
[null,7659,95183,"Feilitzsch",-15,7.4,552,10,null,null,null,-15,null,null,2675,2140]
[null,7662,95188,"Issigau",-14.8,7.2,599,10,null,null,null,-15,null,null,2709,2182]
[null,7663,95189,"Köditz",-15,7.3,566,10,null,null,null,-15,null,null,2760,2208]
[null,7667,95195,"Röslau",-14.3,7.5,562,10,null,null,null,-14,null,null,2887,2365]
[null,7668,95197,"Schauenstein",-14.6,7.6,542,10,null,null,null,-15,null,null,2776,2251]
[null,7672,95234,"Sparneck",-14.5,7.3,589,10,null,null,null,-15,null,null,2836,2307]
[null,7675,95239,"Zell",-14.6,7,660,10,null,null,null,-15,null,null,2848,2309]
[null,7679,95346,"Stadtsteinach",-12.8,8.5,386,10,null,null,null,-13,null,null,2586,2233]
[null,7682,95355,"Presseck",-14.4,7.2,628,10,null,null,null,-14,null,null,2681,{"$f":"ROUND(O7687*24/(15-E7687),0)","v":2189}]
[null,7685,95359,"Kasendorf",-12.8,8.4,417,13,null,null,null,-13,null,null,2462,2125]
[null,7686,95361,"Ködnitz",-12.4,8.6999999999999993,355,10,null,null,null,-12,null,null,2584,2263]
[null,7688,95364,"Ludwigschorgast",-12.6,8.6,366,10,null,null,null,-13,null,null,2602,2263]
[null,7692,95444,"Bayreuth",-11.3,9.9,342,13,null,null,null,-11,null,null,2567,2343]
[null,7695,95448,"Bayreuth",-13,8.6999999999999993,381,10,null,null,null,-13,null,null,2614,2241]
[null,7698,95466,"Weidenberg, Kirchenpingarten",-14,8.1,473,10,null,null,null,-14,null,null,2750,2276]
[null,7702,95482,"Gefrees",-14.1,7.9,504,10,null,null,null,-14,null,null,2770,2285]
[null,7705,95490,"Mistelgau",-13.2,8.5,401,13,null,null,null,-13,null,null,2557,2176]
[null,7706,95491,"Ahorntal",-13.7,8.4,436,13,null,null,null,-14,null,null,2506,2096]
[null,7707,95493,"Bischofsgrün",-14.5,7,660,11,null,null,null,-15,null,null,2819,2293]
[null,7708,95494,"Gesees",-13.3,8.5,409,13,null,null,null,-13,null,null,2589,2196]
[null,7709,95496,"Glashütten",-13.3,8.4,417,13,null,null,null,-13,null,null,2560,2171]
[null,7710,95497,"Goldkronach",-14.1,7.7,542,10,null,null,null,-14,null,null,2755,2272]
[null,7711,95499,"Harsdorf",-12.7,8.6999999999999993,351,10,null,null,null,-13,null,null,2636,2284]
[null,7712,95500,"Heinersreuth",-12.6,8.8000000000000007,334,13,null,null,null,-13,null,null,2499,2173]
[null,7713,95502,"Himmelkron",-12.6,8.6999999999999993,361,10,null,null,null,-13,null,null,2687,2337]
[null,7714,95503,"Hummeltal",-13.7,8.1,464,13,null,null,null,-14,null,null,2595,2170]
[null,7715,95505,"Immenreuth",-14.3,7.1,652,10,null,null,null,-14,null,null,2846,2331]
[null,7716,95506,"Kastl",-13.9,8.1,478,10,null,null,null,-14,null,null,2726,2264]
[null,7717,95508,"Kulmain",-14.3,7.5,572,10,null,null,null,-14,null,null,2830,2318]
[null,7718,95509,"Marktschorgast",-13.6,7.9,487,10,null,null,null,-14,null,null,2733,2293]
[null,7719,95511,"Mistelbach",-13.3,8.5,407,13,null,null,null,-13,null,null,2569,2179]
[null,7720,95512,"Neudrossenfeld",-12.6,8.8000000000000007,337,13,null,null,null,-13,null,null,2550,2217]
[null,7721,95514,"Neustadt a. Kulm",-13.9,8,491,10,null,null,null,-14,null,null,2704,2246]
[null,7722,95515,"Plankenfels",-13.3,8.6999999999999993,382,13,null,null,null,-13,null,null,2464,2090]
[null,7723,95517,"Emtmannsberg",-13.7,8.3000000000000007,435,10,null,null,null,-14,null,null,2688,2248]
[null,7724,95519,"Vorbach",-13.8,8.3000000000000007,432,10,null,null,null,-14,null,null,2685,2238]
[null,7725,95615,"Marktredwitz",-14.2,7.8,527,10,null,null,null,-14,null,null,2891,2376]
[null,7726,95632,"Wunsiedel",-14.2,7.7,532,10,null,null,null,-14,null,null,2851,2343]
[null,7727,95643,"Tirschenreuth",-14.2,7.9,505,10,null,null,null,-14,null,null,2701,2220]
[null,7728,95652,"Waldsassen",-14.6,8,479,10,null,null,null,-15,null,null,2821,2287]
[null,7729,95659,"Arzberg",-14.6,7.8,503,10,null,null,null,-15,null,null,2844,2306]
[null,7730,95666,"Mitterteich",-14.5,7.9,493,10,null,null,null,-15,null,null,2792,2271]
[null,7731,95671,"Bärnau",-14.1,7.6,566,10,null,null,null,-14,null,null,2656,2191]
[null,7732,95676,"Wiesau",-14.3,7.9,512,10,null,null,null,-14,null,null,2740,2244]
[null,7733,95679,"Waldershof",-14.2,7.5,572,10,null,null,null,-14,null,null,2833,2328]
[null,7734,95680,"Bad Alexandersbad",-14.5,7.2,617,10,null,null,null,-15,null,null,2877,2341]
[null,7735,95682,"Brand",-14.2,7.4,594,10,null,null,null,-14,null,null,2873,2361]
[null,7736,95683,"Ebnath",-14.2,7.7,530,10,null,null,null,-14,null,null,2852,2344]
[null,7737,95685,"Falkenberg",-14.1,7.9,503,10,null,null,null,-14,null,null,2644,2181]
[null,7738,95686,"Fichtelberg",-14.4,7,669,11,null,null,null,-14,null,null,2899,2367]
[null,7739,95688,"Friedenfels",-14.3,7.2,626,10,null,null,null,-14,null,null,2741,2245]
[null,7740,95689,"Fuchsmühl",-14.5,7,662,10,null,null,null,-15,null,null,2831,2303]
[null,7741,95691,"Hohenberg a.d. Eger",-14.6,7.4,572,10,null,null,null,-15,null,null,2871,2328]
[null,7742,95692,"Konnersreuth",-14.5,7.5,558,10,null,null,null,-15,null,null,2824,2297]
[null,7743,95694,"Mehlmeisel",-14.3,7.3,608,10,null,null,null,-14,null,null,2912,2385]
[null,7744,95695,"Mähring",-14.5,7.3,612,10,null,null,null,-15,null,null,2688,2187]
[null,7745,95697,"Nagel",-14.3,7.2,632,10,null,null,null,-14,null,null,2861,2343]
[null,7746,95698,"Neualbenreuth",-14.6,7.8,521,10,null,null,null,-15,null,null,2788,{"$f":"ROUND(O7751*24/(15-E7751),0)","v":2261}]
[null,7747,95700,"Neusorg",-14.3,7.3,610,10,null,null,null,-14,null,null,2841,2327]
[null,7748,95701,"Pechbrunn",-14.4,7.7,534,10,null,null,null,-14,null,null,2831,2311]
[null,7749,95703,"Plößberg",-14,7.7,546,10,null,null,null,-14,null,null,2644,2188]
[null,7750,95704,"Pullenreuth",-14.3,7.2,629,10,null,null,null,-14,null,null,2827,2316]
[null,7751,95706,"Schirnding",-14.8,7.8,507,10,null,null,null,-15,null,null,2864,2307]
[null,7752,95707,"Thiersheim",-14.4,7.6,549,10,null,null,null,-14,null,null,2869,2342]
[null,7753,95709,"Tröstau",-14.3,7.2,633,10,null,null,null,-14,null,null,2892,2369]
[null,7754,96047,"Bamberg",-12.7,9.6,260,13,null,null,null,-13,null,null,2271,1968]
[null,7755,96049,"Bamberg",-13.3,8.9,331,13,null,null,null,-13,null,null,2270,1925]
[null,7756,96050,"Bamberg",-13.7,9.1999999999999993,248,13,null,null,null,-14,null,null,2273,1901]
[null,7757,96052,"Bamberg",-12.7,9.6,244,13,null,null,null,-13,null,null,2301,1994]
[null,7758,96103,"Hallstadt",-13.5,9.3000000000000007,233,13,null,null,null,-14,null,null,2314,1949]
[null,7759,96106,"Ebern",-12,9,297,13,null,null,null,-12,null,null,2346,2085]
[null,7760,96110,"Scheßlitz",-12.8,8.9,318,13,null,null,null,-13,null,null,2336,2017]
[null,7761,96114,"Hirschaid",-13.5,9.3000000000000007,242,13,null,null,null,-14,null,null,2294,1932]
[null,7762,96117,"Memmelsdorf",-13.2,9.1999999999999993,264,13,null,null,null,-13,null,null,2268,1930]
[null,7763,96120,"Bischberg",-13.2,9,297,13,null,null,null,-13,null,null,2328,1981]
[null,7764,96123,"Litzendorf",-13.1,8.6999999999999993,351,13,null,null,null,-13,null,null,2266,1935]
[null,7765,96126,"Maroldsweisach",-12.3,8.4,412,13,null,null,null,-12,null,null,2466,2168]
[null,7766,96129,"Strullendorf",-13.1,8.8000000000000007,341,13,null,null,null,-13,null,null,2267,1936]
[null,7767,96132,"Schlüsselfeld",-13,8.9,344,13,null,null,null,-13,null,null,2351,2015]
[null,7768,96135,"Stegaurach",-13.3,9.1999999999999993,258,13,null,null,null,-13,null,null,2293,1945]
[null,7769,96138,"Burgebrach",-13.1,9.1999999999999993,280,13,null,null,null,-13,null,null,2324,1985]
[null,7770,96142,"Hollfeld",-13,8.5,400,13,null,null,null,-13,null,null,2390,2049]
[null,7771,96145,"Seßlach",-12,8.8000000000000007,345,13,null,null,null,-12,null,null,2477,2202]
[null,7772,96146,"Altendorf",-13.3,9.1999999999999993,261,13,null,null,null,-13,null,null,2301,1951]
[null,7773,96148,"Baunach",-12.6,8.8000000000000007,348,13,null,null,null,-13,null,null,2341,2036]
[null,7774,96149,"Breitengüßbach",-13.3,9.1,267,13,null,null,null,-13,null,null,2324,1971]
[null,7775,96151,"Breitbrunn",-12.2,8.9,317,13,null,null,null,-12,null,null,2364,2086]
[null,7776,96152,"Burghaslach",-12.7,9.1999999999999993,315,13,null,null,null,-13,null,null,2327,2016]
[null,7777,96154,"Burgwindheim",-12.7,9,324,13,null,null,null,-13,null,null,2365,2049]
[null,7778,96155,"Buttenheim",-13.6,8.4,429,13,null,null,null,-14,null,null,2310,1938]
[null,7779,96157,"Ebrach",-12.3,9.1,315,13,null,null,null,-12,null,null,2434,2140]
[null,7780,96158,"Frensdorf",-13.3,9.1,278,13,null,null,null,-13,null,null,2291,1943]
[null,7781,96160,"Geiselwind",-13,8.9,392,13,null,null,null,-13,null,null,2341,2007]
[null,7782,96161,"Gerach",-12.4,8.9,314,13,null,null,null,-12,null,null,2352,2060]
[null,7783,96163,"Gundelsheim",-13.5,9.1999999999999993,249,13,null,null,null,-14,null,null,2311,1946]
[null,7784,96164,"Kemmern",-13.5,9.1999999999999993,239,13,null,null,null,-14,null,null,2326,1959]
[null,7785,96166,"Kirchlauter",-12.4,8.6999999999999993,360,13,null,null,null,-12,null,null,2366,2072]
[null,7786,96167,"Königsfeld",-13.1,8.1,471,13,null,null,null,-13,null,null,2355,2011]
[null,7787,96169,"Lauter",-12.8,8.9,316,13,null,null,null,-13,null,null,2349,2028]
[null,7788,96170,"Lisberg",-12.5,9.1999999999999993,284,13,null,null,null,-13,null,null,2363,2062]
[null,7789,96172,"Mühlhausen",-13.1,9.1,321,13,null,null,null,-13,null,null,2312,1975]
[null,7790,96173,"Oberhaid",-13.1,9.1,278,13,null,null,null,-13,null,null,2333,1993]
[null,7791,96175,"Pettstadt",-13.7,9.1999999999999993,249,13,null,null,null,-14,null,null,2288,1913]
[null,7792,96176,"Pfarrweisach",-12.1,8.9,312,13,null,null,null,-12,null,null,2415,2139]
[null,7793,96178,"Pommersfelden",-13,9.1999999999999993,280,13,null,null,null,-13,null,null,2299,1971]
[null,7794,96179,"Rattelsdorf",-12.7,9.1,278,13,null,null,null,-13,null,null,2331,2020]
[null,7795,96181,"Rauhenebrach",-12.6,8.8000000000000007,357,13,null,null,null,-13,null,null,2388,2077]
[null,7796,96182,"Reckendorf",-12.8,9.1999999999999993,254,13,null,null,null,-13,null,null,2346,2025]
[null,7797,96184,"Rentweinsdorf",-12.4,9,296,13,null,null,null,-12,null,null,2339,2049]
[null,7798,96185,"Schönbrunn i. Steigerwald",-12.6,9.1999999999999993,274,13,null,null,null,-13,null,null,2353,2046]
[null,7799,96187,"Stadelhofen",-13.1,8.1,475,13,null,null,null,-13,null,null,2360,2016]
[null,7800,96188,"Stettfeld",-13.1,9.1999999999999993,245,13,null,null,null,-13,null,null,2360,2016]
[null,7801,96190,"Untermerzbach",-12.1,9,297,13,null,null,null,-12,null,null,2357,2087]
[null,7802,96191,"Viereth-Trunstadt",-13.2,9.1999999999999993,250,13,null,null,null,-13,null,null,2350,2000]
[null,7803,96193,"Wachenroth",-12.8,9.1999999999999993,279,13,null,null,null,-13,null,null,2327,2009]
[null,7804,96194,"Walsdorf",-12.8,9,305,13,null,null,null,-13,null,null,2314,1998]
[null,7805,96196,"Wattendorf",-13,8,488,13,null,null,null,-13,null,null,2364,2026]
[null,7806,96197,"Wonsees",-13.1,8.1,466,13,null,null,null,-13,null,null,2460,2101]
[null,7807,96199,"Zapfendorf",-13,9.1,259,13,null,null,null,-13,null,null,2329,1996]
[null,7808,96215,"Lichtenfels",-12,9.1,282,13,null,null,null,-12,null,null,2434,2164]
[null,7809,96224,"Burgkunstadt",-12.6,8.5,396,13,null,null,null,-13,null,null,2467,2145]
[null,7810,96231,"Staffelstein",-12.2,8.8000000000000007,329,13,null,null,null,-12,null,null,2359,{"$f":"ROUND(O7815*24/(15-E7815),0)","v":2081}]
[null,7811,96237,"Ebersdorf b. Coburg",-12.1,8.6999999999999993,349,13,null,null,null,-12,null,null,2439,2160]
[null,7812,96242,"Sonnefeld",-12.3,8.5,380,13,null,null,null,-12,null,null,2449,2153]
[null,7813,96247,"Michelau i. OFr.",-12,9.1,276,13,null,null,null,-12,null,null,2443,2172]
[null,7814,96250,"Ebensfeld",-12.7,9.1,268,13,null,null,null,-13,null,null,2345,2032]
[null,7815,96253,"Untersiemau",-11.8,9.1,281,13,null,null,null,-12,null,null,2461,2204]
[null,7816,96257,"Redwitz a.d. Rodach",-12,9.1,275,13,null,null,null,-12,null,null,2454,2181]
[null,7817,96260,"Weismain",-12.8,8.1,469,13,null,null,null,-13,null,null,2458,2122]
[null,7818,96264,"Altenkunstadt",-12.1,9,298,13,null,null,null,-12,null,null,2446,2166]
[null,7819,96268,"Mitwitz",-12.1,8.8000000000000007,315,13,null,null,null,-12,null,null,2551,2259]
[null,7820,96269,"Großheirath",-12,8.8000000000000007,330,13,null,null,null,-12,null,null,2467,2193]
[null,7821,96271,"Grub a. Forst",-12.1,8.8000000000000007,336,13,null,null,null,-12,null,null,2435,2156]
[null,7822,96272,"Hochstadt a. Main",-12.1,8.8000000000000007,324,13,null,null,null,-12,null,null,2444,2164]
[null,7823,96274,"Itzgrund",-12,9.1,277,13,null,null,null,-12,null,null,2361,2099]
[null,7824,96275,"Marktzeuln",-12.1,9.1,270,13,null,null,null,-12,null,null,2448,2168]
[null,7825,96277,"Schneckenlohe",-12,8.8000000000000007,328,13,null,null,null,-12,null,null,2456,2183]
[null,7826,96279,"Weidhausen b. Coburg",-12.1,8.9,319,13,null,null,null,-12,null,null,2447,2167]
[null,7827,96317,"Kronach",-12.7,8.5,390,13,null,null,null,-13,null,null,2493,2160]
[null,7828,96328,"Küps",-12.1,9,302,13,null,null,null,-12,null,null,2564,2271]
[null,7829,96332,"Pressig",-12.6,8.4,392,10,null,null,null,-13,null,null,2839,2469]
[null,7830,96337,"Ludwigsstadt",-14.3,7.4,567,10,null,null,null,-14,null,null,2951,2417]
[null,7831,96342,"Stockheim",-12.2,8.6999999999999993,337,10,null,null,null,-12,null,null,2596,2291]
[null,7832,96346,"Wallenfels",-13.7,7.8,517,10,null,null,null,-14,null,null,2689,2249]
[null,7833,96349,"Steinwiesen",-13.7,7.7,520,10,null,null,null,-14,null,null,2719,2274]
[null,7834,96352,"Wilhelmsthal",-13.8,7.5,560,10,null,null,null,-14,null,null,2655,2213]
[null,7835,96355,"Tettau",-15.1,6.6,718,10,null,null,null,-15,null,null,2925,2332]
[null,7836,96358,"Teuschnitz",-14.3,7.3,587,10,null,null,null,-14,null,null,2878,2357]
[null,7837,96361,"Steinbach a. Wald",-14.4,7.3,587,10,null,null,null,-14,null,null,2897,2365]
[null,7838,96364,"Marktrodach",-12.7,8.3000000000000007,422,10,null,null,null,-13,null,null,2618,2268]
[null,7839,96365,"Nordhalben",-13.7,7.9,491,10,null,null,null,-14,null,null,2759,2307]
[null,7840,96367,"Tschirn",-14.3,7.4,582,10,null,null,null,-14,null,null,2804,2297]
[null,7841,96369,"Weißenbrunn",-12.5,8.5,375,13,null,null,null,-13,null,null,2570,2243]
[null,7842,96450,"Coburg",-11,9.6,307,13,null,null,null,-11,null,null,2448,2260]
[null,7843,96465,"Neustadt b. Coburg",-12,8.8000000000000007,327,13,null,null,null,-12,null,null,2631,2339]
[null,7844,96472,"Rödental",-12.3,8.6,375,13,null,null,null,-12,null,null,2459,2162]
[null,7845,96476,"Rodach b. Coburg",-11.8,8.9,309,13,null,null,null,-12,null,null,2503,2241]
[null,7846,96479,"Weitramsdorf",-11.8,9,300,13,null,null,null,-12,null,null,2470,2212]
[null,7847,96482,"Ahorn",-12,8.8000000000000007,326,13,null,null,null,-12,null,null,2463,2189]
[null,7848,96484,"Meeder",-12.1,8.6,366,13,null,null,null,-12,null,null,2572,2278]
[null,7849,96486,"Lautertal",-12.8,8.1,468,13,null,null,null,-13,null,null,2558,2208]
[null,7850,96487,"Dörfles-Esbach",-11.8,9,325,13,null,null,null,-12,null,null,2448,2192]
[null,7851,96489,"Niederfüllbach",-11.8,9.1,287,13,null,null,null,-12,null,null,2433,2179]
[null,7852,96515,"Sonneberg, Judenbach",-14.5,7,648,10,null,null,null,-15,null,null,2854,2322]
[null,7853,96523,"Steinach",-13.7,7.6,531,10,null,null,null,-14,null,null,2979,2491]
[null,7854,96524,"Neuhaus-Schierschnitz",-12.2,8.6999999999999993,345,13,null,null,null,-12,null,null,2590,2285]
[null,7855,96528,"Frankenblick, Schalkau, Bachfeld",-12.6,8.3000000000000007,412,10,null,null,null,-13,null,null,2745,2387]
[null,7856,97070,"Würzburg",-10.1,10.8,179,13,null,null,null,-10,null,null,2125,2032]
[null,7857,97072,"Würzburg",-10.4,10.6,180,13,null,null,null,-10,null,null,2119,2002]
[null,7858,97074,"Würzburg",-11.2,9.9,278,13,null,null,null,-11,null,null,2118,1940]
[null,7859,97076,"Würzburg",-11.2,9.9,240,13,null,null,null,-11,null,null,2129,1950]
[null,7860,97078,"Würzburg",-11.4,9.8000000000000007,246,13,null,null,null,-11,null,null,2137,1943]
[null,7861,97080,"Würzburg",-11,10.1,201,13,null,null,null,-11,null,null,2137,1973]
[null,7862,97082,"Würzburg",-11.3,9.8000000000000007,250,13,null,null,null,-11,null,null,2123,1937]
[null,7863,97084,"Würzburg",-11.3,9.9,234,13,null,null,null,-11,null,null,2120,1935]
[null,7864,97199,"Ochsenfurt",-11.5,9.6999999999999993,275,13,null,null,null,-12,null,null,2142,1940]
[null,7865,97204,"Höchberg",-11.3,9.6999999999999993,291,13,null,null,null,-11,null,null,2134,1947]
[null,7866,97209,"Veitshöchheim",-11.5,9.6999999999999993,271,13,null,null,null,-12,null,null,2153,1950]
[null,7867,97215,"Uffenheim",-12.1,9.4,346,13,null,null,null,-12,null,null,2266,2007]
[null,7868,97218,"Gerbrunn",-11.6,9.6,295,13,null,null,null,-12,null,null,2121,1914]
[null,7869,97222,"Rimpar",-11.7,9.1999999999999993,333,13,null,null,null,-12,null,null,2226,2001]
[null,7870,97225,"Zellingen",-11.3,9.5,273,13,null,null,null,-11,null,null,2229,2034]
[null,7871,97228,"Rottendorf",-11.4,9.8000000000000007,250,13,null,null,null,-11,null,null,2125,1932]
[null,7872,97230,"Estenfeld",-11.4,9.6999999999999993,251,13,null,null,null,-11,null,null,2134,1940]
[null,7873,97232,"Giebelstadt",-11.5,9.6,292,13,null,null,null,-12,null,null,2156,1953]
[null,7874,97234,"Reichenberg, Guttenberger Wald",-11.6,9.6,283,13,null,null,null,-12,null,null,2127,{"$f":"ROUND(O7879*24/(15-E7879),0)","v":1919}]
[null,7875,97236,"Randersacker",-11.6,9.6,281,13,null,null,null,-12,null,null,2119,1912]
[null,7876,97237,"Altertheim",-11.3,9.6999999999999993,262,13,null,null,null,-11,null,null,2150,1962]
[null,7877,97239,"Aub",-11.5,9.6999999999999993,290,13,null,null,null,-12,null,null,2266,2052]
[null,7878,97241,"Bergtheim, Oberpleichfeld",-11.5,9.6,269,13,null,null,null,-12,null,null,2157,1954]
[null,7879,97243,"Bieberehren",-11.6,9.6,310,13,null,null,null,-12,null,null,2290,2066]
[null,7880,97244,"Bütthard",-11.6,9.6,301,13,null,null,null,-12,null,null,2180,1967]
[null,7881,97246,"Eibelstadt",-11.1,10.1,197,13,null,null,null,-11,null,null,2120,1949]
[null,7882,97247,"Eisenheim",-11.4,9.6999999999999993,225,13,null,null,null,-11,null,null,2146,1951]
[null,7883,97249,"Eisingen",-11.6,9.3000000000000007,327,13,null,null,null,-12,null,null,2138,1929]
[null,7884,97250,"Erlabrunn",-11.6,9.4,313,13,null,null,null,-12,null,null,2208,1992]
[null,7885,97252,"Frickenhausen",-11.6,9.6,292,13,null,null,null,-12,null,null,2121,1914]
[null,7886,97253,"Gaukönigshofen",-11.3,9.8000000000000007,255,13,null,null,null,-11,null,null,2161,1972]
[null,7887,97255,"Gelchsheim, Sonderhofen",-11.6,9.6,301,13,null,null,null,-12,null,null,2184,1971]
[null,7888,97256,"Geroldshausen",-11.6,9.5,301,13,null,null,null,-12,null,null,2130,1922]
[null,7889,97258,"Ippesheim",-11.8,9.4,330,13,null,null,null,-12,null,null,2238,2004]
[null,7890,97259,"Greußenheim",-11.8,9.1,354,13,null,null,null,-12,null,null,2206,1976]
[null,7891,97261,"Güntersleben",-11.4,9.6999999999999993,259,13,null,null,null,-11,null,null,2210,2009]
[null,7892,97262,"Hausen b. Würzburg",-11.4,9.4,283,13,null,null,null,-11,null,null,2182,1984]
[null,7893,97264,"Helmstadt",-11.4,9.5,285,13,null,null,null,-11,null,null,2152,1956]
[null,7894,97265,"Hettstadt",-11.5,9.4,313,13,null,null,null,-12,null,null,2191,1984]
[null,7895,97267,"Himmelstadt",-11.3,9.6,262,13,null,null,null,-11,null,null,2238,2042]
[null,7896,97268,"Kirchheim",-11.6,9.6,300,13,null,null,null,-12,null,null,2158,1947]
[null,7897,97270,"Kist, Irtenberger Wald",-11.8,9.1999999999999993,357,13,null,null,null,-12,null,null,2136,1913]
[null,7898,97271,"Kleinrinderfeld",-11.6,9.4,318,13,null,null,null,-12,null,null,2133,1925]
[null,7899,97273,"Kürnach",-11.5,9.6999999999999993,261,13,null,null,null,-12,null,null,2139,1937]
[null,7900,97274,"Leinach",-11.5,9.4,304,13,null,null,null,-12,null,null,2212,2003]
[null,7901,97276,"Margetshöchheim",-11.5,9.4,306,13,null,null,null,-12,null,null,2195,1988]
[null,7902,97277,"Neubrunn",-11.4,9.5,296,13,null,null,null,-11,null,null,2116,1924]
[null,7903,97279,"Prosselsheim",-11.6,9.6,277,13,null,null,null,-12,null,null,2142,1933]
[null,7904,97280,"Remlingen",-11.3,9.5,275,13,null,null,null,-11,null,null,2165,1976]
[null,7905,97282,"Retzstadt",-11.4,9.4,286,13,null,null,null,-11,null,null,2231,2028]
[null,7906,97283,"Riedenheim",-11.7,9.4,343,13,null,null,null,-12,null,null,2273,2043]
[null,7907,97285,"Röttingen, Tauberrettersheim",-11.5,9.6999999999999993,288,13,null,null,null,-12,null,null,2330,2110]
[null,7908,97286,"Winterhausen",-11.1,10.199999999999999,176,13,null,null,null,-11,null,null,2121,1950]
[null,7909,97288,"Theilheim",-11.6,9.6,280,13,null,null,null,-12,null,null,2120,1913]
[null,7910,97289,"Thüngen",-11.1,9.6999999999999993,219,13,null,null,null,-11,null,null,2244,2063]
[null,7911,97291,"Thüngershem",-11.5,9.4,304,13,null,null,null,-12,null,null,2218,2009]
[null,7912,97292,"Üttingen, Holzkirchen",-11,9.8000000000000007,222,13,null,null,null,-11,null,null,2156,1990]
[null,7913,97294,"Unterpleichfeld",-11.6,9.6,278,13,null,null,null,-12,null,null,2160,1949]
[null,7914,97295,"Waldbrunn, Irtenberger Wald",-11.4,9.5,294,13,null,null,null,-11,null,null,2150,1955]
[null,7915,97297,"Waldbüttelbrunn",-11.4,9.5,291,13,null,null,null,-11,null,null,2141,1946]
[null,7916,97299,"Zell a. Main",-11.4,9.6999999999999993,271,13,null,null,null,-11,null,null,2142,1947]
[null,7917,97318,"Kitzingen",-11.3,9.9,220,13,null,null,null,-11,null,null,2085,1903]
[null,7918,97320,"Albertshofen",-11.1,10.1,199,13,null,null,null,-11,null,null,2106,1937]
[null,7919,97332,"Volkach",-11.3,9.9,206,13,null,null,null,-11,null,null,2246,2050]
[null,7920,97334,"Sommerach",-11.6,9.5,283,13,null,null,null,-12,null,null,2182,1969]
[null,7921,97337,"Dettelbach",-11.6,9.6,266,13,null,null,null,-12,null,null,2123,1915]
[null,7922,97340,"Marktbreit",-11.5,9.6,284,13,null,null,null,-12,null,null,2134,1933]
[null,7923,97342,"Obernbreit",-11.4,9.6999999999999993,269,13,null,null,null,-11,null,null,2127,1934]
[null,7924,97346,"Iphofen",-11.8,9.5,307,13,null,null,null,-12,null,null,2214,1983]
[null,7925,97348,"Rödelsee",-11.4,9.8000000000000007,252,13,null,null,null,-11,null,null,2155,1959]
[null,7926,97350,"Mainbernheim",-11.4,9.8000000000000007,234,13,null,null,null,-11,null,null,2124,1931]
[null,7927,97353,"Wiesentheid",-11.5,9.6,248,13,null,null,null,-12,null,null,2233,2022]
[null,7928,97355,"Kleinlangheim",-11.6,9.6,265,13,null,null,null,-12,null,null,2229,2011]
[null,7929,97357,"Prichsenstadt",-11.5,9.6,256,13,null,null,null,-12,null,null,2292,2076]
[null,7930,97359,"Schwarzach a. Main",-11.3,9.9,192,13,null,null,null,-11,null,null,2174,1984]
[null,7931,97421,"Schweinfurt",-10.7,10,232,13,null,null,null,-11,null,null,2248,2099]
[null,7932,97422,"Schweinfurt",-11.3,9.4,276,13,null,null,null,-11,null,null,2244,2048]
[null,7933,97424,"Schweinfurt",-10.8,10.1,217,13,null,null,null,-11,null,null,2251,2094]
[null,7934,97437,"Haßfurt",-12.2,9.4,228,13,null,null,null,-12,null,null,2350,2074]
[null,7935,97440,"Werneck",-11.5,9.5,246,13,null,null,null,-12,null,null,2261,2048]
[null,7936,97447,"Gerolzhofen",-11.5,9.6,231,13,null,null,null,-12,null,null,2284,2069]
[null,7937,97450,"Arnstein",-11.3,9.3000000000000007,283,13,null,null,null,-11,null,null,2249,2052]
[null,7938,97453,"Schonungen",-11.6,8.6999999999999993,365,13,null,null,null,-12,null,null,2263,{"$f":"ROUND(O7943*24/(15-E7943),0)","v":2042}]
[null,7939,97456,"Dittelbrunn",-11.6,8.6999999999999993,363,13,null,null,null,-12,null,null,2287,2063]
[null,7940,97461,"Hofheim i. UFr.",-11.9,9.1999999999999993,254,13,null,null,null,-12,null,null,2360,2106]
[null,7941,97464,"Niederwerrn",-11.3,9.6,234,13,null,null,null,-11,null,null,2255,2058]
[null,7942,97469,"Gochsheim",-11.6,9.5,238,13,null,null,null,-12,null,null,2272,2050]
[null,7943,97475,"Zeil a. Main",-12.1,8.9,331,13,null,null,null,-12,null,null,2330,2063]
[null,7944,97478,"Knetzgau",-12.1,9.1999999999999993,284,13,null,null,null,-12,null,null,2353,2084]
[null,7945,97483,"Eltmann",-12.6,8.6999999999999993,355,13,null,null,null,-13,null,null,2342,2037]
[null,7946,97486,"Königsberg i. Bay.",-12.1,8.8000000000000007,339,13,null,null,null,-12,null,null,2358,2088]
[null,7947,97488,"Stadtlauringen",-11.6,9,305,13,null,null,null,-12,null,null,2326,2099]
[null,7948,97490,"Poppenhausen",-11.3,9.3000000000000007,266,13,null,null,null,-11,null,null,2260,2062]
[null,7949,97491,"Aidhausen",-11.7,9,298,13,null,null,null,-12,null,null,2323,2088]
[null,7950,97493,"Bergrheinfeld",-11.4,9.6999999999999993,212,13,null,null,null,-11,null,null,2255,2050]
[null,7951,97494,"Bundorf",-11.8,8.9,324,13,null,null,null,-12,null,null,2401,2150]
[null,7952,97496,"Burgpreppach",-12,9,306,13,null,null,null,-12,null,null,2336,2076]
[null,7953,97497,"Dingolshausen",-11.7,9.4,269,13,null,null,null,-12,null,null,2318,2084]
[null,7954,97499,"Donnersdorf",-11.8,9.4,253,13,null,null,null,-12,null,null,2295,2055]
[null,7955,97500,"Ebelsbach",-12.3,9,315,13,null,null,null,-12,null,null,2370,2084]
[null,7956,97502,"Euerbach",-11.5,9.1,295,13,null,null,null,-12,null,null,2262,2049]
[null,7957,97503,"Gädheim",-11.8,9,316,13,null,null,null,-12,null,null,2309,2068]
[null,7958,97505,"Geldersheim",-11.3,9.6,233,13,null,null,null,-11,null,null,2256,2059]
[null,7959,97506,"Grafenrheinfeld",-11.5,9.6999999999999993,204,13,null,null,null,-12,null,null,2286,2070]
[null,7960,97508,"Grettstadt",-11.7,9.4,253,13,null,null,null,-12,null,null,2266,2037]
[null,7961,97509,"Kolitzheim",-11.5,9.6,223,13,null,null,null,-12,null,null,2261,2048]
[null,7962,97511,"Lülsfeld",-11.6,9.6,251,13,null,null,null,-12,null,null,2301,2076]
[null,7963,97513,"Michelau i. Steigerwald, Hundelshausen",-11.9,8.8000000000000007,357,13,null,null,null,-12,null,null,2333,2081]
[null,7964,97514,"Oberaurach",-13,8.5,411,13,null,null,null,-13,null,null,2353,2017]
[null,7965,97516,"Oberschwarzach",-11.8,9.3000000000000007,290,13,null,null,null,-12,null,null,2359,2113]
[null,7966,97517,"Rannungen",-11.5,8.8000000000000007,334,13,null,null,null,-12,null,null,2299,2082]
[null,7967,97519,"Riedbach",-12,9,318,13,null,null,null,-12,null,null,2334,2075]
[null,7968,97520,"Röthlein",-11.4,9.6999999999999993,208,13,null,null,null,-11,null,null,2297,2088]
[null,7969,97522,"Sand a. Main",-12.1,9,321,13,null,null,null,-12,null,null,2345,2077]
[null,7970,97523,"Schwanfeld",-11.4,9.6,242,13,null,null,null,-11,null,null,2208,2007]
[null,7971,97525,"Schwebheim",-11.5,9.6,207,13,null,null,null,-12,null,null,2287,2071]
[null,7972,97526,"Sennfeld",-11.5,9.6,219,13,null,null,null,-12,null,null,2241,2030]
[null,7973,97528,"Sulzdorf a.d. Lederhecke",-11.8,8.8000000000000007,332,13,null,null,null,-12,null,null,2416,2164]
[null,7974,97529,"Sulzheim",-11.6,9.6,229,13,null,null,null,-12,null,null,2281,2058]
[null,7975,97531,"Theres",-12,9.1,299,13,null,null,null,-12,null,null,2329,2070]
[null,7976,97532,"Üchtelhausen",-11.7,8.6999999999999993,372,13,null,null,null,-12,null,null,2280,2049]
[null,7977,97534,"Waigolshausen",-11.4,9.6,246,13,null,null,null,-11,null,null,2214,2013]
[null,7978,97535,"Wasserlosen",-11.4,9.1,305,13,null,null,null,-11,null,null,2265,2059]
[null,7979,97537,"Wipfeld",-11.3,9.8000000000000007,198,13,null,null,null,-11,null,null,2194,2002]
[null,7980,97539,"Wonfurt",-12.2,9.4,242,13,null,null,null,-12,null,null,2352,2075]
[null,7981,97616,"Bad Neustadt an der Saale",-10.9,9.4,235,13,null,null,null,-11,null,null,2411,2234]
[null,7982,97618,"Hohenroth",-11,9.3000000000000007,251,13,null,null,null,-11,null,null,2401,2216]
[null,7983,97631,"Bad Königshofen i. Grabfeld",-11.6,8.9,317,13,null,null,null,-12,null,null,2407,2172]
[null,7984,97633,"Sulzfeld",-11.3,9.1,286,13,null,null,null,-11,null,null,2453,2238]
[null,7985,97638,"Mellrichstadt",-11.3,9.1,273,13,null,null,null,-11,null,null,2483,2266]
[null,7986,97640,"Oberstreu",-11.3,9,281,13,null,null,null,-11,null,null,2475,2259]
[null,7987,97645,"Ostheim v.d. Rhön",-12.2,8.4,397,13,null,null,null,-12,null,null,2477,2186]
[null,7988,97647,"Nordheim v.d. Rhön",-12.3,8.4,411,13,null,null,null,-12,null,null,2815,2475]
[null,7989,97650,"Fladungen",-12.7,8.3000000000000007,428,10,null,null,null,-13,null,null,2660,2305]
[null,7990,97653,"Bischofsheim a.d. Rhön",-12.3,8.1999999999999993,453,10,null,null,null,-12,null,null,2771,2436]
[null,7991,97654,"Bastheim",-11.8,8.8000000000000007,330,13,null,null,null,-12,null,null,2555,2288]
[null,7992,97656,"Oberelsbach",-13.5,7.5,575,10,null,null,null,-14,null,null,2621,2207]
[null,7993,97657,"Sandberg",-12.3,8.5,391,10,null,null,null,-12,null,null,2457,2160]
[null,7994,97659,"Schönau a.d. Brend",-12.1,8.1999999999999993,440,13,null,null,null,-12,null,null,2436,2157]
[null,7995,97688,"Bad Kissingen",-10.8,9.4,227,13,null,null,null,-11,null,null,2309,2148]
[null,7996,97702,"Münnerstadt",-11.7,8.6999999999999993,357,13,null,null,null,-12,null,null,2331,2095]
[null,7997,97705,"Burkardroth",-12.3,8.3000000000000007,423,10,null,null,null,-12,null,null,2521,2216]
[null,7998,97708,"Bad Bocklet",-10.8,9.4,222,13,null,null,null,-11,null,null,2368,2203]
[null,7999,97711,"Maßbach",-11.4,8.9,316,13,null,null,null,-11,null,null,2312,2102]
[null,8000,97714,"Oerlenbach",-11.3,8.9,316,13,null,null,null,-11,null,null,2312,2110]
[null,8001,97717,"Euerdorf",-10.8,9.4,226,13,null,null,null,-11,null,null,2322,2160]
[null,8002,97720,"Nüdlingen",-11.1,9.1,283,13,null,null,null,-11,null,null,2315,{"$f":"ROUND(O8007*24/(15-E8007),0)","v":2129}]
[null,8003,97723,"Oberthulba",-11.3,8.9,314,13,null,null,null,-11,null,null,2345,2140]
[null,8004,97724,"Burglauer",-11.3,8.8000000000000007,326,13,null,null,null,-11,null,null,2378,2170]
[null,8005,97725,"Elfershausen",-10.8,9.4,233,13,null,null,null,-11,null,null,2269,2111]
[null,8006,97727,"Fuchsstadt",-11.3,9,310,13,null,null,null,-11,null,null,2280,2081]
[null,8007,97729,"Ramsthal",-11.5,8.8000000000000007,343,13,null,null,null,-12,null,null,2269,2055]
[null,8008,97737,"Gemünden a. Main",-11,9.9,155,13,null,null,null,-11,null,null,2302,2125]
[null,8009,97753,"Karlstadt",-11.5,9.3000000000000007,306,13,null,null,null,-12,null,null,2301,2084]
[null,8010,97762,"Hammelburg",-11.2,9.1,294,13,null,null,null,-11,null,null,2280,2089]
[null,8011,97769,"Bad Brückenau",-11.9,8.9,326,10,null,null,null,-12,null,null,2360,2106]
[null,8012,97772,"Wildflecken",-13.6,7,699,10,null,null,null,-14,null,null,2661,2233]
[null,8013,97773,"Aura i. Sinngrund",-12,8.4,449,6,null,null,null,-12,null,null,2321,2063]
[null,8014,97775,"Burgsinn",-11,9.6,219,6,null,null,null,-11,null,null,2320,2142]
[null,8015,97776,"Eußenheim",-11,9.8000000000000007,198,13,null,null,null,-11,null,null,2250,2077]
[null,8016,97778,"Fellen",-11.4,9.1,298,6,null,null,null,-11,null,null,2330,2118]
[null,8017,97779,"Geroda",-12.9,7.6,573,10,null,null,null,-13,null,null,2570,2211]
[null,8018,97780,"Gössenheim",-10.9,9.9,163,13,null,null,null,-11,null,null,2298,2129]
[null,8019,97782,"Gräfendorf",-11.2,9.3000000000000007,252,6,null,null,null,-11,null,null,2311,2117]
[null,8020,97783,"Karsbach",-11.2,9.6,225,13,null,null,null,-11,null,null,2302,2109]
[null,8021,97785,"Mittelsinn",-11.3,9.3000000000000007,264,6,null,null,null,-11,null,null,2317,2114]
[null,8022,97786,"Motten",-12.4,8.1,487,10,null,null,null,-12,null,null,2650,2321]
[null,8023,97788,"Neuendorf",-12.3,8.5,455,13,null,null,null,-12,null,null,2304,2025]
[null,8024,97789,"Oberleichtersbach",-12,8.4,421,10,null,null,null,-12,null,null,2362,2100]
[null,8025,97791,"Obersinn",-11.6,9,310,6,null,null,null,-12,null,null,2314,2088]
[null,8026,97792,"Riedenberg",-13.4,7.3,628,10,null,null,null,-13,null,null,2604,2201]
[null,8027,97794,"Rieneck",-11.6,9,322,6,null,null,null,-12,null,null,2317,2091]
[null,8028,97795,"Schondra",-12,8.5,406,10,null,null,null,-12,null,null,2366,2103]
[null,8029,97797,"Wartmannsroth",-11.7,8.6999999999999993,367,6,null,null,null,-12,null,null,2286,2055]
[null,8030,97799,"Zeitlofs",-12.1,8.5,411,6,null,null,null,-12,null,null,2345,2077]
[null,8031,97816,"Lohr a. Main",-11.8,8.9,348,6,null,null,null,-12,null,null,2318,2076]
[null,8032,97828,"Marktheidenfeld",-11.5,9.3000000000000007,306,13,null,null,null,-12,null,null,2245,2033]
[null,8033,97833,"Frammersbach",-11.5,9.1999999999999993,284,6,null,null,null,-12,null,null,2351,2129]
[null,8034,97834,"Birkenfeld",-11.1,9.8000000000000007,217,13,null,null,null,-11,null,null,2223,2044]
[null,8035,97836,"Bischbrunn",-12.1,8.6999999999999993,450,6,null,null,null,-12,null,null,2220,1966]
[null,8036,97837,"Erlenbach b. Marktheidenfeld",-11.4,9.4,290,13,null,null,null,-11,null,null,2167,1970]
[null,8037,97839,"Esselbach",-11.6,9.1999999999999993,314,6,null,null,null,-12,null,null,2249,2029]
[null,8038,97840,"Hafenlohr, Rothenbuch",-11.3,9.5,262,6,null,null,null,-11,null,null,2265,2067]
[null,8039,97842,"Karbach",-11.2,9.6999999999999993,238,13,null,null,null,-11,null,null,2225,2038]
[null,8040,97843,"Neuhütten",-12.5,8.3000000000000007,498,6,null,null,null,-13,null,null,2342,2044]
[null,8041,97845,"Neustadt a. Main",-12.1,8.6,450,6,null,null,null,-12,null,null,2296,2033]
[null,8042,97846,"Partenstein",-11.3,9.4,243,6,null,null,null,-11,null,null,2345,2140]
[null,8043,97848,"Rechtenbach",-12,8.8000000000000007,398,6,null,null,null,-12,null,null,2318,2060]
[null,8044,97849,"Roden",-11.5,9.3000000000000007,294,13,null,null,null,-12,null,null,2318,2099]
[null,8045,97851,"Rothenfels",-12,9,356,13,null,null,null,-12,null,null,2279,2026]
[null,8046,97852,"Schollbrunn",-11.8,9,383,6,null,null,null,-12,null,null,2184,1956]
[null,8047,97854,"Steinfeld",-11.6,9.3000000000000007,293,13,null,null,null,-12,null,null,2310,2084]
[null,8048,97855,"Triefenstein",-10.8,10,177,13,null,null,null,-11,null,null,2165,2014]
[null,8049,97857,"Urspringen",-11.2,9.6,256,13,null,null,null,-11,null,null,2311,2117]
[null,8050,97859,"Wiesthal",-11.4,9.3000000000000007,274,6,null,null,null,-11,null,null,2371,2155]
[null,8051,97877,"Wertheim",-10.8,9.9,224,13,null,null,null,-11,null,null,2156,2006]
[null,8052,97892,"Kreuzwertheim",-11.2,9.6,271,13,null,null,null,-11,null,null,2172,1990]
[null,8053,97896,"Freudenberg, Collenberg",-12,8.8000000000000007,461,12,null,null,null,-12,null,null,2147,1908]
[null,8054,97900,"Külsheim",-11.6,9.3000000000000007,347,13,null,null,null,-12,null,null,2186,1972]
[null,8055,97901,"Altenbuch",-12.3,8.5,491,6,null,null,null,-12,null,null,2180,1916]
[null,8056,97903,"Collenberg",-11.5,9.3000000000000007,342,12,null,null,null,-12,null,null,2153,1950]
[null,8057,97904,"Dorfprozelten",-11,10,196,13,null,null,null,-11,null,null,2146,1981]
[null,8058,97906,"Faulbach",-10.8,9.9,201,13,null,null,null,-11,null,null,2153,2003]
[null,8059,97907,"Hasloch",-11,9.6999999999999993,246,13,null,null,null,-11,null,null,2166,1999]
[null,8060,97909,"Stadtprozelten",-11.5,9.3000000000000007,321,13,null,null,null,-12,null,null,2149,1946]
[null,8061,97922,"Lauda-Königshofen",-10.8,10.199999999999999,190,13,null,null,null,-11,null,null,2331,2168]
[null,8062,97941,"Tauberbischofsheim",-10.9,10,228,13,null,null,null,-11,null,null,2193,2032]
[null,8063,97944,"Boxberg",-11.4,9.6,331,13,null,null,null,-11,null,null,2325,2114]
[null,8064,97947,"Grünsfeld",-11.6,9.5,326,13,null,null,null,-12,null,null,2189,1975]
[null,8065,97950,"Großrinderfeld",-11.5,9.6,296,13,null,null,null,-12,null,null,2103,1905]
[null,8066,97953,"Königheim",-11.3,9.6,297,13,null,null,null,-11,null,null,2216,{"$f":"ROUND(O8071*24/(15-E8071),0)","v":2022}]
[null,8067,97956,"Werbach",-11.6,9.4,314,13,null,null,null,-12,null,null,2116,1909]
[null,8068,97957,"Wittighausen",-11.2,9.9,237,13,null,null,null,-11,null,null,2176,1993]
[null,8069,97959,"Assamstadt",-11.3,9.6999999999999993,331,13,null,null,null,-11,null,null,2233,2038]
[null,8070,97980,"Bad Mergentheim",-11.5,9.6999999999999993,307,13,null,null,null,-12,null,null,2313,2095]
[null,8071,97990,"Weikersheim",-11.2,10.1,238,13,null,null,null,-11,null,null,2331,2135]
[null,8072,97993,"Creglingen",-11.6,9.6,313,13,null,null,null,-12,null,null,2334,2106]
[null,8073,97996,"Niederstetten",-12.1,9.1999999999999993,403,13,null,null,null,-12,null,null,2360,2090]
[null,8074,97999,"Igersheim",-11.7,9.5,347,13,null,null,null,-12,null,null,2322,2087]
[null,8075,98527,"Suhl",-12.9,8,470,10,null,null,null,-13,null,null,3014,2593]
[null,8076,98528,"Suhl",-13.7,7.3,583,10,null,null,null,-14,null,null,3145,2630]
[null,8077,98529,"Suhl",-12.9,8,475,10,null,null,null,-13,null,null,2942,2531]
[null,8078,98530,"Suhl, Marisfeld, Rohr u.a.",-12.5,8.1999999999999993,431,10,null,null,null,-13,null,null,2855,2492]
[null,8079,98544,"Zella-Mehlis",-13.7,7.5,547,10,null,null,null,-14,null,null,3004,2512]
[null,8080,98547,"Viernau u.a.",-13.4,7.6,531,10,null,null,null,-13,null,null,2927,2474]
[null,8081,98553,"Schleusingen u.a.",-12.3,8.3000000000000007,415,10,null,null,null,-12,null,null,2881,2533]
[null,8082,98554,"Benshausen",-12.4,8.3000000000000007,410,10,null,null,null,-12,null,null,2900,2540]
[null,8083,98559,"Oberhof",-15,6.2,774,10,null,null,null,-15,null,null,3231,2585]
[null,8084,98574,"Schmalkalden",-12.3,9,282,10,null,null,null,-12,null,null,2722,2393]
[null,8085,98587,"Steinbach-Hallenberg",-14.2,6.9,652,10,null,null,null,-14,null,null,3038,2497]
[null,8086,98590,"Schwallungen",-12.9,8.1,454,7,null,null,null,-13,null,null,2445,2103]
[null,8087,98593,"Floh-Seligenthal",-13.5,7.8,498,10,null,null,null,-14,null,null,2740,2307]
[null,8088,98596,"Brotterode-Trusetal",-13.3,7.9,477,10,null,null,null,-13,null,null,2732,2317]
[null,8089,98597,"Breitungen/Werra",-12.2,9.1999999999999993,252,7,null,null,null,-12,null,null,2605,2299]
[null,8090,98617,"Meiningen",-12.3,8.3000000000000007,420,13,null,null,null,-12,null,null,2589,2276]
[null,8091,98630,"Römhild",-11.8,8.8000000000000007,324,13,null,null,null,-12,null,null,2517,2254]
[null,8092,98631,"Grabfeld",-12.1,8.5,386,13,null,null,null,-12,null,null,2489,2204]
[null,8093,98634,"Wasungen",-13.6,7.5,550,10,null,null,null,-14,null,null,2612,2192]
[null,8094,98639,"Walldorf",-12.1,8.6999999999999993,344,13,null,null,null,-12,null,null,2663,2358]
[null,8095,98646,"Hildburghausen",-12.7,8.1,465,13,null,null,null,-13,null,null,2528,2190]
[null,8096,98660,"Themar",-12.3,8.5,369,13,null,null,null,-12,null,null,2837,2494]
[null,8097,98663,"Bad Colberg-Heldburg",-12,8.6999999999999993,353,13,null,null,null,-12,null,null,2476,2201]
[null,8098,98666,"Biberau, Masserberg",-15.1,6.4,744,10,null,null,null,-15,null,null,3066,2445]
[null,8099,98667,"Schleusegrund",-14.3,7,643,10,null,null,null,-14,null,null,3093,2534]
[null,8100,98669,"Veilsdorf",-12.5,8.5,388,13,null,null,null,-13,null,null,2625,2291]
[null,8101,98673,"Eisfeld, Auengrund",-12.8,8,473,10,null,null,null,-13,null,null,2712,2341]
[null,8102,98678,"Sachsenbrunn",-13.6,7.6,547,10,null,null,null,-14,null,null,2700,2266]
[null,8103,98693,"Ilmenau",-14.3,7.3,590,10,null,null,null,-14,null,null,2681,2196]
[null,8104,98701,"Großbreitenbach",-14.6,7,638,10,null,null,null,-15,null,null,2730,2214]
[null,8105,98704,"Langewiesen",-13.9,8.1,453,10,null,null,null,-14,null,null,2800,2325]
[null,8106,98708,"Gehren",-14.3,7.8,504,10,null,null,null,-14,null,null,2900,2375]
[null,8107,98711,"Schmiedefeld, Frauenwald, Suhl",-14.6,6.6,698,10,null,null,null,-15,null,null,3025,2453]
[null,8108,98714,"Stützerbach",-14.3,7,626,10,null,null,null,-14,null,null,2850,2334]
[null,8109,98716,"Geschwenda",-14.3,7.2,592,10,null,null,null,-14,null,null,2740,2244]
[null,8110,98724,"Neuhaus am Rennweg, Lauscha",-14.9,6.6,704,10,null,null,null,-15,null,null,3168,2543]
[null,8111,98739,"Lichte",-15.1,6.6,701,10,null,null,null,-15,null,null,3100,2472]
[null,8112,98743,"Gräfenthal",-14.4,7.7,530,10,null,null,null,-14,null,null,2883,2353]
[null,8113,98744,"Oberweißbach u.a.",-15.1,6.6,709,10,null,null,null,-15,null,null,2772,2210]
[null,8114,98746,"Katzhütte",-14.9,6.7,689,10,null,null,null,-15,null,null,2899,2327]
[null,8115,99084,"Erfurt",-11.9,10.199999999999999,200,9,null,null,null,-12,null,null,2330,2079]
[null,8116,99085,"Erfurt",-12.6,9.6999999999999993,184,9,null,null,null,-13,null,null,2321,2018]
[null,8117,99086,"Erfurt",-12.3,9.9,183,9,null,null,null,-12,null,null,2325,2044]
[null,8118,99087,"Erfurt",-12.8,9.6,178,9,null,null,null,-13,null,null,2315,1999]
[null,8119,99089,"Erfurt",-12.2,9.9,193,9,null,null,null,-12,null,null,2331,2057]
[null,8120,99090,"Erfurt",-13.6,8.6999999999999993,319,9,null,null,null,-14,null,null,2330,1955]
[null,8121,99091,"Erfurt",-12.8,9.6,173,9,null,null,null,-13,null,null,2321,2004]
[null,8122,99092,"Erfurt",-13.5,8.8000000000000007,308,9,null,null,null,-14,null,null,2345,1975]
[null,8123,99094,"Erfurt",-13.3,9.1,250,9,null,null,null,-13,null,null,2331,1977]
[null,8124,99095,"Erfurt",-13,9.5,169,9,null,null,null,-13,null,null,2301,1972]
[null,8125,99096,"Erfurt",-13.3,9.1999999999999993,229,9,null,null,null,-13,null,null,2327,1973]
[null,8126,99097,"Erfurt",-13.8,8.5,351,9,null,null,null,-14,null,null,2318,1932]
[null,8127,99098,"Erfurt",-13.2,9.3000000000000007,199,9,null,null,null,-13,null,null,2341,1992]
[null,8128,99099,"Erfurt",-13.4,9,271,9,null,null,null,-13,null,null,2342,1979]
[null,8129,99100,"Großfahner, Dachwig u.a.",-13.3,9.1999999999999993,209,9,null,null,null,-13,null,null,2250,1908]
[null,8130,99102,"Rockhausen, Klettbach",-13.8,8.1999999999999993,403,9,null,null,null,-14,null,null,2332,{"$f":"ROUND(O8135*24/(15-E8135),0)","v":1943}]
[null,8131,99189,"Gebesee",-12.9,9.5,150,9,null,null,null,-13,null,null,2254,1939]
[null,8132,99192,"Nesse-Apfelstädt, Nottleben",-13.4,8.9,289,9,null,null,null,-13,null,null,2346,1983]
[null,8133,99195,"Großrudestedt, Schloßvippach u.a.",-12.9,9.5,158,9,null,null,null,-13,null,null,2278,1960]
[null,8134,99198,"Udestedt, Mönchenholzhausen u.a.",-13,9.3000000000000007,186,9,null,null,null,-13,null,null,2335,2001]
[null,8135,99310,"Arnstadt",-13.6,8.6999999999999993,326,9,null,null,null,-14,null,null,2408,2021]
[null,8136,99326,"Stadtilm, Ilmtal",-14.1,8,457,9,null,null,null,-14,null,null,2410,1988]
[null,8137,99330,"Gräfenroda",-14,7.9,484,10,null,null,null,-14,null,null,2746,2273]
[null,8138,99334,"Elleben, Wachsenburg",-13.2,9.1,255,9,null,null,null,-13,null,null,2391,2035]
[null,8139,99338,"Arnstadt",-13.5,8.6,347,10,null,null,null,-14,null,null,2594,2184]
[null,8140,99423,"Weimar",-12.6,9.5,228,9,null,null,null,-13,null,null,2295,1996]
[null,8141,99425,"Weimar",-12.9,9.3000000000000007,215,9,null,null,null,-13,null,null,2243,1929]
[null,8142,99427,"Weimar",-13.7,8.5,355,9,null,null,null,-14,null,null,2296,1920]
[null,8143,99428,"Weimar",-13.4,8.8000000000000007,298,9,null,null,null,-13,null,null,2326,1966]
[null,8144,99438,"Bad Berka u.a.",-13.4,8.8000000000000007,296,9,null,null,null,-13,null,null,2317,1958]
[null,8145,99439,"Berlstedt",-13.3,9.1999999999999993,209,9,null,null,null,-13,null,null,2284,1937]
[null,8146,99441,"Lehnstedt u.a.",-13.6,8.6999999999999993,310,9,null,null,null,-14,null,null,2187,1835]
[null,8147,99444,"Blankenhain",-13.8,8.5,365,9,null,null,null,-14,null,null,2202,1835]
[null,8148,99448,"Kranichfeld u.a.",-13.4,8.6999999999999993,318,9,null,null,null,-13,null,null,2334,1972]
[null,8149,99510,"Apolda",-13.1,9.3000000000000007,209,9,null,null,null,-13,null,null,2205,1883]
[null,8150,99518,"Bad Sulza",-13.2,9.6999999999999993,133,9,null,null,null,-13,null,null,2242,1908]
[null,8151,99610,"Sömmerda",-13,9.5,154,9,null,null,null,-13,null,null,2253,1931]
[null,8152,99625,"Kölleda",-13.1,9.4,195,4,null,null,null,-13,null,null,2246,1918]
[null,8153,99628,"Buttstädt",-13,9.5,166,9,null,null,null,-13,null,null,2265,1941]
[null,8154,99631,"Weißensee",-12.8,9.6,153,9,null,null,null,-13,null,null,2216,1913]
[null,8155,99634,"Straußfurt",-13,9.5,152,9,null,null,null,-13,null,null,2264,1941]
[null,8156,99636,"Rastenberg",-13.2,9.1999999999999993,214,4,null,null,null,-13,null,null,2249,1914]
[null,8157,99638,"Kindelbrück",-13,9.4,190,9,null,null,null,-13,null,null,2215,1899]
[null,8158,99706,"Sondershausen",-13.5,8.1999999999999993,376,7,null,null,null,-14,null,null,2230,1878]
[null,8159,99707,"Kyffhäuserland",-13,9.4,180,7,null,null,null,-13,null,null,2331,1998]
[null,8160,99713,"Ebeleben",-13.5,8.6999999999999993,301,7,null,null,null,-14,null,null,2291,1929]
[null,8161,99718,"Greußen Clingen Großenehrich",-13.2,9,253,7,null,null,null,-13,null,null,2245,1911]
[null,8162,99734,"Nordhausen",-12.8,9.1999999999999993,203,7,null,null,null,-13,null,null,2819,2434]
[null,8163,99735,"Werther Hohenstein Wolkramshausen",-13.2,8.8000000000000007,270,7,null,null,null,-13,null,null,2504,2131]
[null,8164,99752,"Bleicherode",-12.8,8.9,250,7,null,null,null,-13,null,null,2340,2020]
[null,8165,99755,"Ellrich",-13.1,8.6,284,7,null,null,null,-13,null,null,2948,2518]
[null,8166,99759,"Sollstedt",-12.9,8.6,304,7,null,null,null,-13,null,null,2339,2012]
[null,8167,99762,"Neustadt/Harz u.a.",-13.6,8.1,372,6,null,null,null,-14,null,null,2600,2182]
[null,8168,99765,"Heringen/ Helme",-12.8,9.4,158,7,null,null,null,-13,null,null,2551,2202]
[null,8169,99768,"Harztor",-13.9,7.6,454,6,null,null,null,-14,null,null,2924,2428]
[null,8170,99817,"Eisenach",-12.2,9.5,235,7,null,null,null,-12,null,null,2379,2099]
[null,8171,99819,"Marksuhl, Krauthausen u.a.",-12.9,8.6999999999999993,326,7,null,null,null,-13,null,null,2527,2174]
[null,8172,99820,"Hörselberg-Hainich",-13.4,8.8000000000000007,310,7,null,null,null,-13,null,null,2350,1986]
[null,8173,99826,"Mihla",-12.6,9.1999999999999993,227,7,null,null,null,-13,null,null,2351,2044]
[null,8174,99830,"Treffurt",-12.3,9.1999999999999993,211,7,null,null,null,-12,null,null,2307,2028]
[null,8175,99831,"Creuzburg, Ifta",-13,8.5,367,7,null,null,null,-13,null,null,2324,1992]
[null,8176,99834,"Gerstungen",-12.7,8.8000000000000007,302,7,null,null,null,-13,null,null,2377,2059]
[null,8177,99837,"Berka/ Werra",-12.5,9.1,232,7,null,null,null,-13,null,null,2377,2074]
[null,8178,99842,"Ruhla",-14.1,7,623,10,null,null,null,-14,null,null,2662,2195]
[null,8179,99846,"Seebach",-13.1,8.6,345,10,null,null,null,-13,null,null,2652,2265]
[null,8180,99848,"Wutha-Farnroda",-12.8,9,271,10,null,null,null,-13,null,null,2580,2227]
[null,8181,99867,"Gotha",-13.1,9,319,9,null,null,null,-13,null,null,2313,1976]
[null,8182,99869,"Drei Gleichen",-13.1,9,294,9,null,null,null,-13,null,null,2391,2042]
[null,8183,99880,"Waltershausen",-13.2,8.8000000000000007,318,10,null,null,null,-13,null,null,2496,2124]
[null,8184,99885,"Luisenthal, Ohrdruf, Wolfis",-13.6,8.3000000000000007,411,10,null,null,null,-14,null,null,2678,2247]
[null,8185,99887,"Georgenthal/ Thür. Wald",-14.2,7.3,578,10,null,null,null,-14,null,null,2640,2170]
[null,8186,99891,"Tabarz/ Thür. Wald",-14,7.8,488,10,null,null,null,-14,null,null,2805,2321]
[null,8187,99894,"Leinatal",-13.6,8.1,432,10,null,null,null,-14,null,null,2621,2199]
[null,8188,99897,"Tambach-Dietharz/ Thür.",-14.3,6.9,637,10,null,null,null,-14,null,null,2945,2412]
[null,8189,99947,"Bad Langensalza",-12.7,9.4,181,7,null,null,null,-13,null,null,2277,1973]
[null,8190,99955,"Bad Tennstedt",-13.1,9.3000000000000007,196,9,null,null,null,-13,null,null,2264,1934]
[null,8191,99958,"Großvargula, Tonna",-13.1,9.1999999999999993,205,9,null,null,null,-13,null,null,2263,1933]
[null,8192,99974,"Mühlhausen, Unstruttal",-12.7,9.1999999999999993,235,7,null,null,null,-13,null,null,2317,2008]
[null,8193,99976,"Rodeberg, Dünwald u.a.",-12.8,8.8000000000000007,308,7,null,null,null,-13,null,null,2304,1989]
[null,8194,99986,"Vogtei, Kammerforst u.a.",-12.8,9,261,7,null,null,null,-13,null,null,2339,{"$f":"ROUND(O8199*24/(15-E8199),0)","v":2019}]
[null,8195,99988,"Südeichsfeld",-12.8,8.1999999999999993,428,7,null,null,null,-13,null,null,2274,1963]
[null,8196,99991,"Großengottern, Heroldishausen",-12.7,9.4,180,7,null,null,null,-13,null,null,2289,1983]
[null,8197,99994,"Schlotheim",-13.3,9,250,7,null,null,null,-13,null,null,2294,1945]
[null,8198,99996,"Menteroda, Obermehler",-13.3,8.5,337,7,null,null,null,-13,null,null,2308,1957]
[null,8199,99998,"Körner, Weinbergen",-12.9,9.1999999999999993,221,7,null,null,null,-13,null,null,2296,1975]
[]
["\n",1,"Die angegebenen Klimadaten beziehen sich auf den geometrischen Schwerpunkt (\"Mitte\") des betrachteten PLZ-Gebiets. Bei mehrfach vorkommenden Postleitzahlen wurden die zugehörigen Gebiete geometrisch vereint -- die korrespondierenden Klimadaten beziehen sich in dem Fall auf die geometrische Mitte des vereinten PLZ-Gebiets."]
[null,2,"Die angegebenen Klimadaten beziehen sich auf den geometrischen Schwerpunkt (\"Mitte\") des betrachteten PLZ-Gebiets. Bei mehrfach vorkommenden Postleitzahlen wurden die zugehörigen Gebiete geometrisch vereint -- die korrespondierenden Klimadaten beziehen sich in dem Fall auf die geometrische Mitte des vereinten PLZ-Gebiets."]
["\n",2,"Der geometrische Schwerpunkt des gekennzeichneten Datensatzes liegt außerhalb der aktuellen TRY-Basisdaten des DWD. Es wurde stattdessen ein neuer Bezugspunkt festgelegt, welcher durch die TRY-Basisdaten abgedeckt ist und noch im selben PLZ-Gebiet liegt.",null,null,null,null,null,null,null,null,null,null,null,null,{"$f":"_xlfn.AGGREGATE(1,6,P6:P8204)","v":2040.4005123825789}]
[null,3,"Der Ort liegt außerhalb des Bereichs, welcher durch die alten TRY-Regionen beschrieben wurde."]
[null,4,"Der Ort liegt außerhalb des Bereichs, welcher durch die aktuellen TRY-Basisdaten beschrieben wird.",null,null,null,null,null,null,null,null,null,null,null,null,{"$f":"COUNTIF(P6:P8204,\"<1900\")","v":1431}]

{"sheet":"Dropdown","index":11,"n_rows":42,"n_cols":25,"rows_kept":42,"cut":false,"hidden":true,"merged":[[0,19,0,25]]}
["Gerätetypen",null,"Gebäudeheizlast",null,"Energiequelle",null,"Ja/Nein",null,"Normaußentemp. [°C]",null,"Vorlauftemp. [°C]",null,"Gebäudetyp","Heizgrenztemperatur [°C]",null,"Temperaturspreizung",null,"Temperatur WW [°C]",null,"Wirkungsgrad"]
["Altherma 3 R ECH2O",null,"Direkt",null,"Heizöl",null,"ja",null,-8,null,30,null,"Altbau",15,null,1,null,50,null,"Heizöl","Brennwert 90 %",90,"Niedertemperatur 80 %",80,"Freie Eingabe"]
["Altherma 3 R W",null,"Bekannter Energiebedarf",null,"Erdgas",null,"nein",null,-9,null,31,null,"Neubau",12,null,2,null,51,null,"Erdgas","Brennwert 90 %",90,"Niedertemperatur 80 %",80,"Freie Eingabe"]
["Altherma 3 R F",null,null,null,"Strom",null,null,null,-10,null,32,null,"Passivhaus",10,null,3,null,52,null,"Strom","Nachtspeicher 60 %",60,"Direktheizung 100 %",100,"Freie Eingabe"]
["Altherma 3 H HT ECH2O",null,null,null,null,null,null,null,-11,null,33,null,null,null,null,4,null,53]
["Altherma 3 H HT W",null,null,null,null,null,null,null,-12,null,34,null,null,null,null,5,null,54]
["Altherma 3 H HT F",null,null,null,null,null,null,null,-13,null,35,null,null,null,null,6,null,55]
["Altherma M ECH2O",null,null,null,null,null,null,null,-14,null,36,null,null,null,null,7,null,56,null,null,{"$f":"VLOOKUP(Eingabemaske!G62,T2:Y4,2,0)","v":{"$error":"#N/A"}}]
["Altherma R ECH2O",null,null,null,null,null,null,null,-15,null,37,null,null,null,null,8,null,57,null,null,{"$f":"VLOOKUP(Eingabemaske!G62,T2:Y4,4,0)","v":{"$error":"#N/A"}}]
["Altherma R W",null,null,null,null,null,null,null,-16,null,38,null,null,null,null,9,null,58,null,null,{"$f":"VLOOKUP(Eingabemaske!G62,T2:Y4,6,0)","v":{"$error":"#N/A"}}]
["Altherma 3 M",null,null,null,null,null,null,null,null,null,39,null,null,null,null,10,null,59]
["Altherma H Hybrid",null,null,null,null,null,null,null,null,null,40,null,null,null,null,11,null,60]
["Altherma 3 H MT ECH2O",null,null,null,null,null,null,null,null,null,41,null,null,null,null,12]
["Altherma 3 H MT F",null,null,null,null,null,null,null,null,null,42,null,null,null,null,13]
["Altherma 3 H MT W",null,null,null,null,null,null,null,null,null,43,null,null,null,null,14]
["Altherma 3 R MT ECH2O",null,null,null,null,null,null,null,null,null,44,null,null,null,null,15]
["Altherma 3 R MT F",null,null,null,null,null,null,null,null,null,45,null,null,null,null,16]
["Altherma 3 R MT W",null,null,null,null,null,null,null,null,null,46,null,null,null,null,17]
["Altherma 4 H ECH2O",null,null,null,null,null,null,null,null,null,47,null,null,null,null,18]
["Altherma 4 H F",null,null,null,null,null,null,null,null,null,48,null,null,null,null,19]
["Altherma 4 H W",null,null,null,null,null,null,null,null,null,49,null,null,null,null,20]
[null,null,null,null,null,null,null,null,null,null,50]
[null,null,null,null,null,null,null,null,null,null,51]
[null,null,null,null,null,null,null,null,null,null,52]
[null,null,null,null,null,null,null,null,null,null,53]
[null,null,null,null,null,null,null,null,null,null,54]
[null,null,null,null,null,null,null,null,null,null,55]
[null,null,null,null,null,null,null,null,null,null,56]
[null,null,null,null,null,null,null,null,null,null,57]
[null,null,null,null,null,null,null,null,null,null,58]
[null,null,null,null,null,null,null,null,null,null,59]
[null,null,null,null,null,null,null,null,null,null,60]
[null,null,null,null,null,null,null,null,null,null,61]
[null,null,null,null,null,null,null,null,null,null,62]
[null,null,null,null,null,null,null,null,null,null,63]
[null,null,null,null,null,null,null,null,null,null,64]
[null,null,null,null,null,null,null,null,null,null,65]
[null,null,null,null,null,null,null,null,null,null,66]
[null,null,null,null,null,null,null,null,null,null,67]
[null,null,null,null,null,null,null,null,null,null,68]
[null,null,null,null,null,null,null,null,null,null,69]
[null,null,null,null,null,null,null,null,null,null,70]

{"sheet":"Änderungshistorie","index":12,"n_rows":18,"n_cols":2,"rows_kept":18,"cut":false,"hidden":true,"merged":[]}
[]
["V24","Freie Eingabe bei Wirkungsgrad"]
["V24","Heizstabanteil bei NAT in kW wird angezeigt"]
["V24","NAT nur noch über PLZ möglich"]
["V24","Vollbenutzungsstunden werden anhand von Klimadaten ermittelt (DIN 12831-1)"]
["V24","Freie Eingabe der Wirkungsgrad bei bekanntem Energiebedarf"]
["V24","3 R MT eingefügt"]
["V25","R MT mit kW"]
["V25","Neue VDI 4650 -> bis 60 °C"]
["V25 (Neu)","Ein paar Korrektufaktor korrigiert (Fehler in Berechnung)"]
["V26","Leistungsdaten von 0,1 °C Schritten auf 0,5 °C reduziert"]
["V26","R Hybrid entfernt"]
["V26","Altherma 4 eingefügt"]
["V26","Farcode Eingabemaske: Rot 237 / Grün: 242 / Blau: 249"]
["V26","Altherma 4 eingefügt"]
["V26","Energiegehalt von Öl und Gas auf 11 kWh erhöht"]
["V27","Altherma Leistungsdaten haben sich nochmal geändert"]
["V30","4 H 12 und 14 kW - Änderung der Leistungen"]

{"sheet":"Altherma 3 R","index":13,"n_rows":52,"n_cols":12,"rows_kept":52,"cut":false,"hidden":true,"merged":[[0,0,0,1],[4,10,4,11]]}
["Leistungsdaten"]
[]
["Heizen"]
[]
["Typ","LWC",30,35,40,45,50,55,60,null,"COP-Werte"]
[null,"TA [°C]","HCmax [kW]","HCmax [kW]","HCmax [kW]","HCmax [kW]","HCmax [kW]","HCmax [kW]","HCmax [kW]"]
["4 kW",-20,4.71,4.67,4.6399999999999997,4.6100000000000003,4.2300000000000004,null,null,null,"TA [°C]","COP"]
[null,-15,5.19,5.1100000000000003,5.03,4.95,4.53,null,null,null,-7,3.1]
[null,-7,5.95,5.8,5.65,5.5,4.9800000000000004,4.45,null,null,2,4.0999999999999996]
[null,-2,6.16,6,5.84,5.68,5.21,4.75,4.0599999999999996,null,7,5.0999999999999996]
[null,-5,6.29,6.13,5.96,5.79,5.37,4.9400000000000004,4.33]
[null,2,6.57,6.39,6.21,6.03,5.68,5.33,4.8600000000000003]
[null,7,6.65,6.41,6.25,6.08,5.91,5.73,5.58]
[null,12,6.32,6.07,5.76,5.46,5.23,4.99,4.92]
[null,15,6.04,5.72,5.4,5.08,4.62,4.17,3.65]
[null,20,5.49,5.15,4.8,4.45,3.62,2.8,1.82]
[]
[]
["6 kW",-20,5.93,5.83,5.72,5.62,5.4,null,null,null,"TA [°C]","COP"]
[null,-15,6.54,6.37,6.2,6.03,5.68,null,null,null,-7,2.9]
[null,-7,7.5,7.23,6.96,6.69,6.12,5.55,null,null,2,3.75]
[null,-2,7.58,7.33,7.08,6.83,6.34,5.85,5.4,null,7,4.8499999999999996]
[null,-5,7.64,7.4,7.17,6.93,6.49,6.06,5.46]
[null,2,7.75,7.54,7.33,7.12,6.79,6.46,5.93]
[null,7,7.92,7.74,7.57,7.4,7.22,7.03,6.84]
[null,12,7.75,7.49,7.24,6.99,6.76,6.54,6.47]
[null,15,7.58,7.23,6.88,6.54,6.17,5.81,5.51]
[null,20,7.29,6.79,6.29,5.78,5.19,4.5999999999999996,3.92]
[]
[]
["8 kW",-20,6.87,6.75,6.62,6.5,6.37,null,null,null,"TA [°C]","COP"]
[null,-15,7.52,7.36,7.2,7.04,6.78,null,null,null,-7,2.7]
[null,-7,8.5500000000000007,8.33,8.1199999999999992,7.9,7.44,6.98,null,null,2,3.64]
[null,-2,8.85,8.6199999999999992,8.39,8.16,7.77,7.37,6.76,null,7,4.5999999999999996]
[null,-5,9.06,8.82,8.58,8.34,7.99,7.64,7.27]
[null,2,9.4600000000000009,9.1999999999999993,8.94,8.69,8.43,8.17,7.91]
[null,7,9.6300000000000008,9.3699999999999992,9.1199999999999992,8.86,8.74,8.61,8.3800000000000008]
[null,12,9.52,9.2100000000000009,8.91,8.6,8.42,8.25,8.06]
[null,15,9.2200000000000006,8.82,8.42,8.02,7.79,7.55,7.4]
[null,20,8.7100000000000009,8.16,7.6,7.04,6.72,6.4,6.29]
[]
[]
["7 kW",-20,4.71,4.67,4.6399999999999997,4.6100000000000003,4.2300000000000004,null,null,null,"TA [°C]","COP"]
[null,-15,5.19,5.1100000000000003,5.03,4.95,4.53,null,null,null,-7,3.1]
[null,-7,5.95,5.8,5.65,5.5,4.9800000000000004,4.45,null,null,2,4.29]
[null,-2,6.16,6,5.84,5.68,5.21,4.75,4.0599999999999996,null,7,5.23]
[null,-5,6.29,6.13,5.96,5.79,5.37,4.9400000000000004,4.33]
[null,2,6.57,6.39,6.21,6.03,5.68,5.33,4.8600000000000003]
[null,7,6.65,6.41,6.25,6.08,5.91,5.73,5.58]
[null,12,6.32,6.07,5.76,5.46,5.23,4.99,4.92]
[null,15,6.04,5.72,5.4,5.08,4.62,4.17,3.65]
[null,20,5.49,5.15,4.8,4.45,3.62,2.8,1.82]

{"sheet":"Altherma 3 R 11-16 int.","index":14,"n_rows":34,"n_cols":13,"rows_kept":34,"cut":false,"hidden":true,"merged":[[2,11,2,12],[0,0,0,1]]}
["Leistungsdaten"]
[]
["Typ","LWC",25,30,35,40,45,50,55,60,null,"COP-Werte"]
["11 kW",-20,6.24,6.53,6.82,7.11,null,null,null,null,null,"TA [°C]","COP"]
[null,-15,7.02,7.34,7.67,6.5,5.34,null,null,null,null,-7]
[null,-7,8.26,8.64,9.02,8.4,7.79,7.88,7.97,7.74,null,2]
[null,-2,8.86,9.14,9.43,9.3699999999999992,9.32,9.18,9.0399999999999991,7.95,null,7]
[null,2,8.59,9.18,9.76,9.2799999999999994,8.8000000000000007,8.89,8.99,7.73]
[null,7,11.53,11.98,12.44,11.71,10.98,10.86,10.74,9.7899999999999991]
[null,12,10.4,10.28,10.16,10.029999999999999,9.91,9.3699999999999992,8.84,8.7100000000000009]
[null,15,10.63,10.45,10.27,10.07,9.8800000000000008,9.4,8.92,8.7100000000000009]
[null,20,11.03,10.74,10.45,10.14,9.83,9.4499999999999993,9.06,8.7100000000000009]
[]
[]
["14 kW",-20,6.55,6.9,7.25,7.6,null,null,null,null,null,"TA [°C]","COP"]
[null,-15,7.88,7.96,8.0399999999999991,7.55,7.07,null,null,null,null,-7]
[null,-7,10.02,9.65,9.2899999999999991,9.1300000000000008,8.9600000000000009,8.76,8.56,7.75,null,2]
[null,-2,10.199999999999999,10.210000000000001,10.210000000000001,10.18,10.15,9.75,9.36,8.01,null,7]
[null,2,10.3,10.62,10.95,10.52,10.09,10.08,10.06,7.78]
[null,7,14,13.69,13.38,12.98,12.58,12.28,11.99,11.37]
[null,12,12.57,11.98,11.39,11.35,11.3,10.89,10.47,10.06]
[null,15,13.12,12.65,12.18,12.05,11.91,11.54,11.18,10.81]
[null,20,14.03,13.77,13.5,13.21,12.92,12.63,12.35,12.05]
[]
[]
["16 kW",-20,8.3800000000000008,8.77,9.16,9.5500000000000007,null,null,null,null,null,"TA [°C]","COP"]
[null,-15,10.31,10.06,9.81,9.02,8.23,null,null,null,null,-7]
[null,-7,13.4,12.12,10.84,10.67,10.49,10.23,9.9700000000000006,7.77,null,2]
[null,-2,12.63,12.04,11.44,11.68,11.91,11.25,10.59,7.41,null,7]
[null,2,12.48,12.2,11.92,11.7,11.47,11.28,11.1,7.81]
[null,7,12.51,14.23,15.96,15.85,15.75,15.72,15.7,11.37]
[null,12,15.02,14.75,14.47,14.15,13.84,13.52,13.21,12.89]
[null,15,16.04,15.2,14.37,14.31,14.25,14.19,14.13,13.67]
[null,20,17.739999999999998,15.97,14.19,14.56,14.92,15.29,15.66,14.98]

{"sheet":"Altherma 3 R 11-16 peak","index":15,"n_rows":34,"n_cols":13,"rows_kept":34,"cut":false,"hidden":true,"merged":[[0,0,0,1],[2,11,2,12]]}
["w"]
[]
["Typ","LWC",25,30,35,40,45,50,55,60,null,"COP-Werte"]
["11 kW",-20,7.22,7.02,6.82,6.62,null,null,null,null,null,"TA [°C]","COP"]
[null,-15,8.5500000000000007,8.42,8.2899999999999991,8.19,8.09,null,null,null,null,-7,2.92]
[null,-7,10.67,10.66,10.65,10.4,10.16,9.89,9.61,7.74,null,2,3.65]
[null,-2,11.96,11.83,11.69,11.57,11.45,11.38,11.32,9.66,null,7,4.83]
[null,2,12.19,12.36,12.53,11.76,10.99,11.22,11.45,11.37]
[null,7,11.53,11.98,12.44,11.71,10.98,10.86,10.74,9.7899999999999991]
[null,12,10.4,10.28,10.16,10.029999999999999,9.91,9.3699999999999992,8.84,8.7100000000000009]
[null,15,10.63,10.45,10.27,10.07,9.8800000000000008,9.4,8.92,8.7100000000000009]
[null,20,11.03,10.74,10.45,10.14,9.83,9.4499999999999993,9.06,8.7100000000000009]
[]
[]
["14 kW",-20,7.7,7.48,7.25,7.02,null,null,null,null,null,"TA [°C]","COP"]
[null,-15,9.7899999999999991,9.3000000000000007,8.82,8.56,8.3000000000000007,null,null,null,null,-7,3]
[null,-7,13.12,12.23,11.33,11.1,10.88,10.66,10.45,7.75,null,2,3.5]
[null,-2,13.78,13.43,13.09,12.79,12.49,12.25,12.01,9.6999999999999993,null,7,4.87]
[null,2,14.27,14.38,14.49,13.77,13.05,13.15,13.25,11.37]
[null,7,14,13.69,13.38,12.98,12.58,12.28,11.99,11.37]
[null,12,12.57,11.98,11.39,11.35,11.3,10.89,10.47,10.06]
[null,15,13.12,12.65,12.18,12.05,11.91,11.54,11.18,10.81]
[null,20,14.03,13.77,13.5,13.21,12.92,12.63,12.35,12.05]
[]
[]
["16 kW",-20,8.3800000000000008,8.77,9.16,9.5500000000000007,null,null,null,null,null,"TA [°C]","COP"]
[null,-15,10.31,10.66,11.01,10.87,10.74,null,null,null,null,-7,2.87]
[null,-7,13.4,13.68,13.96,13.76,13.55,12.61,11.67,7.77,null,2,3.3]
[null,-2,15.91,15.94,15.96,15.63,15.31,14.14,12.97,8.58,null,7,4.53]
[null,2,17.93,17.739999999999998,17.55,16.760000000000002,15.97,14.99,14.01,9.2200000000000006]
[null,7,17.18,16.57,15.96,15.85,15.75,15.72,15.7,11.37]
[null,12,15.02,14.75,14.47,14.15,13.84,13.52,13.21,12.89]
[null,15,16.04,15.2,14.37,14.31,14.25,14.19,14.13,13.67]
[null,20,17.739999999999998,15.97,14.19,14.56,14.92,15.29,15.66,14.98]

{"sheet":"Altherma 3 H HT","index":16,"n_rows":37,"n_cols":15,"rows_kept":37,"cut":false,"hidden":true,"merged":[[0,0,0,1],[4,11,4,12]]}
["Leistungsdaten"]
[]
["Heizen"]
[]
["Typ","LWC",30,35,40,45,50,55,65,70,null,"COP-Werte"]
[null,"TA [°C]","HCmax [kW]","HCmax [kW]","HCmax [kW]","HCmax [kW]","HCmax [kW]","HCmax [kW]","HCmax [kW]","HCmax [kW]"]
["14 kW",-20,8.02,8.07,8.1300000000000008,8.26,8.3800000000000008,8.35,8.2799999999999994,null,null,"TA [°C]","COP"]
[null,-15,8.73,9.43,9.6199999999999992,9.82,10.01,10.199999999999999,9.4700000000000006,8.68,null,-7,3.21,null,2.79]
[null,-7,9.8800000000000008,10.65,10.65,10.65,10.82,10.99,9.9600000000000009,9.86,null,2,4.09,null,4.22]
[null,-2,10.02,10.130000000000001,10.24,10.36,10.81,10.8,10.26,9.67,null,7,4.79,null,4.79]
[null,2,10.53,10.7,10.83,10.95,10.8,10.65,10.5,9.51]
[null,7,9.8699999999999992,9.75,9.92,10.130000000000001,10.28,10.42,9.93,8.8000000000000007]
[null,12,9.49,9.34,9.1999999999999993,9.0500000000000007,8.9,8.5399999999999991,7.82]
[null,15,9.0500000000000007,9.09,8.86,8.77,8.67,8.49,8.1300000000000008]
[null,20,9.59,9.93,10.28,10.029999999999999,9.7799999999999994,9.5299999999999994,8.66]
[]
[]
["16 kW",-20,8.8699999999999992,8.94,9.01,9.14,9.27,9.49,9.42,null,null,"TA [°C]","COP"]
[null,-15,9.67,10.44,10.66,10.87,11.08,11.61,10.78,9.76,null,-7,3.13,null,2.88]
[null,-7,10.94,11.79,11.79,11.79,11.98,12.5,11.33,11.1,null,2,4.09,null,4.3099999999999996]
[null,-2,11.09,11.22,11.34,11.46,11.97,12.29,11.67,10.87,null,7,5,null,5]
[null,2,11.28,11.47,11.6,11.73,11.57,11.67,11.5,10.69]
[null,7,10.58,10.44,10.63,10.85,11.01,11.42,10.87,9.9]
[null,12,10.17,10.01,9.85,9.69,9.5399999999999991,9.35,8.57]
[null,15,9.6999999999999993,9.74,9.49,9.39,9.2899999999999991,9.3000000000000007,8.91]
[null,20,10.27,10.64,11.01,10.75,10.48,10.44,9.48]
[]
[]
["18 kW",-20,9.5399999999999991,9.61,9.68,9.83,9.9700000000000006,9.93,9.86,null,null,"TA [°C]","COP"]
[null,-15,10.4,11.23,11.46,11.69,11.92,12.15,11.28,10.84,null,-7,3.05,null,2.88]
[null,-7,11.76,12.67,12.67,12.67,12.88,13.08,11.85,12.33,null,2,4.09,null,4.3099999999999996]
[null,-2,11.93,12.06,12.19,12.33,12.87,12.86,12.21,12.08,null,7,5,null,5]
[null,2,12.54,12.74,12.89,13.03,12.86,12.68,12.5,11.88]
[null,7,11.75,11.6,11.81,12.05,12.23,12.41,11.82,11]
[null,12,11.3,11.12,10.95,10.77,10.6,10.17,9.31]
[null,15,10.77,10.82,10.55,10.44,10.33,10.11,9.68]
[null,20,11.42,11.83,12.24,11.94,11.65,11.35,10.31]

{"sheet":"Altherma 3 H MT","index":17,"n_rows":37,"n_cols":14,"rows_kept":37,"cut":false,"hidden":true,"merged":[[0,0,0,1],[4,12,4,13]]}
["Leistungsdaten"]
[]
["Heizen"]
[]
["Typ","LWC",25,30,35,40,45,50,55,60,65,null,"COP-Werte"]
[null,"TA [°C]","HCmax [kW]","HCmax [kW]","HCmax [kW]","HCmax [kW]","HCmax [kW]","HCmax [kW]","HCmax [kW]","HCmax [kW]","HCmax [kW]"]
["8 kW",-20,5.7889941996776377,5.6848663345414421,5.6705680527085072,5.7224581546261684,5.7694120270046048,5.8163658993830394,5.2604310766997138,5.5944572671483748,null,null,"TA [°C]","COP"]
[null,-15,6.6964917883412642,6.5362859158133215,6.43181748103554,6.4597258137589515,6.4876341464823648,6.5155424792057763,6.5434508119291879,6.3913973214964557,6.2393438310637226,null,-7,3.14]
[null,-7,8.1484879302030677,7.8985572458483295,7.49,7.5049999999999999,7.52,7.5350000000000001,7.55,7.7547154134087428,7.996815364838481,null,2,4.2300000000000004]
[null,-2,7.9304643729577169,7.9702607569795676,7.9507178232933811,8.7216457044327456,8.7519849364888014,8.2937033378065106,8.7080722400670876,8.9288452341295983,8.6773967965356054,null,7,5.0999999999999996]
[null,2,7.5134515603544321,7.62,7.7450926238236546,7.6090626739485989,7.4571946253801951,8.1654788439062642,8.8737630624323334,8.793141059764956,8.7125190570975786]
[null,7,8.5818789997588514,8.2644902245171075,7.9471014492753627,7.8820120465864996,7.8169226438976365,8.8876811594202891,9.1177745348681274,8.7162914039338197,8.3148082729995103]
[null,12,9.2114243797049369,9.0399999999999991,9.0150489464348578,8.9512569647690992,8.8874649831033423,8.8236730014375837,9.1651527378007298,9.5066324741638741,8.581054456684182]
[null,15,8.842464947289308,8.6821690287442852,8.5614956480315225,8.8777501060360926,8.5490903493691981,8.2204305927023071,8.6877198627904377,9.1550091328785701,8.4492154936635764]
[null,20,10.234333115343103,9.2078257883923076,8.984011254801759,8.7601967212112086,8.8115427842496263,8.862888847288044,8.9142349103264618,8.5742358962255736,8.2342368821246836]
[]
[]
["10 kW",-20,6.6935245433772685,6.5731266993135424,6.5565943109442113,6.616592241286507,6.6708826562240739,6.7251730711616391,6.0823734324340437,6.031524241144341,null,null,"TA [°C]","COP"]
[null,-15,7.1959824635725518,7.5575805901591533,7.4367889624473431,7.4690579721587875,7.5013269818702346,7.533595991581679,7.5658650012931234,7.3900531529802764,6.7267925678655756,null,-7,3.14]
[null,-7,8.4816002337901697,8.2403395566232387,8.8437244617269641,8.9260803106579676,9.008436159588971,9.055733294666819,9.1030304297446669,9.7460757573411509,9.2463177655944939,null,2,4.2300000000000004]
[null,-2,8.8016157024489257,8.8526006496380312,8.8037876534090742,8.9748149471633525,9.1468183079046703,8.8012735699903359,9.3810787047202044,9.7625426240392166,10.033240045994294,null,7,5.0999999999999996]
[null,2,8.4754977939445908,8.15,8.0497833728987853,8.0350885665424308,7.9988755608679565,8.894559177117463,9.8138278474970431,10.283503951250543,10.189217202368356]
[null,7,9.9861864724466631,9.6168613521653601,9.2475362318840588,9.1717958360279273,9.0960554401717957,10.342028985507246,10.609774004210186,10.142593633668445,9.6754132631267034]
[null,12,10.656353694168457,10.49,10.429174271365817,10.355375704340723,10.281577137315631,10.207778570290538,10.602823755494962,10.997868940699385,9.9271022145954255]
[null,15,10.34756536384919,10.159985033636929,10.018771503015611,10.388856507063512,10.004254664155445,9.6196528212473797,10.16648069049945,10.713308559751518,9.8873798330105682]
[null,20,11.037025908703345,10.775115284288871,10.513204659874399,10.251294035459924,10.311379853909136,10.371465672358349,10.431551490807562,10.033680304093757,9.6358091173799494]
[]
[]
["12 kW",-20,7.7789609558168262,7.6390391370400632,7.6198258208270566,7.6895531452789143,7.7526474112874375,7.8157416772959589,7.0687042593152407,6.031524241144341,null,null,"TA [°C]","COP"]
[null,-15,8.0451423878279336,8.7831341993741514,8.6427547401415072,8.6802565622385917,8.7177583843356778,8.7552602064327623,8.7927620285298467,8.5884401507608619,6.7267925678655756,null,-7,3.14]
[null,-7,9.3107269713398395,9.0580731045591367,10.277841942007013,10.373552793467368,10.469263644927723,10.524230585693871,10.579197526460019,11.326520474747824,10.745720646501709,null,2,4.2300000000000004]
[null,-2,8.8787478231301957,8.9424640958342483,8.8443458656982035,9.1027254031025375,9.3626877518372087,9.0887709327741781,9.7700149116665091,10.250621929813677,10.846745995669506,null,7,5.0999999999999996]
[null,2,8.5552854066003032,8.4139809265083443,8.0925595284923499,8.1542269751155985,8.1912105550303611,9.1879146554776643,10.222559929960301,10.365197800059148,10.927566275003743]
[null,7,10.766357290606559,10.36817864530328,9.9700000000000006,9.8883423857176087,9.8066847714352168,11.15,11.438662598289106,10.934983761298792,10.431304924308478]
[null,12,11.559434515708157,11.393055282322344,11.313002599447666,11.232949916572988,11.152897233698312,11.072844550823634,11.501368141553856,11.929891732284078,10.768382063289954]
[null,15,11.100115572129132,10.898893036083251,10.747409430507656,11.144409707577223,10.731836821548569,10.319263935519917,10.905861104353955,11.492458273187992,10.606462002684065]
[null,20,11.839718702063589,11.558760032237153,11.277801362410719,10.996842692584282,11.061298388738892,11.125754084893503,11.190209781048113,10.763402508027848,10.336595235007582]

{"sheet":"Altherma 3 M","index":18,"n_rows":87,"n_cols":13,"rows_kept":87,"cut":false,"hidden":true,"merged":[[0,0,0,1],[4,11,4,12],[54,9,54,10]]}
["Leistungsdaten"]
[]
["Heizen"]
[]
["Typ","LWC",25,30,35,40,45,50,55,60,null,"COP-Werte"]
[null,"TA [°C]","HCmax [kW]","HCmax [kW]","HCmax [kW]","HCmax [kW]","HCmax [kW]","HCmax [kW]","HCmax [kW]","HCmax [kW]"]
["9 kW",-20,6.7985249891598087,6.6839272463989712,6.5693295036381345,6.4547317608772969,null,null,null,null,null,"TA [°C]","COP"]
[null,-15,7.4883033039897349,7.2824263471336099,7.0765493902774859,7.3168730887016018,7.5571967871257177,null,null,null,null,-7,2.81]
[null,-7,8.591948607717617,8.2400249083090316,7.8881012089004461,8.1297576788974766,8.3714141488945071,8.5169397198658334,8.489215985020417,7.6272144663501535,null,2,4.01]
[null,-2,9.093854382220897,8.999916836907996,8.9059792915950933,8.8931396457975467,8.8803000000000001,9.1123685985815968,9.3444371971631934,8.1192341114193844,null,7,4.91]
[null,2,9.2063913776817312,9.0954636694817967,8.9845359612818605,9.21879851041402,9.4530610595461777,9.3704967804178754,9.2879325012895713,8.2907659399717293]
[null,7,9.1472725508030948,9.7858332331994795,10.424393915595864,10.242538140156149,10.060682364716433,9.8140627622845162,9.5674431598525995,10.696655373596034]
[null,12,14.06001479437605,13.80489414227336,13.549773490170669,13.434547349964364,13.319321209758062,13.108792799888013,12.898264390017962,12.806519873730258]
[null,15,16.120254957985029,15.603487736412609,15.086720514840188,15.094982658219486,15.103244801598787,14.624487795552673,14.14573078950656,13.900905082065632]
[null,20,19.553988564000001,18.601143726644693,17.648298889289389,17.862374838644694,18.076450787999999,17.150646121660444,16.224841455320885,15.724880429291259]
[]
[]
["11 kW",-20,8.6502671463845999,8.5489707281846545,8.4476743099847091,8.3463778917847637,null,null,null,null,null,"TA [°C]","COP"]
[null,-15,9.0318554309518841,8.8034357070829596,8.5750159832140316,8.9058212513505133,9.236626519486995,null,null,null,null,-7,2.92]
[null,-7,9.6423966862595378,9.2105796733202432,9.1036175498188392,9.6457053701463025,10.512648079911655,9.8897934296148495,9.0816000037316815,7.6838938847569942,null,2,4.01]
[null,-2,10.462202685026142,10.269495972244988,10.076789259463833,10.693475407320451,11.310161555177066,10.499733979916,9.6893064046549302,8.2642983461184407,null,7,4.83]
[null,2,10.612563155416,10.348476372992488,10.084389590568978,10.514151882278838,10.9439141739887,10.696640662137659,10.449367150286617,8.5192765122460852]
[null,7,10.352043900000002,11.333479874062501,12.314915848124999,12.295316608806264,12.275717369487527,11.865459655127548,11.455201940767569,11.683393431578409]
[null,12,14.587862100141445,14.323163595466978,14.058465090792511,13.898061564541619,13.737658038290729,13.502867458426035,13.26807687856134,13.131116518888163]
[null,15,16.209384662542149,15.906035130551087,15.60268559856002,15.364834376889537,15.126983155219053,14.842953432487505,14.558923709755959,14.2514857488842]
[null,20,18.911922266543325,18.544154355691262,18.176386444839199,17.809455730802728,17.442525016766258,17.076430055923293,16.710335095080328,16.118767798877595]
[]
[]
["14 kW",-20,9.0455967800724615,8.9122846779618445,8.7789725758512276,8.6456604737406089,null,null,null,null,null,"TA [°C]","COP"]
[null,-15,9.488937857605567,9.5082942976268701,9.5276507376481767,9.8426386368494505,10.157626536050726,null,null,null,null,-7,2.86]
[null,-7,10.198283581658533,10.461909689090916,10.725535796523298,10.770496078271403,10.81545636001951,10.109240254641243,9.2149636662777183,7.6992924696963874,null,2,4.01]
[null,-2,11.144446924031644,11.315126931784572,11.485806939537499,11.356203469768749,11.226599999999999,10.555992796106578,9.8853855922131544,8.3209762532885243,null,7,4.87]
[null,2,11.340047159653539,11.220830943626549,11.101614727599557,11.437659556913479,11.773704386227402,11.262028530448873,10.750352674670346,8.635812638892773]
[null,7,13.889878200000002,13.7888001504,13.687722100799999,13.805724077803905,13.923726054807814,13.439573109792425,12.955420164777037,12.152576714005479]
[null,12,15.654988859348013,15.370927211841442,15.08686556433487,14.827958365502161,14.569051166669453,14.282821474917911,13.996591783166373,13.762836262262439]
[null,15,16.876338887046256,16.560887390785126,16.245435894523993,15.946019877489872,15.646603860455754,15.33042469279493,15.014245525134106,14.646310588493122]
[null,20,18.911922266543325,18.544154355691262,18.176386444839199,17.809455730802728,17.442525016766258,17.076430055923293,16.710335095080328,16.118767798877595]
[]
[]
["16 kW",-20,9.5630705217599861,9.316828061478363,9.0705856011967398,8.8243431409151167,null,null,null,null,null,"TA [°C]","COP"]
[null,-15,10.007029693818712,9.9392012844190099,9.8713728750193059,9.8871631741218966,9.9029534732244855,null,null,null,null,-7,2.7]
[null,-7,10.717364369112676,10.934998441124042,11.152632513135408,11.111745770649335,11.070859028163264,10.469029419537502,9.6698558146935074,7.7147695642346807,null,2,4.01]
[null,-2,11.649773532303364,11.836111909554072,12.022450286804778,11.911625143402389,11.800800000000001,10.922869384921439,10.044938769842881,7.9417912891821416,null,7,4.53]
[null,2,12.350758045403158,12.350591609314767,12.350425173226377,12.483943288778629,12.617461404330882,11.801562742142588,10.985664079954294,8.7099813138078854]
[null,7,15.138775572102695,15.548007940038076,15.957240307973457,15.774289687861756,15.591339067750058,15.613809632368387,15.636280196986716,12.876762309251395]
[null,12,17.756134373677433,17.420338014899517,17.084541656121605,16.630918148197871,16.177294640274138,15.723671132350399,15.270047624426661,14.816424116502926]
[null,15,18.430398402557792,18.081981260127581,17.733564117697373,17.311505007051025,16.889445896404681,16.467386785758329,16.045327675111981,15.49478341360404]
[null,20,19.554171784025055,19.184720002174348,18.815268220323649,18.445816438472949,18.076364656622246,17.706912874771543,17.337461092920837,16.625382242105896]
[]
[]
[]
[]
["Heizen"]
[]
["Typ","LWC",30,35,40,45,50,55,null,"COP-Werte"]
[null,"TA [°C]","HCmax [kW]","HCmax [kW]","HCmax [kW]","HCmax [kW]","HCmax [kW]","HCmax [kW]"]
["4 kW",-20,4.38,4.29,4.21,4.13,3.99,null,null,"TA [°C]","COP"]
[null,-15,4.78,4.71,4.6399999999999997,4.58,4.25,3.94,null,-7,3.1]
[null,-7,5.43,5.38,5.34,5.3,4.6500000000000004,4,null,2,4.0999999999999996]
[null,-2,5.49,5.43,5.36,5.3,4.8499999999999996,4.4000000000000004,null,7,5.0999999999999996]
[null,2,5.6,5.46,5.38,5.3,5.01,4.7300000000000004]
[null,7,6.65,6.41,6.25,6.08,5.91,5.73]
[null,12,6.32,6.07,5.76,5.46,5.23,4.99]
[null,15,6.04,5.72,5.4,5.08,4.62,4.17]
[null,20,5.49,5.15,4.8,4.45,3.62,2.8]
[]
[]
["6 kW",-20,5.19,5.13,5.08,5.0199999999999996,5,null,null,"TA [°C]","COP"]
[null,-15,5.59,5.56,5.53,5.5,5.22,4.91,null,-7,2.9]
[null,-7,6.24,6.25,6.25,6.26,5.58,4.91,null,2,3.75]
[null,-2,6.22,6.2,6.19,6.17,5.74,5.32,null,7,4.8499999999999996]
[null,2,6.2,6.17,6.13,6.1,5.87,5.65]
[null,7,7.92,7.74,7.57,7.4,7.22,7.03]
[null,12,7.79,7.52,7.26,6.99,6.76,6.54]
[null,15,7.6,7.25,6.89,6.54,6.17,5.81]
[null,20,7.29,6.79,6.29,5.78,5.19,4.5999999999999996]
[]
[]
["8 kW",-20,6.22,6.14,6.06,5.98,5.89,null,null,"TA [°C]","COP"]
[null,-15,6.62,6.58,6.53,6.48,6.33,6.33,null,-7,2.7]
[null,-7,7.27,7.28,7.29,7.3,7.02,6.74,null,2,3.65]
[null,-2,7.23,7.24,7.26,7.27,7.05,6.83,null,7,4.5999999999999996]
[null,2,7.2,7.22,7.23,7.25,7.07,6.9]
[null,7,9.6300000000000008,9.3699999999999992,9.1199999999999992,8.86,8.74,8.61]
[null,12,9.52,9.2100000000000009,8.91,8.6,8.42,8.25]
[null,15,9.2200000000000006,8.82,8.42,8.02,7.79,7.55]
[null,20,8.7100000000000009,8.16,7.6,7.04,6.72,6.4]

{"sheet":"Hybrid","index":19,"n_rows":22,"n_cols":11,"rows_kept":22,"cut":false,"hidden":true,"merged":[[0,0,0,1]]}
["Leistungsdaten"]
[]
["Heizen"]
[]
[]
["H Hybrid"]
["4 kW",-16,null,null,null,null,null,null,null,"TA [°C]","COP"]
[null,-15,null,null,null,null,null,null,null,-7,2.69]
[null,-14,3.04,2.91,2.78,2.65,2.5099999999999998,null,null,2,3.78]
[null,-13,3.22,3.05,2.88,2.72,2.54,2.33,null,7,4.55]
[null,-12,3.4,3.19,2.98,2.78,2.57,2.36]
[null,-11,3.47,3.33,3.1,2.86,2.63,2.37]
[null,-10,3.53,3.47,3.21,2.94,2.68,2.37]
[null,-9,3.67,3.61,3.31,3.01,2.72,2.41]
[null,-8,3.81,3.75,3.42,3.07,2.75,2.44]
[null,-7,3.95,3.89,3.52,3.14,2.79,2.4700000000000002]
[null,-2,4.58,4.12,3.66,3.24,2.86,2.48]
[null,2,4.95,4.41,3.91,3.4,2.9,2.4900000000000002]
[null,7,4.75,4.6500000000000004,4.54,4.3600000000000003,4.18,4.0599999999999996]
[null,12,5.08,4.8600000000000003,4.62,4.3899999999999997,4.16,3.92]
[null,15,5.47,5.17,4.87,4.5599999999999996,4.25,3.94]
[null,20,5.75,5.3,4.8499999999999996,4.3099999999999996,3.8,3.38]